{"text_format":"1","workbook":"xlsx","n_sheets":21,"sheets":["入力","サマリ","→","親1","親2","子1","子2","子3","子4","住居","車_大物家電","←","賃金カーブ","学費計算","住居計算","小学生～高校","大学","大学学費","年金の税金","年収と手取り","変動費"],"not_rendered":{"charts":3,"images":26,"macros":1,"external_links":0,"defined_names":0,"comments":0,"pivot_tables":0},"unopened":[],"bounds":{"document_bytes":16777216,"sheet_cells":100000,"rows_first":2000,"rows_last":500,"rows_between":2000,"halvings":0,"cell_chars":16384,"cell_head_chars":4096},"cells_cut":0,"cells_raw":0,"read":"whole","date_system":"1900"}

{"sheet":"入力","index":0,"n_rows":100,"n_cols":116,"rows_kept":100,"cut":false,"hidden":false,"merged":[]}
[]
[null,null,"ExcelでFP"]
[]
[null,null,null,"この色のセルを入力していってください。"]
[]
[null,null,"西暦",2022]
[null,null,null,null,null,null,null,null,null,null,null,null,null,null,null,null,null,null,null,null,null,null,null,null,null,null,null,null,null,null,null,null,null,null,null,null,null,null,null,null,null,null,null,null,null,"<給料>"]
[null,null,"親の情報",null,null,null,null,null,null,null,null,null,null,"子供の情報",null,null,null,null,null,null,null,"家の情報",null,null,null,null,null,null,"現在の支出金額",null,null,null,null,null,null,null,null,null,null,null,null,null,null,null,null,"世帯年収(生涯平均)",{"$f":"SUM(F14,K14)","v":750},"万円",null,"親1",{"$f":"F14","v":500},"万円"]
[null,null,null,null,null,null,null,null,null,null,null,null,null,null,null,null,null,null,null,null,null,null,null,null,null,null,null,null,null,null,null,null,null,null,null,null,null,null,null,null,null,null,null,null,null,null,null,null,null,"親2",{"$f":"K14","v":250},"万円"]
[null,null,"親1","貯金","投資",null,null,"親2","貯金","投資",null,null,null,null,null,"子供1","子供2","子供3","子供4",null,null,"<賃貸の場合>","歳～","歳","住居(万円/月)",null,null,null,null,"食費","服費\n日用品","電気","ガス","水道","インターネット","携帯","合計","人数",null,null,null,null,null,null,null,"<子供>"]
[null,null,null,0,0,null,null,null,0,0,null,null,null,null,"年齢",-4,-7,null,null,null,null,"独身",0,{"$f":"W12-1","v":23},7,{"$f":"Y11*12","v":84},null,null,"親1の変動費",3,1,0.5,0.4,0.25,0.5,0.2,{"$f":"SUM(AD11:AJ11)","v":5.8500000000000005},1,null,null,null,null,null,null,null,"こども",{"$f":"COUNT(P11:S11)","v":2},"人",null,"習い事塾"]
[null,null,null,null,null,null,null,null,null,null,null,null,null,null,null,"※↑無しなら空白でお願い致します。",null,null,null,null,null,"夫婦",{"$f":"INDEX(親1!C:C,MATCH(入力!V12,親1!AU:AU,0))","v":24},{"$f":"W13-1","v":27},8,{"$f":"Y12*12","v":96},null,null,"親2の変動費",{"$f":"AD11","v":3},{"$f":"AE11","v":1},{"$f":"AF11*0.5","v":0.25},{"$f":"AG11*0.5","v":0.2},{"$f":"AH11*0.5","v":0.125},0,{"$f":"AJ11","v":0.2},{"$f":"SUM(AD12:AJ12)","v":4.7750000000000004},1,null,null,null,null,null,null,null,"大学",{"$f":"P28","v":"公立"},"仕送り無し",null,"幼稚園",{"$f":"$P$18","v":1},"万円"]
[null,null,null,null,null,null,null,null,null,null,null,null,null,"保","幼稚園","公立","公立","公立","公立",null,null,"子1人",{"$f":"INDEX(親1!C:C,MATCH(入力!V13,親1!AU:AU,0))","v":28},30,8,{"$f":"Y13*12","v":96},null,null,"子の変動費",{"$f":"AD11*0.5","v":1.5},{"$f":"AE11*0.5","v":0.5},{"$f":"AF11*0.25","v":0.125},{"$f":"AG11*0.25","v":0.1},6.25E-2,0.125,{"$f":"AJ11","v":0.2},2.6125000000000003,{"$f":"COUNT(P11:S11)","v":2},null,null,null,null,null,null,null,"大学院",{"$f":"Q31","v":"公立"},"仕送り有",null,"小学校",{"$f":"$P$24","v":1},"万円"]
[null,null,"生涯平均年収",null,null,500,null,"生涯平均年収",null,null,250,null,null,"育","習い事",null,null,null,null,null,null,"子2人以上",{"$f":"INDEX(親1!C:C,MATCH(入力!V14,親1!AU:AU,0))","v":31},54,10,{"$f":"Y14*12","v":120},null,null,"家族合計(使途不明含む)",{"$f":"サマリ!M1/12","v":9.9},{"$f":"サマリ!N1/12","v":3.3000000000000003},{"$f":"サマリ!O1/12","v":1.1000000000000001},{"$f":"サマリ!P1/12","v":0.88000000000000023},{"$f":"サマリ!Q1/12","v":0.55000000000000004},{"$f":"サマリ!V1/12","v":0.5},{"$f":"サマリ!W1/12","v":0.80000000000000016},17.030000000000005,{"$f":"SUM(AL11:AL13)","v":4},null,null,null,null,null,null,null,null,null,null,null,"中学校",{"$f":"$P$24","v":1},"万円"]
[null,null,null,null,null,null,null,null,null,null,null,null,null,"0~2","塾(万円/月)",0,0,0,0,null,null,"子離れ",{"$f":"INDEX(親1!C:C,MATCH(入力!V15,親1!AU:AU,0))","v":55},64,10,120,null,null,{"$f":"COUNTA(P11:S11)+2&\"人家族の平均値)\"","v":"4人家族の平均値)"},{"$f":"VLOOKUP($AL14,変動費!$C$23:$J$27,2,0)","v":8.1092999999999993},{"$f":"VLOOKUP($AL14,変動費!$C$23:$J$27,3,0)","v":2.1204000000000001},{"$f":"VLOOKUP($AL14,変動費!$C$23:$J$27,4,0)","v":1.8752},{"$f":"VLOOKUP($AL14,変動費!$C$23:$J$27,5,0)","v":"←含む"},{"$f":"VLOOKUP($AL14,変動費!$C$23:$J$27,6,0)","v":"←含む"},null,null,null,null,null,null,null,null,null,null,null,null,null,null,null,"高校",{"$f":"$P$27","v":2},"万円"]
[null,null,"親1","年齢","年収",null,null,"親2","年齢","年収",null,null,null,"保","幼稚園","公立","公立","公立","公立",null,null,"退職後",{"$f":"$D$22","v":65},null,7,{"$f":"Y16*12","v":84},null,null,"使途不明金",0.1,{"$f":"SUM(AD14:AH14)-(SUM(AD11:AH11)*AL11+SUM(AD12:AH12)*AL12+SUM(AD13:AH13)*AL13)","v":1.4300000000000015},"※使途不明金は初期設定で10%としております。"]
[null,null,"現在",24,{"$f":"VLOOKUP(D17,賃金カーブ!$R:$Z,3,0)","v":369.7506557197238},null,null,"現在",22,{"$f":"VLOOKUP(I17,賃金カーブ!$R:$Z,4,0)","v":173.09058078416805},null,null,null,"育","習い事",null,null,null,null,null,null,null,null,null,null,null,null,null,null,"※子供が増えても、食費等は親の半分、電気代等は1/4しか増えない計算にしています。",null,null,null,null,null,null,null,null,null,null,null,null,null,null,null,"<家>"]
[null,null,"主任",{"$f":"ROUND(D17+(D$22-D$17)/5,0)","v":32},{"$f":"VLOOKUP(D18,賃金カーブ!$R:$Z,3,0)","v":463.75741885756111},null,null,"主任",{"$f":"ROUND(I17+(I$22-I$17)/5,0)","v":31},{"$f":"VLOOKUP(I18,賃金カーブ!$R:$Z,4,0)","v":226.31446956460073},null,null,null,"3~5","塾(万円/月)",1,1,1,1,null,null,"<購入する場合>",null,null,null,null,null,null,null,"※交通費は、お小遣いに含む。",null,null,null,null,null,null,null,null,null,null,null,null,null,null,null,"賃貸",{"$f":"$Y$12","v":8},"万円/月",null,"※子供ができるまで"]
[null,null,"課長",{"$f":"ROUND(D18+(D$22-D$17)/5,0)","v":40},{"$f":"VLOOKUP(D19,賃金カーブ!$R:$Z,3,0)","v":546.78046672428684},null,null,"課長",{"$f":"ROUND(I18+(I$22-I$17)/5,0)","v":40},{"$f":"VLOOKUP(I19,賃金カーブ!$R:$Z,4,0)","v":273.39023336214342},null,null,null,"小","小学校","公立","公立","公立","公立",null,null,"何年後",10,"※賃貸に住み続ける人は100を。",null,null,null,null,"車、大物家電、リフォーム等",null,null,null,null,null,null,null,null,null,null,null,null,null,null,null,null,"マイホーム",{"$f":"W26","v":4000},"万円",null,{"$f":"$W$20","v":"マンション"}]
[null,null,"部長",48,{"$f":"VLOOKUP(D20,賃金カーブ!$R:$Z,3,0)","v":622.64384254416086},null,null,"部長",49,{"$f":"VLOOKUP(I20,賃金カーブ!$R:$Z,4,0)","v":316.46017440152019},null,null,null,"学","習い事",1,1,1,1,null,null,"種類","マンション"]
[null,null,"役停",56,{"$f":"VLOOKUP(D21,賃金カーブ!$R:$Z,3,0)","v":587.69028717591129},null,null,"役停",58,{"$f":"VLOOKUP(I21,賃金カーブ!$R:$Z,4,0)","v":253.54794767938827},null,null,null,"高","塾(万円/月)",null,null,null,null,null,null,"平米",75,null,"<参考＞標準の管理費修繕費",null,null,null,"車",3,"年後から",null,null,null,null,null,null,null,null,null,null,null,null,null,null,"<車>"]
[null,null,"退職",65,{"$f":"VLOOKUP(D22,賃金カーブ!$R:$Z,3,0)","v":437.55401901469321},null,null,"退職",65,{"$f":"VLOOKUP(I22,賃金カーブ!$R:$Z,4,0)","v":218.77700950734661},null,null,null,"中","中学校","公立","公立","公立","公立",null,null,"管理費(万円/月)",1.2,"※マンションのみ",{"$f":"W21*155/10000","v":1.1625000000000001},null,null,null,null,null,null,null,null,null,null,null,null,null,null,null,null,null,null,null,null,"車",{"$f":"COUNT(AE24:AF24)","v":1},"台",null,"車(金額)",{"$f":"SUM(AE24:AF24)","v":300},"万円"]
[null,null,null,null,null,null,null,null,null,null,null,null,null,"学","習い事",null,null,null,null,null,null,"修繕費(万円/月)",1.5,"※マンションのみ",{"$f":"W21*200/10000","v":1.5},null,null,null,"歳から","歳まで","車1","車2","間隔","車検/2年","保険/年","駐車場/月","中古価格(1年15％減)","購入時",null,null,null,null,null,null,null,null,null,null,null,"駐車場代",{"$f":"$AJ$24","v":1},"万円"]
[null,null,"シミュレーション",null,50,"歳から",null,null,null,50,"歳から",null,null,"高","塾(万円/月)",1,1,1,1,null,null,"駐車場(万円/月)","車にINPUT",null,null,null,null,null,{"$f":"$D$17","v":24},65,300,null,7,10,{"$f":"SUM(AE24:AF24)*1.5%","v":4.5},1,{"$f":"MAX(SUM(AE24:AF24)*(1-$AG$24/7)*80%,0)","v":0},{"$f":"AE24-AK24","v":300},null,null,null,null,null,null,null,"<変動費>"]
[null,null,null,"　収入",0,"減",null,null,"シミュレーション　収入",0,"減",null,null,"高","高校","公立","公立","公立","公立",null,null,null,null,null,null,null,null,null,66,90,250,null,7,10,{"$f":"SUM(AE25:AF25)*1.5%","v":3.75},1,{"$f":"MAX(SUM(AE25:AF25)*(1-$AG$24/7)*80%,0)","v":0},{"$f":"AE25-AK25","v":250},null,null,null,null,null,null,null,"月変動費",{"$f":"SUM(AK14)","v":17.030000000000005},"万円",null,"食費",{"$f":"SUM($AD$14)/(1+$AD$16)","v":9},"万円"]
[null,null,null,null,null,null,null,null,null,null,null,null,null,"校","習い事",null,null,null,null,null,null,"費用",4000,null,null,null,null,null,null,null,null,null,null,null,null,"※一戸建ては自動的に「0」になります。",null,null,null,null,null,null,null,null,null,null,null,null,null,"服・日用品",{"$f":"SUM($AE$14)/(1+$AD$16)","v":3},"万円"]
[null,null,null,null,null,null,null,null,"歳から","歳まで","年収",null,null,null,"塾(万円/月)",2,2,2,2,null,null,"頭金",0,null,null,null,null,null,"大物家電",null,null,null,"リフォーム",null,null,null,null,null,null,null,null,null,null,null,null,null,null,null,null,"光熱費",{"$f":"SUM($AF$14:$AH$14)/(1+$AD$16)","v":2.2999999999999998},"万円"]
[null,null,null,"雑収入",null,null,null,"育休",0,0,0.3,null,null,"大","大学","公立","公立","公立","公立",null,null,"ローン",{"$f":"W26-W27","v":4000},null,null,null,null,null,"項目","金額","間隔",null,"項目","金額","間隔",null,null,null,null,null,null,null,null,null,null,null,null,null,null,"インターネット",{"$f":"SUM($AI$14:$AJ$14)/(1+$AD$16)","v":1.1818181818181819},"万円"]
[null,null,null,null,null,null,null,"時短",{"$f":"J28+1","v":1},5,0.6,null,null,"学",null,null,null,null,null,null,null,"返済年数",35,null,null,null,null,null,"洗濯機",10,10,null,"壁紙・内壁",74,20,"※1戸建ての外壁など、",null,null,null,null,null,null,null,null,null,null,null,null,null,"他",{"$f":"AE16","v":1.4300000000000015},"万円"]
[null,null,null,null,null,null,null,null,null,null,null,null,null,null,"仕送り(/月)",null,6,5,5,null,null,"金利",0.01,null,null,null,null,null,"エアコン",{"$f":"10+7+7","v":24},10,null,"キッチン",131,30,"　最低限行う必要のあるものは、",null,null,null,null,null,null,null,null,null,"<お小遣い>"]
[null,null,null,"退職金",{"$f":"1000/500*F14","v":1000},null,null,null,"退職金",0,null,null,null,"大","大学院",null,"公立","公立","公立",null,null,"利息",{"$f":"W32-W28","v":742.39974213685036},null,null,null,null,null,"冷蔵庫",20,10,null,"給湯器",49,20,"　住居維持費に含めています。",null,null,null,null,null,null,null,null,null,"お小遣い",{"$f":"AY31+AY32+AY33*2","v":8},"万円",null,"親1",{"$f":"$D$38","v":3},"万円"]
[null,null,null,null,null,null,null,null,null,null,null,null,null,"学",null,null,null,null,null,null,null,"総支払額",{"$f":"W34*W29*12","v":4742.3997421368504},null,null,null,null,null,"掃除機",3,5,null,"お風呂",107,30,null,null,null,null,null,null,null,null,null,null,null,null,null,null,"親2",{"$f":"$I$38","v":3},"万円"]
[null,null,"保険","(万円/月)",null,null,null,"保険","(万円/月)",null,null,null,null,"院","仕送り(/月)",null,6,5,5,null,null,null,null,null,null,null,null,null,"予備",null,null,null,"トイレ",51,20,"※金額は平均値を入力しています。",null,null,null,null,null,null,null,null,null,null,null,null,null,"子供",{"$f":"P35","v":1},"万円"]
[null,null,"子供なし",1,null,null,null,"子供なし",0,null,null,null,null,null,null,"※↑いかない場合、空白でお願い致します。",null,null,null,null,null,"月額",{"$f":"W28*(W30/12)*(1+W30/12)^(W29*12)/((1+W30/12)^(W29*12)-1)","v":11.291427957468692},null,null,null,null,null,"予備",null,null,null,"洗面所",30,20]
[null,null,"子供有",1,null,null,null,"子供有",0,null,null,null,null,null,"お小遣い(/月)",1,{"$f":"P35","v":1},{"$f":"Q35","v":1},1,null,null,"年額",{"$f":"W34*12","v":135.4971354896243},null,null,null,null,null,"予備",null,null,null,"床",65,20,null,null,null,null,null,null,null,null,null,null,null,null,null,null,null,"試算結果↓"]
[null,null,null,null,null,null,null,null,null,null,null,null,null,null,"歳まで",18,{"$f":"P36","v":18},{"$f":"Q36","v":18},{"$f":"R36","v":18},null,null,null,null,null,null,null,null,null,"予備",null,null,null,"ベランダ",47,20,null,null,null,null,null,null,null,null,null,null,null,null,null,null,"老後(退職金無し)",{"$f":"VLOOKUP(D22,サマリ!C:AM,37,0)-E31","v":1767.4933138127317},"万円"]
[null,null,null,"(万円/月)",null,null,null,null,"(万円/月)",null,null,null,null,null,null,null,null,null,null,null,null,null,null,null,null,null,null,null,null,null,null,null,"クロス張替え",null,null,null,null,null,null,null,null,null,null,null,null,null,null,null,null,"貯蓄最低額"]
[null,null,"お小遣い",3,null,null,null,"お小遣い",3,null,null,null,null,null,"食費などの負担(歳まで)",{"$f":"IF(P30,18,22)","v":22},{"$f":"IF(Q30,18,22)","v":18},{"$f":"IF(R30,18,22)","v":18},{"$f":"IF(S30,18,22)","v":18},null,null,null,null,null,null,null,null,null,null,null,null,null,"サッシ回り",null,null,null,null,null,null,null,null,null,null,null,null,null,null,null,null,{"$f":"INDEX(サマリ!C:C,MATCH(AY38,サマリ!AM:AM,0))&\"歳の時に\"","v":"34歳の時に"},{"$f":"MIN(サマリ!AM:AM)","v":-221.49905684452096},"万円"]
[null,null,null,null,null,null,null,null,null,null,null,null,null,null,null,"※大学の仕送りを入れるとストップされます。"]
[]
[null,null,"計算結果"]
[null,null,null,null,null,null,null,null,null,null,null,null,"子供にかかる費用",null,null,null,null,null,null,null,null,"住居にかかる費用",null,null,"車にかかる費用",null,null,null,null,"毎月の収支",null,null,null,null,null,null,null,null,null,null,null,null,null,null,null,null,null,null,null,null,null,null,"投資する場合",null,null,"親1退職時の収支",null,null,null,null,null,null,"80歳時の単年度収支",null,null,null,null,null,null,null,null,"80歳時の暮らし(年間)"]
[null,null,null,null,null,null,null,null,null,null,null,null,null,null,null,null,null,null,null,null,null,null,null,null,null,null,null,null,null,null,null,null,null,null,null,null,null,null,null,null,null,null,null,null,"計算結果","年収","収入","衣食住","固定+教育","お小遣い等","収支",null,"想定利率",0.05,null,"親の計算",null,null,"親1","親2","合計",null,"親の計算",null,"合計","親1","親2",null,"親の計算",null,null,"親1","親2",null,"子供の計算",null,null,"子1","子2","子3","子4",null,"住居代の計算",null,null,null,null,"車の計算",null,null,null,null,"大物家電、リフォーム",null,null,null,null,"支出",null,null,"親1","親2","子1","子2","子3","子4"]
[null,null,null,null,null,null,null,null,null,null,null,null,null,null,null,null,null,null,null,null,null,null,null,null,null,null,null,null,null,null,null,null,null,null,null,null,null,null,null,null,null,null,"↑年齢を入力すると",null,"親1",{"$f":"SUM(INDEX(親1!$D$1:$D$70,6):INDEX(親1!$D$1:$D$70,$AQ$48))","v":21757.664495573739},{"$f":"SUM(INDEX(親1!$J$1:$J$70,6):INDEX(親1!$J$1:$J$70,$AQ$48))","v":17654.621320000002},{"$f":"SUM(INDEX(親1!$T$1:$T$70,6):INDEX(親1!$T$1:$T$70,$AQ$48))","v":3359.1600000000003},{"$f":"SUM(INDEX(親1!$AC$1:$AC$70,6):INDEX(親1!$AC$1:$AC$70,$AQ$48))","v":352.79999999999984},{"$f":"SUM(INDEX(親1!$AK$1:$AK$70,6):INDEX(親1!$AK$1:$AK$70,$AQ$48))","v":1512},{"$f":"SUM(INDEX(親1!$AL$1:$AL$70,6):INDEX(親1!$AL$1:$AL$70,$AQ$48))","v":12430.661320000003},null,"投資割合",0.4,null,"収入",null,null,{"$f":"SUM(INDEX(親1!$J$1:$J$70,6):INDEX(親1!$J$1:$J$70,$AQ$48))-$E$31","v":16654.621320000002},{"$f":"SUM(INDEX(親2!$J$1:$J$70,6):INDEX(親2!$J$1:$J$70,$AQ$48))-$J$31","v":7742.9688139999971},{"$f":"SUM(BG44:BH44)","v":24397.590133999998},null,"収入",null,{"$f":"SUM(BN44:BO44)","v":323.04704433405391},{"$f":"BT44","v":187.45834962869003},{"$f":"BU44","v":135.58869470536388},null,"収入",null,null,{"$f":"SUM(INDEX(親1!$J$1:$J$70,$AQ$49):INDEX(親1!$J$1:$J$70,$AQ$49))","v":187.45834962869003},{"$f":"SUM(INDEX(親2!$J$1:$J$70,$AQ$49):INDEX(親2!$J$1:$J$70,$AQ$49))","v":135.58869470536388},null,"収入(子供手当)",null,null,{"$f":"子1!$J$71","v":216},{"$f":"子2!$J$71","v":216},{"$f":"子3!$J$71","v":0},{"$f":"子4!$J$71","v":0},null,null,null,"住居代",{"$f":"SUM(INDEX(サマリ!$K$1:$K$70,6):INDEX(サマリ!$K$1:$K$70,$AQ$48))","v":5367.9083356679766},null,null,null,"車1",{"$f":"SUM(INDEX(サマリ!$AH$1:$AH$70,6):INDEX(サマリ!$AH$1:$AH$70,$AQ$48))","v":1800},null,null,null,"大物家電",{"$f":"SUM(INDEX(サマリ!$AG$1:$AG$70,6):INDEX(サマリ!$AG$1:$AG$70,$AQ$48))","v":243},null,null,null,"食費",{"$f":"SUM(INDEX(親1!$M$1:$M$70,6):INDEX(親1!$M$1:$M$70,$AQ$48))","v":1663.1999999999989},{"$f":"SUM(INDEX(親2!$M$1:$M$70,6):INDEX(親2!$M$1:$M$70,$AQ$48))","v":1663.1999999999989},{"$f":"SUM(INDEX(子1!$M$1:$M$70,6):INDEX(子1!$M$1:$M$70,$AQ$48))","v":455.40000000000015},{"$f":"SUM(INDEX(子2!$M$1:$M$70,6):INDEX(子2!$M$1:$M$70,$AQ$48))","v":376.2000000000001},{"$f":"SUM(INDEX(子3!$M$1:$M$70,6):INDEX(子3!$M$1:$M$70,$AQ$48))","v":0},{"$f":"SUM(INDEX(子4!$M$1:$M$70,6):INDEX(子4!$M$1:$M$70,$AQ$48))","v":0}]
[null,null,null,null,null,null,null,null,null,null,null,null,null,null,null,null,null,null,null,null,null,null,null,null,null,null,null,null,null,null,null,null,null,null,null,null,null,null,null,null,null,null,"その年齢時点の",null,"親2",{"$f":"SUM(INDEX(親2!$D$1:$D$70,6):INDEX(親2!$D$1:$D$70,$AQ$48))","v":10793.254744922786},{"$f":"SUM(INDEX(親2!$J$1:$J$70,6):INDEX(親2!$J$1:$J$70,$AQ$48))","v":7742.9688139999971},{"$f":"SUM(INDEX(親2!$T$1:$T$70,6):INDEX(親2!$T$1:$T$70,$AQ$48))","v":2536.3800000000006},{"$f":"SUM(INDEX(親2!$AC$1:$AC$70,6):INDEX(親2!$AC$1:$AC$70,$AQ$48))","v":100.80000000000007},{"$f":"SUM(INDEX(親2!$AK$1:$AK$70,6):INDEX(親2!$AK$1:$AK$70,$AQ$48))","v":1512},{"$f":"SUM(INDEX(親2!$AL$1:$AL$70,6):INDEX(親2!$AL$1:$AL$70,$AQ$48))","v":3593.7888139999991},null,null,null,null,null,null,"食費",{"$f":"SUM(INDEX(親1!$M$1:$M$70,6):INDEX(親1!$M$1:$M$70,$AQ$48))","v":1663.1999999999989},{"$f":"SUM(INDEX(親2!$M$1:$M$70,6):INDEX(親2!$M$1:$M$70,$AQ$48))","v":1663.1999999999989},{"$f":"SUM(BG45:BH45)","v":3326.3999999999978},null,null,"衣食住",128.37,{"$f":"BT51","v":67.98},{"$f":"BU51","v":60.39},null,null,null,"食費",{"$f":"SUM(INDEX(親1!$M$1:$M$70,$AQ$49):INDEX(親1!$M$1:$M$70,$AQ$49))","v":39.6},{"$f":"SUM(INDEX(親2!$M$1:$M$70,$AQ$49):INDEX(親2!$M$1:$M$70,$AQ$49))","v":39.6},null,null,null,"食費",{"$f":"子1!$M71","v":455.40000000000015},{"$f":"子2!$M71","v":376.2000000000001},{"$f":"子3!$M71","v":0},{"$f":"子4!$M71","v":0},null,null,null,"住居維持費",{"$f":"SUM(INDEX(サマリ!$L$1:$L$70,6):INDEX(サマリ!$L$1:$L$70,$AQ$48))","v":1003.3275845192934},null,null,null,"車2",{"$f":"SUM(INDEX(サマリ!$AI$1:$AI$70,6):INDEX(サマリ!$AI$1:$AI$70,$AQ$48))","v":0},null,null,null,"リフォーム",{"$f":"SUM(INDEX(サマリ!$AF$1:$AF$70,6):INDEX(サマリ!$AF$1:$AF$70,$AQ$48))","v":554},null,null,null,"服費",{"$f":"SUM(INDEX(親1!$N$1:$N$70,6):INDEX(親1!$N$1:$N$70,$AQ$48))","v":554.39999999999986},{"$f":"SUM(INDEX(親2!$N$1:$N$70,6):INDEX(親2!$N$1:$N$70,$AQ$48))","v":554.39999999999986},{"$f":"SUM(INDEX(子1!$N$1:$N$70,6):INDEX(子1!$N$1:$N$70,$AQ$48))","v":151.79999999999993},{"$f":"SUM(INDEX(子2!$N$1:$N$70,6):INDEX(子2!$N$1:$N$70,$AQ$48))","v":125.39999999999995},{"$f":"SUM(INDEX(子3!$N$1:$N$70,6):INDEX(子3!$N$1:$N$70,$AQ$48))","v":0},{"$f":"SUM(INDEX(子4!$N$1:$N$70,6):INDEX(子4!$N$1:$N$70,$AQ$48))","v":0}]
[null,null,null,null,null,null,null,null,null,null,null,null,null,null,null,null,null,null,null,null,null,null,null,null,null,null,null,null,null,null,null,null,null,null,null,null,null,null,null,null,null,null,"計算ができます。",null,"子1",{"$f":"INDEX(子1!$C$1:$C$70,$AQ$48)&\"歳\"","v":"37歳"},{"$f":"SUM(INDEX(子1!$J$1:$J$70,6):INDEX(子1!$J$1:$J$70,$AQ$48))","v":216},{"$f":"SUM(INDEX(子1!$T$1:$T$70,6):INDEX(子1!$T$1:$T$70,$AQ$48))","v":694.48500000000024},{"$f":"SUM(INDEX(子1!$AC$1:$AC$70,6):INDEX(子1!$AC$1:$AC$70,$AQ$48))","v":786.16289999999992},{"$f":"SUM(INDEX(子1!$AK$1:$AK$70,6):INDEX(子1!$AK$1:$AK$70,$AQ$48))","v":228},{"$f":"SUM(INDEX(子1!$AL$1:$AL$70,6):INDEX(子1!$AL$1:$AL$70,$AQ$48))","v":-1492.6478999999997},null,null,null,null,null,null,"服費",{"$f":"SUM(INDEX(親1!$N$1:$N$70,6):INDEX(親1!$N$1:$N$70,$AQ$48))","v":554.39999999999986},{"$f":"SUM(INDEX(親2!$N$1:$N$70,6):INDEX(親2!$N$1:$N$70,$AQ$48))","v":554.39999999999986},1108.7999999999997,null,null,"その他",{"$f":"SUM(BN46:BO46)","v":82.8},{"$f":"BT56","v":44.4},{"$f":"BU56","v":38.4},null,null,null,"服費",{"$f":"SUM(INDEX(親1!$N$1:$N$70,$AQ$49):INDEX(親1!$N$1:$N$70,$AQ$49))","v":13.200000000000001},{"$f":"SUM(INDEX(親2!$N$1:$N$70,$AQ$49):INDEX(親2!$N$1:$N$70,$AQ$49))","v":13.200000000000001},null,null,null,"服費",{"$f":"子1!$N71","v":151.79999999999993},{"$f":"子2!$N71","v":125.39999999999995},{"$f":"子3!$N71","v":0},{"$f":"子4!$N71","v":0},null,null,null,"リフォーム",{"$f":"SUM(INDEX(サマリ!$AF$1:$AF$70,6):INDEX(サマリ!$AF$1:$AF$70,$AQ$48))","v":554},null,null,null,"車維持費",{"$f":"SUM(INDEX(サマリ!$AJ$1:$AJ$70,6):INDEX(サマリ!$AJ$1:$AJ$70,$AQ$48))","v":903},null,null,null,null,null,null,null,null,"電気",{"$f":"SUM(INDEX(親1!$O$1:$O$70,6):INDEX(親1!$O$1:$O$70,$AQ$48))","v":277.19999999999993},{"$f":"SUM(INDEX(親2!$O$1:$O$70,6):INDEX(親2!$O$1:$O$70,$AQ$48))","v":138.59999999999997},{"$f":"SUM(INDEX(子1!$O$1:$O$70,6):INDEX(子1!$O$1:$O$70,$AQ$48))","v":37.949999999999982},{"$f":"SUM(INDEX(子2!$O$1:$O$70,6):INDEX(子2!$O$1:$O$70,$AQ$48))","v":31.349999999999987},{"$f":"SUM(INDEX(子3!$O$1:$O$70,6):INDEX(子3!$O$1:$O$70,$AQ$48))","v":0},{"$f":"SUM(INDEX(子4!$O$1:$O$70,6):INDEX(子4!$O$1:$O$70,$AQ$48))","v":0}]
[null,null,null,null,null,null,null,null,null,null,null,null,null,null,null,null,null,null,null,null,null,null,null,null,null,null,null,null,null,null,null,null,null,null,null,null,null,null,null,null,null,null,null,null,"子2",{"$f":"INDEX(子2!$C$1:$C$70,$AQ$48)&\"歳\"","v":"34歳"},{"$f":"SUM(INDEX(子2!$J$1:$J$70,6):INDEX(子2!$J$1:$J$70,$AQ$48))","v":216},{"$f":"SUM(INDEX(子2!$T$1:$T$70,6):INDEX(子2!$T$1:$T$70,$AQ$48))","v":573.70500000000004},{"$f":"SUM(INDEX(子2!$AC$1:$AC$70,6):INDEX(子2!$AC$1:$AC$70,$AQ$48))","v":1307.3679999999999},{"$f":"SUM(INDEX(子2!$AK$1:$AK$70,6):INDEX(子2!$AK$1:$AK$70,$AQ$48))","v":228},{"$f":"SUM(INDEX(子2!$AL$1:$AL$70,6):INDEX(子2!$AL$1:$AL$70,$AQ$48))","v":-1893.0729999999994},null,null,null,null,null,null,"電気",{"$f":"SUM(INDEX(親1!$O$1:$O$70,6):INDEX(親1!$O$1:$O$70,$AQ$48))","v":277.19999999999993},{"$f":"SUM(INDEX(親2!$O$1:$O$70,6):INDEX(親2!$O$1:$O$70,$AQ$48))","v":138.59999999999997},415.7999999999999,null,"合計",null,211.17,{"$f":"SUM(BN45:BN46)","v":112.38},{"$f":"SUM(BO45:BO46)","v":98.789999999999992},null,null,null,"電気",{"$f":"SUM(INDEX(親1!$O$1:$O$70,$AQ$49):INDEX(親1!$O$1:$O$70,$AQ$49))","v":6.6000000000000005},{"$f":"SUM(INDEX(親2!$O$1:$O$70,$AQ$49):INDEX(親2!$O$1:$O$70,$AQ$49))","v":3.3000000000000003},null,null,null,"電気",{"$f":"子1!$O71","v":37.949999999999982},{"$f":"子2!$O71","v":31.349999999999987},{"$f":"子3!$O71","v":0},{"$f":"子4!$O71","v":0},null,null,{"$f":"IF($AQ$43,$AQ$43&\"歳まで\",$D$22&\"歳まで\")","v":"65歳まで"},null,{"$f":"SUM(CH44:CH46)","v":6925.2359201872696},null,null,{"$f":"IF($AQ$43,$AQ$43&\"歳まで\",$D$22&\"歳まで\")","v":"65歳まで"},null,{"$f":"SUM(CM44:CM46)","v":2703},null,null,{"$f":"IF($AQ$43,$AQ$43&\"歳まで\",$D$22&\"歳まで\")","v":"65歳まで"},null,{"$f":"SUM(CR44:CR46)","v":797},null,null,null,"ガス",{"$f":"SUM(INDEX(親1!$P$1:$P$70,6):INDEX(親1!$P$1:$P$70,$AQ$48))","v":221.76000000000005},{"$f":"SUM(INDEX(親2!$P$1:$P$70,6):INDEX(親2!$P$1:$P$70,$AQ$48))","v":110.88000000000002},{"$f":"SUM(INDEX(子1!$P$1:$P$70,6):INDEX(子1!$P$1:$P$70,$AQ$48))","v":30.360000000000007},{"$f":"SUM(INDEX(子2!$P$1:$P$70,6):INDEX(子2!$P$1:$P$70,$AQ$48))","v":25.080000000000005},{"$f":"SUM(INDEX(子3!$P$1:$P$70,6):INDEX(子3!$P$1:$P$70,$AQ$48))","v":0},{"$f":"SUM(INDEX(子4!$P$1:$P$70,6):INDEX(子4!$P$1:$P$70,$AQ$48))","v":0}]
[null,null,null,null,null,null,null,null,null,null,null,null,null,null,null,null,null,null,null,null,null,null,null,null,null,null,null,null,null,null,null,null,null,null,null,null,null,null,null,null,null,"計算用",{"$f":"IF(AQ43,MATCH(AQ43,親1!C:C,0),MATCH($D$22,親1!C:C,0))","v":47},null,"子3",{"$f":"INDEX(子3!$C$1:$C$70,$AQ$48)&\"歳\"","v":"-59歳"},{"$f":"SUM(INDEX(子3!$J$1:$J$70,6):INDEX(子3!$J$1:$J$70,$AQ$48))","v":0},{"$f":"SUM(INDEX(子3!$T$1:$T$70,6):INDEX(子3!$T$1:$T$70,$AQ$48))","v":0},{"$f":"SUM(INDEX(子3!$AC$1:$AC$70,6):INDEX(子3!$AC$1:$AC$70,$AQ$48))","v":0},{"$f":"SUM(INDEX(子3!$AK$1:$AK$70,6):INDEX(子3!$AK$1:$AK$70,$AQ$48))","v":0},{"$f":"SUM(INDEX(子3!$AL$1:$AL$70,6):INDEX(子3!$AL$1:$AL$70,$AQ$48))","v":0},null,null,null,null,null,null,"ガス",{"$f":"SUM(INDEX(親1!$P$1:$P$70,6):INDEX(親1!$P$1:$P$70,$AQ$48))","v":221.76000000000005},{"$f":"SUM(INDEX(親2!$P$1:$P$70,6):INDEX(親2!$P$1:$P$70,$AQ$48))","v":110.88000000000002},332.6400000000001,null,"限界利益",null,111.87704433405392,{"$f":"BN44-BN47","v":75.078349628690034},{"$f":"BO44-BO47","v":36.798694705363886},null,null,null,"ガス",{"$f":"SUM(INDEX(親1!$P$1:$P$70,$AQ$49):INDEX(親1!$P$1:$P$70,$AQ$49))","v":5.2800000000000011},{"$f":"SUM(INDEX(親2!$P$1:$P$70,$AQ$49):INDEX(親2!$P$1:$P$70,$AQ$49))","v":2.6400000000000006},null,null,null,"ガス",{"$f":"子1!$P71","v":30.360000000000007},{"$f":"子2!$P71","v":25.080000000000005},{"$f":"子3!$P71","v":0},{"$f":"子4!$P71","v":0},null,null,null,"残りのローン",{"$f":"SUM(INDEX(サマリ!$K$1:$K$70,$AQ$48+1):INDEX(サマリ!$K$1:$K$70,$AQ$49))","v":406.49140646887292},null,null,null,"車1",{"$f":"SUM(INDEX(サマリ!$AH$1:$AH$70,6):INDEX(サマリ!$AH$1:$AH$70,$AQ$49))-CM44","v":500},null,null,null,"大物家電",{"$f":"SUM(INDEX(サマリ!$AG$1:$AG$70,6):INDEX(サマリ!$AG$1:$AG$70,$AQ$49))-CR44","v":117},null,null,null,"水道",{"$f":"SUM(INDEX(親1!$Q$1:$Q$70,6):INDEX(親1!$Q$1:$Q$70,$AQ$48))","v":138.59999999999997},{"$f":"SUM(INDEX(親2!$Q$1:$Q$70,6):INDEX(親2!$Q$1:$Q$70,$AQ$48))","v":69.299999999999983},{"$f":"SUM(INDEX(子1!$Q$1:$Q$70,6):INDEX(子1!$Q$1:$Q$70,$AQ$48))","v":18.974999999999991},{"$f":"SUM(INDEX(子2!$Q$1:$Q$70,6):INDEX(子2!$Q$1:$Q$70,$AQ$48))","v":15.674999999999994},{"$f":"SUM(INDEX(子3!$Q$1:$Q$70,6):INDEX(子3!$Q$1:$Q$70,$AQ$48))","v":0},{"$f":"SUM(INDEX(子4!$Q$1:$Q$70,6):INDEX(子4!$Q$1:$Q$70,$AQ$48))","v":0}]
[null,null,null,null,null,null,null,null,null,null,null,null,null,null,null,null,null,null,null,null,null,null,null,null,null,null,null,null,null,null,null,null,null,null,null,null,null,null,null,null,null,null,{"$f":"MATCH(80,親1!C:C,0)","v":62},null,"子4",{"$f":"INDEX(子4!$C$1:$C$70,$AQ$48)&\"歳\"","v":"-59歳"},{"$f":"SUM(INDEX(子4!$J$1:$J$70,6):INDEX(子4!$J$1:$J$70,$AQ$48))","v":0},{"$f":"SUM(INDEX(子4!$T$1:$T$70,6):INDEX(子4!$T$1:$T$70,$AQ$48))","v":0},{"$f":"SUM(INDEX(子4!$AC$1:$AC$70,6):INDEX(子4!$AC$1:$AC$70,$AQ$48))","v":0},{"$f":"SUM(INDEX(子4!$AK$1:$AK$70,6):INDEX(子4!$AK$1:$AK$70,$AQ$48))","v":0},{"$f":"SUM(INDEX(子4!$AL$1:$AL$70,6):INDEX(子4!$AL$1:$AL$70,$AQ$48))","v":0},null,null,null,null,null,null,"水道",{"$f":"SUM(INDEX(親1!$Q$1:$Q$70,6):INDEX(親1!$Q$1:$Q$70,$AQ$48))","v":138.59999999999997},{"$f":"SUM(INDEX(親2!$Q$1:$Q$70,6):INDEX(親2!$Q$1:$Q$70,$AQ$48))","v":69.299999999999983},207.89999999999995,null,"固定費合計",null,36.849200000000003,{"$f":"BT63","v":21.382923441932117},{"$f":"BU63","v":15.466276558067886},null,null,null,"水道",{"$f":"SUM(INDEX(親1!$Q$1:$Q$70,$AQ$49):INDEX(親1!$Q$1:$Q$70,$AQ$49))","v":3.3000000000000003},{"$f":"SUM(INDEX(親2!$Q$1:$Q$70,$AQ$49):INDEX(親2!$Q$1:$Q$70,$AQ$49))","v":1.6500000000000001},null,null,null,"水道",{"$f":"子1!$Q71","v":18.974999999999991},{"$f":"子2!$Q71","v":15.674999999999994},{"$f":"子3!$Q71","v":0},{"$f":"子4!$Q71","v":0},null,null,null,"住居維持費",{"$f":"SUM(INDEX(サマリ!$L$1:$L$70,$AQ$48+1):INDEX(サマリ!$L$1:$L$70,$AQ$49))","v":556.45548159999998},null,null,null,"車2",{"$f":"SUM(INDEX(サマリ!$AI$1:$AI$70,6):INDEX(サマリ!$AI$1:$AI$70,$AQ$49))-CM45","v":0},null,null,null,"リフォーム",{"$f":"SUM(INDEX(サマリ!$AF$1:$AF$70,6):INDEX(サマリ!$AF$1:$AF$70,$AQ$49))-CR45","v":316},null,null,null,"保険",{"$f":"SUM(INDEX(親1!$R$1:$R$70,6):INDEX(親1!$R$1:$R$70,$AQ$48))","v":504},{"$f":"SUM(INDEX(親2!$R$1:$R$70,6):INDEX(親2!$R$1:$R$70,$AQ$48))","v":0},{"$f":"SUM(INDEX(子1!$R$1:$R$70,6):INDEX(子1!$R$1:$R$70,$AQ$48))","v":0},{"$f":"SUM(INDEX(子2!$R$1:$R$70,6):INDEX(子2!$R$1:$R$70,$AQ$48))","v":0},{"$f":"SUM(INDEX(子3!$R$1:$R$70,6):INDEX(子3!$R$1:$R$70,$AQ$48))","v":0},{"$f":"SUM(INDEX(子4!$R$1:$R$70,6):INDEX(子4!$R$1:$R$70,$AQ$48))","v":0}]
[null,null,null,null,null,null,null,null,null,null,null,null,null,null,null,null,null,null,null,null,null,null,null,null,null,null,null,null,null,null,null,null,null,null,null,null,null,null,null,null,null,null,null,null,"住居",{"$f":"SUM(INDEX(住居!$D$1:$D$70,6):INDEX(住居!$D$1:$D$70,$AQ$48))","v":0},{"$f":"SUM(INDEX(住居!$J$1:$J$70,6):INDEX(住居!$J$1:$J$70,$AQ$48))","v":0},{"$f":"SUM(INDEX(住居!$T$1:$T$70,6):INDEX(住居!$T$1:$T$70,$AQ$48))","v":6371.2359201872705},{"$f":"SUM(INDEX(住居!$AC$1:$AC$70,6):INDEX(住居!$AC$1:$AC$70,$AQ$48))","v":0},{"$f":"SUM(INDEX(住居!$AK$1:$AK$70,6):INDEX(住居!$AK$1:$AK$70,$AQ$48))","v":554},{"$f":"SUM(INDEX(住居!$AL$1:$AL$70,6):INDEX(住居!$AL$1:$AL$70,$AQ$48))","v":-6925.2359201872705},null,null,null,null,null,null,"保険",{"$f":"SUM(INDEX(親1!$R$1:$R$70,6):INDEX(親1!$R$1:$R$70,$AQ$48))","v":504},{"$f":"SUM(INDEX(親2!$R$1:$R$70,6):INDEX(親2!$R$1:$R$70,$AQ$48))","v":0},504,null,"単年度収支",null,{"$f":"BM48-BM49","v":75.027844334053924},{"$f":"BN48-BN49","v":53.695426186757913},{"$f":"BO48-BO49","v":21.332418147296},null,null,null,"保険",{"$f":"SUM(INDEX(親1!$R$1:$R$70,$AQ$49):INDEX(親1!$R$1:$R$70,$AQ$49))","v":0},{"$f":"SUM(INDEX(親2!$R$1:$R$70,$AQ$49):INDEX(親2!$R$1:$R$70,$AQ$49))","v":0},null,null,null,"保険",null,null,null,null,null,null,null,"リフォーム",{"$f":"SUM(INDEX(サマリ!$AF$1:$AF$70,$AQ$48+1):INDEX(サマリ!$AF$1:$AF$70,$AQ$49))","v":316},null,null,null,"車維持費",{"$f":"SUM(INDEX(サマリ!$AJ$1:$AJ$70,6):INDEX(サマリ!$AJ$1:$AJ$70,$AQ$49))-CM46","v":311.25}]
[null,null,null,null,null,null,null,null,null,null,null,null,null,null,null,null,null,null,null,null,null,null,null,null,null,null,null,null,null,null,null,null,null,null,null,null,null,null,null,null,null,null,null,null,"車",{"$f":"SUM(INDEX(車_大物家電!$D$1:$D$70,6):INDEX(車_大物家電!$D$1:$D$70,$AQ$48))","v":0},{"$f":"SUM(INDEX(車_大物家電!$J$1:$J$70,6):INDEX(車_大物家電!$J$1:$J$70,$AQ$48))","v":0},{"$f":"SUM(INDEX(車_大物家電!$T$1:$T$70,6):INDEX(車_大物家電!$T$1:$T$70,$AQ$48))","v":0},{"$f":"SUM(INDEX(車_大物家電!$AC$1:$AC$70,6):INDEX(車_大物家電!$AC$1:$AC$70,$AQ$48))","v":0},{"$f":"SUM(INDEX(車_大物家電!$AK$1:$AK$70,6):INDEX(車_大物家電!$AK$1:$AK$70,$AQ$48))","v":2946},{"$f":"SUM(INDEX(車_大物家電!$AL$1:$AL$70,6):INDEX(車_大物家電!$AL$1:$AL$70,$AQ$48))","v":-2946},null,null,null,null,null,"小計",null,{"$f":"SUM(BG45:BG50)","v":3359.1599999999985},{"$f":"SUM(BH45:BH50)","v":2536.3799999999987},5895.5399999999972,null,"車",null,{"$f":"CM51/15","v":54.083333333333336},null,null,null,null,"小計",null,{"$f":"SUM(BT45:BT50)","v":67.98},{"$f":"SUM(BU45:BU50)","v":60.39},null,null,"衣食住",null,{"$f":"SUM(BZ45:BZ50)","v":694.48500000000001},{"$f":"SUM(CA45:CA50)","v":573.70500000000004},{"$f":"SUM(CB45:CB50)","v":0},{"$f":"SUM(CC45:CC50)","v":0},null,null,"80歳時",null,{"$f":"SUM(CH48:CH50)","v":1278.9468880688728},null,null,"65~80歳",null,{"$f":"SUM(CM48:CM50)","v":811.25},null,null,"65~80歳",null,{"$f":"SUM(CR48:CR50)","v":433},null,null,"位・食・住　合計",null,{"$f":"SUM(CW44:CW50)","v":3359.1599999999985},{"$f":"SUM(CX44:CX50)","v":2536.3799999999987},694.48500000000001,573.70500000000004,0,0]
[null,null,null,null,null,null,null,null,null,null,null,null,null,null,null,null,null,null,null,null,null,null,null,null,null,null,null,null,null,null,null,null,null,null,null,null,null,null,null,null,null,null,null,null,"元の資産",null,null,null,null,null,{"$f":"サマリ!AM5","v":0},null,null,null,null,null,null,"インターネット",{"$f":"SUM(INDEX(親1!$V$1:$V$70,6):INDEX(親1!$V$1:$V$70,$AQ$48))","v":252},{"$f":"SUM(INDEX(親2!$V$1:$V$70,6):INDEX(親2!$V$1:$V$70,$AQ$48))","v":0},252,null,"リフォーム",null,{"$f":"CR51/15","v":28.866666666666667},null,null,null,null,null,"インターネット",{"$f":"SUM(INDEX(親1!$V$1:$V$70,$AQ$49):INDEX(親1!$V$1:$V$70,$AQ$49))","v":6},{"$f":"SUM(INDEX(親2!$V$1:$V$70,$AQ$49):INDEX(親2!$V$1:$V$70,$AQ$49))","v":0},null,null,null,"携帯",{"$f":"子1!$W71","v":31.199999999999996},{"$f":"子2!$W71","v":21.6},{"$f":"子3!$W71","v":0},{"$f":"子4!$W71","v":0},null,"合計",null,null,{"$f":"SUM(CH47,CH51)","v":8204.1828082561424},null,"合計",null,null,{"$f":"SUM(CM47,CM51)","v":3514.25},null,"合計",null,null,{"$f":"SUM(CR47,CR51)","v":1230},null,null,null,"インターネット",{"$f":"SUM(INDEX(親1!$V$1:$V$70,6):INDEX(親1!$V$1:$V$70,$AQ$48))","v":252},{"$f":"SUM(INDEX(親2!$V$1:$V$70,6):INDEX(親2!$V$1:$V$70,$AQ$48))","v":0},{"$f":"SUM(INDEX(子1!$V$1:$V$70,6):INDEX(子1!$V$1:$V$70,$AQ$48))","v":0},{"$f":"SUM(INDEX(子2!$V$1:$V$70,6):INDEX(子2!$V$1:$V$70,$AQ$48))","v":0},{"$f":"SUM(INDEX(子3!$V$1:$V$70,6):INDEX(子3!$V$1:$V$70,$AQ$48))","v":0},{"$f":"SUM(INDEX(子4!$V$1:$V$70,6):INDEX(子4!$V$1:$V$70,$AQ$48))","v":0}]
[null,null,null,null,null,null,null,null,null,null,null,null,null,null,null,null,null,null,null,null,null,null,null,null,null,null,null,null,null,null,null,null,null,null,null,null,null,null,null,null,null,null,null,null,"合計",{"$f":"SUM(AT44:AT52)","v":32550.919240496525},25829.590133999998,13534.965920187271,2547.1308999999997,6980,2767.4933138127317,null,null,null,null,null,null,"携帯",{"$f":"SUM(INDEX(親1!$W$1:$W$70,6):INDEX(親1!$W$1:$W$70,$AQ$48))","v":100.80000000000007},{"$f":"SUM(INDEX(親2!$W$1:$W$70,6):INDEX(親2!$W$1:$W$70,$AQ$48))","v":100.80000000000007},201.60000000000014,null,"収支(含割掛)",null,{"$f":"BM50-SUM(BM51:BM52)","v":-7.9221556659460788},null,null,null,null,null,"携帯",{"$f":"SUM(INDEX(親1!$W$1:$W$70,$AQ$49):INDEX(親1!$W$1:$W$70,$AQ$49))","v":2.4000000000000004},{"$f":"SUM(INDEX(親2!$W$1:$W$70,$AQ$49):INDEX(親2!$W$1:$W$70,$AQ$49))","v":2.4000000000000004},null,null,null,"塾",{"$f":"子1!$X71","v":72},{"$f":"子2!$X71","v":72},{"$f":"子3!$X71","v":0},{"$f":"子4!$X71","v":0},null,null,null,null,null,null,null,null,null,null,null,null,null,null,null,null,null,null,"携帯",{"$f":"SUM(INDEX(親1!$W$1:$W$70,6):INDEX(親1!$W$1:$W$70,$AQ$48))","v":100.80000000000007},{"$f":"SUM(INDEX(親2!$W$1:$W$70,6):INDEX(親2!$W$1:$W$70,$AQ$48))","v":100.80000000000007},{"$f":"SUM(INDEX(子1!$W$1:$W$70,6):INDEX(子1!$W$1:$W$70,$AQ$48))","v":31.199999999999996},{"$f":"SUM(INDEX(子2!$W$1:$W$70,6):INDEX(子2!$W$1:$W$70,$AQ$48))","v":21.6},{"$f":"SUM(INDEX(子3!$W$1:$W$70,6):INDEX(子3!$W$1:$W$70,$AQ$48))","v":0},{"$f":"SUM(INDEX(子4!$W$1:$W$70,6):INDEX(子4!$W$1:$W$70,$AQ$48))","v":0}]
[null,null,null,null,null,null,null,null,null,null,null,null,null,null,null,null,null,null,null,null,null,null,null,null,null,null,null,null,null,null,null,null,null,null,null,null,null,null,null,null,null,null,null,null,null,null,null,null,null,null,null,null,null,null,null,null,null,"お小遣い",{"$f":"SUM(INDEX(親1!$AE$1:$AE$70,6):INDEX(親1!$AE$1:$AE$70,$AQ$48))","v":1512},{"$f":"SUM(INDEX(親2!$AE$1:$AE$70,6):INDEX(親2!$AE$1:$AE$70,$AQ$48))","v":1512},3024,null,"※おこづかいはそのまま入っています。",null,null,null,null,null,null,null,"お小遣い",{"$f":"SUM(INDEX(親1!$AE$1:$AE$70,$AQ$49):INDEX(親1!$AE$1:$AE$70,$AQ$49))","v":36},{"$f":"SUM(INDEX(親2!$AE$1:$AE$70,$AQ$49):INDEX(親2!$AE$1:$AE$70,$AQ$49))","v":36},null,null,null,"習い事",{"$f":"子1!$Y71","v":144},{"$f":"子2!$Y71","v":144},{"$f":"子3!$Y71","v":0},{"$f":"子4!$Y71","v":0},null,null,null,null,null,null,null,null,null,null,null,null,null,null,null,null,null,"固定費　合計",null,{"$f":"SUM(CW52:CW53)","v":352.80000000000007},100.80000000000007,{"$f":"SUM(CY52:CY53)","v":31.199999999999996},{"$f":"SUM(CZ52:CZ53)","v":21.6},0,0]
[null,null,null,null,null,null,null,null,null,null,null,null,null,null,null,null,null,null,null,null,null,null,null,null,null,null,null,null,null,null,null,null,null,null,null,null,null,null,null,null,null,null,null,null,null,null,null,null,null,null,null,null,null,null,null,null,null,null,null,null,0,null,null,null,null,null,null,null,null,null,null,null,null,null,null,null,"学費",{"$f":"子1!$Z71","v":538.96289999999999},{"$f":"子2!$Z71","v":637.76799999999992},{"$f":"子3!$Z71","v":0},{"$f":"子4!$Z71","v":0},null,null,null,null,null,null,null,null,null,null,null,null,null,null,null,null,"退職までの支出　合計",null,null,{"$f":"SUM(CW51,CW54)","v":3711.9599999999987},{"$f":"SUM(CX51,CX54)","v":2637.1799999999989},725.68500000000006,595.30500000000006,0,0]
[null,null,null,null,null,null,null,null,null,null,null,null,null,null,null,null,null,null,null,null,null,null,null,null,null,null,null,null,null,null,null,null,null,null,null,null,null,null,null,null,null,null,null,null,null,null,null,null,null,null,null,null,null,null,null,null,"小計",null,{"$f":"SUM(BG52:BG55)","v":1864.8000000000002},{"$f":"SUM(BH52:BH55)","v":1612.8000000000002},3477.6000000000004,null,"↓毎月換算",null,null,null,null,null,null,"小計",null,{"$f":"SUM(BT52:BT55)","v":44.4},{"$f":"SUM(BU52:BU55)","v":38.4},null,null,null,"仕送り",{"$f":"子1!$AA71","v":0},{"$f":"子2!$AA71","v":432},{"$f":"子3!$AA71","v":0},{"$f":"子4!$AA71","v":0},null,null,null,null,null,null,null,null,null,null,null,null,null,null,null,null,null,null,"お小遣い",{"$f":"SUM(INDEX(親1!$AE$1:$AE$70,6):INDEX(親1!$AE$1:$AE$70,$AQ$48))","v":1512},{"$f":"SUM(INDEX(親2!$AE$1:$AE$70,6):INDEX(親2!$AE$1:$AE$70,$AQ$48))","v":1512},{"$f":"SUM(INDEX(子1!$AE$1:$AE$70,6):INDEX(子1!$AE$1:$AE$70,$AQ$48))","v":228},{"$f":"SUM(INDEX(子2!$AE$1:$AE$70,6):INDEX(子2!$AE$1:$AE$70,$AQ$48))","v":228},{"$f":"SUM(INDEX(子3!$AE$1:$AE$70,6):INDEX(子3!$AE$1:$AE$70,$AQ$48))","v":0},{"$f":"SUM(INDEX(子4!$AE$1:$AE$70,6):INDEX(子4!$AE$1:$AE$70,$AQ$48))","v":0}]
[null,null,null,null,null,null,null,null,null,null,null,null,null,null,null,null,null,null,null,null,null,null,null,null,"大物家電・リフォーム",null,null,null,null,null,null,null,null,null,null,null,null,null,null,null,null,null,null,null,null,null,null,null,null,null,null,null,null,null,null,"合計",null,null,{"$f":"SUM(BG51,BG56)","v":5223.9599999999991},{"$f":"SUM(BH51,BH56)","v":4149.1799999999985},9373.1399999999976,null,"毎月の計算",null,"合計",null,null,null,"合計",null,null,{"$f":"SUM(BT51,BT56)","v":112.38},{"$f":"SUM(BU51,BU56)","v":98.789999999999992},null,null,null,"おこづかい",{"$f":"子1!$AE71","v":228},{"$f":"子2!$AE71","v":228},{"$f":"子3!$AE71","v":0},{"$f":"子4!$AE71","v":0},null,null,null,null,null,null,null,null,null,null,null,null,null,null,null,null,"退職までの支出(含お小遣い)　合計",null,null,{"$f":"SUM(CW55:CW56)","v":5223.9599999999991},{"$f":"SUM(CX55:CX56)","v":4149.1799999999985},953.68500000000006,823.30500000000006,0,0]
[null,null,null,null,null,null,null,null,null,null,null,null,null,null,null,null,null,null,null,null,null,null,null,null,null,null,null,null,null,null,null,null,null,null,null,null,null,null,null,null,null,null,null,null,null,null,null,null,null,null,null,null,null,null,null,"限界利益",null,null,{"$f":"BG44-BG57","v":11430.661320000003},{"$f":"BH44-BH57","v":3593.7888139999986},15024.450134000002,null,"収入",null,{"$f":"BM44/12*10000","v":269205.87027837825},null,null,null,"限界利益",null,null,{"$f":"BT44-BT57","v":75.078349628690034},{"$f":"BU44-BU57","v":36.798694705363886},null,null,"学費等",null,{"$f":"SUM(BZ52:BZ57)","v":1014.1629},{"$f":"SUM(CA52:CA57)","v":1535.3679999999999},{"$f":"SUM(CB52:CB57)","v":0},{"$f":"SUM(CC52:CC57)","v":0}]
[null,null,null,null,null,null,null,null,null,null,null,null,null,null,null,null,null,null,null,null,null,null,null,null,null,null,null,null,null,null,null,null,null,null,null,null,null,null,null,null,null,null,null,null,null,null,null,null,null,null,null,null,null,null,null,null,"住居案分",null,{"$f":"$BI59*BG$44/$BI$44","v":4349.2214193412165},2022.0145008460534,{"$f":"SUM(INDEX(サマリ!$K$1:$K$70,6):INDEX(サマリ!$K$1:$K$70,$AQ$48))+SUM(INDEX(サマリ!$L$1:$L$70,6):INDEX(サマリ!$L$1:$L$70,$AQ$48))","v":6371.2359201872696},null,null,"衣食住",106975,null,null,null,null,"住居案分",null,{"$f":"(SUM(INDEX(サマリ!$K$1:$K$70,$AQ$49):INDEX(サマリ!$K$1:$K$70,$AQ$49))+SUM(INDEX(サマリ!$L$1:$L$70,$AQ$49):INDEX(サマリ!$L$1:$L$70,$AQ$49)))/SUM(BT44:BU44)*BT44","v":21.382923441932117},{"$f":"(SUM(INDEX(サマリ!$K$1:$K$70,$AQ$49):INDEX(サマリ!$K$1:$K$70,$AQ$49))+SUM(INDEX(サマリ!$L$1:$L$70,$AQ$49):INDEX(サマリ!$L$1:$L$70,$AQ$49)))/SUM(BT44:BU44)*BU44","v":15.466276558067886},null,"合計",null,null,{"$f":"BZ44-SUM(BZ51,BZ58)","v":-1492.6478999999999},{"$f":"CA44-SUM(CA51,CA58)","v":-1893.0729999999999},0,0]
[null,null,null,null,null,null,null,null,null,null,null,null,null,null,null,null,null,null,null,null,null,null,null,null,null,null,null,null,null,null,null,null,null,null,null,null,null,null,null,null,null,null,null,null,null,null,null,null,null,null,null,null,null,null,null,null,"子供案分",null,2311.2077535120375,1074.5131464879621,{"$f":"-(SUM(INDEX(子1!$AL$1:$AL$70,6):INDEX(子1!$AL$1:$AL$70,$AQ$48))+SUM(INDEX(子2!$AL$1:$AL$70,6):INDEX(子2!$AL$1:$AL$70,$AQ$48))+SUM(INDEX(子3!$AL$1:$AL$70,6):INDEX(子3!$AL$1:$AL$70,$AQ$48))+SUM(INDEX(子4!$AL$1:$AL$70,6):INDEX(子4!$AL$1:$AL$70,$AQ$48)))","v":3385.7208999999993},null,null,"その他",{"$f":"BM46/12*10000","v":69000},null,null,null,null,"子供案分"]
[null,null,null,null,null,null,null,null,null,null,null,null,null,null,null,null,null,null,null,null,null,null,null,null,null,null,null,null,null,null,null,null,null,null,null,null,null,null,null,null,null,null,null,null,null,null,null,null,null,null,null,null,null,null,null,null,"車",null,1845.1593448659748,857.84065513402527,{"$f":"SUM(INDEX(サマリ!$AH$1:$AH$70,6):INDEX(サマリ!$AH$1:$AH$70,$AQ$48))+SUM(INDEX(サマリ!$AI$1:$AI$70,6):INDEX(サマリ!$AI$1:$AI$70,$AQ$48))+SUM(INDEX(サマリ!$AJ$1:$AJ$70,6):INDEX(サマリ!$AJ$1:$AJ$70,$AQ$48))","v":2703},null,"合計",null,175975,null,null,null,null,"車",null,null,null,null,"<内大学関係合計>"]
[null,null,null,null,null,null,null,null,null,null,null,null,null,null,null,null,null,null,null,null,null,null,null,null,null,null,null,null,null,null,null,null,null,null,null,null,null,null,null,null,null,null,null,null,null,null,null,null,null,null,null,null,null,null,null,null,"家電、リフォーム",null,544.05919269633068,252.94080730366932,{"$f":"SUM(INDEX(サマリ!$AF$1:$AF$70,6):INDEX(サマリ!$AF$1:$AF$70,$AQ$48))+SUM(INDEX(サマリ!$AG$1:$AG$70,6):INDEX(サマリ!$AG$1:$AG$70,$AQ$48))","v":797},null,"限界利益",null,93230.870278378279,null,null,null,null,"家電、リフォーム",null,null,null,null,null,null,"大学の学費",{"$f":"子1!$Z$74","v":253.96509999999995},{"$f":"子2!$Z$74","v":400.77019999999993},{"$f":"子3!$Z$74","v":0},{"$f":"子4!$Z$74","v":0}]
[null,null,null,null,null,null,null,null,null,null,null,null,null,null,null,null,null,null,null,null,null,null,null,null,null,null,null,null,null,null,null,null,null,null,null,null,null,null,null,null,null,null,null,null,null,null,null,null,null,null,null,null,null,null,null,"固定費合計",null,null,{"$f":"SUM(BG59:BG62)","v":9049.6477104155601},{"$f":"SUM(BH59:BH62)","v":4207.3091097717097},13256.956820187268,null,"固定費合計",null,30707.666666666672,null,null,null,"固定費合計",null,null,{"$f":"SUM(BT59:BT62)","v":21.382923441932117},{"$f":"SUM(BU59:BU62)","v":15.466276558067886},null,null,null,"仕送り",{"$f":"子1!$AA$74","v":0},{"$f":"子2!$AA$74","v":432},{"$f":"子3!$AA$74","v":0},{"$f":"子4!$AA$74","v":0}]
[null,null,null,null,null,null,null,null,null,null,null,null,null,null,null,null,null,null,null,null,null,null,null,null,null,null,null,null,null,null,null,null,null,null,null,null,null,null,null,null,null,null,null,null,null,null,null,null,null,null,null,null,null,null,null,"収支",null,null,{"$f":"BG58-BG63","v":2381.0136095844427},{"$f":"BH58-BH63","v":-613.52029577171106},1767.4933138127344,null,"毎月収支",null,62523.203611711608,null,null,null,"収支",null,null,{"$f":"BT58-BT63","v":53.695426186757913},{"$f":"BU58-BU63","v":21.332418147296},null,null,"大学関係",null,{"$f":"SUM(BZ62:BZ63)","v":253.96509999999995},{"$f":"SUM(CA62:CA63)","v":832.77019999999993},0,0]
[null,null,null,null,null,null,null,null,null,null,null,null,null,null,null,null,null,null,null,null,null,null,null,null,null,null,null,null,null,null,null,null,null,null,null,null,null,null,null,null,null,null,null,null,null,null,null,null,null,null,null,null,null,null,null,"退職金",null,null,{"$f":"$E$31","v":1000},{"$f":"$J$31","v":0},{"$f":"SUM(BG65:BH65)","v":1000},null,"車",null,45069.444444444445,null,null,null,null,null,null,null,null,null,"大学関係合計",null,null,{"$f":"SUM(BZ64:CC64)","v":1086.7352999999998}]
[null,null,null,null,null,null,null,null,null,null,null,null,null,null,null,null,null,null,null,null,null,null,null,null,null,null,null,null,null,null,null,null,null,null,null,null,null,null,null,null,null,null,null,null,null,null,null,null,null,null,null,null,null,null,null,"元の財産",null,null,{"$f":"SUM($D$11:$E$11)","v":0},{"$f":"SUM($I$11:$J$11)","v":0},{"$f":"SUM(BG66:BH66)","v":0},null,"リフォーム",null,24055.555555555555]
[null,null,null,null,null,null,null,null,null,null,null,null,null,null,null,null,null,null,null,null,null,null,null,null,null,null,null,null,null,null,null,null,null,null,null,null,null,null,null,null,null,null,null,null,null,null,null,null,null,null,null,null,null,null,null,"住宅ローン",null,null,{"$f":"$BI67*BG$44/$BI$44","v":-277.48480105577283},{"$f":"$BI67*BH$44/$BI$44","v":-129.00660541309998},{"$f":"MIN(SUM(INDEX(サマリ!$K$1:$K$70,6):INDEX(サマリ!$K$1:$K$70,$AQ$48))-住居!$K$71,0)","v":-406.49140646887281},null,"収支(含割掛)",null,-6601.7963882883987]
[null,null,null,null,null,null,null,null,null,null,null,null,null,null,null,null,null,null,null,null,null,null,null,null,null,null,null,null,null,null,null,null,null,null,null,null,null,null,null,null,null,null,null,null,null,null,null,null,null,null,null,null,null,null,null,"資産",null,null,{"$f":"SUM(BG64:BG67)","v":3103.5288085286697},{"$f":"SUM(BH64:BH67)","v":-742.52690118481109},2361.0019073438616]
[]
[null,null,null,null,null,null,null,null,null,null,null,null,null,null,null,null,null,null,null,null,null,null,null,null,null,null,null,null,null,null,null,null,null,null,null,null,null,null,null,null,null,null,null,null,null,null,null,null,null,null,null,null,null,null,null,null,null,null,null,null,null,null,null,null,null,null,null,null,null,null,null,null,null,null,null,null,null,null,null,null,null,null,null,null,null,null,null,null,null,null,null,null,null,null,null,null,null,null,null,null,6,{"$f":"CW70+5","v":11},{"$f":"CX70+5","v":16},21,26,31,null,null,null,null,6,{"$f":"DG70+5","v":11},{"$f":"DH70+5","v":16},21,26,31]
[]
[null,null,"グラフ",null,null,null,null,null,null,null,null,null,null,null,null,null,null,null,null,null,null,null,null,null,null,null,null,null,null,null,null,null,null,null,null,null,null,null,null,null,null,null,null,null,null,null,null,null,null,null,null,null,null,null,null,null,null,null,null,null,null,null,null,null,null,null,null,null,null,null,null,null,null,null,null,null,null,null,null,null,null,null,null,null,null,null,null,null,null,null,null,null,null,null,null,null,null,"親1退職時の収支"]
[null,null,null,null,null,null,null,null,null,null,null,null,null,null,null,null,null,null,null,null,null,null,null,null,null,null,null,null,null,null,null,null,null,null,null,null,null,null,null,null,null,null,null,null,null,null,null,null,null,null,null,null,null,null,null,null,null,"食費",{"$f":"SUM(BI45,BZ45:CC45)","v":4157.9999999999982},null,null,null,null,null,null,null,null,null,null,null,null,null,null,null,null,null,null,null,null,null,null,null,null,null,null,null,null,null,null,null,null,null,null,null,null,null,null,"年齢",null,"親1",{"$f":"SUM(INDEX(サマリ!$C$1:$C$70,CW$70):INDEX(サマリ!$C$1:$C$70,CW$70))","v":24},{"$f":"SUM(INDEX(サマリ!$C$1:$C$70,CX$70):INDEX(サマリ!$C$1:$C$70,CX$70))","v":29},{"$f":"SUM(INDEX(サマリ!$C$1:$C$70,CY$70):INDEX(サマリ!$C$1:$C$70,CY$70))","v":34},{"$f":"SUM(INDEX(サマリ!$C$1:$C$70,CZ$70):INDEX(サマリ!$C$1:$C$70,CZ$70))","v":39},{"$f":"SUM(INDEX(サマリ!$C$1:$C$70,DA$70):INDEX(サマリ!$C$1:$C$70,DA$70))","v":44},{"$f":"SUM(INDEX(サマリ!$C$1:$C$70,DB$70):INDEX(サマリ!$C$1:$C$70,DB$70))","v":49},null,"年齢",null,"親1",{"$f":"SUM(INDEX(サマリ!$C$1:$C$70,DG$70):INDEX(サマリ!$C$1:$C$70,DG$70))","v":24},{"$f":"SUM(INDEX(サマリ!$C$1:$C$70,DH$70):INDEX(サマリ!$C$1:$C$70,DH$70))","v":29},{"$f":"SUM(INDEX(サマリ!$C$1:$C$70,DI$70):INDEX(サマリ!$C$1:$C$70,DI$70))","v":34},{"$f":"SUM(INDEX(サマリ!$C$1:$C$70,DJ$70):INDEX(サマリ!$C$1:$C$70,DJ$70))","v":39},{"$f":"SUM(INDEX(サマリ!$C$1:$C$70,DK$70):INDEX(サマリ!$C$1:$C$70,DK$70))","v":44},{"$f":"SUM(INDEX(サマリ!$C$1:$C$70,DL$70):INDEX(サマリ!$C$1:$C$70,DL$70))","v":49}]
[null,null,null,null,null,null,null,null,null,null,null,null,null,null,null,null,null,null,null,null,null,null,null,null,null,null,null,null,null,null,null,null,null,null,null,null,null,null,null,null,null,null,null,null,null,null,null,null,null,null,null,null,null,null,null,null,null,"服・日用品",{"$f":"SUM(BI46,BZ46:CC46)","v":1385.9999999999995},null,null,null,null,null,null,null,null,null,null,null,null,null,null,null,null,null,null,null,null,null,null,null,null,null,null,null,null,null,null,null,null,null,null,null,null,null,null,null,null,"親2",{"$f":"SUM(INDEX(親2!$C$1:$C$70,CW$70):INDEX(親2!$C$1:$C$70,CW$70))","v":22},{"$f":"SUM(INDEX(親2!$C$1:$C$70,CX$70):INDEX(親2!$C$1:$C$70,CX$70))","v":27},{"$f":"SUM(INDEX(親2!$C$1:$C$70,CY$70):INDEX(親2!$C$1:$C$70,CY$70))","v":32},{"$f":"SUM(INDEX(親2!$C$1:$C$70,CZ$70):INDEX(親2!$C$1:$C$70,CZ$70))","v":37},{"$f":"SUM(INDEX(親2!$C$1:$C$70,DA$70):INDEX(親2!$C$1:$C$70,DA$70))","v":42},{"$f":"SUM(INDEX(親2!$C$1:$C$70,DB$70):INDEX(親2!$C$1:$C$70,DB$70))","v":47},null,null,null,"親2",{"$f":"SUM(INDEX(親2!$C$1:$C$70,DG$70):INDEX(親2!$C$1:$C$70,DG$70))","v":22},{"$f":"SUM(INDEX(親2!$C$1:$C$70,DH$70):INDEX(親2!$C$1:$C$70,DH$70))","v":27},{"$f":"SUM(INDEX(親2!$C$1:$C$70,DI$70):INDEX(親2!$C$1:$C$70,DI$70))","v":32},{"$f":"SUM(INDEX(親2!$C$1:$C$70,DJ$70):INDEX(親2!$C$1:$C$70,DJ$70))","v":37},{"$f":"SUM(INDEX(親2!$C$1:$C$70,DK$70):INDEX(親2!$C$1:$C$70,DK$70))","v":42},{"$f":"SUM(INDEX(親2!$C$1:$C$70,DL$70):INDEX(親2!$C$1:$C$70,DL$70))","v":47}]
[null,null,null,null,null,null,null,null,null,null,null,null,null,null,null,null,null,null,null,null,null,null,null,null,null,null,null,null,null,null,null,null,null,null,null,null,null,null,null,null,null,null,null,null,null,null,null,null,null,null,null,null,null,null,null,null,null,"光熱費",{"$f":"SUM(BI47:BI49,BZ47:CC49)","v":1115.7299999999996},null,null,null,null,null,null,null,null,null,null,null,null,null,null,null,null,null,null,null,null,null,null,null,null,null,null,null,null,null,null,null,null,null,null,null,null,null,null,null,null,"子1",{"$f":"SUM(INDEX(子1!$C$1:$C$70,CW$70):INDEX(子1!$C$1:$C$70,CW$70))","v":-4},{"$f":"SUM(INDEX(子1!$C$1:$C$70,CX$70):INDEX(子1!$C$1:$C$70,CX$70))","v":1},{"$f":"SUM(INDEX(子1!$C$1:$C$70,CY$70):INDEX(子1!$C$1:$C$70,CY$70))","v":6},{"$f":"SUM(INDEX(子1!$C$1:$C$70,CZ$70):INDEX(子1!$C$1:$C$70,CZ$70))","v":11},{"$f":"SUM(INDEX(子1!$C$1:$C$70,DA$70):INDEX(子1!$C$1:$C$70,DA$70))","v":16},{"$f":"SUM(INDEX(子1!$C$1:$C$70,DB$70):INDEX(子1!$C$1:$C$70,DB$70))","v":21},null,null,null,"子1",{"$f":"SUM(INDEX(子1!$C$1:$C$70,DG$70):INDEX(子1!$C$1:$C$70,DG$70))","v":-4},{"$f":"SUM(INDEX(子1!$C$1:$C$70,DH$70):INDEX(子1!$C$1:$C$70,DH$70))","v":1},{"$f":"SUM(INDEX(子1!$C$1:$C$70,DI$70):INDEX(子1!$C$1:$C$70,DI$70))","v":6},{"$f":"SUM(INDEX(子1!$C$1:$C$70,DJ$70):INDEX(子1!$C$1:$C$70,DJ$70))","v":11},{"$f":"SUM(INDEX(子1!$C$1:$C$70,DK$70):INDEX(子1!$C$1:$C$70,DK$70))","v":16},{"$f":"SUM(INDEX(子1!$C$1:$C$70,DL$70):INDEX(子1!$C$1:$C$70,DL$70))","v":21}]
[null,null,null,null,null,null,null,null,null,null,null,null,null,null,null,null,null,null,null,null,null,null,null,null,null,null,null,null,null,null,null,null,null,null,null,null,null,null,null,null,null,null,null,null,null,null,null,null,null,null,null,null,null,null,null,null,null,"保険",{"$f":"SUM(BI50)","v":504},null,null,null,null,null,null,null,null,null,null,null,null,null,null,null,null,null,null,null,null,null,null,null,null,null,null,null,null,null,null,null,null,null,null,null,null,null,null,null,null,"子2",{"$f":"SUM(INDEX(子2!$C$1:$C$70,CW$70):INDEX(子2!$C$1:$C$70,CW$70))","v":-7},{"$f":"SUM(INDEX(子2!$C$1:$C$70,CX$70):INDEX(子2!$C$1:$C$70,CX$70))","v":-2},{"$f":"SUM(INDEX(子2!$C$1:$C$70,CY$70):INDEX(子2!$C$1:$C$70,CY$70))","v":3},{"$f":"SUM(INDEX(子2!$C$1:$C$70,CZ$70):INDEX(子2!$C$1:$C$70,CZ$70))","v":8},{"$f":"SUM(INDEX(子2!$C$1:$C$70,DA$70):INDEX(子2!$C$1:$C$70,DA$70))","v":13},{"$f":"SUM(INDEX(子2!$C$1:$C$70,DB$70):INDEX(子2!$C$1:$C$70,DB$70))","v":18},null,null,null,"子2",{"$f":"SUM(INDEX(子2!$C$1:$C$70,DG$70):INDEX(子2!$C$1:$C$70,DG$70))","v":-7},{"$f":"SUM(INDEX(子2!$C$1:$C$70,DH$70):INDEX(子2!$C$1:$C$70,DH$70))","v":-2},{"$f":"SUM(INDEX(子2!$C$1:$C$70,DI$70):INDEX(子2!$C$1:$C$70,DI$70))","v":3},{"$f":"SUM(INDEX(子2!$C$1:$C$70,DJ$70):INDEX(子2!$C$1:$C$70,DJ$70))","v":8},{"$f":"SUM(INDEX(子2!$C$1:$C$70,DK$70):INDEX(子2!$C$1:$C$70,DK$70))","v":13},{"$f":"SUM(INDEX(子2!$C$1:$C$70,DL$70):INDEX(子2!$C$1:$C$70,DL$70))","v":18}]
[null,null,null,null,null,null,null,null,null,null,null,null,null,null,null,null,null,null,null,null,null,null,null,null,null,null,null,null,null,null,null,null,null,null,null,null,null,null,null,null,null,null,null,null,null,null,null,null,null,null,null,null,null,null,null,null,null,"通信",{"$f":"SUM(BI52:BI53,BZ52:CC52)","v":506.40000000000015},null,null,null,null,null,null,null,null,null,null,null,null,null,null,null,null,null,null,null,null,null,null,null,null,null,null,null,null,null,null,null,null,null,null,null,null,null,null,"収入",null,null,{"$f":"SUM(INDEX(サマリ!$J$1:$J$70,CW$70):INDEX(サマリ!$J$1:$J$70,CW$70))","v":420.395082},{"$f":"SUM(INDEX(サマリ!$J$1:$J$70,CX$70):INDEX(サマリ!$J$1:$J$70,CX$70))","v":443.03508200000005},{"$f":"SUM(INDEX(サマリ!$J$1:$J$70,CY$70):INDEX(サマリ!$J$1:$J$70,CY$70))","v":513.22373399999992},{"$f":"SUM(INDEX(サマリ!$J$1:$J$70,CZ$70):INDEX(サマリ!$J$1:$J$70,CZ$70))","v":635.31852000000003},{"$f":"SUM(INDEX(サマリ!$J$1:$J$70,DA$70):INDEX(サマリ!$J$1:$J$70,DA$70))","v":681.59280000000001},{"$f":"SUM(INDEX(サマリ!$J$1:$J$70,DB$70):INDEX(サマリ!$J$1:$J$70,DB$70))","v":717.64069999999992},null,"収入",null,null,{"$f":"CW77/12*10000","v":350329.23500000004},{"$f":"CX77/12*10000","v":369195.90166666673},{"$f":"CY77/12*10000","v":427686.44499999995},{"$f":"CZ77/12*10000","v":529432.1},{"$f":"DA77/12*10000","v":567994},{"$f":"DB77/12*10000","v":598033.91666666663}]
[null,null,null,null,null,null,null,null,null,null,null,null,null,null,null,null,null,null,null,null,null,null,null,null,null,null,null,null,null,null,null,null,null,null,null,null,null,null,null,null,null,null,null,null,null,null,null,null,null,null,null,null,null,null,null,null,null,"住居",{"$f":"SUM(BI59)","v":6371.2359201872696},null,null,null,null,null,null,null,null,null,null,null,null,null,null,null,null,null,null,null,null,null,null,null,null,null,null,null,null,null,null,null,null,null,null,null,null,null,null,null,null,"食費",{"$f":"SUM(INDEX(サマリ!$M$1:$M$70,CW$70):INDEX(サマリ!$M$1:$M$70,CW$70))","v":79.2},{"$f":"SUM(INDEX(サマリ!$M$1:$M$70,CX$70):INDEX(サマリ!$M$1:$M$70,CX$70))","v":99},{"$f":"SUM(INDEX(サマリ!$M$1:$M$70,CY$70):INDEX(サマリ!$M$1:$M$70,CY$70))","v":118.8},{"$f":"SUM(INDEX(サマリ!$M$1:$M$70,CZ$70):INDEX(サマリ!$M$1:$M$70,CZ$70))","v":118.8},{"$f":"SUM(INDEX(サマリ!$M$1:$M$70,DA$70):INDEX(サマリ!$M$1:$M$70,DA$70))","v":118.8},{"$f":"SUM(INDEX(サマリ!$M$1:$M$70,DB$70):INDEX(サマリ!$M$1:$M$70,DB$70))","v":118.8},null,null,null,"食費",{"$f":"CW78/12*10000","v":66000},82500,99000,99000,99000,99000]
[null,null,null,null,null,null,null,null,null,null,null,null,null,null,null,null,null,null,null,null,null,null,null,null,null,null,null,null,null,null,null,null,null,null,null,null,null,null,null,null,null,null,null,null,null,null,null,null,null,null,null,null,null,null,null,null,null,"車",{"$f":"SUM(BI61)","v":2703},null,null,null,null,null,null,null,null,null,null,null,null,null,null,null,null,null,null,null,null,null,null,null,null,null,null,null,null,null,null,null,null,null,null,null,null,null,null,null,null,"服費",{"$f":"SUM(INDEX(サマリ!$N$1:$N$70,CW$70):INDEX(サマリ!$N$1:$N$70,CW$70))","v":26.400000000000002},{"$f":"SUM(INDEX(サマリ!$N$1:$N$70,CX$70):INDEX(サマリ!$N$1:$N$70,CX$70))","v":33},{"$f":"SUM(INDEX(サマリ!$N$1:$N$70,CY$70):INDEX(サマリ!$N$1:$N$70,CY$70))","v":39.6},{"$f":"SUM(INDEX(サマリ!$N$1:$N$70,CZ$70):INDEX(サマリ!$N$1:$N$70,CZ$70))","v":39.6},{"$f":"SUM(INDEX(サマリ!$N$1:$N$70,DA$70):INDEX(サマリ!$N$1:$N$70,DA$70))","v":39.6},{"$f":"SUM(INDEX(サマリ!$N$1:$N$70,DB$70):INDEX(サマリ!$N$1:$N$70,DB$70))","v":39.6},null,null,null,"服費",22000,27500,33000,33000,33000,33000]
[null,null,null,null,null,null,null,null,null,null,null,null,null,null,null,null,null,null,null,null,null,null,null,null,null,null,null,null,null,null,null,null,null,null,null,null,null,null,null,null,null,null,null,null,null,null,null,null,null,null,null,null,null,null,null,null,null,"家電・リフォーム",{"$f":"SUM(BI62)","v":797},null,null,null,null,null,null,null,null,null,null,null,null,null,null,null,null,null,null,null,null,null,null,null,null,null,null,null,null,null,null,null,null,null,null,null,null,null,null,null,null,"電気",{"$f":"SUM(INDEX(サマリ!$O$1:$O$70,CW$70):INDEX(サマリ!$O$1:$O$70,CW$70))","v":9.9},{"$f":"SUM(INDEX(サマリ!$O$1:$O$70,CX$70):INDEX(サマリ!$O$1:$O$70,CX$70))","v":11.55},{"$f":"SUM(INDEX(サマリ!$O$1:$O$70,CY$70):INDEX(サマリ!$O$1:$O$70,CY$70))","v":13.200000000000001},{"$f":"SUM(INDEX(サマリ!$O$1:$O$70,CZ$70):INDEX(サマリ!$O$1:$O$70,CZ$70))","v":13.200000000000001},{"$f":"SUM(INDEX(サマリ!$O$1:$O$70,DA$70):INDEX(サマリ!$O$1:$O$70,DA$70))","v":13.200000000000001},{"$f":"SUM(INDEX(サマリ!$O$1:$O$70,DB$70):INDEX(サマリ!$O$1:$O$70,DB$70))","v":13.200000000000001},null,null,null,"電気",8250,9625,11000,11000,11000,11000]
[null,null,null,null,null,null,null,null,null,null,null,null,null,null,null,null,null,null,null,null,null,null,null,null,null,null,null,null,null,null,null,null,null,null,null,null,null,null,null,null,null,null,null,null,null,null,null,null,null,null,null,null,null,null,null,null,null,"お小遣い",{"$f":"SUM(CW56:CZ56)","v":3480},null,null,null,null,null,null,null,null,null,null,null,null,null,null,null,null,null,null,null,null,null,null,null,null,null,null,null,null,null,null,null,null,null,null,null,null,null,null,null,null,"ガス",{"$f":"SUM(INDEX(サマリ!$P$1:$P$70,CW$70):INDEX(サマリ!$P$1:$P$70,CW$70))","v":7.9200000000000017},{"$f":"SUM(INDEX(サマリ!$P$1:$P$70,CX$70):INDEX(サマリ!$P$1:$P$70,CX$70))","v":9.240000000000002},{"$f":"SUM(INDEX(サマリ!$P$1:$P$70,CY$70):INDEX(サマリ!$P$1:$P$70,CY$70))","v":10.560000000000002},{"$f":"SUM(INDEX(サマリ!$P$1:$P$70,CZ$70):INDEX(サマリ!$P$1:$P$70,CZ$70))","v":10.560000000000002},{"$f":"SUM(INDEX(サマリ!$P$1:$P$70,DA$70):INDEX(サマリ!$P$1:$P$70,DA$70))","v":10.560000000000002},{"$f":"SUM(INDEX(サマリ!$P$1:$P$70,DB$70):INDEX(サマリ!$P$1:$P$70,DB$70))","v":10.560000000000002},null,null,null,"ガス",6600.0000000000018,7700.0000000000009,8800.0000000000018,8800.0000000000018,8800.0000000000018,8800.0000000000018]
[null,null,null,null,null,null,null,null,null,null,null,null,null,null,null,null,null,null,null,null,null,null,null,null,null,null,null,null,null,null,null,null,null,null,null,null,null,null,null,null,null,null,null,null,null,null,null,null,null,null,null,null,null,null,null,null,null,"塾・習い事",{"$f":"SUM(BZ53:CC54)","v":432},null,null,null,null,null,null,null,null,null,null,null,null,null,null,null,null,null,null,null,null,null,null,null,null,null,null,null,null,null,null,null,null,null,null,null,null,null,null,null,null,"水道",{"$f":"SUM(INDEX(サマリ!$Q$1:$Q$70,CW$70):INDEX(サマリ!$Q$1:$Q$70,CW$70))","v":4.95},{"$f":"SUM(INDEX(サマリ!$Q$1:$Q$70,CX$70):INDEX(サマリ!$Q$1:$Q$70,CX$70))","v":5.7750000000000004},{"$f":"SUM(INDEX(サマリ!$Q$1:$Q$70,CY$70):INDEX(サマリ!$Q$1:$Q$70,CY$70))","v":6.6000000000000005},{"$f":"SUM(INDEX(サマリ!$Q$1:$Q$70,CZ$70):INDEX(サマリ!$Q$1:$Q$70,CZ$70))","v":6.6000000000000005},{"$f":"SUM(INDEX(サマリ!$Q$1:$Q$70,DA$70):INDEX(サマリ!$Q$1:$Q$70,DA$70))","v":6.6000000000000005},{"$f":"SUM(INDEX(サマリ!$Q$1:$Q$70,DB$70):INDEX(サマリ!$Q$1:$Q$70,DB$70))","v":6.6000000000000005},null,null,null,"水道",4125,4812.5,5500,5500,5500,5500]
[null,null,null,null,null,null,null,null,null,null,null,null,null,null,null,null,null,null,null,null,null,null,null,null,null,null,null,null,null,null,null,null,null,null,null,null,null,null,null,null,null,null,null,null,null,null,null,null,null,null,null,null,null,null,null,null,null,"学費・仕送り",{"$f":"SUM(BZ55:CC56)","v":1608.7309},null,null,null,null,null,null,null,null,null,null,null,null,null,null,null,null,null,null,null,null,null,null,null,null,null,null,null,null,null,null,null,null,null,null,null,null,null,null,null,null,"保険",{"$f":"SUM(INDEX(サマリ!$R$1:$R$70,CW$70):INDEX(サマリ!$R$1:$R$70,CW$70))","v":12},{"$f":"SUM(INDEX(サマリ!$R$1:$R$70,CX$70):INDEX(サマリ!$R$1:$R$70,CX$70))","v":12},{"$f":"SUM(INDEX(サマリ!$R$1:$R$70,CY$70):INDEX(サマリ!$R$1:$R$70,CY$70))","v":12},{"$f":"SUM(INDEX(サマリ!$R$1:$R$70,CZ$70):INDEX(サマリ!$R$1:$R$70,CZ$70))","v":12},{"$f":"SUM(INDEX(サマリ!$R$1:$R$70,DA$70):INDEX(サマリ!$R$1:$R$70,DA$70))","v":12},{"$f":"SUM(INDEX(サマリ!$R$1:$R$70,DB$70):INDEX(サマリ!$R$1:$R$70,DB$70))","v":12},null,null,null,"保険",10000,10000,10000,10000,10000,10000]
[null,null,null,null,null,null,null,null,null,null,null,null,null,null,null,null,null,null,null,null,null,null,null,null,null,null,null,null,null,null,null,null,null,null,null,null,null,null,null,null,null,null,null,null,null,null,null,null,null,null,null,null,null,null,null,null,null,null,null,null,null,null,null,null,null,null,null,null,null,null,null,null,null,null,null,null,null,null,null,null,null,null,null,null,null,null,null,null,null,null,null,null,null,null,null,null,null,null,"小計",null,{"$f":"SUM(CW78:CW83)","v":140.37},{"$f":"SUM(CX78:CX83)","v":170.56500000000003},200.76,200.76,200.76,200.76,null,null,"小計",null,116975,142137.50000000003,167300,167300,167300,167300]
[null,null,null,null,null,null,null,null,null,null,null,null,null,null,null,null,null,null,null,null,null,null,null,null,null,null,null,null,null,null,null,null,null,null,null,null,null,null,null,null,null,null,null,null,null,null,null,null,null,null,null,null,null,null,null,null,null,null,{"$f":"-SUM(BZ44:CA44)","v":-432},null,null,null,null,null,null,null,null,null,null,null,null,null,null,null,null,null,null,null,null,null,null,null,null,null,null,null,null,null,null,null,null,null,null,null,null,null,null,null,null,"インターネット",{"$f":"SUM(INDEX(サマリ!$V$1:$V$70,CW$70):INDEX(サマリ!$V$1:$V$70,CW$70))","v":6},{"$f":"SUM(INDEX(サマリ!$V$1:$V$70,CX$70):INDEX(サマリ!$V$1:$V$70,CX$70))","v":6},{"$f":"SUM(INDEX(サマリ!$V$1:$V$70,CY$70):INDEX(サマリ!$V$1:$V$70,CY$70))","v":6},{"$f":"SUM(INDEX(サマリ!$V$1:$V$70,CZ$70):INDEX(サマリ!$V$1:$V$70,CZ$70))","v":6},{"$f":"SUM(INDEX(サマリ!$V$1:$V$70,DA$70):INDEX(サマリ!$V$1:$V$70,DA$70))","v":6},{"$f":"SUM(INDEX(サマリ!$V$1:$V$70,DB$70):INDEX(サマリ!$V$1:$V$70,DB$70))","v":6},null,null,null,"インターネット",5000,5000,5000,5000,5000,5000]
[null,null,null,null,null,null,null,null,null,null,null,null,null,null,null,null,null,null,null,null,null,null,null,null,null,null,null,null,null,null,null,null,null,null,null,null,null,null,null,null,null,null,null,null,null,null,null,null,null,null,null,null,null,null,null,null,null,null,{"$f":"SUM(BG73:BG85)","v":22630.096820187267},null,null,null,null,null,null,null,null,null,null,null,null,null,null,null,null,null,null,null,null,null,null,null,null,null,null,null,null,null,null,null,null,null,null,null,null,null,null,null,null,"携帯",{"$f":"SUM(INDEX(サマリ!$W$1:$W$70,CW$70):INDEX(サマリ!$W$1:$W$70,CW$70))","v":4.8000000000000007},{"$f":"SUM(INDEX(サマリ!$W$1:$W$70,CX$70):INDEX(サマリ!$W$1:$W$70,CX$70))","v":4.8000000000000007},{"$f":"SUM(INDEX(サマリ!$W$1:$W$70,CY$70):INDEX(サマリ!$W$1:$W$70,CY$70))","v":4.8000000000000007},{"$f":"SUM(INDEX(サマリ!$W$1:$W$70,CZ$70):INDEX(サマリ!$W$1:$W$70,CZ$70))","v":7.2000000000000011},{"$f":"SUM(INDEX(サマリ!$W$1:$W$70,DA$70):INDEX(サマリ!$W$1:$W$70,DA$70))","v":9.6000000000000014},{"$f":"SUM(INDEX(サマリ!$W$1:$W$70,DB$70):INDEX(サマリ!$W$1:$W$70,DB$70))","v":9.6000000000000014},null,null,null,"携帯",4000.0000000000009,4000.0000000000009,4000.0000000000009,6000.0000000000009,8000.0000000000018,8000.0000000000018]
[null,null,null,null,null,null,null,null,null,null,null,null,null,null,null,null,null,null,null,null,null,null,null,null,null,null,null,null,null,null,null,null,null,null,null,null,null,null,null,null,null,null,null,null,null,null,null,null,null,null,null,null,null,null,null,null,null,null,null,null,null,null,null,null,null,null,null,null,null,null,null,null,null,null,null,null,null,null,null,null,null,null,null,null,null,null,null,null,null,null,null,null,null,null,null,null,null,null,null,"お小遣い",{"$f":"SUM(INDEX(サマリ!$AE$1:$AE$70,CW$70):INDEX(サマリ!$AE$1:$AE$70,CW$70))","v":72},{"$f":"SUM(INDEX(サマリ!$AE$1:$AE$70,CX$70):INDEX(サマリ!$AE$1:$AE$70,CX$70))","v":84},{"$f":"SUM(INDEX(サマリ!$AE$1:$AE$70,CY$70):INDEX(サマリ!$AE$1:$AE$70,CY$70))","v":96},{"$f":"SUM(INDEX(サマリ!$AE$1:$AE$70,CZ$70):INDEX(サマリ!$AE$1:$AE$70,CZ$70))","v":96},{"$f":"SUM(INDEX(サマリ!$AE$1:$AE$70,DA$70):INDEX(サマリ!$AE$1:$AE$70,DA$70))","v":96},{"$f":"SUM(INDEX(サマリ!$AE$1:$AE$70,DB$70):INDEX(サマリ!$AE$1:$AE$70,DB$70))","v":84},null,null,null,"お小遣い",60000,70000,80000,80000,80000,70000]
[null,null,null,null,null,null,null,null,null,null,null,null,null,null,null,null,null,null,null,null,null,null,null,null,null,null,null,null,null,null,null,null,null,null,null,null,null,null,null,null,null,null,null,null,null,null,null,null,null,null,null,null,null,null,null,null,null,null,{"$f":"SUM(BI57,BI63)","v":22630.096820187267},null,null,null,null,null,null,null,null,null,null,null,null,null,null,null,null,null,null,null,null,null,null,null,null,null,null,null,null,null,null,null,null,null,null,null,null,null,null,null,null,"塾・習い事・学費",{"$f":"SUM(INDEX(サマリ!$X$1:$X$70,CW$70):INDEX(サマリ!$Y$1:$Y$70,CW$70))","v":0},{"$f":"SUM(INDEX(サマリ!$X$1:$X$70,CX$70):INDEX(サマリ!$Y$1:$Y$70,CX$70))","v":0},{"$f":"SUM(INDEX(サマリ!$X$1:$X$70,CY$70):INDEX(サマリ!$Y$1:$Y$70,CY$70))","v":24},{"$f":"SUM(INDEX(サマリ!$X$1:$X$70,CZ$70):INDEX(サマリ!$Y$1:$Y$70,CZ$70))","v":24},{"$f":"SUM(INDEX(サマリ!$X$1:$X$70,DA$70):INDEX(サマリ!$Y$1:$Y$70,DA$70))","v":36},{"$f":"SUM(INDEX(サマリ!$X$1:$X$70,DB$70):INDEX(サマリ!$Y$1:$Y$70,DB$70))","v":0},null,null,null,"塾・習い事",0,0,20000,20000,30000,0]
[null,null,null,null,null,null,null,null,null,null,null,null,null,null,null,null,null,null,null,null,null,null,null,null,null,null,null,null,null,null,null,null,null,null,null,null,null,null,null,null,null,null,null,null,null,null,null,null,null,null,null,null,null,null,null,null,null,null,null,null,null,null,null,null,null,null,null,null,null,null,null,null,null,null,null,null,null,null,null,null,null,null,null,null,null,null,null,null,null,null,null,null,null,null,null,null,null,null,"小計",null,{"$f":"SUM(CW85:CW88)","v":82.8},{"$f":"SUM(CX85:CX88)","v":94.8},130.80000000000001,133.19999999999999,147.6,99.6,null,null,"小計",null,69000,79000,109000,111000,122999.99999999999,82999.999999999985]
[null,null,null,null,null,null,null,null,null,null,null,null,null,null,null,null,null,null,null,null,null,null,null,null,null,null,null,null,null,null,null,null,null,null,null,null,null,null,null,null,null,null,null,null,null,null,null,null,null,null,null,null,null,null,null,null,null,null,null,null,null,null,null,null,null,null,null,null,null,null,null,null,null,null,null,null,null,null,null,null,null,null,null,null,null,null,null,null,null,null,null,null,null,null,null,null,null,"合計",null,null,{"$f":"SUM(CW84,CW89)","v":223.17000000000002},{"$f":"SUM(CX84,CX89)","v":265.36500000000001},331.56,333.96,348.36,300.36,null,"合計",null,null,185975,221137.5,276300,278300,290300,250300]
[null,null,null,null,null,null,null,null,null,null,null,null,null,null,null,null,null,null,null,null,null,null,null,null,null,null,null,null,null,null,null,null,null,null,null,null,null,null,null,null,null,null,null,null,null,null,null,null,null,null,null,null,null,null,null,null,null,null,null,null,null,null,null,null,null,null,null,null,null,null,null,null,null,null,null,null,null,null,null,null,null,null,null,null,null,null,null,null,null,null,null,null,null,null,null,null,null,"限界利益",null,null,{"$f":"CW77-CW90","v":197.22508199999999},{"$f":"CX77-CX90","v":177.67008200000004},181.66373399999992,301.35852000000006,333.2328,417.28069999999991,null,"限界利益",null,null,164354.23499999999,148058.4016666667,151386.44499999992,251132.10000000006,277694,347733.91666666663]
[null,null,null,null,null,null,null,null,null,null,null,null,null,null,null,null,null,null,null,null,null,null,null,null,null,null,null,null,null,null,null,null,null,null,null,null,null,null,null,null,null,null,null,null,null,null,null,null,null,null,null,null,null,null,null,null,null,null,null,null,null,null,null,null,null,null,null,null,null,null,null,null,null,null,null,null,null,null,null,null,null,null,null,null,null,null,null,null,null,null,null,null,null,null,null,null,null,null,"住居",null,{"$f":"SUM(INDEX(サマリ!$K$1:$K$70,CW$70):INDEX(サマリ!$L$1:$L$70,CW$70))","v":96},{"$f":"SUM(INDEX(サマリ!$K$1:$K$70,CX$70):INDEX(サマリ!$L$1:$L$70,CX$70))","v":96},{"$f":"SUM(INDEX(サマリ!$K$1:$K$70,CY$70):INDEX(サマリ!$L$1:$L$70,CY$70))","v":137.90354684452055},{"$f":"SUM(INDEX(サマリ!$K$1:$K$70,CZ$70):INDEX(サマリ!$L$1:$L$70,CZ$70))","v":143.70288361900174},{"$f":"SUM(INDEX(サマリ!$K$1:$K$70,DA$70):INDEX(サマリ!$L$1:$L$70,DA$70))","v":180.15049548962429},{"$f":"SUM(INDEX(サマリ!$K$1:$K$70,DB$70):INDEX(サマリ!$L$1:$L$70,DB$70))","v":178.34953548962429},null,null,"住居",null,80000,80000,114919.62237043379,119752.40301583477,150125.41290802025,148624.61290802024]
[null,null,null,null,null,null,null,null,null,null,null,null,null,null,null,null,null,null,null,null,null,null,null,null,null,null,null,null,null,null,null,null,null,null,null,null,null,null,null,null,null,null,null,null,null,null,null,null,null,null,null,null,null,null,null,null,null,null,null,null,null,null,null,null,null,null,null,null,null,null,null,null,null,null,null,null,null,null,null,null,null,null,null,null,null,null,null,null,null,null,null,null,null,null,null,null,null,null,"車維持費",null,{"$f":"SUM(INDEX(サマリ!$AJ$1:$AJ$70,CW$70):INDEX(サマリ!$AJ$1:$AJ$70,CW$70))","v":21.5},{"$f":"SUM(INDEX(サマリ!$AJ$1:$AJ$70,CX$70):INDEX(サマリ!$AJ$1:$AJ$70,CX$70))","v":21.5},{"$f":"SUM(INDEX(サマリ!$AJ$1:$AJ$70,CY$70):INDEX(サマリ!$AJ$1:$AJ$70,CY$70))","v":21.5},{"$f":"SUM(INDEX(サマリ!$AJ$1:$AJ$70,CZ$70):INDEX(サマリ!$AJ$1:$AJ$70,CZ$70))","v":21.5},{"$f":"SUM(INDEX(サマリ!$AJ$1:$AJ$70,DA$70):INDEX(サマリ!$AJ$1:$AJ$70,DA$70))","v":21.5},{"$f":"SUM(INDEX(サマリ!$AJ$1:$AJ$70,DB$70):INDEX(サマリ!$AJ$1:$AJ$70,DB$70))","v":21.5},null,null,"車維持費",null,17916.666666666668,17916.666666666668,17916.666666666668,17916.666666666668,17916.666666666668,17916.666666666668]
[null,null,null,null,null,null,null,null,null,null,null,null,null,null,null,null,null,null,null,null,null,null,null,null,null,null,null,null,null,null,null,null,null,null,null,null,null,null,null,null,null,null,null,null,null,null,null,null,null,null,null,null,null,null,null,null,null,null,null,null,null,null,null,null,null,null,null,null,null,null,null,null,null,null,null,null,null,null,null,null,null,null,null,null,null,null,null,null,null,null,null,null,null,null,null,null,null,"固定費合計",null,null,{"$f":"SUM(CW92:CW93)","v":117.5},{"$f":"SUM(CX92:CX93)","v":117.5},159.40354684452055,165.20288361900174,201.65049548962429,199.84953548962429,null,"固定費合計",null,null,97916.666666666657,97916.666666666657,132836.28903710045,137669.06968250146,168042.07957468691,166541.27957468692]
[null,null,null,null,null,null,null,null,null,null,null,null,null,null,null,null,null,null,null,null,null,null,null,null,null,null,null,null,null,null,null,null,null,null,null,null,null,null,null,null,null,null,null,null,null,null,null,null,null,null,null,null,null,null,null,null,null,null,null,null,null,null,null,null,null,null,null,null,null,null,null,null,null,null,null,null,null,null,null,null,null,null,null,null,null,null,null,null,null,null,null,null,null,null,null,null,null,"収支",null,null,{"$f":"CW91-CW94","v":79.725081999999986},{"$f":"CX91-CX94","v":60.170082000000036},22.260187155479372,136.15563638099832,131.58230451037571,217.43116451037562,null,"収支",null,null,66437.568333333315,50141.73500000003,18550.155962899476,113463.0303174986,109651.92042531309,181192.6370919797]
[null,null,null,null,null,null,null,null,null,null,null,null,null,null,null,null,null,null,null,null,null,null,null,null,null,null,null,null,null,null,null,null,null,null,null,null,null,null,null,null,null,null,null,null,null,null,null,null,null,null,null,null,null,null,null,null,null,null,null,null,null,null,null,null,null,null,null,null,null,null,null,null,null,null,null,null,null,null,null,null,null,null,null,null,null,null,null,null,null,null,null,null,null,null,null,null,null,null,"車積立",null,{"$f":"SUM(INDEX(サマリ!$AH$1:$AH$70,6):INDEX(サマリ!$AH$1:$AH$70,$AQ$48))/($D$22-$D$17)","v":43.902439024390247},{"$f":"SUM(INDEX(サマリ!$AH$1:$AH$70,6):INDEX(サマリ!$AH$1:$AH$70,$AQ$48))/($D$22-$D$17)","v":43.902439024390247},{"$f":"SUM(INDEX(サマリ!$AH$1:$AH$70,6):INDEX(サマリ!$AH$1:$AH$70,$AQ$48))/($D$22-$D$17)","v":43.902439024390247},{"$f":"SUM(INDEX(サマリ!$AH$1:$AH$70,6):INDEX(サマリ!$AH$1:$AH$70,$AQ$48))/($D$22-$D$17)","v":43.902439024390247},{"$f":"SUM(INDEX(サマリ!$AH$1:$AH$70,6):INDEX(サマリ!$AH$1:$AH$70,$AQ$48))/($D$22-$D$17)","v":43.902439024390247},{"$f":"SUM(INDEX(サマリ!$AH$1:$AH$70,6):INDEX(サマリ!$AH$1:$AH$70,$AQ$48))/($D$22-$D$17)","v":43.902439024390247},null,null,"車積立",null,36585.365853658535,36585.365853658535,36585.365853658535,36585.365853658535,36585.365853658535,36585.365853658535]
[null,null,null,null,null,null,null,null,null,null,null,null,null,null,null,null,null,null,null,null,null,null,null,null,null,null,null,null,null,null,null,null,null,null,null,null,null,null,null,null,null,null,null,null,null,null,null,null,null,null,null,null,null,null,null,null,null,null,null,null,null,null,null,null,null,null,null,null,null,null,null,null,null,null,null,null,null,null,null,null,null,null,null,null,null,null,null,null,null,null,null,null,null,null,null,null,null,null,"リフォーム・大物家電",null,{"$f":"SUM(INDEX(サマリ!$AG$1:$AG$70,6):INDEX(サマリ!$AG$1:$AG$70,$AQ$48))/($D$22-$D$17)","v":5.9268292682926829},{"$f":"SUM(INDEX(サマリ!$AG$1:$AG$70,6):INDEX(サマリ!$AG$1:$AG$70,$AQ$48))/($D$22-$D$17)","v":5.9268292682926829},{"$f":"SUM(INDEX(サマリ!$AG$1:$AG$70,6):INDEX(サマリ!$AG$1:$AG$70,$AQ$48))/($D$22-$D$17)","v":5.9268292682926829},{"$f":"SUM(INDEX(サマリ!$AG$1:$AG$70,6):INDEX(サマリ!$AG$1:$AG$70,$AQ$48))/($D$22-$D$17)","v":5.9268292682926829},{"$f":"SUM(INDEX(サマリ!$AG$1:$AG$70,6):INDEX(サマリ!$AG$1:$AG$70,$AQ$48))/($D$22-$D$17)","v":5.9268292682926829},{"$f":"SUM(INDEX(サマリ!$AG$1:$AG$70,6):INDEX(サマリ!$AG$1:$AG$70,$AQ$48))/($D$22-$D$17)","v":5.9268292682926829},null,null,"リフォーム・大物家電",null,4939.0243902439024,4939.0243902439024,4939.0243902439024,4939.0243902439024,4939.0243902439024,4939.0243902439024]
[null,null,null,null,null,null,null,null,null,null,null,null,null,null,null,null,null,null,null,null,null,null,null,null,null,null,null,null,null,null,null,null,null,null,null,null,null,null,null,null,null,null,null,null,null,null,null,null,null,null,null,null,null,null,null,null,null,null,null,null,null,null,null,null,null,null,null,null,null,null,null,null,null,null,null,null,null,null,null,null,null,null,null,null,null,null,null,null,null,null,null,null,null,null,null,{"$f":"SUM(子1!Z74:AA74,子2!Z74:AA74,子3!Z74:AA74,子4!Z74:AA74)","v":1086.7352999999998},null,null,"大学費用(学費・仕送り)",null,{"$f":"SUM($CR$98)/25","v":43.469411999999991},{"$f":"SUM($CR$98)/25","v":43.469411999999991},43.469411999999991,43.469411999999991,43.469411999999991,null,null,null,"学費・仕送り積立",null,36224.509999999995,36224.509999999995,36224.509999999995,36224.509999999995,36224.509999999995,0]
[null,null,null,null,null,null,null,null,null,null,null,null,null,null,null,null,null,null,null,null,null,null,null,null,null,null,null,null,null,null,null,null,null,null,null,null,null,null,null,null,null,null,null,null,null,null,null,null,null,null,null,null,null,null,null,null,null,null,null,null,null,null,null,null,null,null,null,null,null,null,null,null,null,null,null,null,null,null,null,null,null,null,null,null,null,null,null,null,null,null,null,null,null,null,null,null,null,"積立",null,null,{"$f":"SUM(CW96:CW98)","v":93.298680292682917},{"$f":"SUM(CX96:CX98)","v":93.298680292682917},93.298680292682917,93.298680292682917,93.298680292682917,49.829268292682933,null,"積立",null,null,77748.900243902433,77748.900243902433,77748.900243902433,77748.900243902433,77748.900243902433,41524.390243902446]
[null,null,null,null,null,null,null,null,null,null,null,null,null,null,null,null,null,null,null,null,null,null,null,null,null,null,null,null,null,null,null,null,null,null,null,null,null,null,null,null,null,null,null,null,null,null,null,null,null,null,null,null,null,null,null,null,null,null,null,null,null,null,null,null,null,null,null,null,null,null,null,null,null,null,null,null,null,null,null,null,null,null,null,null,null,null,null,null,null,null,null,null,null,null,null,null,null,"収支",null,null,{"$f":"CW95-CW99","v":-13.573598292682931},{"$f":"CX95-CX99","v":-33.128598292682881},-71.038493137203545,42.8569560883154,38.28362421769279,167.60189621769268,null,"収支(積立含む)",null,null,-11311.33191056911,-27607.1652439024,-59198.744281002961,35714.130073596163,31903.020181410659,139668.24684807725]

{"sheet":"サマリ","index":1,"n_rows":71,"n_cols":51,"rows_kept":71,"cut":false,"hidden":false,"merged":[]}
[null,null,null,null,null,null,null,null,null,null,null,null,{"$f":"SUM(→:←!M1)","v":118.8},{"$f":"SUM(→:←!N1)","v":39.6},{"$f":"SUM(→:←!O1)","v":13.200000000000001},{"$f":"SUM(→:←!P1)","v":10.560000000000002},{"$f":"SUM(→:←!Q1)","v":6.6000000000000005},null,null,null,null,{"$f":"SUM(→:←!V1)","v":6},{"$f":"SUM(→:←!W1)","v":9.6000000000000014}]
[null,null,null,null,null,null,null,null,null,"収入",null,null,null,null,null,null,null,null,null,null,"収支 小計",null,null,null,null,null,null,null,null,"収支 小計",null,null,null,null,null,null,null,"収支","収支累計",null,{"$f":"入力!BB43","v":0.05},"投資をした場合",null,null,null,null,null,"支出"]
[null,null,null,null,null,null,null,null,null,null,null,null,null,null,null,null,null,null,null,"支出1  衣食住",null,null,null,null,null,null,null,null,"支出2  固定費,教育",null,null,null,null,null,null,null,"支出3  娯楽",null,null,{"$f":"1-AO3","v":0.7},0.3]
[null,"西暦","親①\n年齢","年収","手取り","時短等","退職金","年金",null,null,"住居","住居維持費\n(含むローン控除)","食費","服費","電気","ガス","水道","保険",null,null,null,"インターネット","携帯","塾・仕送り","習い事","学費",null,null,null,null,"お小遣い","リフォーム","家具・大物家電","車1","車2","車維持費","合計",null,null,"現金","投資",null,"投資効果",null,"住宅ローン残","試算"]
[null,"貯金",null,null,null,null,null,null,null,null,null,null,null,null,null,null,null,null,null,null,null,null,null,null,null,null,null,null,null,null,null,null,null,null,null,null,null,null,{"$f":"SUM(→:←!AM5)","v":0},{"$f":"SUM(→:←!AN5)","v":0},{"$f":"SUM(→:←!AO5)","v":0},{"$f":"SUM(AN5:AO5)","v":0}]
[null,{"$f":"入力!$D$6","v":2022},{"$f":"入力!$D$17","v":24},{"$f":"SUM(→:←!D6)","v":542.84123650389188},{"$f":"SUM(→:←!E6)","v":420.395082},{"$f":"SUM(→:←!F6)","v":0},{"$f":"SUM(→:←!G6)","v":0},{"$f":"SUM(→:←!H6)","v":0},{"$f":"SUM(→:←!I6)","v":0},{"$f":"SUM(→:←!J6)","v":420.395082},{"$f":"SUM(→:←!K6)","v":96},{"$f":"SUM(→:←!L6)","v":0},{"$f":"SUM(→:←!M6)","v":79.2},{"$f":"SUM(→:←!N6)","v":26.400000000000002},{"$f":"SUM(→:←!O6)","v":9.9},{"$f":"SUM(→:←!P6)","v":7.9200000000000017},{"$f":"SUM(→:←!Q6)","v":4.95},{"$f":"SUM(→:←!R6)","v":12},{"$f":"SUM(→:←!S6)","v":0},{"$f":"SUM(→:←!T6)","v":236.37},{"$f":"SUM(→:←!U6)","v":184.02508199999994},{"$f":"SUM(→:←!V6)","v":6},{"$f":"SUM(→:←!W6)","v":4.8000000000000007},{"$f":"SUM(→:←!X6)","v":0},{"$f":"SUM(→:←!Y6)","v":0},{"$f":"SUM(→:←!Z6)","v":0},{"$f":"SUM(→:←!AA6)","v":0},{"$f":"SUM(→:←!AB6)","v":0},{"$f":"SUM(→:←!AC6)","v":10.8},{"$f":"SUM(→:←!AD6)","v":173.22508199999993},{"$f":"SUM(→:←!AE6)","v":72},{"$f":"SUM(→:←!AF6)","v":0},{"$f":"SUM(→:←!AG6)","v":3},{"$f":"SUM(→:←!AH6)","v":0},{"$f":"SUM(→:←!AI6)","v":0},{"$f":"SUM(→:←!AJ6)","v":21.5},{"$f":"SUM(→:←!AK6)","v":96.5},{"$f":"SUM(→:←!AL6)","v":76.725081999999929},{"$f":"SUM(→:←!AM6)","v":76.725081999999929},{"$f":"AN5+AL6*AN$3","v":53.707557399999949},{"$f":"AO5*(1+$AO$2)+AL6*AO$3","v":23.017524599999977},{"$f":"SUM(AN6:AO6)","v":76.725081999999929},{"$f":"(AP6-AM6)*80%","v":0},null,{"$f":"SUM(K6:$K$70)","v":5774.3997421368495},{"$f":"AM6-AS6","v":-5697.6746601368495},null,{"$f":"T6+AC6+AK6","v":343.67},null,{"$f":"IF(AY6=\"\",AV6+10000,AV6*1.2)","v":10343.67},{"$f":"IF($AH6>0,\"車,\",\"\")&IF($AF6>0,\"リフォーム,\",\"\")&IF(子1!C6=18,\"大学入学,\",\"\")&IF(子2!C6=18,\"大学入学,\",\"\")&IF(子3!C6=18,\"大学入学,\",\"\")&IF(子4!C6=18,\"大学入学,\",\"\")","v":""}]
[null,{"$f":"B6+1","v":2023},{"$f":"C6+1","v":25},{"$f":"SUM(→:←!D7)","v":561.01644530594103},{"$f":"SUM(→:←!E7)","v":437.99508200000002},{"$f":"SUM(→:←!F7)","v":0},{"$f":"SUM(→:←!G7)","v":0},{"$f":"SUM(→:←!H7)","v":0},{"$f":"SUM(→:←!I7)","v":0},{"$f":"SUM(→:←!J7)","v":437.99508200000002},{"$f":"SUM(→:←!K7)","v":96},{"$f":"SUM(→:←!L7)","v":0},{"$f":"SUM(→:←!M7)","v":79.2},{"$f":"SUM(→:←!N7)","v":26.400000000000002},{"$f":"SUM(→:←!O7)","v":9.9},{"$f":"SUM(→:←!P7)","v":7.9200000000000017},{"$f":"SUM(→:←!Q7)","v":4.95},{"$f":"SUM(→:←!R7)","v":12},{"$f":"SUM(→:←!S7)","v":0},{"$f":"SUM(→:←!T7)","v":236.37},{"$f":"SUM(→:←!U7)","v":201.62508199999996},{"$f":"SUM(→:←!V7)","v":6},{"$f":"SUM(→:←!W7)","v":4.8000000000000007},{"$f":"SUM(→:←!X7)","v":0},{"$f":"SUM(→:←!Y7)","v":0},{"$f":"SUM(→:←!Z7)","v":0},{"$f":"SUM(→:←!AA7)","v":0},{"$f":"SUM(→:←!AB7)","v":0},{"$f":"SUM(→:←!AC7)","v":10.8},{"$f":"SUM(→:←!AD7)","v":190.82508199999995},{"$f":"SUM(→:←!AE7)","v":72},{"$f":"SUM(→:←!AF7)","v":0},{"$f":"SUM(→:←!AG7)","v":0},{"$f":"SUM(→:←!AH7)","v":0},{"$f":"SUM(→:←!AI7)","v":0},{"$f":"SUM(→:←!AJ7)","v":21.5},{"$f":"SUM(→:←!AK7)","v":93.5},{"$f":"SUM(→:←!AL7)","v":97.325081999999952},{"$f":"SUM(→:←!AM7)","v":174.05016399999988},{"$f":"AN6+AL7*AN$3","v":121.8351147999999},{"$f":"AO6*(1+$AO$2)+AL7*AO$3","v":53.365925429999962},175.20104022999988,{"$f":"(AP7-AM7)*80%","v":0.92070098399999556},null,{"$f":"SUM(K7:$K$70)","v":5678.3997421368495},{"$f":"AM7-AS7","v":-5504.3495781368492},null,{"$f":"T7+AC7+AK7","v":340.67},null,{"$f":"IF(AY7=\"\",AV7+10000,AV7*1.2)","v":10340.67},{"$f":"IF($AH7>0,\"車,\",\"\")&IF($AF7>0,\"リフォーム,\",\"\")&IF(子1!C7=18,\"大学入学,\",\"\")&IF(子2!C7=18,\"大学入学,\",\"\")&IF(子3!C7=18,\"大学入学,\",\"\")&IF(子4!C7=18,\"大学入学,\",\"\")","v":""}]
[null,2024,26,{"$f":"SUM(→:←!D8)","v":578.25156705654126},{"$f":"SUM(→:←!E8)","v":454.65517},{"$f":"SUM(→:←!F8)","v":0},{"$f":"SUM(→:←!G8)","v":0},{"$f":"SUM(→:←!H8)","v":0},{"$f":"SUM(→:←!I8)","v":0},{"$f":"SUM(→:←!J8)","v":454.65517},{"$f":"SUM(→:←!K8)","v":96},{"$f":"SUM(→:←!L8)","v":0},{"$f":"SUM(→:←!M8)","v":79.2},{"$f":"SUM(→:←!N8)","v":26.400000000000002},{"$f":"SUM(→:←!O8)","v":9.9},{"$f":"SUM(→:←!P8)","v":7.9200000000000017},{"$f":"SUM(→:←!Q8)","v":4.95},{"$f":"SUM(→:←!R8)","v":12},{"$f":"SUM(→:←!S8)","v":0},{"$f":"SUM(→:←!T8)","v":236.37},{"$f":"SUM(→:←!U8)","v":218.28516999999999},{"$f":"SUM(→:←!V8)","v":6},{"$f":"SUM(→:←!W8)","v":4.8000000000000007},{"$f":"SUM(→:←!X8)","v":0},{"$f":"SUM(→:←!Y8)","v":0},{"$f":"SUM(→:←!Z8)","v":0},{"$f":"SUM(→:←!AA8)","v":0},{"$f":"SUM(→:←!AB8)","v":0},{"$f":"SUM(→:←!AC8)","v":10.8},{"$f":"SUM(→:←!AD8)","v":207.48516999999998},{"$f":"SUM(→:←!AE8)","v":72},{"$f":"SUM(→:←!AF8)","v":0},{"$f":"SUM(→:←!AG8)","v":0},{"$f":"SUM(→:←!AH8)","v":0},{"$f":"SUM(→:←!AI8)","v":0},{"$f":"SUM(→:←!AJ8)","v":21.5},{"$f":"SUM(→:←!AK8)","v":93.5},{"$f":"SUM(→:←!AL8)","v":113.98516999999998},{"$f":"SUM(→:←!AM8)","v":288.03533399999992},201.62473379999989,{"$f":"AO7*(1+$AO$2)+AL8*AO$3","v":90.229772701499954},291.85450650149983,3.0553380011999254,null,{"$f":"SUM(K8:$K$70)","v":5582.3997421368495},-5294.3644081368493,null,340.67,null,{"$f":"IF(AY8=\"\",AV8+10000,AV8*1.2)","v":10340.67},{"$f":"IF($AH8>0,\"車,\",\"\")&IF($AF8>0,\"リフォーム,\",\"\")&IF(子1!C8=18,\"大学入学,\",\"\")&IF(子2!C8=18,\"大学入学,\",\"\")&IF(子3!C8=18,\"大学入学,\",\"\")&IF(子4!C8=18,\"大学入学,\",\"\")","v":""}]
[null,2025,27,{"$f":"SUM(→:←!D9)","v":596.01817429834023},{"$f":"SUM(→:←!E9)","v":467.75549999999998},{"$f":"SUM(→:←!F9)","v":0},{"$f":"SUM(→:←!G9)","v":0},{"$f":"SUM(→:←!H9)","v":0},{"$f":"SUM(→:←!I9)","v":0},{"$f":"SUM(→:←!J9)","v":467.75549999999998},{"$f":"SUM(→:←!K9)","v":96},{"$f":"SUM(→:←!L9)","v":0},{"$f":"SUM(→:←!M9)","v":79.2},{"$f":"SUM(→:←!N9)","v":26.400000000000002},{"$f":"SUM(→:←!O9)","v":9.9},{"$f":"SUM(→:←!P9)","v":7.9200000000000017},{"$f":"SUM(→:←!Q9)","v":4.95},{"$f":"SUM(→:←!R9)","v":12},{"$f":"SUM(→:←!S9)","v":0},{"$f":"SUM(→:←!T9)","v":236.37},{"$f":"SUM(→:←!U9)","v":231.38549999999998},{"$f":"SUM(→:←!V9)","v":6},{"$f":"SUM(→:←!W9)","v":4.8000000000000007},{"$f":"SUM(→:←!X9)","v":0},{"$f":"SUM(→:←!Y9)","v":0},{"$f":"SUM(→:←!Z9)","v":0},{"$f":"SUM(→:←!AA9)","v":0},{"$f":"SUM(→:←!AB9)","v":0},{"$f":"SUM(→:←!AC9)","v":10.8},{"$f":"SUM(→:←!AD9)","v":220.58549999999997},{"$f":"SUM(→:←!AE9)","v":72},{"$f":"SUM(→:←!AF9)","v":0},{"$f":"SUM(→:←!AG9)","v":0},{"$f":"SUM(→:←!AH9)","v":300},{"$f":"SUM(→:←!AI9)","v":0},{"$f":"SUM(→:←!AJ9)","v":21.5},{"$f":"SUM(→:←!AK9)","v":393.5},{"$f":"SUM(→:←!AL9)","v":-172.91450000000003},{"$f":"SUM(→:←!AM9)","v":115.12083399999995},80.584583799999876,42.866911336574944,123.45149513657482,6.6645289092599,null,{"$f":"SUM(K9:$K$70)","v":5486.3997421368495},-5371.2789081368492,null,640.67000000000007,null,768.80400000000009,{"$f":"IF($AH9>0,\"車,\",\"\")&IF($AF9>0,\"リフォーム,\",\"\")&IF(子1!C9=18,\"大学入学,\",\"\")&IF(子2!C9=18,\"大学入学,\",\"\")&IF(子3!C9=18,\"大学入学,\",\"\")&IF(子4!C9=18,\"大学入学,\",\"\")","v":"車,"}]
[null,2026,28,{"$f":"SUM(→:←!D10)","v":613.55840949594199},{"$f":"SUM(→:←!E10)","v":494.55550000000005},{"$f":"SUM(→:←!F10)","v":-107.90623199999999},{"$f":"SUM(→:←!G10)","v":0},{"$f":"SUM(→:←!H10)","v":0},{"$f":"SUM(→:←!I10)","v":0},{"$f":"SUM(→:←!J10)","v":386.64926800000001},{"$f":"SUM(→:←!K10)","v":96},{"$f":"SUM(→:←!L10)","v":0},{"$f":"SUM(→:←!M10)","v":99},{"$f":"SUM(→:←!N10)","v":33},{"$f":"SUM(→:←!O10)","v":11.55},{"$f":"SUM(→:←!P10)","v":9.240000000000002},{"$f":"SUM(→:←!Q10)","v":5.7750000000000004},{"$f":"SUM(→:←!R10)","v":12},{"$f":"SUM(→:←!S10)","v":0},{"$f":"SUM(→:←!T10)","v":266.565},{"$f":"SUM(→:←!U10)","v":120.08426800000001},{"$f":"SUM(→:←!V10)","v":6},{"$f":"SUM(→:←!W10)","v":4.8000000000000007},{"$f":"SUM(→:←!X10)","v":0},{"$f":"SUM(→:←!Y10)","v":0},{"$f":"SUM(→:←!Z10)","v":36},{"$f":"SUM(→:←!AA10)","v":0},{"$f":"SUM(→:←!AB10)","v":0},{"$f":"SUM(→:←!AC10)","v":46.8},{"$f":"SUM(→:←!AD10)","v":73.284268000000026},{"$f":"SUM(→:←!AE10)","v":84},{"$f":"SUM(→:←!AF10)","v":0},{"$f":"SUM(→:←!AG10)","v":0},{"$f":"SUM(→:←!AH10)","v":0},{"$f":"SUM(→:←!AI10)","v":0},{"$f":"SUM(→:←!AJ10)","v":21.5},{"$f":"SUM(→:←!AK10)","v":105.5},{"$f":"SUM(→:←!AL10)","v":-32.215731999999974},{"$f":"SUM(→:←!AM10)","v":82.905101999999829},58.0335713999999,35.345537303403702,93.379108703403602,8.3792053627230185,null,{"$f":"SUM(K10:$K$70)","v":5390.3997421368495},-5307.4946401368497,null,418.86500000000001,null,10418.865,{"$f":"IF($AH10>0,\"車,\",\"\")&IF($AF10>0,\"リフォーム,\",\"\")&IF(子1!C10=18,\"大学入学,\",\"\")&IF(子2!C10=18,\"大学入学,\",\"\")&IF(子3!C10=18,\"大学入学,\",\"\")&IF(子4!C10=18,\"大学入学,\",\"\")","v":""}]
[null,2027,29,{"$f":"SUM(→:←!D11)","v":631.61483675622594},{"$f":"SUM(→:←!E11)","v":507.65583000000004},{"$f":"SUM(→:←!F11)","v":-64.620748000000006},{"$f":"SUM(→:←!G11)","v":0},{"$f":"SUM(→:←!H11)","v":0},{"$f":"SUM(→:←!I11)","v":0},{"$f":"SUM(→:←!J11)","v":443.03508200000005},{"$f":"SUM(→:←!K11)","v":96},{"$f":"SUM(→:←!L11)","v":0},{"$f":"SUM(→:←!M11)","v":99},{"$f":"SUM(→:←!N11)","v":33},{"$f":"SUM(→:←!O11)","v":11.55},{"$f":"SUM(→:←!P11)","v":9.240000000000002},{"$f":"SUM(→:←!Q11)","v":5.7750000000000004},{"$f":"SUM(→:←!R11)","v":12},{"$f":"SUM(→:←!S11)","v":0},{"$f":"SUM(→:←!T11)","v":266.565},{"$f":"SUM(→:←!U11)","v":176.47008199999999},{"$f":"SUM(→:←!V11)","v":6},{"$f":"SUM(→:←!W11)","v":4.8000000000000007},{"$f":"SUM(→:←!X11)","v":0},{"$f":"SUM(→:←!Y11)","v":0},{"$f":"SUM(→:←!Z11)","v":36},{"$f":"SUM(→:←!AA11)","v":0},{"$f":"SUM(→:←!AB11)","v":0},{"$f":"SUM(→:←!AC11)","v":46.8},{"$f":"SUM(→:←!AD11)","v":129.67008200000004},{"$f":"SUM(→:←!AE11)","v":84},{"$f":"SUM(→:←!AF11)","v":0},{"$f":"SUM(→:←!AG11)","v":57},{"$f":"SUM(→:←!AH11)","v":0},{"$f":"SUM(→:←!AI11)","v":0},{"$f":"SUM(→:←!AJ11)","v":21.5},{"$f":"SUM(→:←!AK11)","v":162.5},{"$f":"SUM(→:←!AL11)","v":-32.829917999999992},{"$f":"SUM(→:←!AM11)","v":50.075183999999808},35.052628799999908,27.263838768573894,62.316467568573799,9.7930268548591926,null,{"$f":"SUM(K11:$K$70)","v":5294.3997421368495},-5244.3245581368501,null,475.86500000000001,null,10475.865,{"$f":"IF($AH11>0,\"車,\",\"\")&IF($AF11>0,\"リフォーム,\",\"\")&IF(子1!C11=18,\"大学入学,\",\"\")&IF(子2!C11=18,\"大学入学,\",\"\")&IF(子3!C11=18,\"大学入学,\",\"\")&IF(子4!C11=18,\"大学入学,\",\"\")","v":""}]
[null,2028,30,{"$f":"SUM(→:←!D12)","v":650.20264710956178},{"$f":"SUM(→:←!E12)","v":525.25583000000006},{"$f":"SUM(→:←!F12)","v":-64.620748000000006},{"$f":"SUM(→:←!G12)","v":0},{"$f":"SUM(→:←!H12)","v":0},{"$f":"SUM(→:←!I12)","v":0},{"$f":"SUM(→:←!J12)","v":460.63508200000001},{"$f":"SUM(→:←!K12)","v":96},{"$f":"SUM(→:←!L12)","v":0},{"$f":"SUM(→:←!M12)","v":99},{"$f":"SUM(→:←!N12)","v":33},{"$f":"SUM(→:←!O12)","v":11.55},{"$f":"SUM(→:←!P12)","v":9.240000000000002},{"$f":"SUM(→:←!Q12)","v":5.7750000000000004},{"$f":"SUM(→:←!R12)","v":12},{"$f":"SUM(→:←!S12)","v":0},{"$f":"SUM(→:←!T12)","v":266.565},{"$f":"SUM(→:←!U12)","v":194.07008200000001},{"$f":"SUM(→:←!V12)","v":6},{"$f":"SUM(→:←!W12)","v":4.8000000000000007},{"$f":"SUM(→:←!X12)","v":0},{"$f":"SUM(→:←!Y12)","v":0},{"$f":"SUM(→:←!Z12)","v":36},{"$f":"SUM(→:←!AA12)","v":0},{"$f":"SUM(→:←!AB12)","v":0},{"$f":"SUM(→:←!AC12)","v":46.8},{"$f":"SUM(→:←!AD12)","v":147.270082},{"$f":"SUM(→:←!AE12)","v":84},{"$f":"SUM(→:←!AF12)","v":0},{"$f":"SUM(→:←!AG12)","v":0},{"$f":"SUM(→:←!AH12)","v":0},{"$f":"SUM(→:←!AI12)","v":0},{"$f":"SUM(→:←!AJ12)","v":21.5},{"$f":"SUM(→:←!AK12)","v":105.5},{"$f":"SUM(→:←!AL12)","v":41.770082000000002},{"$f":"SUM(→:←!AM12)","v":91.84526599999981},64.291686199999901,41.158055307002591,105.4497415070025,10.883580405602153,null,{"$f":"SUM(K12:$K$70)","v":5198.3997421368495},-5106.5544761368492,null,418.86500000000001,null,10418.865,{"$f":"IF($AH12>0,\"車,\",\"\")&IF($AF12>0,\"リフォーム,\",\"\")&IF(子1!C12=18,\"大学入学,\",\"\")&IF(子2!C12=18,\"大学入学,\",\"\")&IF(子3!C12=18,\"大学入学,\",\"\")&IF(子4!C12=18,\"大学入学,\",\"\")","v":""}]
[null,2029,31,{"$f":"SUM(→:←!D13)","v":667.19812767516669},{"$f":"SUM(→:←!E13)","v":556.17061999999999},{"$f":"SUM(→:←!F13)","v":-118.26638599999998},{"$f":"SUM(→:←!G13)","v":0},{"$f":"SUM(→:←!H13)","v":0},{"$f":"SUM(→:←!I13)","v":0},{"$f":"SUM(→:←!J13)","v":437.90423399999997},{"$f":"SUM(→:←!K13)","v":120},{"$f":"SUM(→:←!L13)","v":0},{"$f":"SUM(→:←!M13)","v":118.8},{"$f":"SUM(→:←!N13)","v":39.6},{"$f":"SUM(→:←!O13)","v":13.200000000000001},{"$f":"SUM(→:←!P13)","v":10.560000000000002},{"$f":"SUM(→:←!Q13)","v":6.6000000000000005},{"$f":"SUM(→:←!R13)","v":12},{"$f":"SUM(→:←!S13)","v":0},{"$f":"SUM(→:←!T13)","v":320.76},{"$f":"SUM(→:←!U13)","v":117.14423399999998},{"$f":"SUM(→:←!V13)","v":6},{"$f":"SUM(→:←!W13)","v":4.8000000000000007},{"$f":"SUM(→:←!X13)","v":0},{"$f":"SUM(→:←!Y13)","v":12},{"$f":"SUM(→:←!Z13)","v":22.473300000000002},{"$f":"SUM(→:←!AA13)","v":0},{"$f":"SUM(→:←!AB13)","v":0},{"$f":"SUM(→:←!AC13)","v":45.273300000000006},{"$f":"SUM(→:←!AD13)","v":71.870934000000034},{"$f":"SUM(→:←!AE13)","v":96},{"$f":"SUM(→:←!AF13)","v":0},{"$f":"SUM(→:←!AG13)","v":0},{"$f":"SUM(→:←!AH13)","v":0},{"$f":"SUM(→:←!AI13)","v":0},{"$f":"SUM(→:←!AJ13)","v":21.5},{"$f":"SUM(→:←!AK13)","v":117.5},{"$f":"SUM(→:←!AL13)","v":-45.629065999999966},{"$f":"SUM(→:←!AM13)","v":46.216199999999844},32.351339999999922,29.527238272352733,61.878578272352655,12.52990261788225,null,{"$f":"SUM(K13:$K$70)","v":5102.3997421368495},-5056.1835421368496,null,483.5333,null,10483.533299999999,{"$f":"IF($AH13>0,\"車,\",\"\")&IF($AF13>0,\"リフォーム,\",\"\")&IF(子1!C13=18,\"大学入学,\",\"\")&IF(子2!C13=18,\"大学入学,\",\"\")&IF(子3!C13=18,\"大学入学,\",\"\")&IF(子4!C13=18,\"大学入学,\",\"\")","v":""}]
[null,2030,32,{"$f":"SUM(→:←!D14)","v":684.64116993794141},{"$f":"SUM(→:←!E14)","v":567.52062000000001},{"$f":"SUM(→:←!F14)","v":-71.160792000000001},{"$f":"SUM(→:←!G14)","v":0},{"$f":"SUM(→:←!H14)","v":0},{"$f":"SUM(→:←!I14)","v":0},{"$f":"SUM(→:←!J14)","v":496.35982800000005},{"$f":"SUM(→:←!K14)","v":120},{"$f":"SUM(→:←!L14)","v":0},{"$f":"SUM(→:←!M14)","v":118.8},{"$f":"SUM(→:←!N14)","v":39.6},{"$f":"SUM(→:←!O14)","v":13.200000000000001},{"$f":"SUM(→:←!P14)","v":10.560000000000002},{"$f":"SUM(→:←!Q14)","v":6.6000000000000005},{"$f":"SUM(→:←!R14)","v":12},{"$f":"SUM(→:←!S14)","v":0},{"$f":"SUM(→:←!T14)","v":320.76},{"$f":"SUM(→:←!U14)","v":175.599828},{"$f":"SUM(→:←!V14)","v":6},{"$f":"SUM(→:←!W14)","v":4.8000000000000007},{"$f":"SUM(→:←!X14)","v":0},{"$f":"SUM(→:←!Y14)","v":12},{"$f":"SUM(→:←!Z14)","v":25.276900000000001},{"$f":"SUM(→:←!AA14)","v":0},{"$f":"SUM(→:←!AB14)","v":0},{"$f":"SUM(→:←!AC14)","v":48.076900000000002},{"$f":"SUM(→:←!AD14)","v":127.52292800000004},{"$f":"SUM(→:←!AE14)","v":96},{"$f":"SUM(→:←!AF14)","v":0},{"$f":"SUM(→:←!AG14)","v":0},{"$f":"SUM(→:←!AH14)","v":0},{"$f":"SUM(→:←!AI14)","v":0},{"$f":"SUM(→:←!AJ14)","v":21.5},{"$f":"SUM(→:←!AK14)","v":117.5},{"$f":"SUM(→:←!AL14)","v":10.022928000000036},{"$f":"SUM(→:←!AM14)","v":56.23912799999971},39.367389599999946,34.010478585970382,73.377868185970328,13.710992148776496,null,{"$f":"SUM(K14:$K$70)","v":4982.3997421368495},-4926.1606141368502,null,486.33690000000001,null,10486.3369,{"$f":"IF($AH14>0,\"車,\",\"\")&IF($AF14>0,\"リフォーム,\",\"\")&IF(子1!C14=18,\"大学入学,\",\"\")&IF(子2!C14=18,\"大学入学,\",\"\")&IF(子3!C14=18,\"大学入学,\",\"\")&IF(子4!C14=18,\"大学入学,\",\"\")","v":""}]
[null,2031,33,{"$f":"SUM(→:←!D15)","v":701.4739765090651},{"$f":"SUM(→:←!E15)","v":575.92061999999999},{"$f":"SUM(→:←!F15)","v":-71.160792000000001},{"$f":"SUM(→:←!G15)","v":0},{"$f":"SUM(→:←!H15)","v":0},{"$f":"SUM(→:←!I15)","v":0},{"$f":"SUM(→:←!J15)","v":504.75982800000003},{"$f":"SUM(→:←!K15)","v":120},{"$f":"SUM(→:←!L15)","v":0},{"$f":"SUM(→:←!M15)","v":118.8},{"$f":"SUM(→:←!N15)","v":39.6},{"$f":"SUM(→:←!O15)","v":13.200000000000001},{"$f":"SUM(→:←!P15)","v":10.560000000000002},{"$f":"SUM(→:←!Q15)","v":6.6000000000000005},{"$f":"SUM(→:←!R15)","v":12},{"$f":"SUM(→:←!S15)","v":0},{"$f":"SUM(→:←!T15)","v":320.76},{"$f":"SUM(→:←!U15)","v":183.99982799999998},{"$f":"SUM(→:←!V15)","v":6},{"$f":"SUM(→:←!W15)","v":4.8000000000000007},{"$f":"SUM(→:←!X15)","v":0},{"$f":"SUM(→:←!Y15)","v":12},{"$f":"SUM(→:←!Z15)","v":25.249600000000001},{"$f":"SUM(→:←!AA15)","v":0},{"$f":"SUM(→:←!AB15)","v":0},{"$f":"SUM(→:←!AC15)","v":48.049599999999998},{"$f":"SUM(→:←!AD15)","v":135.95022800000004},{"$f":"SUM(→:←!AE15)","v":96},{"$f":"SUM(→:←!AF15)","v":0},{"$f":"SUM(→:←!AG15)","v":0},{"$f":"SUM(→:←!AH15)","v":0},{"$f":"SUM(→:←!AI15)","v":0},{"$f":"SUM(→:←!AJ15)","v":21.5},{"$f":"SUM(→:←!AK15)","v":117.5},{"$f":"SUM(→:←!AL15)","v":18.45022800000001},{"$f":"SUM(→:←!AM15)","v":74.689355999999862},52.282549199999949,41.246070915268902,93.528620115268851,15.071411292215192,null,{"$f":"SUM(K15:$K$70)","v":4862.3997421368504},-4787.7103861368505,null,486.30959999999999,null,10486.309600000001,{"$f":"IF($AH15>0,\"車,\",\"\")&IF($AF15>0,\"リフォーム,\",\"\")&IF(子1!C15=18,\"大学入学,\",\"\")&IF(子2!C15=18,\"大学入学,\",\"\")&IF(子3!C15=18,\"大学入学,\",\"\")&IF(子4!C15=18,\"大学入学,\",\"\")","v":""}]
[null,2032,34,{"$f":"SUM(→:←!D16)","v":718.72063984122269},{"$f":"SUM(→:←!E16)","v":587.34456999999998},{"$f":"SUM(→:←!F16)","v":-74.120836000000011},{"$f":"SUM(→:←!G16)","v":0},{"$f":"SUM(→:←!H16)","v":0},{"$f":"SUM(→:←!I16)","v":0},{"$f":"SUM(→:←!J16)","v":513.22373399999992},{"$f":"SUM(→:←!K16)","v":135.4971354896243},{"$f":"SUM(→:←!L16)","v":2.4064113548962407},{"$f":"SUM(→:←!M16)","v":118.8},{"$f":"SUM(→:←!N16)","v":39.6},{"$f":"SUM(→:←!O16)","v":13.200000000000001},{"$f":"SUM(→:←!P16)","v":10.560000000000002},{"$f":"SUM(→:←!Q16)","v":6.6000000000000005},{"$f":"SUM(→:←!R16)","v":12},{"$f":"SUM(→:←!S16)","v":0},{"$f":"SUM(→:←!T16)","v":338.66354684452051},{"$f":"SUM(→:←!U16)","v":174.56018715547938},{"$f":"SUM(→:←!V16)","v":6},{"$f":"SUM(→:←!W16)","v":4.8000000000000007},{"$f":"SUM(→:←!X16)","v":12},{"$f":"SUM(→:←!Y16)","v":12},{"$f":"SUM(→:←!Z16)","v":15.448600000000001},{"$f":"SUM(→:←!AA16)","v":0},{"$f":"SUM(→:←!AB16)","v":0},{"$f":"SUM(→:←!AC16)","v":50.248600000000003},{"$f":"SUM(→:←!AD16)","v":124.31158715547943},{"$f":"SUM(→:←!AE16)","v":96},{"$f":"SUM(→:←!AF16)","v":0},{"$f":"SUM(→:←!AG16)","v":3},{"$f":"SUM(→:←!AH16)","v":300},{"$f":"SUM(→:←!AI16)","v":0},{"$f":"SUM(→:←!AJ16)","v":21.5},{"$f":"SUM(→:←!AK16)","v":420.5},{"$f":"SUM(→:←!AL16)","v":-296.1884128445206},{"$f":"SUM(→:←!AM16)","v":-221.49905684452096},-155.04933979116447,-45.548149392323829,-200.59748918348831,16.721254128826128,null,{"$f":"SUM(K16:$K$70)","v":4742.3997421368504},-4963.8987989813713,null,809.41214684452052,null,971.29457621342453,{"$f":"IF($AH16>0,\"車,\",\"\")&IF($AF16>0,\"リフォーム,\",\"\")&IF(子1!C16=18,\"大学入学,\",\"\")&IF(子2!C16=18,\"大学入学,\",\"\")&IF(子3!C16=18,\"大学入学,\",\"\")&IF(子4!C16=18,\"大学入学,\",\"\")","v":"車,"}]
[null,2033,35,{"$f":"SUM(→:←!D17)","v":736.39133514898242},{"$f":"SUM(→:←!E17)","v":589.74457000000007},{"$f":"SUM(→:←!F17)","v":-74.120836000000011},{"$f":"SUM(→:←!G17)","v":0},{"$f":"SUM(→:←!H17)","v":0},{"$f":"SUM(→:←!I17)","v":0},{"$f":"SUM(→:←!J17)","v":515.62373400000001},{"$f":"SUM(→:←!K17)","v":135.4971354896243},{"$f":"SUM(→:←!L17)","v":3.5362627097924841},{"$f":"SUM(→:←!M17)","v":118.8},{"$f":"SUM(→:←!N17)","v":39.6},{"$f":"SUM(→:←!O17)","v":13.200000000000001},{"$f":"SUM(→:←!P17)","v":10.560000000000002},{"$f":"SUM(→:←!Q17)","v":6.6000000000000005},{"$f":"SUM(→:←!R17)","v":12},{"$f":"SUM(→:←!S17)","v":0},{"$f":"SUM(→:←!T17)","v":339.79339819941674},{"$f":"SUM(→:←!U17)","v":175.83033580058324},{"$f":"SUM(→:←!V17)","v":6},{"$f":"SUM(→:←!W17)","v":4.8000000000000007},{"$f":"SUM(→:←!X17)","v":12},{"$f":"SUM(→:←!Y17)","v":12},{"$f":"SUM(→:←!Z17)","v":7.9245999999999999},{"$f":"SUM(→:←!AA17)","v":0},{"$f":"SUM(→:←!AB17)","v":0},{"$f":"SUM(→:←!AC17)","v":42.724600000000002},{"$f":"SUM(→:←!AD17)","v":133.10573580058323},{"$f":"SUM(→:←!AE17)","v":96},{"$f":"SUM(→:←!AF17)","v":0},{"$f":"SUM(→:←!AG17)","v":0},{"$f":"SUM(→:←!AH17)","v":0},{"$f":"SUM(→:←!AI17)","v":0},{"$f":"SUM(→:←!AJ17)","v":21.5},{"$f":"SUM(→:←!AK17)","v":117.5},{"$f":"SUM(→:←!AL17)","v":15.605735800583204},{"$f":"SUM(→:←!AM17)","v":-205.8933210439377},-144.12532473075623,-43.143836121765062,-187.26916085252128,14.899328153133139,null,{"$f":"SUM(K17:$K$70)","v":4606.9026066472261},-4812.7959276911643,null,500.01799819941675,null,10500.017998199417,{"$f":"IF($AH17>0,\"車,\",\"\")&IF($AF17>0,\"リフォーム,\",\"\")&IF(子1!C17=18,\"大学入学,\",\"\")&IF(子2!C17=18,\"大学入学,\",\"\")&IF(子3!C17=18,\"大学入学,\",\"\")&IF(子4!C17=18,\"大学入学,\",\"\")","v":""}]
[null,2034,36,{"$f":"SUM(→:←!D18)","v":751.4772419106863},{"$f":"SUM(→:←!E18)","v":605.54467999999997},{"$f":"SUM(→:←!F18)","v":-77.080880000000008},{"$f":"SUM(→:←!G18)","v":0},{"$f":"SUM(→:←!H18)","v":0},{"$f":"SUM(→:←!I18)","v":0},{"$f":"SUM(→:←!J18)","v":528.46379999999999},{"$f":"SUM(→:←!K18)","v":135.4971354896243},{"$f":"SUM(→:←!L18)","v":4.6661140646887267},{"$f":"SUM(→:←!M18)","v":118.8},{"$f":"SUM(→:←!N18)","v":39.6},{"$f":"SUM(→:←!O18)","v":13.200000000000001},{"$f":"SUM(→:←!P18)","v":10.560000000000002},{"$f":"SUM(→:←!Q18)","v":6.6000000000000005},{"$f":"SUM(→:←!R18)","v":12},{"$f":"SUM(→:←!S18)","v":0},{"$f":"SUM(→:←!T18)","v":340.92324955431297},{"$f":"SUM(→:←!U18)","v":187.54055044568699},{"$f":"SUM(→:←!V18)","v":6},{"$f":"SUM(→:←!W18)","v":4.8000000000000007},{"$f":"SUM(→:←!X18)","v":12},{"$f":"SUM(→:←!Y18)","v":12},{"$f":"SUM(→:←!Z18)","v":8.9169999999999998},{"$f":"SUM(→:←!AA18)","v":0},{"$f":"SUM(→:←!AB18)","v":0},{"$f":"SUM(→:←!AC18)","v":43.716999999999999},{"$f":"SUM(→:←!AD18)","v":143.82355044568706},{"$f":"SUM(→:←!AE18)","v":96},{"$f":"SUM(→:←!AF18)","v":0},{"$f":"SUM(→:←!AG18)","v":0},{"$f":"SUM(→:←!AH18)","v":0},{"$f":"SUM(→:←!AI18)","v":0},{"$f":"SUM(→:←!AJ18)","v":21.5},{"$f":"SUM(→:←!AK18)","v":117.5},{"$f":"SUM(→:←!AL18)","v":26.323550445687005},{"$f":"SUM(→:←!AM18)","v":-179.56977059825044},-125.69883941877534,-37.403962794147219,-163.10280221292254,13.173574708262322,null,{"$f":"SUM(K18:$K$70)","v":4471.4054711576018},-4650.975241755852,null,502.14024955431296,null,10502.140249554313,{"$f":"IF($AH18>0,\"車,\",\"\")&IF($AF18>0,\"リフォーム,\",\"\")&IF(子1!C18=18,\"大学入学,\",\"\")&IF(子2!C18=18,\"大学入学,\",\"\")&IF(子3!C18=18,\"大学入学,\",\"\")&IF(子4!C18=18,\"大学入学,\",\"\")","v":""}]
[null,2035,37,{"$f":"SUM(→:←!D19)","v":766.87809858057369},{"$f":"SUM(→:←!E19)","v":609.56852000000003},{"$f":"SUM(→:←!F19)","v":0},{"$f":"SUM(→:←!G19)","v":0},{"$f":"SUM(→:←!H19)","v":0},{"$f":"SUM(→:←!I19)","v":0},{"$f":"SUM(→:←!J19)","v":609.56852000000003},{"$f":"SUM(→:←!K19)","v":135.4971354896243},{"$f":"SUM(→:←!L19)","v":5.8710054195849697},{"$f":"SUM(→:←!M19)","v":118.8},{"$f":"SUM(→:←!N19)","v":39.6},{"$f":"SUM(→:←!O19)","v":13.200000000000001},{"$f":"SUM(→:←!P19)","v":10.560000000000002},{"$f":"SUM(→:←!Q19)","v":6.6000000000000005},{"$f":"SUM(→:←!R19)","v":12},{"$f":"SUM(→:←!S19)","v":0},{"$f":"SUM(→:←!T19)","v":342.12814090920926},{"$f":"SUM(→:←!U19)","v":267.44037909079077},{"$f":"SUM(→:←!V19)","v":6},{"$f":"SUM(→:←!W19)","v":4.8000000000000007},{"$f":"SUM(→:←!X19)","v":24},{"$f":"SUM(→:←!Y19)","v":0},{"$f":"SUM(→:←!Z19)","v":15.541399999999999},{"$f":"SUM(→:←!AA19)","v":0},{"$f":"SUM(→:←!AB19)","v":0},{"$f":"SUM(→:←!AC19)","v":50.3414},{"$f":"SUM(→:←!AD19)","v":217.09897909079081},{"$f":"SUM(→:←!AE19)","v":96},{"$f":"SUM(→:←!AF19)","v":0},{"$f":"SUM(→:←!AG19)","v":0},{"$f":"SUM(→:←!AH19)","v":0},{"$f":"SUM(→:←!AI19)","v":0},{"$f":"SUM(→:←!AJ19)","v":21.5},{"$f":"SUM(→:←!AK19)","v":117.5},{"$f":"SUM(→:←!AL19)","v":99.598979090790806},{"$f":"SUM(→:←!AM19)","v":-79.97079150745958},-55.979554055221783,-9.3944672066173425,-65.374021261839118,11.67741619649637,null,{"$f":"SUM(K19:$K$70)","v":4335.9083356679776},-4415.8791271754371,null,509.96954090920929,null,10509.969540909209,{"$f":"IF($AH19>0,\"車,\",\"\")&IF($AF19>0,\"リフォーム,\",\"\")&IF(子1!C19=18,\"大学入学,\",\"\")&IF(子2!C19=18,\"大学入学,\",\"\")&IF(子3!C19=18,\"大学入学,\",\"\")&IF(子4!C19=18,\"大学入学,\",\"\")","v":""}]
[null,2036,38,{"$f":"SUM(→:←!D20)","v":781.09098858801883},{"$f":"SUM(→:←!E20)","v":626.91851999999994},{"$f":"SUM(→:←!F20)","v":0},{"$f":"SUM(→:←!G20)","v":0},{"$f":"SUM(→:←!H20)","v":0},{"$f":"SUM(→:←!I20)","v":0},{"$f":"SUM(→:←!J20)","v":626.91851999999994},{"$f":"SUM(→:←!K20)","v":135.4971354896243},{"$f":"SUM(→:←!L20)","v":7.0758967744812127},{"$f":"SUM(→:←!M20)","v":118.8},{"$f":"SUM(→:←!N20)","v":39.6},{"$f":"SUM(→:←!O20)","v":13.200000000000001},{"$f":"SUM(→:←!P20)","v":10.560000000000002},{"$f":"SUM(→:←!Q20)","v":6.6000000000000005},{"$f":"SUM(→:←!R20)","v":12},{"$f":"SUM(→:←!S20)","v":0},{"$f":"SUM(→:←!T20)","v":343.3330322641055},{"$f":"SUM(→:←!U20)","v":283.5854877358945},{"$f":"SUM(→:←!V20)","v":6},{"$f":"SUM(→:←!W20)","v":7.2000000000000011},{"$f":"SUM(→:←!X20)","v":24},{"$f":"SUM(→:←!Y20)","v":0},{"$f":"SUM(→:←!Z20)","v":9.2835000000000001},{"$f":"SUM(→:←!AA20)","v":0},{"$f":"SUM(→:←!AB20)","v":0},{"$f":"SUM(→:←!AC20)","v":46.483500000000006},{"$f":"SUM(→:←!AD20)","v":237.10198773589451},{"$f":"SUM(→:←!AE20)","v":96},{"$f":"SUM(→:←!AF20)","v":0},{"$f":"SUM(→:←!AG20)","v":0},{"$f":"SUM(→:←!AH20)","v":0},{"$f":"SUM(→:←!AI20)","v":0},{"$f":"SUM(→:←!AJ20)","v":21.5},{"$f":"SUM(→:←!AK20)","v":117.5},{"$f":"SUM(→:←!AL20)","v":119.60198773589451},{"$f":"SUM(→:←!AM20)","v":39.631196228434646},27.741837359904366,26.016405753820145,53.758243113724511,11.301637508231892,null,{"$f":"SUM(K20:$K$70)","v":4200.4112001783533},-4160.7800039499189,null,507.31653226410549,null,10507.316532264105,{"$f":"IF($AH20>0,\"車,\",\"\")&IF($AF20>0,\"リフォーム,\",\"\")&IF(子1!C20=18,\"大学入学,\",\"\")&IF(子2!C20=18,\"大学入学,\",\"\")&IF(子3!C20=18,\"大学入学,\",\"\")&IF(子4!C20=18,\"大学入学,\",\"\")","v":""}]
[null,2037,39,{"$f":"SUM(→:←!D21)","v":795.56729235410126},{"$f":"SUM(→:←!E21)","v":635.31852000000003},{"$f":"SUM(→:←!F21)","v":0},{"$f":"SUM(→:←!G21)","v":0},{"$f":"SUM(→:←!H21)","v":0},{"$f":"SUM(→:←!I21)","v":0},{"$f":"SUM(→:←!J21)","v":635.31852000000003},{"$f":"SUM(→:←!K21)","v":135.4971354896243},{"$f":"SUM(→:←!L21)","v":8.2057481293774508},{"$f":"SUM(→:←!M21)","v":118.8},{"$f":"SUM(→:←!N21)","v":39.6},{"$f":"SUM(→:←!O21)","v":13.200000000000001},{"$f":"SUM(→:←!P21)","v":10.560000000000002},{"$f":"SUM(→:←!Q21)","v":6.6000000000000005},{"$f":"SUM(→:←!R21)","v":12},{"$f":"SUM(→:←!S21)","v":0},{"$f":"SUM(→:←!T21)","v":344.46288361900173},{"$f":"SUM(→:←!U21)","v":290.85563638099825},{"$f":"SUM(→:←!V21)","v":6},{"$f":"SUM(→:←!W21)","v":7.2000000000000011},{"$f":"SUM(→:←!X21)","v":24},{"$f":"SUM(→:←!Y21)","v":0},{"$f":"SUM(→:←!Z21)","v":13.118500000000001},{"$f":"SUM(→:←!AA21)","v":0},{"$f":"SUM(→:←!AB21)","v":0},{"$f":"SUM(→:←!AC21)","v":50.3185},{"$f":"SUM(→:←!AD21)","v":240.53713638099822},{"$f":"SUM(→:←!AE21)","v":96},{"$f":"SUM(→:←!AF21)","v":0},{"$f":"SUM(→:←!AG21)","v":57},{"$f":"SUM(→:←!AH21)","v":0},{"$f":"SUM(→:←!AI21)","v":0},{"$f":"SUM(→:←!AJ21)","v":21.5},{"$f":"SUM(→:←!AK21)","v":174.5},{"$f":"SUM(→:←!AL21)","v":66.03713638099822},{"$f":"SUM(→:←!AM21)","v":105.66833260943304},73.967832826603114,47.12836695581062,121.09619978241373,12.342293738384559,null,{"$f":"SUM(K21:$K$70)","v":4064.9140646887286},-3959.2457320792955,null,569.28138361900176,null,10569.281383619002,{"$f":"IF($AH21>0,\"車,\",\"\")&IF($AF21>0,\"リフォーム,\",\"\")&IF(子1!C21=18,\"大学入学,\",\"\")&IF(子2!C21=18,\"大学入学,\",\"\")&IF(子3!C21=18,\"大学入学,\",\"\")&IF(子4!C21=18,\"大学入学,\",\"\")","v":""}]
[null,2038,40,{"$f":"SUM(→:←!D22)","v":810.31189184217988},{"$f":"SUM(→:←!E22)","v":649.56874000000005},{"$f":"SUM(→:←!F22)","v":0},{"$f":"SUM(→:←!G22)","v":0},{"$f":"SUM(→:←!H22)","v":0},{"$f":"SUM(→:←!I22)","v":0},{"$f":"SUM(→:←!J22)","v":649.56874000000005},{"$f":"SUM(→:←!K22)","v":135.4971354896243},{"$f":"SUM(→:←!L22)","v":15.488879484273696},{"$f":"SUM(→:←!M22)","v":118.8},{"$f":"SUM(→:←!N22)","v":39.6},{"$f":"SUM(→:←!O22)","v":13.200000000000001},{"$f":"SUM(→:←!P22)","v":10.560000000000002},{"$f":"SUM(→:←!Q22)","v":6.6000000000000005},{"$f":"SUM(→:←!R22)","v":12},{"$f":"SUM(→:←!S22)","v":0},{"$f":"SUM(→:←!T22)","v":351.74601497389801},{"$f":"SUM(→:←!U22)","v":297.82272502610203},{"$f":"SUM(→:←!V22)","v":6},{"$f":"SUM(→:←!W22)","v":7.2000000000000011},{"$f":"SUM(→:←!X22)","v":12},{"$f":"SUM(→:←!Y22)","v":12},{"$f":"SUM(→:←!Z22)","v":24.026},{"$f":"SUM(→:←!AA22)","v":0},{"$f":"SUM(→:←!AB22)","v":0},{"$f":"SUM(→:←!AC22)","v":61.226000000000006},{"$f":"SUM(→:←!AD22)","v":236.59672502610201},{"$f":"SUM(→:←!AE22)","v":96},{"$f":"SUM(→:←!AF22)","v":0},{"$f":"SUM(→:←!AG22)","v":0},{"$f":"SUM(→:←!AH22)","v":0},{"$f":"SUM(→:←!AI22)","v":0},{"$f":"SUM(→:←!AJ22)","v":21.5},{"$f":"SUM(→:←!AK22)","v":117.5},{"$f":"SUM(→:←!AL22)","v":119.09672502610201},{"$f":"SUM(→:←!AM22)","v":224.7650576355345},157.33554034487452,85.213802811431748,242.54934315630626,14.227428416617409,null,{"$f":"SUM(K22:$K$70)","v":3929.4169291991043},-3704.6518715635698,null,530.47201497389801,null,10530.472014973899,{"$f":"IF($AH22>0,\"車,\",\"\")&IF($AF22>0,\"リフォーム,\",\"\")&IF(子1!C22=18,\"大学入学,\",\"\")&IF(子2!C22=18,\"大学入学,\",\"\")&IF(子3!C22=18,\"大学入学,\",\"\")&IF(子4!C22=18,\"大学入学,\",\"\")","v":""}]
[null,2039,41,{"$f":"SUM(→:←!D23)","v":824.10574133257501},{"$f":"SUM(→:←!E23)","v":653.59258},{"$f":"SUM(→:←!F23)","v":0},{"$f":"SUM(→:←!G23)","v":0},{"$f":"SUM(→:←!H23)","v":0},{"$f":"SUM(→:←!I23)","v":0},{"$f":"SUM(→:←!J23)","v":653.59258},{"$f":"SUM(→:←!K23)","v":135.4971354896243},{"$f":"SUM(→:←!L23)","v":16.54369083916994},{"$f":"SUM(→:←!M23)","v":118.8},{"$f":"SUM(→:←!N23)","v":39.6},{"$f":"SUM(→:←!O23)","v":13.200000000000001},{"$f":"SUM(→:←!P23)","v":10.560000000000002},{"$f":"SUM(→:←!Q23)","v":6.6000000000000005},{"$f":"SUM(→:←!R23)","v":12},{"$f":"SUM(→:←!S23)","v":0},{"$f":"SUM(→:←!T23)","v":352.80082632879424},{"$f":"SUM(→:←!U23)","v":300.79175367120575},{"$f":"SUM(→:←!V23)","v":6},{"$f":"SUM(→:←!W23)","v":9.6000000000000014},{"$f":"SUM(→:←!X23)","v":12},{"$f":"SUM(→:←!Y23)","v":12},{"$f":"SUM(→:←!Z23)","v":16.1723},{"$f":"SUM(→:←!AA23)","v":0},{"$f":"SUM(→:←!AB23)","v":0},{"$f":"SUM(→:←!AC23)","v":55.772300000000008},{"$f":"SUM(→:←!AD23)","v":245.01945367120578},{"$f":"SUM(→:←!AE23)","v":96},{"$f":"SUM(→:←!AF23)","v":0},{"$f":"SUM(→:←!AG23)","v":0},{"$f":"SUM(→:←!AH23)","v":300},{"$f":"SUM(→:←!AI23)","v":0},{"$f":"SUM(→:←!AJ23)","v":21.5},{"$f":"SUM(→:←!AK23)","v":417.5},{"$f":"SUM(→:←!AL23)","v":-172.48054632879422},{"$f":"SUM(→:←!AM23)","v":52.284511306740569},36.599157914718575,37.730329053365082,74.329486968083657,17.63598052907447,null,{"$f":"SUM(K23:$K$70)","v":3793.91979370948},-3741.6352824027394,null,826.07312632879427,null,991.28775159455313,{"$f":"IF($AH23>0,\"車,\",\"\")&IF($AF23>0,\"リフォーム,\",\"\")&IF(子1!C23=18,\"大学入学,\",\"\")&IF(子2!C23=18,\"大学入学,\",\"\")&IF(子3!C23=18,\"大学入学,\",\"\")&IF(子4!C23=18,\"大学入学,\",\"\")","v":"車,"}]
[null,2040,42,{"$f":"SUM(→:←!D24)","v":838.13529312726337},{"$f":"SUM(→:←!E24)","v":670.94258000000002},{"$f":"SUM(→:←!F24)","v":0},{"$f":"SUM(→:←!G24)","v":0},{"$f":"SUM(→:←!H24)","v":0},{"$f":"SUM(→:←!I24)","v":0},{"$f":"SUM(→:←!J24)","v":670.94258000000002},{"$f":"SUM(→:←!K24)","v":135.4971354896243},{"$f":"SUM(→:←!L24)","v":17.448422194066183},{"$f":"SUM(→:←!M24)","v":118.8},{"$f":"SUM(→:←!N24)","v":39.6},{"$f":"SUM(→:←!O24)","v":13.200000000000001},{"$f":"SUM(→:←!P24)","v":10.560000000000002},{"$f":"SUM(→:←!Q24)","v":6.6000000000000005},{"$f":"SUM(→:←!R24)","v":12},{"$f":"SUM(→:←!S24)","v":0},{"$f":"SUM(→:←!T24)","v":353.70555768369047},{"$f":"SUM(→:←!U24)","v":317.23702231630955},{"$f":"SUM(→:←!V24)","v":6},{"$f":"SUM(→:←!W24)","v":9.6000000000000014},{"$f":"SUM(→:←!X24)","v":12},{"$f":"SUM(→:←!Y24)","v":12},{"$f":"SUM(→:←!Z24)","v":20.3871},{"$f":"SUM(→:←!AA24)","v":0},{"$f":"SUM(→:←!AB24)","v":0},{"$f":"SUM(→:←!AC24)","v":59.987099999999998},{"$f":"SUM(→:←!AD24)","v":257.24992231630955},{"$f":"SUM(→:←!AE24)","v":96},{"$f":"SUM(→:←!AF24)","v":0},{"$f":"SUM(→:←!AG24)","v":0},{"$f":"SUM(→:←!AH24)","v":0},{"$f":"SUM(→:←!AI24)","v":0},{"$f":"SUM(→:←!AJ24)","v":21.5},{"$f":"SUM(→:←!AK24)","v":117.5},{"$f":"SUM(→:←!AL24)","v":139.74992231630955},{"$f":"SUM(→:←!AM24)","v":192.03443362305097},134.42410353613525,81.541822200926191,215.96592573706144,19.145193691208373,null,{"$f":"SUM(K24:$K$70)","v":3658.4226582198557},-3466.3882245968048,null,531.19265768369041,null,10531.19265768369,{"$f":"IF($AH24>0,\"車,\",\"\")&IF($AF24>0,\"リフォーム,\",\"\")&IF(子1!C24=18,\"大学入学,\",\"\")&IF(子2!C24=18,\"大学入学,\",\"\")&IF(子3!C24=18,\"大学入学,\",\"\")&IF(子4!C24=18,\"大学入学,\",\"\")","v":""}]
[null,2041,43,{"$f":"SUM(→:←!D25)","v":851.79258151579529},{"$f":"SUM(→:←!E25)","v":679.34258},{"$f":"SUM(→:←!F25)","v":0},{"$f":"SUM(→:←!G25)","v":0},{"$f":"SUM(→:←!H25)","v":0},{"$f":"SUM(→:←!I25)","v":0},{"$f":"SUM(→:←!J25)","v":679.34258},{"$f":"SUM(→:←!K25)","v":135.4971354896243},{"$f":"SUM(→:←!L25)","v":18.503233548962427},{"$f":"SUM(→:←!M25)","v":118.8},{"$f":"SUM(→:←!N25)","v":39.6},{"$f":"SUM(→:←!O25)","v":13.200000000000001},{"$f":"SUM(→:←!P25)","v":10.560000000000002},{"$f":"SUM(→:←!Q25)","v":6.6000000000000005},{"$f":"SUM(→:←!R25)","v":12},{"$f":"SUM(→:←!S25)","v":0},{"$f":"SUM(→:←!T25)","v":354.7603690385867},{"$f":"SUM(→:←!U25)","v":324.58221096141341},{"$f":"SUM(→:←!V25)","v":6},{"$f":"SUM(→:←!W25)","v":9.6000000000000014},{"$f":"SUM(→:←!X25)","v":0},{"$f":"SUM(→:←!Y25)","v":36},{"$f":"SUM(→:←!Z25)","v":56.497299999999996},{"$f":"SUM(→:←!AA25)","v":0},{"$f":"SUM(→:←!AB25)","v":0},{"$f":"SUM(→:←!AC25)","v":108.09729999999999},{"$f":"SUM(→:←!AD25)","v":216.48491096141339},{"$f":"SUM(→:←!AE25)","v":96},{"$f":"SUM(→:←!AF25)","v":0},{"$f":"SUM(→:←!AG25)","v":0},{"$f":"SUM(→:←!AH25)","v":0},{"$f":"SUM(→:←!AI25)","v":0},{"$f":"SUM(→:←!AJ25)","v":21.5},{"$f":"SUM(→:←!AK25)","v":117.5},{"$f":"SUM(→:←!AL25)","v":98.984910961413391},{"$f":"SUM(→:←!AM25)","v":291.0193445844634},203.71354120912463,115.31438659939651,319.02792780852116,22.406866579246209,null,{"$f":"SUM(K25:$K$70)","v":3522.9255227302315},-3231.9061781457681,null,580.35766903858666,null,10580.357669038587,{"$f":"IF($AH25>0,\"車,\",\"\")&IF($AF25>0,\"リフォーム,\",\"\")&IF(子1!C25=18,\"大学入学,\",\"\")&IF(子2!C25=18,\"大学入学,\",\"\")&IF(子3!C25=18,\"大学入学,\",\"\")&IF(子4!C25=18,\"大学入学,\",\"\")","v":""}]
[null,2042,44,{"$f":"SUM(→:←!D26)","v":865.67241336199709},{"$f":"SUM(→:←!E26)","v":681.59280000000001},{"$f":"SUM(→:←!F26)","v":0},{"$f":"SUM(→:←!G26)","v":0},{"$f":"SUM(→:←!H26)","v":0},{"$f":"SUM(→:←!I26)","v":0},{"$f":"SUM(→:←!J26)","v":681.59280000000001},{"$f":"SUM(→:←!K26)","v":135.4971354896243},{"$f":"SUM(→:←!L26)","v":44.653359999999999},{"$f":"SUM(→:←!M26)","v":118.8},{"$f":"SUM(→:←!N26)","v":39.6},{"$f":"SUM(→:←!O26)","v":13.200000000000001},{"$f":"SUM(→:←!P26)","v":10.560000000000002},{"$f":"SUM(→:←!Q26)","v":6.6000000000000005},{"$f":"SUM(→:←!R26)","v":12},{"$f":"SUM(→:←!S26)","v":0},{"$f":"SUM(→:←!T26)","v":380.91049548962428},{"$f":"SUM(→:←!U26)","v":300.68230451037573},{"$f":"SUM(→:←!V26)","v":6},{"$f":"SUM(→:←!W26)","v":9.6000000000000014},{"$f":"SUM(→:←!X26)","v":0},{"$f":"SUM(→:←!Y26)","v":36},{"$f":"SUM(→:←!Z26)","v":40.521299999999997},{"$f":"SUM(→:←!AA26)","v":0},{"$f":"SUM(→:←!AB26)","v":0},{"$f":"SUM(→:←!AC26)","v":92.121299999999991},{"$f":"SUM(→:←!AD26)","v":208.56100451037577},{"$f":"SUM(→:←!AE26)","v":96},{"$f":"SUM(→:←!AF26)","v":0},{"$f":"SUM(→:←!AG26)","v":3},{"$f":"SUM(→:←!AH26)","v":0},{"$f":"SUM(→:←!AI26)","v":0},{"$f":"SUM(→:←!AJ26)","v":21.5},{"$f":"SUM(→:←!AK26)","v":120.5},{"$f":"SUM(→:←!AL26)","v":88.061004510375767},{"$f":"SUM(→:←!AM26)","v":379.08034909484013},265.35624436638767,147.49840728247906,412.85465164886671,27.019442043221261,null,{"$f":"SUM(K26:$K$70)","v":3387.4283872406072},-3008.3480381457671,null,593.5317954896243,null,10593.531795489624,{"$f":"IF($AH26>0,\"車,\",\"\")&IF($AF26>0,\"リフォーム,\",\"\")&IF(子1!C26=18,\"大学入学,\",\"\")&IF(子2!C26=18,\"大学入学,\",\"\")&IF(子3!C26=18,\"大学入学,\",\"\")&IF(子4!C26=18,\"大学入学,\",\"\")","v":""}]
[null,2043,45,{"$f":"SUM(→:←!D27)","v":879.77841497799864},{"$f":"SUM(→:←!E27)","v":685.61663999999996},{"$f":"SUM(→:←!F27)","v":0},{"$f":"SUM(→:←!G27)","v":0},{"$f":"SUM(→:←!H27)","v":0},{"$f":"SUM(→:←!I27)","v":0},{"$f":"SUM(→:←!J27)","v":685.61663999999996},{"$f":"SUM(→:←!K27)","v":135.4971354896243},{"$f":"SUM(→:←!L27)","v":44.203119999999998},{"$f":"SUM(→:←!M27)","v":118.8},{"$f":"SUM(→:←!N27)","v":39.6},{"$f":"SUM(→:←!O27)","v":13.200000000000001},{"$f":"SUM(→:←!P27)","v":10.560000000000002},{"$f":"SUM(→:←!Q27)","v":6.6000000000000005},{"$f":"SUM(→:←!R27)","v":12},{"$f":"SUM(→:←!S27)","v":0},{"$f":"SUM(→:←!T27)","v":380.46025548962427},{"$f":"SUM(→:←!U27)","v":305.15638451037569},{"$f":"SUM(→:←!V27)","v":6},{"$f":"SUM(→:←!W27)","v":9.6000000000000014},{"$f":"SUM(→:←!X27)","v":0},{"$f":"SUM(→:←!Y27)","v":36},{"$f":"SUM(→:←!Z27)","v":29.036000000000001},{"$f":"SUM(→:←!AA27)","v":0},{"$f":"SUM(→:←!AB27)","v":0},{"$f":"SUM(→:←!AC27)","v":80.635999999999996},{"$f":"SUM(→:←!AD27)","v":224.52038451037572},{"$f":"SUM(→:←!AE27)","v":96},{"$f":"SUM(→:←!AF27)","v":0},{"$f":"SUM(→:←!AG27)","v":0},{"$f":"SUM(→:←!AH27)","v":0},{"$f":"SUM(→:←!AI27)","v":0},{"$f":"SUM(→:←!AJ27)","v":21.5},{"$f":"SUM(→:←!AK27)","v":117.5},{"$f":"SUM(→:←!AL27)","v":107.02038451037572},{"$f":"SUM(→:←!AM27)","v":486.10073360521528},340.27051352365066,186.97944299971573,527.24995652336634,32.919378334520843,null,{"$f":"SUM(K27:$K$70)","v":3251.9312517509829},-2765.8305181457677,null,578.59625548962424,null,10578.596255489625,{"$f":"IF($AH27>0,\"車,\",\"\")&IF($AF27>0,\"リフォーム,\",\"\")&IF(子1!C27=18,\"大学入学,\",\"\")&IF(子2!C27=18,\"大学入学,\",\"\")&IF(子3!C27=18,\"大学入学,\",\"\")&IF(子4!C27=18,\"大学入学,\",\"\")","v":""}]
[null,2044,46,{"$f":"SUM(→:←!D28)","v":894.23863069285221},{"$f":"SUM(→:←!E28)","v":702.96663999999998},{"$f":"SUM(→:←!F28)","v":0},{"$f":"SUM(→:←!G28)","v":0},{"$f":"SUM(→:←!H28)","v":0},{"$f":"SUM(→:←!I28)","v":0},{"$f":"SUM(→:←!J28)","v":702.96663999999998},{"$f":"SUM(→:←!K28)","v":135.4971354896243},{"$f":"SUM(→:←!L28)","v":43.90296},{"$f":"SUM(→:←!M28)","v":118.8},{"$f":"SUM(→:←!N28)","v":39.6},{"$f":"SUM(→:←!O28)","v":13.200000000000001},{"$f":"SUM(→:←!P28)","v":10.560000000000002},{"$f":"SUM(→:←!Q28)","v":6.6000000000000005},{"$f":"SUM(→:←!R28)","v":12},{"$f":"SUM(→:←!S28)","v":0},{"$f":"SUM(→:←!T28)","v":380.16009548962427},{"$f":"SUM(→:←!U28)","v":322.8065445103756},{"$f":"SUM(→:←!V28)","v":6},{"$f":"SUM(→:←!W28)","v":9.6000000000000014},{"$f":"SUM(→:←!X28)","v":0},{"$f":"SUM(→:←!Y28)","v":24},{"$f":"SUM(→:←!Z28)","v":130.26249999999999},{"$f":"SUM(→:←!AA28)","v":0},{"$f":"SUM(→:←!AB28)","v":0},{"$f":"SUM(→:←!AC28)","v":169.86250000000001},{"$f":"SUM(→:←!AD28)","v":152.94404451037573},{"$f":"SUM(→:←!AE28)","v":96},{"$f":"SUM(→:←!AF28)","v":0},{"$f":"SUM(→:←!AG28)","v":0},{"$f":"SUM(→:←!AH28)","v":0},{"$f":"SUM(→:←!AI28)","v":0},{"$f":"SUM(→:←!AJ28)","v":21.5},{"$f":"SUM(→:←!AK28)","v":117.5},{"$f":"SUM(→:←!AL28)","v":35.444044510375704},{"$f":"SUM(→:←!AM28)","v":521.54477811559127},365.08134468091367,206.96162850281425,572.0429731837279,40.398556054509299,null,{"$f":"SUM(K28:$K$70)","v":3116.4341162613587},-2594.8893381457674,null,667.52259548962434,null,801.02711458754914,{"$f":"IF($AH28>0,\"車,\",\"\")&IF($AF28>0,\"リフォーム,\",\"\")&IF(子1!C28=18,\"大学入学,\",\"\")&IF(子2!C28=18,\"大学入学,\",\"\")&IF(子3!C28=18,\"大学入学,\",\"\")&IF(子4!C28=18,\"大学入学,\",\"\")","v":"大学入学,"}]
[null,2045,47,{"$f":"SUM(→:←!D29)","v":908.93652594332229},{"$f":"SUM(→:←!E29)","v":699.36663999999996},{"$f":"SUM(→:←!F29)","v":0},{"$f":"SUM(→:←!G29)","v":0},{"$f":"SUM(→:←!H29)","v":0},{"$f":"SUM(→:←!I29)","v":0},{"$f":"SUM(→:←!J29)","v":699.36663999999996},{"$f":"SUM(→:←!K29)","v":135.4971354896243},{"$f":"SUM(→:←!L29)","v":43.602800000000002},{"$f":"SUM(→:←!M29)","v":118.8},{"$f":"SUM(→:←!N29)","v":39.6},{"$f":"SUM(→:←!O29)","v":13.200000000000001},{"$f":"SUM(→:←!P29)","v":10.560000000000002},{"$f":"SUM(→:←!Q29)","v":6.6000000000000005},{"$f":"SUM(→:←!R29)","v":12},{"$f":"SUM(→:←!S29)","v":0},{"$f":"SUM(→:←!T29)","v":379.85993548962426},{"$f":"SUM(→:←!U29)","v":319.50670451037558},{"$f":"SUM(→:←!V29)","v":6},{"$f":"SUM(→:←!W29)","v":9.6000000000000014},{"$f":"SUM(→:←!X29)","v":0},{"$f":"SUM(→:←!Y29)","v":24},{"$f":"SUM(→:←!Z29)","v":83.564799999999991},{"$f":"SUM(→:←!AA29)","v":0},{"$f":"SUM(→:←!AB29)","v":0},{"$f":"SUM(→:←!AC29)","v":123.1648},{"$f":"SUM(→:←!AD29)","v":196.34190451037566},{"$f":"SUM(→:←!AE29)","v":84},{"$f":"SUM(→:←!AF29)","v":0},{"$f":"SUM(→:←!AG29)","v":0},{"$f":"SUM(→:←!AH29)","v":0},{"$f":"SUM(→:←!AI29)","v":0},{"$f":"SUM(→:←!AJ29)","v":21.5},{"$f":"SUM(→:←!AK29)","v":105.5},{"$f":"SUM(→:←!AL29)","v":90.841904510375656},{"$f":"SUM(→:←!AM29)","v":612.3866826259673},428.67067783817663,244.56228128106767,673.23295911924424,48.67702119462156,null,{"$f":"SUM(K29:$K$70)","v":2980.9369807717344},-2368.5502981457671,null,608.52473548962428,null,10608.524735489624,{"$f":"IF($AH29>0,\"車,\",\"\")&IF($AF29>0,\"リフォーム,\",\"\")&IF(子1!C29=18,\"大学入学,\",\"\")&IF(子2!C29=18,\"大学入学,\",\"\")&IF(子3!C29=18,\"大学入学,\",\"\")&IF(子4!C29=18,\"大学入学,\",\"\")","v":""}]
[null,2046,48,{"$f":"SUM(→:←!D30)","v":923.9381870207277},{"$f":"SUM(→:←!E30)","v":709.24069999999995},{"$f":"SUM(→:←!F30)","v":0},{"$f":"SUM(→:←!G30)","v":0},{"$f":"SUM(→:←!H30)","v":0},{"$f":"SUM(→:←!I30)","v":0},{"$f":"SUM(→:←!J30)","v":709.24069999999995},{"$f":"SUM(→:←!K30)","v":135.4971354896243},{"$f":"SUM(→:←!L30)","v":43.152560000000001},{"$f":"SUM(→:←!M30)","v":118.8},{"$f":"SUM(→:←!N30)","v":39.6},{"$f":"SUM(→:←!O30)","v":13.200000000000001},{"$f":"SUM(→:←!P30)","v":10.560000000000002},{"$f":"SUM(→:←!Q30)","v":6.6000000000000005},{"$f":"SUM(→:←!R30)","v":12},{"$f":"SUM(→:←!S30)","v":0},{"$f":"SUM(→:←!T30)","v":379.40969548962426},{"$f":"SUM(→:←!U30)","v":329.83100451037558},{"$f":"SUM(→:←!V30)","v":6},{"$f":"SUM(→:←!W30)","v":9.6000000000000014},{"$f":"SUM(→:←!X30)","v":0},{"$f":"SUM(→:←!Y30)","v":24},{"$f":"SUM(→:←!Z30)","v":70.680000000000007},{"$f":"SUM(→:←!AA30)","v":0},{"$f":"SUM(→:←!AB30)","v":0},{"$f":"SUM(→:←!AC30)","v":110.28},{"$f":"SUM(→:←!AD30)","v":219.55100451037569},{"$f":"SUM(→:←!AE30)","v":84},{"$f":"SUM(→:←!AF30)","v":0},{"$f":"SUM(→:←!AG30)","v":0},{"$f":"SUM(→:←!AH30)","v":300},{"$f":"SUM(→:←!AI30)","v":0},{"$f":"SUM(→:←!AJ30)","v":21.5},{"$f":"SUM(→:←!AK30)","v":405.5},{"$f":"SUM(→:←!AL30)","v":-185.94899548962431},{"$f":"SUM(→:←!AM30)","v":426.43768713634336},298.5063809954396,201.00569669823375,499.51207769367335,58.459512445863993,null,{"$f":"SUM(K30:$K$70)","v":2845.4398452821101},-2419.0021581457668,null,895.18969548962423,null,1074.2276345875491,{"$f":"IF($AH30>0,\"車,\",\"\")&IF($AF30>0,\"リフォーム,\",\"\")&IF(子1!C30=18,\"大学入学,\",\"\")&IF(子2!C30=18,\"大学入学,\",\"\")&IF(子3!C30=18,\"大学入学,\",\"\")&IF(子4!C30=18,\"大学入学,\",\"\")","v":"車,"}]
[null,2047,49,{"$f":"SUM(→:←!D31)","v":939.18744496398426},{"$f":"SUM(→:←!E31)","v":717.64069999999992},{"$f":"SUM(→:←!F31)","v":0},{"$f":"SUM(→:←!G31)","v":0},{"$f":"SUM(→:←!H31)","v":0},{"$f":"SUM(→:←!I31)","v":0},{"$f":"SUM(→:←!J31)","v":717.64069999999992},{"$f":"SUM(→:←!K31)","v":135.4971354896243},{"$f":"SUM(→:←!L31)","v":42.852399999999996},{"$f":"SUM(→:←!M31)","v":118.8},{"$f":"SUM(→:←!N31)","v":39.6},{"$f":"SUM(→:←!O31)","v":13.200000000000001},{"$f":"SUM(→:←!P31)","v":10.560000000000002},{"$f":"SUM(→:←!Q31)","v":6.6000000000000005},{"$f":"SUM(→:←!R31)","v":12},{"$f":"SUM(→:←!S31)","v":0},{"$f":"SUM(→:←!T31)","v":379.10953548962425},{"$f":"SUM(→:←!U31)","v":338.53116451037556},{"$f":"SUM(→:←!V31)","v":6},{"$f":"SUM(→:←!W31)","v":9.6000000000000014},{"$f":"SUM(→:←!X31)","v":0},{"$f":"SUM(→:←!Y31)","v":0},{"$f":"SUM(→:←!Z31)","v":146.80509999999998},{"$f":"SUM(→:←!AA31)","v":72},{"$f":"SUM(→:←!AB31)","v":0},{"$f":"SUM(→:←!AC31)","v":234.4051},{"$f":"SUM(→:←!AD31)","v":104.1260645103757},{"$f":"SUM(→:←!AE31)","v":84},{"$f":"SUM(→:←!AF31)","v":0},{"$f":"SUM(→:←!AG31)","v":57},{"$f":"SUM(→:←!AH31)","v":0},{"$f":"SUM(→:←!AI31)","v":0},{"$f":"SUM(→:←!AJ31)","v":21.5},{"$f":"SUM(→:←!AK31)","v":162.5},{"$f":"SUM(→:←!AL31)","v":-58.37393548962433},{"$f":"SUM(→:←!AM31)","v":368.06375164671863},257.64462615270259,193.54380088625817,451.18842703896075,66.499740313793708,null,{"$f":"SUM(K31:$K$70)","v":2709.9427097924859},-2341.8789581457672,null,776.0146354896242,null,931.21756258754897,{"$f":"IF($AH31>0,\"車,\",\"\")&IF($AF31>0,\"リフォーム,\",\"\")&IF(子1!C31=18,\"大学入学,\",\"\")&IF(子2!C31=18,\"大学入学,\",\"\")&IF(子3!C31=18,\"大学入学,\",\"\")&IF(子4!C31=18,\"大学入学,\",\"\")","v":"大学入学,"}]
[null,2048,50,{"$f":"SUM(→:←!D32)","v":954.68838626775891},{"$f":"SUM(→:←!E32)","v":734.99070000000006},{"$f":"SUM(→:←!F32)","v":0},{"$f":"SUM(→:←!G32)","v":0},{"$f":"SUM(→:←!H32)","v":0},{"$f":"SUM(→:←!I32)","v":0},{"$f":"SUM(→:←!J32)","v":734.99070000000006},{"$f":"SUM(→:←!K32)","v":135.4971354896243},{"$f":"SUM(→:←!L32)","v":42.552239999999998},{"$f":"SUM(→:←!M32)","v":99},{"$f":"SUM(→:←!N32)","v":33},{"$f":"SUM(→:←!O32)","v":11.55},{"$f":"SUM(→:←!P32)","v":9.240000000000002},{"$f":"SUM(→:←!Q32)","v":5.7750000000000004},{"$f":"SUM(→:←!R32)","v":12},{"$f":"SUM(→:←!S32)","v":0},{"$f":"SUM(→:←!T32)","v":348.61437548962431},{"$f":"SUM(→:←!U32)","v":386.37632451037558},{"$f":"SUM(→:←!V32)","v":6},{"$f":"SUM(→:←!W32)","v":7.2000000000000011},{"$f":"SUM(→:←!X32)","v":0},{"$f":"SUM(→:←!Y32)","v":0},{"$f":"SUM(→:←!Z32)","v":53.58},{"$f":"SUM(→:←!AA32)","v":72},{"$f":"SUM(→:←!AB32)","v":0},{"$f":"SUM(→:←!AC32)","v":138.78},{"$f":"SUM(→:←!AD32)","v":247.59632451037567},{"$f":"SUM(→:←!AE32)","v":72},{"$f":"SUM(→:←!AF32)","v":0},{"$f":"SUM(→:←!AG32)","v":0},{"$f":"SUM(→:←!AH32)","v":0},{"$f":"SUM(→:←!AI32)","v":0},{"$f":"SUM(→:←!AJ32)","v":21.5},{"$f":"SUM(→:←!AK32)","v":93.5},{"$f":"SUM(→:←!AL32)","v":154.09632451037567},{"$f":"SUM(→:←!AM32)","v":522.16007615709532},365.51205330996555,249.44988828368378,614.96194159364927,74.24149234924316,null,{"$f":"SUM(K32:$K$70)","v":2574.4455743028616},-2052.2854981457663,null,580.89437548962428,null,10580.894375489625,{"$f":"IF($AH32>0,\"車,\",\"\")&IF($AF32>0,\"リフォーム,\",\"\")&IF(子1!C32=18,\"大学入学,\",\"\")&IF(子2!C32=18,\"大学入学,\",\"\")&IF(子3!C32=18,\"大学入学,\",\"\")&IF(子4!C32=18,\"大学入学,\",\"\")","v":""}]
[null,2049,51,{"$f":"SUM(→:←!D33)","v":957.67311775238113},{"$f":"SUM(→:←!E33)","v":734.99070000000006},{"$f":"SUM(→:←!F33)","v":0},{"$f":"SUM(→:←!G33)","v":0},{"$f":"SUM(→:←!H33)","v":0},{"$f":"SUM(→:←!I33)","v":0},{"$f":"SUM(→:←!J33)","v":734.99070000000006},{"$f":"SUM(→:←!K33)","v":135.4971354896243},{"$f":"SUM(→:←!L33)","v":42.101999999999997},{"$f":"SUM(→:←!M33)","v":79.2},{"$f":"SUM(→:←!N33)","v":26.400000000000002},{"$f":"SUM(→:←!O33)","v":9.9},{"$f":"SUM(→:←!P33)","v":7.9200000000000017},{"$f":"SUM(→:←!Q33)","v":4.95},{"$f":"SUM(→:←!R33)","v":12},{"$f":"SUM(→:←!S33)","v":0},{"$f":"SUM(→:←!T33)","v":317.96913548962431},{"$f":"SUM(→:←!U33)","v":417.02156451037564},{"$f":"SUM(→:←!V33)","v":6},{"$f":"SUM(→:←!W33)","v":4.8000000000000007},{"$f":"SUM(→:←!X33)","v":0},{"$f":"SUM(→:←!Y33)","v":0},{"$f":"SUM(→:←!Z33)","v":53.58},{"$f":"SUM(→:←!AA33)","v":72},{"$f":"SUM(→:←!AB33)","v":0},{"$f":"SUM(→:←!AC33)","v":136.38},{"$f":"SUM(→:←!AD33)","v":280.6415645103757},{"$f":"SUM(→:←!AE33)","v":72},{"$f":"SUM(→:←!AF33)","v":0},{"$f":"SUM(→:←!AG33)","v":0},{"$f":"SUM(→:←!AH33)","v":0},{"$f":"SUM(→:←!AI33)","v":0},{"$f":"SUM(→:←!AJ33)","v":21.5},{"$f":"SUM(→:←!AK33)","v":93.5},{"$f":"SUM(→:←!AL33)","v":187.1415645103757},{"$f":"SUM(→:←!AM33)","v":709.30164066747147},496.51114846722851,318.06485205098068,814.57600051820918,84.219487880590179,null,{"$f":"SUM(K33:$K$70)","v":2438.9484388132373},-1729.6467981457658,null,547.84913548962436,null,10547.849135489625,{"$f":"IF($AH33>0,\"車,\",\"\")&IF($AF33>0,\"リフォーム,\",\"\")&IF(子1!C33=18,\"大学入学,\",\"\")&IF(子2!C33=18,\"大学入学,\",\"\")&IF(子3!C33=18,\"大学入学,\",\"\")&IF(子4!C33=18,\"大学入学,\",\"\")","v":""}]
[null,2050,52,{"$f":"SUM(→:←!D34)","v":960.74986262354219},{"$f":"SUM(→:←!E34)","v":735.54070000000002},{"$f":"SUM(→:←!F34)","v":0},{"$f":"SUM(→:←!G34)","v":0},{"$f":"SUM(→:←!H34)","v":0},{"$f":"SUM(→:←!I34)","v":0},{"$f":"SUM(→:←!J34)","v":735.54070000000002},{"$f":"SUM(→:←!K34)","v":135.4971354896243},{"$f":"SUM(→:←!L34)","v":41.801839999999999},{"$f":"SUM(→:←!M34)","v":79.2},{"$f":"SUM(→:←!N34)","v":26.400000000000002},{"$f":"SUM(→:←!O34)","v":9.9},{"$f":"SUM(→:←!P34)","v":7.9200000000000017},{"$f":"SUM(→:←!Q34)","v":4.95},{"$f":"SUM(→:←!R34)","v":12},{"$f":"SUM(→:←!S34)","v":0},{"$f":"SUM(→:←!T34)","v":317.6689754896243},{"$f":"SUM(→:←!U34)","v":417.8717245103756},{"$f":"SUM(→:←!V34)","v":6},{"$f":"SUM(→:←!W34)","v":4.8000000000000007},{"$f":"SUM(→:←!X34)","v":0},{"$f":"SUM(→:←!Y34)","v":0},{"$f":"SUM(→:←!Z34)","v":53.58},{"$f":"SUM(→:←!AA34)","v":72},{"$f":"SUM(→:←!AB34)","v":0},{"$f":"SUM(→:←!AC34)","v":136.38},{"$f":"SUM(→:←!AD34)","v":281.49172451037566},{"$f":"SUM(→:←!AE34)","v":72},{"$f":"SUM(→:←!AF34)","v":0},{"$f":"SUM(→:←!AG34)","v":0},{"$f":"SUM(→:←!AH34)","v":0},{"$f":"SUM(→:←!AI34)","v":0},{"$f":"SUM(→:←!AJ34)","v":21.5},{"$f":"SUM(→:←!AK34)","v":93.5},{"$f":"SUM(→:←!AL34)","v":187.99172451037566},{"$f":"SUM(→:←!AM34)","v":897.29336517784668},628.10535562449149,390.36561200664238,1018.4709676311338,96.942081962629715,null,{"$f":"SUM(K34:$K$70)","v":2303.451303323613},-1406.1579381457664,null,547.54897548962435,null,10547.548975489624,{"$f":"IF($AH34>0,\"車,\",\"\")&IF($AF34>0,\"リフォーム,\",\"\")&IF(子1!C34=18,\"大学入学,\",\"\")&IF(子2!C34=18,\"大学入学,\",\"\")&IF(子3!C34=18,\"大学入学,\",\"\")&IF(子4!C34=18,\"大学入学,\",\"\")","v":""}]
[null,2051,53,{"$f":"SUM(→:←!D35)","v":957.53397286710424},{"$f":"SUM(→:←!E35)","v":735.54070000000002},{"$f":"SUM(→:←!F35)","v":0},{"$f":"SUM(→:←!G35)","v":0},{"$f":"SUM(→:←!H35)","v":0},{"$f":"SUM(→:←!I35)","v":0},{"$f":"SUM(→:←!J35)","v":735.54070000000002},{"$f":"SUM(→:←!K35)","v":135.4971354896243},{"$f":"SUM(→:←!L35)","v":41.351599999999998},{"$f":"SUM(→:←!M35)","v":79.2},{"$f":"SUM(→:←!N35)","v":26.400000000000002},{"$f":"SUM(→:←!O35)","v":9.9},{"$f":"SUM(→:←!P35)","v":7.9200000000000017},{"$f":"SUM(→:←!Q35)","v":4.95},{"$f":"SUM(→:←!R35)","v":12},{"$f":"SUM(→:←!S35)","v":0},{"$f":"SUM(→:←!T35)","v":317.21873548962429},{"$f":"SUM(→:←!U35)","v":418.32196451037561},{"$f":"SUM(→:←!V35)","v":6},{"$f":"SUM(→:←!W35)","v":4.8000000000000007},{"$f":"SUM(→:←!X35)","v":0},{"$f":"SUM(→:←!Y35)","v":0},{"$f":"SUM(→:←!Z35)","v":93.225099999999998},{"$f":"SUM(→:←!AA35)","v":72},{"$f":"SUM(→:←!AB35)","v":0},{"$f":"SUM(→:←!AC35)","v":176.02510000000001},{"$f":"SUM(→:←!AD35)","v":242.29686451037566},{"$f":"SUM(→:←!AE35)","v":72},{"$f":"SUM(→:←!AF35)","v":316},{"$f":"SUM(→:←!AG35)","v":0},{"$f":"SUM(→:←!AH35)","v":0},{"$f":"SUM(→:←!AI35)","v":0},{"$f":"SUM(→:←!AJ35)","v":21.5},{"$f":"SUM(→:←!AK35)","v":409.5},{"$f":"SUM(→:←!AL35)","v":-167.20313548962434},{"$f":"SUM(→:←!AM35)","v":730.09022968822137},511.06316078175445,359.72295196008724,870.78611274184163,112.55670644289621,null,{"$f":"SUM(K35:$K$70)","v":2167.9541678339888},-1437.8639381457674,null,902.7438354896243,null,1083.292602587549,{"$f":"IF($AH35>0,\"車,\",\"\")&IF($AF35>0,\"リフォーム,\",\"\")&IF(子1!C35=18,\"大学入学,\",\"\")&IF(子2!C35=18,\"大学入学,\",\"\")&IF(子3!C35=18,\"大学入学,\",\"\")&IF(子4!C35=18,\"大学入学,\",\"\")","v":"リフォーム,"}]
[null,2052,54,{"$f":"SUM(→:←!D36)","v":954.32884756385852},{"$f":"SUM(→:←!E36)","v":726.59069999999997},{"$f":"SUM(→:←!F36)","v":0},{"$f":"SUM(→:←!G36)","v":0},{"$f":"SUM(→:←!H36)","v":0},{"$f":"SUM(→:←!I36)","v":0},{"$f":"SUM(→:←!J36)","v":726.59069999999997},{"$f":"SUM(→:←!K36)","v":135.4971354896243},{"$f":"SUM(→:←!L36)","v":41.051439999999999},{"$f":"SUM(→:←!M36)","v":79.2},{"$f":"SUM(→:←!N36)","v":26.400000000000002},{"$f":"SUM(→:←!O36)","v":9.9},{"$f":"SUM(→:←!P36)","v":7.9200000000000017},{"$f":"SUM(→:←!Q36)","v":4.95},{"$f":"SUM(→:←!R36)","v":12},{"$f":"SUM(→:←!S36)","v":0},{"$f":"SUM(→:←!T36)","v":316.91857548962429},{"$f":"SUM(→:←!U36)","v":409.67212451037568},{"$f":"SUM(→:←!V36)","v":6},{"$f":"SUM(→:←!W36)","v":4.8000000000000007},{"$f":"SUM(→:←!X36)","v":0},{"$f":"SUM(→:←!Y36)","v":0},{"$f":"SUM(→:←!Z36)","v":53.58},{"$f":"SUM(→:←!AA36)","v":72},{"$f":"SUM(→:←!AB36)","v":0},{"$f":"SUM(→:←!AC36)","v":136.38},{"$f":"SUM(→:←!AD36)","v":273.29212451037574},{"$f":"SUM(→:←!AE36)","v":72},{"$f":"SUM(→:←!AF36)","v":0},{"$f":"SUM(→:←!AG36)","v":3},{"$f":"SUM(→:←!AH36)","v":0},{"$f":"SUM(→:←!AI36)","v":0},{"$f":"SUM(→:←!AJ36)","v":21.5},{"$f":"SUM(→:←!AK36)","v":96.5},{"$f":"SUM(→:←!AL36)","v":176.79212451037574},{"$f":"SUM(→:←!AM36)","v":906.88235419859757},634.81764793901743,430.74673691120432,1065.5643848502218,126.94562452129941,null,{"$f":"SUM(K36:$K$70)","v":2032.4570323443643},-1125.5746781457667,null,549.79857548962423,null,10549.798575489624,{"$f":"IF($AH36>0,\"車,\",\"\")&IF($AF36>0,\"リフォーム,\",\"\")&IF(子1!C36=18,\"大学入学,\",\"\")&IF(子2!C36=18,\"大学入学,\",\"\")&IF(子3!C36=18,\"大学入学,\",\"\")&IF(子4!C36=18,\"大学入学,\",\"\")","v":""}]
[null,2053,55,{"$f":"SUM(→:←!D37)","v":951.13445068226724},{"$f":"SUM(→:←!E37)","v":726.59069999999997},{"$f":"SUM(→:←!F37)","v":0},{"$f":"SUM(→:←!G37)","v":0},{"$f":"SUM(→:←!H37)","v":0},{"$f":"SUM(→:←!I37)","v":0},{"$f":"SUM(→:←!J37)","v":726.59069999999997},{"$f":"SUM(→:←!K37)","v":135.4971354896243},{"$f":"SUM(→:←!L37)","v":40.751280000000001},{"$f":"SUM(→:←!M37)","v":79.2},{"$f":"SUM(→:←!N37)","v":26.400000000000002},{"$f":"SUM(→:←!O37)","v":9.9},{"$f":"SUM(→:←!P37)","v":7.9200000000000017},{"$f":"SUM(→:←!Q37)","v":4.95},{"$f":"SUM(→:←!R37)","v":12},{"$f":"SUM(→:←!S37)","v":0},{"$f":"SUM(→:←!T37)","v":316.61841548962434},{"$f":"SUM(→:←!U37)","v":409.97228451037563},{"$f":"SUM(→:←!V37)","v":6},{"$f":"SUM(→:←!W37)","v":4.8000000000000007},{"$f":"SUM(→:←!X37)","v":0},{"$f":"SUM(→:←!Y37)","v":0},{"$f":"SUM(→:←!Z37)","v":0},{"$f":"SUM(→:←!AA37)","v":0},{"$f":"SUM(→:←!AB37)","v":0},{"$f":"SUM(→:←!AC37)","v":10.8},{"$f":"SUM(→:←!AD37)","v":399.17228451037568},{"$f":"SUM(→:←!AE37)","v":72},{"$f":"SUM(→:←!AF37)","v":0},{"$f":"SUM(→:←!AG37)","v":0},{"$f":"SUM(→:←!AH37)","v":300},{"$f":"SUM(→:←!AI37)","v":0},{"$f":"SUM(→:←!AJ37)","v":21.5},{"$f":"SUM(→:←!AK37)","v":393.5},{"$f":"SUM(→:←!AL37)","v":5.6722845103756754},{"$f":"SUM(→:←!AM37)","v":912.55463870897256},638.78824709628043,453.98575910987722,{"$f":"SUM(AN37:AO37)","v":1092.7740062061575},144.17549399774799,null,{"$f":"SUM(K37:$K$70)","v":1896.95989685474},-984.40525814576745,null,720.91841548962429,null,865.10209858754911,{"$f":"IF($AH37>0,\"車,\",\"\")&IF($AF37>0,\"リフォーム,\",\"\")&IF(子1!C37=18,\"大学入学,\",\"\")&IF(子2!C37=18,\"大学入学,\",\"\")&IF(子3!C37=18,\"大学入学,\",\"\")&IF(子4!C37=18,\"大学入学,\",\"\")","v":"車,"}]
[null,2054,56,{"$f":"SUM(→:←!D38)","v":905.08805342641472},{"$f":"SUM(→:←!E38)","v":693.34302000000002},{"$f":"SUM(→:←!F38)","v":0},{"$f":"SUM(→:←!G38)","v":0},{"$f":"SUM(→:←!H38)","v":0},{"$f":"SUM(→:←!I38)","v":0},{"$f":"SUM(→:←!J38)","v":693.34302000000002},{"$f":"SUM(→:←!K38)","v":135.4971354896243},{"$f":"SUM(→:←!L38)","v":40.451119999999996},{"$f":"SUM(→:←!M38)","v":79.2},{"$f":"SUM(→:←!N38)","v":26.400000000000002},{"$f":"SUM(→:←!O38)","v":9.9},{"$f":"SUM(→:←!P38)","v":7.9200000000000017},{"$f":"SUM(→:←!Q38)","v":4.95},{"$f":"SUM(→:←!R38)","v":12},{"$f":"SUM(→:←!S38)","v":0},{"$f":"SUM(→:←!T38)","v":316.31825548962433},{"$f":"SUM(→:←!U38)","v":377.02476451037569},{"$f":"SUM(→:←!V38)","v":6},{"$f":"SUM(→:←!W38)","v":4.8000000000000007},{"$f":"SUM(→:←!X38)","v":0},{"$f":"SUM(→:←!Y38)","v":0},{"$f":"SUM(→:←!Z38)","v":0},{"$f":"SUM(→:←!AA38)","v":0},{"$f":"SUM(→:←!AB38)","v":0},{"$f":"SUM(→:←!AC38)","v":10.8},{"$f":"SUM(→:←!AD38)","v":366.22476451037573},{"$f":"SUM(→:←!AE38)","v":72},{"$f":"SUM(→:←!AF38)","v":0},{"$f":"SUM(→:←!AG38)","v":0},{"$f":"SUM(→:←!AH38)","v":0},{"$f":"SUM(→:←!AI38)","v":0},{"$f":"SUM(→:←!AJ38)","v":21.5},{"$f":"SUM(→:←!AK38)","v":93.5},{"$f":"SUM(→:←!AL38)","v":272.72476451037573},{"$f":"SUM(→:←!AM38)","v":1185.2794032193469},829.69558225354342,558.50247641848387,1388.1980586720274,162.33492436214439,null,{"$f":"SUM(K38:$K$70)","v":1761.4627613651157},-576.18335814576881,null,420.61825548962435,null,10420.618255489624,{"$f":"IF($AH38>0,\"車,\",\"\")&IF($AF38>0,\"リフォーム,\",\"\")&IF(子1!C38=18,\"大学入学,\",\"\")&IF(子2!C38=18,\"大学入学,\",\"\")&IF(子3!C38=18,\"大学入学,\",\"\")&IF(子4!C38=18,\"大学入学,\",\"\")","v":""}]
[null,{"$f":"B38+1","v":2055},{"$f":"C38+1","v":57},{"$f":"SUM(→:←!D39)","v":862.24315578437256},{"$f":"SUM(→:←!E39)","v":664.11918000000003},{"$f":"SUM(→:←!F39)","v":0},{"$f":"SUM(→:←!G39)","v":0},{"$f":"SUM(→:←!H39)","v":0},{"$f":"SUM(→:←!I39)","v":0},{"$f":"SUM(→:←!J39)","v":664.11918000000003},{"$f":"SUM(→:←!K39)","v":135.4971354896243},{"$f":"SUM(→:←!L39)","v":40.150959999999998},{"$f":"SUM(→:←!M39)","v":79.2},{"$f":"SUM(→:←!N39)","v":26.400000000000002},{"$f":"SUM(→:←!O39)","v":9.9},{"$f":"SUM(→:←!P39)","v":7.9200000000000017},{"$f":"SUM(→:←!Q39)","v":4.95},{"$f":"SUM(→:←!R39)","v":12},{"$f":"SUM(→:←!S39)","v":0},{"$f":"SUM(→:←!T39)","v":316.01809548962433},{"$f":"SUM(→:←!U39)","v":348.1010845103757},{"$f":"SUM(→:←!V39)","v":6},{"$f":"SUM(→:←!W39)","v":4.8000000000000007},{"$f":"SUM(→:←!X39)","v":0},{"$f":"SUM(→:←!Y39)","v":0},{"$f":"SUM(→:←!Z39)","v":0},{"$f":"SUM(→:←!AA39)","v":0},{"$f":"SUM(→:←!AB39)","v":0},{"$f":"SUM(→:←!AC39)","v":10.8},{"$f":"SUM(→:←!AD39)","v":337.30108451037574},{"$f":"SUM(→:←!AE39)","v":72},{"$f":"SUM(→:←!AF39)","v":0},{"$f":"SUM(→:←!AG39)","v":0},{"$f":"SUM(→:←!AH39)","v":0},{"$f":"SUM(→:←!AI39)","v":0},{"$f":"SUM(→:←!AJ39)","v":21.5},{"$f":"SUM(→:←!AK39)","v":93.5},{"$f":"SUM(→:←!AL39)","v":243.80108451037574},{"$f":"SUM(→:←!AM39)","v":1429.0804877297223},1000.3563414108064,659.56792559252085,1659.9242670033273,184.67502341888394,null,{"$f":"SUM(K39:$K$70)","v":1625.9656258754915},-196.88513814576913,null,420.31809548962434,null,10420.318095489625,{"$f":"IF($AH39>0,\"車,\",\"\")&IF($AF39>0,\"リフォーム,\",\"\")&IF(子1!C39=18,\"大学入学,\",\"\")&IF(子2!C39=18,\"大学入学,\",\"\")&IF(子3!C39=18,\"大学入学,\",\"\")&IF(子4!C39=18,\"大学入学,\",\"\")","v":""}]
[null,2056,58,{"$f":"SUM(→:←!D40)","v":800.94103894673219},{"$f":"SUM(→:←!E40)","v":620.09511999999995},{"$f":"SUM(→:←!F40)","v":0},{"$f":"SUM(→:←!G40)","v":0},{"$f":"SUM(→:←!H40)","v":0},{"$f":"SUM(→:←!I40)","v":0},{"$f":"SUM(→:←!J40)","v":620.09511999999995},{"$f":"SUM(→:←!K40)","v":135.4971354896243},{"$f":"SUM(→:←!L40)","v":39.8508},{"$f":"SUM(→:←!M40)","v":79.2},{"$f":"SUM(→:←!N40)","v":26.400000000000002},{"$f":"SUM(→:←!O40)","v":9.9},{"$f":"SUM(→:←!P40)","v":7.9200000000000017},{"$f":"SUM(→:←!Q40)","v":4.95},{"$f":"SUM(→:←!R40)","v":12},{"$f":"SUM(→:←!S40)","v":0},{"$f":"SUM(→:←!T40)","v":315.71793548962432},{"$f":"SUM(→:←!U40)","v":304.37718451037574},{"$f":"SUM(→:←!V40)","v":6},{"$f":"SUM(→:←!W40)","v":4.8000000000000007},{"$f":"SUM(→:←!X40)","v":0},{"$f":"SUM(→:←!Y40)","v":0},{"$f":"SUM(→:←!Z40)","v":0},{"$f":"SUM(→:←!AA40)","v":0},{"$f":"SUM(→:←!AB40)","v":0},{"$f":"SUM(→:←!AC40)","v":10.8},{"$f":"SUM(→:←!AD40)","v":293.57718451037567},{"$f":"SUM(→:←!AE40)","v":72},{"$f":"SUM(→:←!AF40)","v":0},{"$f":"SUM(→:←!AG40)","v":0},{"$f":"SUM(→:←!AH40)","v":0},{"$f":"SUM(→:←!AI40)","v":0},{"$f":"SUM(→:←!AJ40)","v":21.5},{"$f":"SUM(→:←!AK40)","v":93.5},{"$f":"SUM(→:←!AL40)","v":200.0771845103757},{"$f":"SUM(→:←!AM40)","v":1629.1576722401014},1140.4103705680693,752.56947722525956,1892.9798477933289,211.05774044258197,null,{"$f":"SUM(K40:$K$70)","v":1490.4684903858672},138.68918185423422,null,420.01793548962434,null,10420.017935489625,{"$f":"IF($AH40>0,\"車,\",\"\")&IF($AF40>0,\"リフォーム,\",\"\")&IF(子1!C40=18,\"大学入学,\",\"\")&IF(子2!C40=18,\"大学入学,\",\"\")&IF(子3!C40=18,\"大学入学,\",\"\")&IF(子4!C40=18,\"大学入学,\",\"\")","v":""}]
[null,2057,59,{"$f":"SUM(→:←!D41)","v":743.99726291303489},{"$f":"SUM(→:←!E41)","v":584.47106000000008},{"$f":"SUM(→:←!F41)","v":0},{"$f":"SUM(→:←!G41)","v":0},{"$f":"SUM(→:←!H41)","v":0},{"$f":"SUM(→:←!I41)","v":0},{"$f":"SUM(→:←!J41)","v":584.47106000000008},{"$f":"SUM(→:←!K41)","v":135.4971354896243},{"$f":"SUM(→:←!L41)","v":39.550640000000001},{"$f":"SUM(→:←!M41)","v":79.2},{"$f":"SUM(→:←!N41)","v":26.400000000000002},{"$f":"SUM(→:←!O41)","v":9.9},{"$f":"SUM(→:←!P41)","v":7.9200000000000017},{"$f":"SUM(→:←!Q41)","v":4.95},{"$f":"SUM(→:←!R41)","v":12},{"$f":"SUM(→:←!S41)","v":0},{"$f":"SUM(→:←!T41)","v":315.41777548962432},{"$f":"SUM(→:←!U41)","v":269.0532845103757},{"$f":"SUM(→:←!V41)","v":6},{"$f":"SUM(→:←!W41)","v":4.8000000000000007},{"$f":"SUM(→:←!X41)","v":0},{"$f":"SUM(→:←!Y41)","v":0},{"$f":"SUM(→:←!Z41)","v":0},{"$f":"SUM(→:←!AA41)","v":0},{"$f":"SUM(→:←!AB41)","v":0},{"$f":"SUM(→:←!AC41)","v":10.8},{"$f":"SUM(→:←!AD41)","v":258.25328451037569},{"$f":"SUM(→:←!AE41)","v":72},{"$f":"SUM(→:←!AF41)","v":0},{"$f":"SUM(→:←!AG41)","v":57},{"$f":"SUM(→:←!AH41)","v":0},{"$f":"SUM(→:←!AI41)","v":0},{"$f":"SUM(→:←!AJ41)","v":21.5},{"$f":"SUM(→:←!AK41)","v":150.5},{"$f":"SUM(→:←!AL41)","v":107.75328451037569},{"$f":"SUM(→:←!AM41)","v":1736.9109567504747},1215.8376697253323,822.52393643963535,2038.3616061649677,241.16051953159442,null,{"$f":"SUM(K41:$K$70)","v":1354.9713548962429},381.9396018542318,null,476.71777548962433,null,10476.717775489624,{"$f":"IF($AH41>0,\"車,\",\"\")&IF($AF41>0,\"リフォーム,\",\"\")&IF(子1!C41=18,\"大学入学,\",\"\")&IF(子2!C41=18,\"大学入学,\",\"\")&IF(子3!C41=18,\"大学入学,\",\"\")&IF(子4!C41=18,\"大学入学,\",\"\")","v":""}]
[null,2058,60,{"$f":"SUM(→:←!D42)","v":691.10196669408151},{"$f":"SUM(→:←!E42)","v":538.55615999999998},{"$f":"SUM(→:←!F42)","v":0},{"$f":"SUM(→:←!G42)","v":0},{"$f":"SUM(→:←!H42)","v":0},{"$f":"SUM(→:←!I42)","v":0},{"$f":"SUM(→:←!J42)","v":538.55615999999998},{"$f":"SUM(→:←!K42)","v":135.4971354896243},{"$f":"SUM(→:←!L42)","v":39.250480000000003},{"$f":"SUM(→:←!M42)","v":79.2},{"$f":"SUM(→:←!N42)","v":26.400000000000002},{"$f":"SUM(→:←!O42)","v":9.9},{"$f":"SUM(→:←!P42)","v":7.9200000000000017},{"$f":"SUM(→:←!Q42)","v":4.95},{"$f":"SUM(→:←!R42)","v":12},{"$f":"SUM(→:←!S42)","v":0},{"$f":"SUM(→:←!T42)","v":315.11761548962431},{"$f":"SUM(→:←!U42)","v":223.43854451037566},{"$f":"SUM(→:←!V42)","v":6},{"$f":"SUM(→:←!W42)","v":4.8000000000000007},{"$f":"SUM(→:←!X42)","v":0},{"$f":"SUM(→:←!Y42)","v":0},{"$f":"SUM(→:←!Z42)","v":0},{"$f":"SUM(→:←!AA42)","v":0},{"$f":"SUM(→:←!AB42)","v":0},{"$f":"SUM(→:←!AC42)","v":10.8},{"$f":"SUM(→:←!AD42)","v":212.63854451037565},{"$f":"SUM(→:←!AE42)","v":72},{"$f":"SUM(→:←!AF42)","v":0},{"$f":"SUM(→:←!AG42)","v":0},{"$f":"SUM(→:←!AH42)","v":0},{"$f":"SUM(→:←!AI42)","v":0},{"$f":"SUM(→:←!AJ42)","v":21.5},{"$f":"SUM(→:←!AK42)","v":93.5},{"$f":"SUM(→:←!AL42)","v":119.13854451037565},{"$f":"SUM(→:←!AM42)","v":1856.0495012608526},1299.2346508825951,899.39169661472988,2198.6263474973248,274.06147698917778,null,{"$f":"SUM(K42:$K$70)","v":1219.4742194066187},636.57528185423394,null,419.41761548962432,null,10419.417615489625,{"$f":"IF($AH42>0,\"車,\",\"\")&IF($AF42>0,\"リフォーム,\",\"\")&IF(子1!C42=18,\"大学入学,\",\"\")&IF(子2!C42=18,\"大学入学,\",\"\")&IF(子3!C42=18,\"大学入学,\",\"\")&IF(子4!C42=18,\"大学入学,\",\"\")","v":""}]
[null,2059,61,{"$f":"SUM(→:←!D43)","v":673.07569903592128},{"$f":"SUM(→:←!E43)","v":522.20605},{"$f":"SUM(→:←!F43)","v":0},{"$f":"SUM(→:←!G43)","v":0},{"$f":"SUM(→:←!H43)","v":0},{"$f":"SUM(→:←!I43)","v":0},{"$f":"SUM(→:←!J43)","v":522.20605},{"$f":"SUM(→:←!K43)","v":135.4971354896243},{"$f":"SUM(→:←!L43)","v":38.950319999999998},{"$f":"SUM(→:←!M43)","v":79.2},{"$f":"SUM(→:←!N43)","v":26.400000000000002},{"$f":"SUM(→:←!O43)","v":9.9},{"$f":"SUM(→:←!P43)","v":7.9200000000000017},{"$f":"SUM(→:←!Q43)","v":4.95},{"$f":"SUM(→:←!R43)","v":12},{"$f":"SUM(→:←!S43)","v":0},{"$f":"SUM(→:←!T43)","v":314.81745548962431},{"$f":"SUM(→:←!U43)","v":207.3885945103757},{"$f":"SUM(→:←!V43)","v":6},{"$f":"SUM(→:←!W43)","v":4.8000000000000007},{"$f":"SUM(→:←!X43)","v":0},{"$f":"SUM(→:←!Y43)","v":0},{"$f":"SUM(→:←!Z43)","v":0},{"$f":"SUM(→:←!AA43)","v":0},{"$f":"SUM(→:←!AB43)","v":0},{"$f":"SUM(→:←!AC43)","v":10.8},{"$f":"SUM(→:←!AD43)","v":196.58859451037569},{"$f":"SUM(→:←!AE43)","v":72},{"$f":"SUM(→:←!AF43)","v":0},{"$f":"SUM(→:←!AG43)","v":0},{"$f":"SUM(→:←!AH43)","v":0},{"$f":"SUM(→:←!AI43)","v":0},{"$f":"SUM(→:←!AJ43)","v":21.5},{"$f":"SUM(→:←!AK43)","v":93.5},{"$f":"SUM(→:←!AL43)","v":103.08859451037569},{"$f":"SUM(→:←!AM43)","v":1959.1380957712272},1371.3966670398581,975.28785979857912,2346.6845268384373,310.03714485376804,null,{"$f":"SUM(K43:$K$70)","v":1083.9770839169944},875.16101185423281,null,419.11745548962432,null,10419.117455489624,{"$f":"IF($AH43>0,\"車,\",\"\")&IF($AF43>0,\"リフォーム,\",\"\")&IF(子1!C43=18,\"大学入学,\",\"\")&IF(子2!C43=18,\"大学入学,\",\"\")&IF(子3!C43=18,\"大学入学,\",\"\")&IF(子4!C43=18,\"大学入学,\",\"\")","v":""}]
[null,2060,62,{"$f":"SUM(→:←!D44)","v":656.33102852203979},{"$f":"SUM(→:←!E44)","v":505.85593999999998},{"$f":"SUM(→:←!F44)","v":0},{"$f":"SUM(→:←!G44)","v":0},{"$f":"SUM(→:←!H44)","v":0},{"$f":"SUM(→:←!I44)","v":0},{"$f":"SUM(→:←!J44)","v":505.85593999999998},{"$f":"SUM(→:←!K44)","v":135.4971354896243},{"$f":"SUM(→:←!L44)","v":38.65016},{"$f":"SUM(→:←!M44)","v":79.2},{"$f":"SUM(→:←!N44)","v":26.400000000000002},{"$f":"SUM(→:←!O44)","v":9.9},{"$f":"SUM(→:←!P44)","v":7.9200000000000017},{"$f":"SUM(→:←!Q44)","v":4.95},{"$f":"SUM(→:←!R44)","v":12},{"$f":"SUM(→:←!S44)","v":0},{"$f":"SUM(→:←!T44)","v":314.5172954896243},{"$f":"SUM(→:←!U44)","v":191.33864451037567},{"$f":"SUM(→:←!V44)","v":6},{"$f":"SUM(→:←!W44)","v":4.8000000000000007},{"$f":"SUM(→:←!X44)","v":0},{"$f":"SUM(→:←!Y44)","v":0},{"$f":"SUM(→:←!Z44)","v":0},{"$f":"SUM(→:←!AA44)","v":0},{"$f":"SUM(→:←!AB44)","v":0},{"$f":"SUM(→:←!AC44)","v":10.8},{"$f":"SUM(→:←!AD44)","v":180.53864451037566},{"$f":"SUM(→:←!AE44)","v":72},{"$f":"SUM(→:←!AF44)","v":0},{"$f":"SUM(→:←!AG44)","v":0},{"$f":"SUM(→:←!AH44)","v":300},{"$f":"SUM(→:←!AI44)","v":0},{"$f":"SUM(→:←!AJ44)","v":21.5},{"$f":"SUM(→:←!AK44)","v":393.5},{"$f":"SUM(→:←!AL44)","v":-212.96135548962434},{"$f":"SUM(→:←!AM44)","v":1746.1767402816022},1222.323718197121,960.16384614162087,2182.4875643387418,349.04865924571169,null,{"$f":"SUM(K44:$K$70)","v":948.47994842737},797.69679185423217,null,718.81729548962426,null,862.58075458754911,{"$f":"IF($AH44>0,\"車,\",\"\")&IF($AF44>0,\"リフォーム,\",\"\")&IF(子1!C44=18,\"大学入学,\",\"\")&IF(子2!C44=18,\"大学入学,\",\"\")&IF(子3!C44=18,\"大学入学,\",\"\")&IF(子4!C44=18,\"大学入学,\",\"\")","v":"車,"}]
[null,2061,63,{"$f":"SUM(→:←!D45)","v":656.33102852203979},{"$f":"SUM(→:←!E45)","v":505.85593999999998},{"$f":"SUM(→:←!F45)","v":0},{"$f":"SUM(→:←!G45)","v":0},{"$f":"SUM(→:←!H45)","v":0},{"$f":"SUM(→:←!I45)","v":0},{"$f":"SUM(→:←!J45)","v":505.85593999999998},{"$f":"SUM(→:←!K45)","v":135.4971354896243},{"$f":"SUM(→:←!L45)","v":38.500079999999997},{"$f":"SUM(→:←!M45)","v":79.2},{"$f":"SUM(→:←!N45)","v":26.400000000000002},{"$f":"SUM(→:←!O45)","v":9.9},{"$f":"SUM(→:←!P45)","v":7.9200000000000017},{"$f":"SUM(→:←!Q45)","v":4.95},{"$f":"SUM(→:←!R45)","v":12},{"$f":"SUM(→:←!S45)","v":0},{"$f":"SUM(→:←!T45)","v":314.3672154896243},{"$f":"SUM(→:←!U45)","v":191.48872451037568},{"$f":"SUM(→:←!V45)","v":6},{"$f":"SUM(→:←!W45)","v":4.8000000000000007},{"$f":"SUM(→:←!X45)","v":0},{"$f":"SUM(→:←!Y45)","v":0},{"$f":"SUM(→:←!Z45)","v":0},{"$f":"SUM(→:←!AA45)","v":0},{"$f":"SUM(→:←!AB45)","v":0},{"$f":"SUM(→:←!AC45)","v":10.8},{"$f":"SUM(→:←!AD45)","v":180.68872451037566},{"$f":"SUM(→:←!AE45)","v":72},{"$f":"SUM(→:←!AF45)","v":238},{"$f":"SUM(→:←!AG45)","v":0},{"$f":"SUM(→:←!AH45)","v":0},{"$f":"SUM(→:←!AI45)","v":0},{"$f":"SUM(→:←!AJ45)","v":21.5},{"$f":"SUM(→:←!AK45)","v":331.5},{"$f":"SUM(→:←!AL45)","v":-150.81127548962434},{"$f":"SUM(→:←!AM45)","v":1595.3654647919811},1116.7558253543839,962.92865580181467,2079.6844811561987,387.45521309137405,null,{"$f":"SUM(K45:$K$70)","v":812.98281293774573},782.38265185423541,null,656.66721548962437,null,788.0006585875492,{"$f":"IF($AH45>0,\"車,\",\"\")&IF($AF45>0,\"リフォーム,\",\"\")&IF(子1!C45=18,\"大学入学,\",\"\")&IF(子2!C45=18,\"大学入学,\",\"\")&IF(子3!C45=18,\"大学入学,\",\"\")&IF(子4!C45=18,\"大学入学,\",\"\")","v":"リフォーム,"}]
[null,2062,64,{"$f":"SUM(→:←!D46)","v":656.33102852203979},{"$f":"SUM(→:←!E46)","v":505.85593999999998},{"$f":"SUM(→:←!F46)","v":0},{"$f":"SUM(→:←!G46)","v":0},{"$f":"SUM(→:←!H46)","v":0},{"$f":"SUM(→:←!I46)","v":0},{"$f":"SUM(→:←!J46)","v":505.85593999999998},{"$f":"SUM(→:←!K46)","v":135.4971354896243},{"$f":"SUM(→:←!L46)","v":38.199919999999999},{"$f":"SUM(→:←!M46)","v":79.2},{"$f":"SUM(→:←!N46)","v":26.400000000000002},{"$f":"SUM(→:←!O46)","v":9.9},{"$f":"SUM(→:←!P46)","v":7.9200000000000017},{"$f":"SUM(→:←!Q46)","v":4.95},{"$f":"SUM(→:←!R46)","v":12},{"$f":"SUM(→:←!S46)","v":0},{"$f":"SUM(→:←!T46)","v":314.06705548962429},{"$f":"SUM(→:←!U46)","v":191.78888451037568},{"$f":"SUM(→:←!V46)","v":6},{"$f":"SUM(→:←!W46)","v":4.8000000000000007},{"$f":"SUM(→:←!X46)","v":0},{"$f":"SUM(→:←!Y46)","v":0},{"$f":"SUM(→:←!Z46)","v":0},{"$f":"SUM(→:←!AA46)","v":0},{"$f":"SUM(→:←!AB46)","v":0},{"$f":"SUM(→:←!AC46)","v":10.8},{"$f":"SUM(→:←!AD46)","v":180.98888451037567},{"$f":"SUM(→:←!AE46)","v":72},{"$f":"SUM(→:←!AF46)","v":0},{"$f":"SUM(→:←!AG46)","v":3},{"$f":"SUM(→:←!AH46)","v":0},{"$f":"SUM(→:←!AI46)","v":0},{"$f":"SUM(→:←!AJ46)","v":21.5},{"$f":"SUM(→:←!AK46)","v":96.5},{"$f":"SUM(→:←!AL46)","v":84.488884510375669},{"$f":"SUM(→:←!AM46)","v":1679.8543493023562},1175.898044511647,1036.4217539450181,2212.319798456665,425.97235932344705,null,{"$f":"SUM(K46:$K$70)","v":677.48567744812146},1002.3686718542348,null,421.36705548962431,null,10421.367055489623,{"$f":"IF($AH46>0,\"車,\",\"\")&IF($AF46>0,\"リフォーム,\",\"\")&IF(子1!C46=18,\"大学入学,\",\"\")&IF(子2!C46=18,\"大学入学,\",\"\")&IF(子3!C46=18,\"大学入学,\",\"\")&IF(子4!C46=18,\"大学入学,\",\"\")","v":""}]
[null,2063,65,{"$f":"SUM(→:←!D47)","v":656.33102852203979},{"$f":"SUM(→:←!E47)","v":505.85593999999998},{"$f":"SUM(→:←!F47)","v":0},{"$f":"SUM(→:←!G47)","v":1000},{"$f":"SUM(→:←!H47)","v":0},{"$f":"SUM(→:←!I47)","v":0},{"$f":"SUM(→:←!J47)","v":1505.8559400000001},{"$f":"SUM(→:←!K47)","v":135.4971354896243},{"$f":"SUM(→:←!L47)","v":38.049839999999996},{"$f":"SUM(→:←!M47)","v":79.2},{"$f":"SUM(→:←!N47)","v":26.400000000000002},{"$f":"SUM(→:←!O47)","v":9.9},{"$f":"SUM(→:←!P47)","v":7.9200000000000017},{"$f":"SUM(→:←!Q47)","v":4.95},{"$f":"SUM(→:←!R47)","v":12},{"$f":"SUM(→:←!S47)","v":0},{"$f":"SUM(→:←!T47)","v":313.91697548962429},{"$f":"SUM(→:←!U47)","v":1191.9389645103756},{"$f":"SUM(→:←!V47)","v":6},{"$f":"SUM(→:←!W47)","v":4.8000000000000007},{"$f":"SUM(→:←!X47)","v":0},{"$f":"SUM(→:←!Y47)","v":0},{"$f":"SUM(→:←!Z47)","v":0},{"$f":"SUM(→:←!AA47)","v":0},{"$f":"SUM(→:←!AB47)","v":0},{"$f":"SUM(→:←!AC47)","v":10.8},{"$f":"SUM(→:←!AD47)","v":1181.1389645103759},{"$f":"SUM(→:←!AE47)","v":72},{"$f":"SUM(→:←!AF47)","v":0},{"$f":"SUM(→:←!AG47)","v":0},{"$f":"SUM(→:←!AH47)","v":0},{"$f":"SUM(→:←!AI47)","v":0},{"$f":"SUM(→:←!AJ47)","v":21.5},{"$f":"SUM(→:←!AK47)","v":93.5},{"$f":"SUM(→:←!AL47)","v":1087.6389645103759},{"$f":"SUM(→:←!AM47)","v":2767.4933138127317},1937.24531966891,1414.5345309953818,3351.7798506642921,467.42922948124834,null,{"$f":"SUM(K47:$K$70)","v":541.98854195849719},2225.5047718542346,null,418.2169754896243,null,10418.216975489624,{"$f":"IF($AH47>0,\"車,\",\"\")&IF($AF47>0,\"リフォーム,\",\"\")&IF(子1!C47=18,\"大学入学,\",\"\")&IF(子2!C47=18,\"大学入学,\",\"\")&IF(子3!C47=18,\"大学入学,\",\"\")&IF(子4!C47=18,\"大学入学,\",\"\")","v":""}]
[null,2064,66,{"$f":"SUM(→:←!D48)","v":218.77700950734661},{"$f":"SUM(→:←!E48)","v":168.95197999999999},{"$f":"SUM(→:←!F48)","v":0},{"$f":"SUM(→:←!G48)","v":0},{"$f":"SUM(→:←!H48)","v":199.66338323076928},{"$f":"SUM(→:←!I48)","v":-12.205033602079252},{"$f":"SUM(→:←!J48)","v":356.41032962869002},{"$f":"SUM(→:←!K48)","v":135.4971354896243},{"$f":"SUM(→:←!L48)","v":37.749679999999998},{"$f":"SUM(→:←!M48)","v":79.2},{"$f":"SUM(→:←!N48)","v":26.400000000000002},{"$f":"SUM(→:←!O48)","v":9.9},{"$f":"SUM(→:←!P48)","v":7.9200000000000017},{"$f":"SUM(→:←!Q48)","v":4.95},{"$f":"SUM(→:←!R48)","v":0},{"$f":"SUM(→:←!S48)","v":0},{"$f":"SUM(→:←!T48)","v":301.61681548962429},{"$f":"SUM(→:←!U48)","v":54.793514139065735},{"$f":"SUM(→:←!V48)","v":6},{"$f":"SUM(→:←!W48)","v":4.8000000000000007},{"$f":"SUM(→:←!X48)","v":0},{"$f":"SUM(→:←!Y48)","v":0},{"$f":"SUM(→:←!Z48)","v":0},{"$f":"SUM(→:←!AA48)","v":0},{"$f":"SUM(→:←!AB48)","v":0},{"$f":"SUM(→:←!AC48)","v":10.8},{"$f":"SUM(→:←!AD48)","v":43.993514139065724},{"$f":"SUM(→:←!AE48)","v":72},{"$f":"SUM(→:←!AF48)","v":0},{"$f":"SUM(→:←!AG48)","v":0},{"$f":"SUM(→:←!AH48)","v":0},{"$f":"SUM(→:←!AI48)","v":0},{"$f":"SUM(→:←!AJ48)","v":20.75},{"$f":"SUM(→:←!AK48)","v":92.75},{"$f":"SUM(→:←!AL48)","v":-48.756485860934276},{"$f":"SUM(→:←!AM48)","v":2718.7368279517977},1903.1157795662562,1470.6343117868707,3373.7500913531267,524.01061072106313,null,{"$f":"SUM(K48:$K$70)","v":406.49140646887292},2312.2454214829249,null,405.1668154896243,null,10405.166815489625,{"$f":"IF($AH48>0,\"車,\",\"\")&IF($AF48>0,\"リフォーム,\",\"\")&IF(子1!C48=18,\"大学入学,\",\"\")&IF(子2!C48=18,\"大学入学,\",\"\")&IF(子3!C48=18,\"大学入学,\",\"\")&IF(子4!C48=18,\"大学入学,\",\"\")","v":""}]
[null,2065,67,{"$f":"SUM(→:←!D49)","v":218.77700950734661},{"$f":"SUM(→:←!E49)","v":168.95197999999999},{"$f":"SUM(→:←!F49)","v":0},{"$f":"SUM(→:←!G49)","v":0},{"$f":"SUM(→:←!H49)","v":199.66338323076928},{"$f":"SUM(→:←!I49)","v":-12.205033602079252},{"$f":"SUM(→:←!J49)","v":356.41032962869002},{"$f":"SUM(→:←!K49)","v":135.4971354896243},{"$f":"SUM(→:←!L49)","v":37.599600000000002},{"$f":"SUM(→:←!M49)","v":79.2},{"$f":"SUM(→:←!N49)","v":26.400000000000002},{"$f":"SUM(→:←!O49)","v":9.9},{"$f":"SUM(→:←!P49)","v":7.9200000000000017},{"$f":"SUM(→:←!Q49)","v":4.95},{"$f":"SUM(→:←!R49)","v":0},{"$f":"SUM(→:←!S49)","v":0},{"$f":"SUM(→:←!T49)","v":301.46673548962428},{"$f":"SUM(→:←!U49)","v":54.943594139065709},{"$f":"SUM(→:←!V49)","v":6},{"$f":"SUM(→:←!W49)","v":4.8000000000000007},{"$f":"SUM(→:←!X49)","v":0},{"$f":"SUM(→:←!Y49)","v":0},{"$f":"SUM(→:←!Z49)","v":0},{"$f":"SUM(→:←!AA49)","v":0},{"$f":"SUM(→:←!AB49)","v":0},{"$f":"SUM(→:←!AC49)","v":10.8},{"$f":"SUM(→:←!AD49)","v":44.143594139065698},{"$f":"SUM(→:←!AE49)","v":72},{"$f":"SUM(→:←!AF49)","v":0},{"$f":"SUM(→:←!AG49)","v":0},{"$f":"SUM(→:←!AH49)","v":0},{"$f":"SUM(→:←!AI49)","v":0},{"$f":"SUM(→:←!AJ49)","v":20.75},{"$f":"SUM(→:←!AK49)","v":92.75},{"$f":"SUM(→:←!AL49)","v":-48.606405860934302},{"$f":"SUM(→:←!AM49)","v":2670.1304220908632},1869.0912954636021,1529.584105617934,3398.6754010815362,582.83598319253838,null,{"$f":"SUM(K49:$K$70)","v":270.9942709792486},2399.1361511116147,null,405.0167354896243,null,10405.016735489624,{"$f":"IF($AH49>0,\"車,\",\"\")&IF($AF49>0,\"リフォーム,\",\"\")&IF(子1!C49=18,\"大学入学,\",\"\")&IF(子2!C49=18,\"大学入学,\",\"\")&IF(子3!C49=18,\"大学入学,\",\"\")&IF(子4!C49=18,\"大学入学,\",\"\")","v":""}]
[null,2066,68,{"$f":"SUM(→:←!D50)","v":0},{"$f":"SUM(→:←!E50)","v":0},{"$f":"SUM(→:←!F50)","v":0},{"$f":"SUM(→:←!G50)","v":0},{"$f":"SUM(→:←!H50)","v":338.40028366153854},{"$f":"SUM(→:←!I50)","v":-15.353239327484621},{"$f":"SUM(→:←!J50)","v":323.04704433405391},{"$f":"SUM(→:←!K50)","v":135.4971354896243},{"$f":"SUM(→:←!L50)","v":37.299439999999997},{"$f":"SUM(→:←!M50)","v":79.2},{"$f":"SUM(→:←!N50)","v":26.400000000000002},{"$f":"SUM(→:←!O50)","v":9.9},{"$f":"SUM(→:←!P50)","v":7.9200000000000017},{"$f":"SUM(→:←!Q50)","v":4.95},{"$f":"SUM(→:←!R50)","v":0},{"$f":"SUM(→:←!S50)","v":0},{"$f":"SUM(→:←!T50)","v":301.16657548962428},{"$f":"SUM(→:←!U50)","v":21.8804688444296},{"$f":"SUM(→:←!V50)","v":6},{"$f":"SUM(→:←!W50)","v":4.8000000000000007},{"$f":"SUM(→:←!X50)","v":0},{"$f":"SUM(→:←!Y50)","v":0},{"$f":"SUM(→:←!Z50)","v":0},{"$f":"SUM(→:←!AA50)","v":0},{"$f":"SUM(→:←!AB50)","v":0},{"$f":"SUM(→:←!AC50)","v":10.8},{"$f":"SUM(→:←!AD50)","v":11.080468844429589},{"$f":"SUM(→:←!AE50)","v":72},{"$f":"SUM(→:←!AF50)","v":0},{"$f":"SUM(→:←!AG50)","v":0},{"$f":"SUM(→:←!AH50)","v":0},{"$f":"SUM(→:←!AI50)","v":0},{"$f":"SUM(→:←!AJ50)","v":20.75},{"$f":"SUM(→:←!AK50)","v":92.75},{"$f":"SUM(→:←!AL50)","v":-81.669531155570411},{"$f":"SUM(→:←!AM50)","v":2588.4608909352901},1811.9226236547029,1581.5624515521597,3393.4850752068623,644.0193474172579,null,{"$f":"SUM(K50:$K$70)","v":135.4971354896243},2452.9637554456658,null,404.71657548962429,null,10404.716575489625,{"$f":"IF($AH50>0,\"車,\",\"\")&IF($AF50>0,\"リフォーム,\",\"\")&IF(子1!C50=18,\"大学入学,\",\"\")&IF(子2!C50=18,\"大学入学,\",\"\")&IF(子3!C50=18,\"大学入学,\",\"\")&IF(子4!C50=18,\"大学入学,\",\"\")","v":""}]
[null,2067,69,{"$f":"SUM(→:←!D51)","v":0},{"$f":"SUM(→:←!E51)","v":0},{"$f":"SUM(→:←!F51)","v":0},{"$f":"SUM(→:←!G51)","v":0},{"$f":"SUM(→:←!H51)","v":338.40028366153854},{"$f":"SUM(→:←!I51)","v":-15.353239327484621},{"$f":"SUM(→:←!J51)","v":323.04704433405391},{"$f":"SUM(→:←!K51)","v":0},{"$f":"SUM(→:←!L51)","v":37.299439999999997},{"$f":"SUM(→:←!M51)","v":79.2},{"$f":"SUM(→:←!N51)","v":26.400000000000002},{"$f":"SUM(→:←!O51)","v":9.9},{"$f":"SUM(→:←!P51)","v":7.9200000000000017},{"$f":"SUM(→:←!Q51)","v":4.95},{"$f":"SUM(→:←!R51)","v":0},{"$f":"SUM(→:←!S51)","v":0},{"$f":"SUM(→:←!T51)","v":165.66944000000001},{"$f":"SUM(→:←!U51)","v":157.3776043340539},{"$f":"SUM(→:←!V51)","v":6},{"$f":"SUM(→:←!W51)","v":4.8000000000000007},{"$f":"SUM(→:←!X51)","v":0},{"$f":"SUM(→:←!Y51)","v":0},{"$f":"SUM(→:←!Z51)","v":0},{"$f":"SUM(→:←!AA51)","v":0},{"$f":"SUM(→:←!AB51)","v":0},{"$f":"SUM(→:←!AC51)","v":10.8},{"$f":"SUM(→:←!AD51)","v":146.57760433405389},{"$f":"SUM(→:←!AE51)","v":72},{"$f":"SUM(→:←!AF51)","v":0},{"$f":"SUM(→:←!AG51)","v":57},{"$f":"SUM(→:←!AH51)","v":250},{"$f":"SUM(→:←!AI51)","v":0},{"$f":"SUM(→:←!AJ51)","v":20.75},{"$f":"SUM(→:←!AK51)","v":399.75},{"$f":"SUM(→:←!AL51)","v":-253.17239566594611},{"$f":"SUM(→:←!AM51)","v":2335.2884952693448},1634.7019466885406,1584.688855429984,3219.3908021185243,707.2818454793437,null,{"$f":"SUM(K51:$K$70)","v":0},2335.2884952693448,null,576.21944000000008,null,691.46332800000005,{"$f":"IF($AH51>0,\"車,\",\"\")&IF($AF51>0,\"リフォーム,\",\"\")&IF(子1!C51=18,\"大学入学,\",\"\")&IF(子2!C51=18,\"大学入学,\",\"\")&IF(子3!C51=18,\"大学入学,\",\"\")&IF(子4!C51=18,\"大学入学,\",\"\")","v":"車,"}]
[null,2068,70,{"$f":"SUM(→:←!D52)","v":0},{"$f":"SUM(→:←!E52)","v":0},{"$f":"SUM(→:←!F52)","v":0},{"$f":"SUM(→:←!G52)","v":0},{"$f":"SUM(→:←!H52)","v":338.40028366153854},{"$f":"SUM(→:←!I52)","v":-15.353239327484621},{"$f":"SUM(→:←!J52)","v":323.04704433405391},{"$f":"SUM(→:←!K52)","v":0},{"$f":"SUM(→:←!L52)","v":37.149360000000001},{"$f":"SUM(→:←!M52)","v":79.2},{"$f":"SUM(→:←!N52)","v":26.400000000000002},{"$f":"SUM(→:←!O52)","v":9.9},{"$f":"SUM(→:←!P52)","v":7.9200000000000017},{"$f":"SUM(→:←!Q52)","v":4.95},{"$f":"SUM(→:←!R52)","v":0},{"$f":"SUM(→:←!S52)","v":0},{"$f":"SUM(→:←!T52)","v":165.51936000000001},{"$f":"SUM(→:←!U52)","v":157.5276843340539},{"$f":"SUM(→:←!V52)","v":6},{"$f":"SUM(→:←!W52)","v":4.8000000000000007},{"$f":"SUM(→:←!X52)","v":0},{"$f":"SUM(→:←!Y52)","v":0},{"$f":"SUM(→:←!Z52)","v":0},{"$f":"SUM(→:←!AA52)","v":0},{"$f":"SUM(→:←!AB52)","v":0},{"$f":"SUM(→:←!AC52)","v":10.8},{"$f":"SUM(→:←!AD52)","v":146.72768433405389},{"$f":"SUM(→:←!AE52)","v":72},{"$f":"SUM(→:←!AF52)","v":0},{"$f":"SUM(→:←!AG52)","v":0},{"$f":"SUM(→:←!AH52)","v":0},{"$f":"SUM(→:←!AI52)","v":0},{"$f":"SUM(→:←!AJ52)","v":20.75},{"$f":"SUM(→:←!AK52)","v":92.75},{"$f":"SUM(→:←!AL52)","v":53.97768433405389},{"$f":"SUM(→:←!AM52)","v":2389.2661796033954},1672.4863257223783,1680.1166035016995,3352.6029292240778,770.66939969654595,null,{"$f":"SUM(K52:$K$70)","v":0},2389.2661796033954,null,269.06936000000002,null,10269.06936,{"$f":"IF($AH52>0,\"車,\",\"\")&IF($AF52>0,\"リフォーム,\",\"\")&IF(子1!C52=18,\"大学入学,\",\"\")&IF(子2!C52=18,\"大学入学,\",\"\")&IF(子3!C52=18,\"大学入学,\",\"\")&IF(子4!C52=18,\"大学入学,\",\"\")","v":""}]
[null,2069,71,{"$f":"SUM(→:←!D53)","v":0},{"$f":"SUM(→:←!E53)","v":0},{"$f":"SUM(→:←!F53)","v":0},{"$f":"SUM(→:←!G53)","v":0},{"$f":"SUM(→:←!H53)","v":338.40028366153854},{"$f":"SUM(→:←!I53)","v":-15.353239327484621},{"$f":"SUM(→:←!J53)","v":323.04704433405391},{"$f":"SUM(→:←!K53)","v":0},{"$f":"SUM(→:←!L53)","v":37.149360000000001},{"$f":"SUM(→:←!M53)","v":79.2},{"$f":"SUM(→:←!N53)","v":26.400000000000002},{"$f":"SUM(→:←!O53)","v":9.9},{"$f":"SUM(→:←!P53)","v":7.9200000000000017},{"$f":"SUM(→:←!Q53)","v":4.95},{"$f":"SUM(→:←!R53)","v":0},{"$f":"SUM(→:←!S53)","v":0},{"$f":"SUM(→:←!T53)","v":165.51936000000001},{"$f":"SUM(→:←!U53)","v":157.5276843340539},{"$f":"SUM(→:←!V53)","v":6},{"$f":"SUM(→:←!W53)","v":4.8000000000000007},{"$f":"SUM(→:←!X53)","v":0},{"$f":"SUM(→:←!Y53)","v":0},{"$f":"SUM(→:←!Z53)","v":0},{"$f":"SUM(→:←!AA53)","v":0},{"$f":"SUM(→:←!AB53)","v":0},{"$f":"SUM(→:←!AC53)","v":10.8},{"$f":"SUM(→:←!AD53)","v":146.72768433405389},{"$f":"SUM(→:←!AE53)","v":72},{"$f":"SUM(→:←!AF53)","v":0},{"$f":"SUM(→:←!AG53)","v":0},{"$f":"SUM(→:←!AH53)","v":0},{"$f":"SUM(→:←!AI53)","v":0},{"$f":"SUM(→:←!AJ53)","v":20.75},{"$f":"SUM(→:←!AK53)","v":92.75},{"$f":"SUM(→:←!AL53)","v":53.97768433405389},{"$f":"SUM(→:←!AM53)","v":2443.2438639374495},1710.270704756216,1780.3157389770008,3490.5864437332166,837.87406383661369,null,{"$f":"SUM(K53:$K$70)","v":0},2443.2438639374495,null,269.06936000000002,null,10269.06936,{"$f":"IF($AH53>0,\"車,\",\"\")&IF($AF53>0,\"リフォーム,\",\"\")&IF(子1!C53=18,\"大学入学,\",\"\")&IF(子2!C53=18,\"大学入学,\",\"\")&IF(子3!C53=18,\"大学入学,\",\"\")&IF(子4!C53=18,\"大学入学,\",\"\")","v":""}]
[null,2070,72,{"$f":"SUM(→:←!D54)","v":0},{"$f":"SUM(→:←!E54)","v":0},{"$f":"SUM(→:←!F54)","v":0},{"$f":"SUM(→:←!G54)","v":0},{"$f":"SUM(→:←!H54)","v":338.40028366153854},{"$f":"SUM(→:←!I54)","v":-15.353239327484621},{"$f":"SUM(→:←!J54)","v":323.04704433405391},{"$f":"SUM(→:←!K54)","v":0},{"$f":"SUM(→:←!L54)","v":36.999279999999999},{"$f":"SUM(→:←!M54)","v":79.2},{"$f":"SUM(→:←!N54)","v":26.400000000000002},{"$f":"SUM(→:←!O54)","v":9.9},{"$f":"SUM(→:←!P54)","v":7.9200000000000017},{"$f":"SUM(→:←!Q54)","v":4.95},{"$f":"SUM(→:←!R54)","v":0},{"$f":"SUM(→:←!S54)","v":0},{"$f":"SUM(→:←!T54)","v":165.36928},{"$f":"SUM(→:←!U54)","v":157.6777643340539},{"$f":"SUM(→:←!V54)","v":6},{"$f":"SUM(→:←!W54)","v":4.8000000000000007},{"$f":"SUM(→:←!X54)","v":0},{"$f":"SUM(→:←!Y54)","v":0},{"$f":"SUM(→:←!Z54)","v":0},{"$f":"SUM(→:←!AA54)","v":0},{"$f":"SUM(→:←!AB54)","v":0},{"$f":"SUM(→:←!AC54)","v":10.8},{"$f":"SUM(→:←!AD54)","v":146.87776433405389},{"$f":"SUM(→:←!AE54)","v":72},{"$f":"SUM(→:←!AF54)","v":0},{"$f":"SUM(→:←!AG54)","v":0},{"$f":"SUM(→:←!AH54)","v":0},{"$f":"SUM(→:←!AI54)","v":0},{"$f":"SUM(→:←!AJ54)","v":20.75},{"$f":"SUM(→:←!AK54)","v":92.75},{"$f":"SUM(→:←!AL54)","v":54.127764334053893},{"$f":"SUM(→:←!AM54)","v":2497.3716282715004},1748.1601397900538,1885.5698552260671,3633.7299950161209,909.08669339569644,null,{"$f":"SUM(K54:$K$70)","v":0},2497.3716282715004,null,268.91928000000001,null,10268.91928,{"$f":"IF($AH54>0,\"車,\",\"\")&IF($AF54>0,\"リフォーム,\",\"\")&IF(子1!C54=18,\"大学入学,\",\"\")&IF(子2!C54=18,\"大学入学,\",\"\")&IF(子3!C54=18,\"大学入学,\",\"\")&IF(子4!C54=18,\"大学入学,\",\"\")","v":""}]
[null,2071,73,{"$f":"SUM(→:←!D55)","v":0},{"$f":"SUM(→:←!E55)","v":0},{"$f":"SUM(→:←!F55)","v":0},{"$f":"SUM(→:←!G55)","v":0},{"$f":"SUM(→:←!H55)","v":338.40028366153854},{"$f":"SUM(→:←!I55)","v":-15.353239327484621},{"$f":"SUM(→:←!J55)","v":323.04704433405391},{"$f":"SUM(→:←!K55)","v":0},{"$f":"SUM(→:←!L55)","v":36.999279999999999},{"$f":"SUM(→:←!M55)","v":79.2},{"$f":"SUM(→:←!N55)","v":26.400000000000002},{"$f":"SUM(→:←!O55)","v":9.9},{"$f":"SUM(→:←!P55)","v":7.9200000000000017},{"$f":"SUM(→:←!Q55)","v":4.95},{"$f":"SUM(→:←!R55)","v":0},{"$f":"SUM(→:←!S55)","v":0},{"$f":"SUM(→:←!T55)","v":165.36928},{"$f":"SUM(→:←!U55)","v":157.6777643340539},{"$f":"SUM(→:←!V55)","v":6},{"$f":"SUM(→:←!W55)","v":4.8000000000000007},{"$f":"SUM(→:←!X55)","v":0},{"$f":"SUM(→:←!Y55)","v":0},{"$f":"SUM(→:←!Z55)","v":0},{"$f":"SUM(→:←!AA55)","v":0},{"$f":"SUM(→:←!AB55)","v":0},{"$f":"SUM(→:←!AC55)","v":10.8},{"$f":"SUM(→:←!AD55)","v":146.87776433405389},{"$f":"SUM(→:←!AE55)","v":72},{"$f":"SUM(→:←!AF55)","v":316},{"$f":"SUM(→:←!AG55)","v":0},{"$f":"SUM(→:←!AH55)","v":0},{"$f":"SUM(→:←!AI55)","v":0},{"$f":"SUM(→:←!AJ55)","v":20.75},{"$f":"SUM(→:←!AK55)","v":408.75},{"$f":"SUM(→:←!AL55)","v":-261.87223566594611},{"$f":"SUM(→:←!AM55)","v":2235.4993926055549},1564.8495748238915,1901.2866772875866,3466.1362521114779,984.50948760473841,null,{"$f":"SUM(K55:$K$70)","v":0},2235.4993926055549,null,584.91928000000007,null,701.90313600000002,{"$f":"IF($AH55>0,\"車,\",\"\")&IF($AF55>0,\"リフォーム,\",\"\")&IF(子1!C55=18,\"大学入学,\",\"\")&IF(子2!C55=18,\"大学入学,\",\"\")&IF(子3!C55=18,\"大学入学,\",\"\")&IF(子4!C55=18,\"大学入学,\",\"\")","v":"リフォーム,"}]
[null,2072,74,{"$f":"SUM(→:←!D56)","v":0},{"$f":"SUM(→:←!E56)","v":0},{"$f":"SUM(→:←!F56)","v":0},{"$f":"SUM(→:←!G56)","v":0},{"$f":"SUM(→:←!H56)","v":338.40028366153854},{"$f":"SUM(→:←!I56)","v":-15.353239327484621},{"$f":"SUM(→:←!J56)","v":323.04704433405391},{"$f":"SUM(→:←!K56)","v":0},{"$f":"SUM(→:←!L56)","v":36.954256000000001},{"$f":"SUM(→:←!M56)","v":79.2},{"$f":"SUM(→:←!N56)","v":26.400000000000002},{"$f":"SUM(→:←!O56)","v":9.9},{"$f":"SUM(→:←!P56)","v":7.9200000000000017},{"$f":"SUM(→:←!Q56)","v":4.95},{"$f":"SUM(→:←!R56)","v":0},{"$f":"SUM(→:←!S56)","v":0},{"$f":"SUM(→:←!T56)","v":165.32425599999999},{"$f":"SUM(→:←!U56)","v":157.72278833405392},{"$f":"SUM(→:←!V56)","v":6},{"$f":"SUM(→:←!W56)","v":4.8000000000000007},{"$f":"SUM(→:←!X56)","v":0},{"$f":"SUM(→:←!Y56)","v":0},{"$f":"SUM(→:←!Z56)","v":0},{"$f":"SUM(→:←!AA56)","v":0},{"$f":"SUM(→:←!AB56)","v":0},{"$f":"SUM(→:←!AC56)","v":10.8},{"$f":"SUM(→:←!AD56)","v":146.92278833405391},{"$f":"SUM(→:←!AE56)","v":72},{"$f":"SUM(→:←!AF56)","v":0},{"$f":"SUM(→:←!AG56)","v":3},{"$f":"SUM(→:←!AH56)","v":0},{"$f":"SUM(→:←!AI56)","v":0},{"$f":"SUM(→:←!AJ56)","v":20.75},{"$f":"SUM(→:←!AK56)","v":95.75},{"$f":"SUM(→:←!AL56)","v":51.172788334053891},{"$f":"SUM(→:←!AM56)","v":2286.6721809396095},1600.6705266577292,2011.7028476521823,3612.3733743099115,1060.5609546962417,null,{"$f":"SUM(K56:$K$70)","v":0},2286.6721809396095,null,271.874256,null,10271.874255999999,{"$f":"IF($AH56>0,\"車,\",\"\")&IF($AF56>0,\"リフォーム,\",\"\")&IF(子1!C56=18,\"大学入学,\",\"\")&IF(子2!C56=18,\"大学入学,\",\"\")&IF(子3!C56=18,\"大学入学,\",\"\")&IF(子4!C56=18,\"大学入学,\",\"\")","v":""}]
[null,2073,75,{"$f":"SUM(→:←!D57)","v":0},{"$f":"SUM(→:←!E57)","v":0},{"$f":"SUM(→:←!F57)","v":0},{"$f":"SUM(→:←!G57)","v":0},{"$f":"SUM(→:←!H57)","v":338.40028366153854},{"$f":"SUM(→:←!I57)","v":-15.353239327484621},{"$f":"SUM(→:←!J57)","v":323.04704433405391},{"$f":"SUM(→:←!K57)","v":0},{"$f":"SUM(→:←!L57)","v":36.928742399999997},{"$f":"SUM(→:←!M57)","v":79.2},{"$f":"SUM(→:←!N57)","v":26.400000000000002},{"$f":"SUM(→:←!O57)","v":9.9},{"$f":"SUM(→:←!P57)","v":7.9200000000000017},{"$f":"SUM(→:←!Q57)","v":4.95},{"$f":"SUM(→:←!R57)","v":0},{"$f":"SUM(→:←!S57)","v":0},{"$f":"SUM(→:←!T57)","v":165.29874240000001},{"$f":"SUM(→:←!U57)","v":157.7483019340539},{"$f":"SUM(→:←!V57)","v":6},{"$f":"SUM(→:←!W57)","v":4.8000000000000007},{"$f":"SUM(→:←!X57)","v":0},{"$f":"SUM(→:←!Y57)","v":0},{"$f":"SUM(→:←!Z57)","v":0},{"$f":"SUM(→:←!AA57)","v":0},{"$f":"SUM(→:←!AB57)","v":0},{"$f":"SUM(→:←!AC57)","v":10.8},{"$f":"SUM(→:←!AD57)","v":146.94830193405389},{"$f":"SUM(→:←!AE57)","v":72},{"$f":"SUM(→:←!AF57)","v":0},{"$f":"SUM(→:←!AG57)","v":0},{"$f":"SUM(→:←!AH57)","v":0},{"$f":"SUM(→:←!AI57)","v":0},{"$f":"SUM(→:←!AJ57)","v":20.75},{"$f":"SUM(→:←!AK57)","v":92.75},{"$f":"SUM(→:←!AL57)","v":54.198301934053887},{"$f":"SUM(→:←!AM57)","v":2340.87048287366},1638.6093380115669,2128.5474806150078,3767.1568186265749,1141.029068602332,null,{"$f":"SUM(K57:$K$70)","v":0},2340.87048287366,null,268.84874239999999,null,10268.8487424,{"$f":"IF($AH57>0,\"車,\",\"\")&IF($AF57>0,\"リフォーム,\",\"\")&IF(子1!C57=18,\"大学入学,\",\"\")&IF(子2!C57=18,\"大学入学,\",\"\")&IF(子3!C57=18,\"大学入学,\",\"\")&IF(子4!C57=18,\"大学入学,\",\"\")","v":""}]
[null,2074,76,{"$f":"SUM(→:←!D58)","v":0},{"$f":"SUM(→:←!E58)","v":0},{"$f":"SUM(→:←!F58)","v":0},{"$f":"SUM(→:←!G58)","v":0},{"$f":"SUM(→:←!H58)","v":338.40028366153854},{"$f":"SUM(→:←!I58)","v":-15.353239327484621},{"$f":"SUM(→:←!J58)","v":323.04704433405391},{"$f":"SUM(→:←!K58)","v":0},{"$f":"SUM(→:←!L58)","v":36.903228800000001},{"$f":"SUM(→:←!M58)","v":79.2},{"$f":"SUM(→:←!N58)","v":26.400000000000002},{"$f":"SUM(→:←!O58)","v":9.9},{"$f":"SUM(→:←!P58)","v":7.9200000000000017},{"$f":"SUM(→:←!Q58)","v":4.95},{"$f":"SUM(→:←!R58)","v":0},{"$f":"SUM(→:←!S58)","v":0},{"$f":"SUM(→:←!T58)","v":165.2732288},{"$f":"SUM(→:←!U58)","v":157.77381553405391},{"$f":"SUM(→:←!V58)","v":6},{"$f":"SUM(→:←!W58)","v":4.8000000000000007},{"$f":"SUM(→:←!X58)","v":0},{"$f":"SUM(→:←!Y58)","v":0},{"$f":"SUM(→:←!Z58)","v":0},{"$f":"SUM(→:←!AA58)","v":0},{"$f":"SUM(→:←!AB58)","v":0},{"$f":"SUM(→:←!AC58)","v":10.8},{"$f":"SUM(→:←!AD58)","v":146.9738155340539},{"$f":"SUM(→:←!AE58)","v":72},{"$f":"SUM(→:←!AF58)","v":0},{"$f":"SUM(→:←!AG58)","v":0},{"$f":"SUM(→:←!AH58)","v":250},{"$f":"SUM(→:←!AI58)","v":0},{"$f":"SUM(→:←!AJ58)","v":20.75},{"$f":"SUM(→:←!AK58)","v":342.75},{"$f":"SUM(→:←!AL58)","v":-195.7761844659461},{"$f":"SUM(→:←!AM58)","v":2145.0942984077146},1501.5660088854047,2176.2419993059743,3677.808008191379,1226.1709678269315,null,{"$f":"SUM(K58:$K$70)","v":0},2145.0942984077146,null,518.82322880000004,null,622.58787456000005,{"$f":"IF($AH58>0,\"車,\",\"\")&IF($AF58>0,\"リフォーム,\",\"\")&IF(子1!C58=18,\"大学入学,\",\"\")&IF(子2!C58=18,\"大学入学,\",\"\")&IF(子3!C58=18,\"大学入学,\",\"\")&IF(子4!C58=18,\"大学入学,\",\"\")","v":"車,"}]
[null,2075,77,{"$f":"SUM(→:←!D59)","v":0},{"$f":"SUM(→:←!E59)","v":0},{"$f":"SUM(→:←!F59)","v":0},{"$f":"SUM(→:←!G59)","v":0},{"$f":"SUM(→:←!H59)","v":338.40028366153854},{"$f":"SUM(→:←!I59)","v":-15.353239327484621},{"$f":"SUM(→:←!J59)","v":323.04704433405391},{"$f":"SUM(→:←!K59)","v":0},{"$f":"SUM(→:←!L59)","v":36.876214400000002},{"$f":"SUM(→:←!M59)","v":79.2},{"$f":"SUM(→:←!N59)","v":26.400000000000002},{"$f":"SUM(→:←!O59)","v":9.9},{"$f":"SUM(→:←!P59)","v":7.9200000000000017},{"$f":"SUM(→:←!Q59)","v":4.95},{"$f":"SUM(→:←!R59)","v":0},{"$f":"SUM(→:←!S59)","v":0},{"$f":"SUM(→:←!T59)","v":165.24621440000001},{"$f":"SUM(→:←!U59)","v":157.80082993405389},{"$f":"SUM(→:←!V59)","v":6},{"$f":"SUM(→:←!W59)","v":4.8000000000000007},{"$f":"SUM(→:←!X59)","v":0},{"$f":"SUM(→:←!Y59)","v":0},{"$f":"SUM(→:←!Z59)","v":0},{"$f":"SUM(→:←!AA59)","v":0},{"$f":"SUM(→:←!AB59)","v":0},{"$f":"SUM(→:←!AC59)","v":10.8},{"$f":"SUM(→:←!AD59)","v":147.00082993405388},{"$f":"SUM(→:←!AE59)","v":72},{"$f":"SUM(→:←!AF59)","v":0},{"$f":"SUM(→:←!AG59)","v":0},{"$f":"SUM(→:←!AH59)","v":0},{"$f":"SUM(→:←!AI59)","v":0},{"$f":"SUM(→:←!AJ59)","v":20.75},{"$f":"SUM(→:←!AK59)","v":92.75},{"$f":"SUM(→:←!AL59)","v":54.250829934053883},{"$f":"SUM(→:←!AM59)","v":2199.3451283417689},1539.5415898392423,2301.3293482514891,3840.8709380907312,1313.2206477991699,null,{"$f":"SUM(K59:$K$70)","v":0},2199.3451283417689,null,268.79621440000005,null,10268.796214399999,{"$f":"IF($AH59>0,\"車,\",\"\")&IF($AF59>0,\"リフォーム,\",\"\")&IF(子1!C59=18,\"大学入学,\",\"\")&IF(子2!C59=18,\"大学入学,\",\"\")&IF(子3!C59=18,\"大学入学,\",\"\")&IF(子4!C59=18,\"大学入学,\",\"\")","v":""}]
[null,2076,78,{"$f":"SUM(→:←!D60)","v":0},{"$f":"SUM(→:←!E60)","v":0},{"$f":"SUM(→:←!F60)","v":0},{"$f":"SUM(→:←!G60)","v":0},{"$f":"SUM(→:←!H60)","v":338.40028366153854},{"$f":"SUM(→:←!I60)","v":-15.353239327484621},{"$f":"SUM(→:←!J60)","v":323.04704433405391},{"$f":"SUM(→:←!K60)","v":0},{"$f":"SUM(→:←!L60)","v":36.849200000000003},{"$f":"SUM(→:←!M60)","v":79.2},{"$f":"SUM(→:←!N60)","v":26.400000000000002},{"$f":"SUM(→:←!O60)","v":9.9},{"$f":"SUM(→:←!P60)","v":7.9200000000000017},{"$f":"SUM(→:←!Q60)","v":4.95},{"$f":"SUM(→:←!R60)","v":0},{"$f":"SUM(→:←!S60)","v":0},{"$f":"SUM(→:←!T60)","v":165.2192},{"$f":"SUM(→:←!U60)","v":157.82784433405391},{"$f":"SUM(→:←!V60)","v":6},{"$f":"SUM(→:←!W60)","v":4.8000000000000007},{"$f":"SUM(→:←!X60)","v":0},{"$f":"SUM(→:←!Y60)","v":0},{"$f":"SUM(→:←!Z60)","v":0},{"$f":"SUM(→:←!AA60)","v":0},{"$f":"SUM(→:←!AB60)","v":0},{"$f":"SUM(→:←!AC60)","v":10.8},{"$f":"SUM(→:←!AD60)","v":147.0278443340539},{"$f":"SUM(→:←!AE60)","v":72},{"$f":"SUM(→:←!AF60)","v":0},{"$f":"SUM(→:←!AG60)","v":0},{"$f":"SUM(→:←!AH60)","v":0},{"$f":"SUM(→:←!AI60)","v":0},{"$f":"SUM(→:←!AJ60)","v":20.75},{"$f":"SUM(→:←!AK60)","v":92.75},{"$f":"SUM(→:←!AL60)","v":54.277844334053896},{"$f":"SUM(→:←!AM60)","v":2253.6229726758202},1577.53608087308,2432.6791689642801,4010.2152498373598,1405.2738217292317,null,{"$f":"SUM(K60:$K$70)","v":0},2253.6229726758202,null,268.76920000000001,null,10268.769200000001,{"$f":"IF($AH60>0,\"車,\",\"\")&IF($AF60>0,\"リフォーム,\",\"\")&IF(子1!C60=18,\"大学入学,\",\"\")&IF(子2!C60=18,\"大学入学,\",\"\")&IF(子3!C60=18,\"大学入学,\",\"\")&IF(子4!C60=18,\"大学入学,\",\"\")","v":""}]
[null,2077,79,{"$f":"SUM(→:←!D61)","v":0},{"$f":"SUM(→:←!E61)","v":0},{"$f":"SUM(→:←!F61)","v":0},{"$f":"SUM(→:←!G61)","v":0},{"$f":"SUM(→:←!H61)","v":338.40028366153854},{"$f":"SUM(→:←!I61)","v":-15.353239327484621},{"$f":"SUM(→:←!J61)","v":323.04704433405391},{"$f":"SUM(→:←!K61)","v":0},{"$f":"SUM(→:←!L61)","v":36.849200000000003},{"$f":"SUM(→:←!M61)","v":79.2},{"$f":"SUM(→:←!N61)","v":26.400000000000002},{"$f":"SUM(→:←!O61)","v":9.9},{"$f":"SUM(→:←!P61)","v":7.9200000000000017},{"$f":"SUM(→:←!Q61)","v":4.95},{"$f":"SUM(→:←!R61)","v":0},{"$f":"SUM(→:←!S61)","v":0},{"$f":"SUM(→:←!T61)","v":165.2192},{"$f":"SUM(→:←!U61)","v":157.82784433405391},{"$f":"SUM(→:←!V61)","v":6},{"$f":"SUM(→:←!W61)","v":4.8000000000000007},{"$f":"SUM(→:←!X61)","v":0},{"$f":"SUM(→:←!Y61)","v":0},{"$f":"SUM(→:←!Z61)","v":0},{"$f":"SUM(→:←!AA61)","v":0},{"$f":"SUM(→:←!AB61)","v":0},{"$f":"SUM(→:←!AC61)","v":10.8},{"$f":"SUM(→:←!AD61)","v":147.0278443340539},{"$f":"SUM(→:←!AE61)","v":72},{"$f":"SUM(→:←!AF61)","v":0},{"$f":"SUM(→:←!AG61)","v":57},{"$f":"SUM(→:←!AH61)","v":0},{"$f":"SUM(→:←!AI61)","v":0},{"$f":"SUM(→:←!AJ61)","v":20.75},{"$f":"SUM(→:←!AK61)","v":149.75},{"$f":"SUM(→:←!AL61)","v":-2.7221556659461044},{"$f":"SUM(→:←!AM61)","v":2250.900817009875},1575.6305719069178,2553.4964807127103,4129.1270526196276,1502.5809884878022,null,{"$f":"SUM(K61:$K$70)","v":0},2250.900817009875,null,325.76920000000001,null,10325.769200000001,{"$f":"IF($AH61>0,\"車,\",\"\")&IF($AF61>0,\"リフォーム,\",\"\")&IF(子1!C61=18,\"大学入学,\",\"\")&IF(子2!C61=18,\"大学入学,\",\"\")&IF(子3!C61=18,\"大学入学,\",\"\")&IF(子4!C61=18,\"大学入学,\",\"\")","v":""}]
[null,2078,80,{"$f":"SUM(→:←!D62)","v":0},{"$f":"SUM(→:←!E62)","v":0},{"$f":"SUM(→:←!F62)","v":0},{"$f":"SUM(→:←!G62)","v":0},{"$f":"SUM(→:←!H62)","v":338.40028366153854},{"$f":"SUM(→:←!I62)","v":-15.353239327484621},{"$f":"SUM(→:←!J62)","v":323.04704433405391},{"$f":"SUM(→:←!K62)","v":0},{"$f":"SUM(→:←!L62)","v":36.849200000000003},{"$f":"SUM(→:←!M62)","v":79.2},{"$f":"SUM(→:←!N62)","v":26.400000000000002},{"$f":"SUM(→:←!O62)","v":9.9},{"$f":"SUM(→:←!P62)","v":7.9200000000000017},{"$f":"SUM(→:←!Q62)","v":4.95},{"$f":"SUM(→:←!R62)","v":0},{"$f":"SUM(→:←!S62)","v":0},{"$f":"SUM(→:←!T62)","v":165.2192},{"$f":"SUM(→:←!U62)","v":157.82784433405391},{"$f":"SUM(→:←!V62)","v":6},{"$f":"SUM(→:←!W62)","v":4.8000000000000007},{"$f":"SUM(→:←!X62)","v":0},{"$f":"SUM(→:←!Y62)","v":0},{"$f":"SUM(→:←!Z62)","v":0},{"$f":"SUM(→:←!AA62)","v":0},{"$f":"SUM(→:←!AB62)","v":0},{"$f":"SUM(→:←!AC62)","v":10.8},{"$f":"SUM(→:←!AD62)","v":147.0278443340539},{"$f":"SUM(→:←!AE62)","v":72},{"$f":"SUM(→:←!AF62)","v":0},{"$f":"SUM(→:←!AG62)","v":0},{"$f":"SUM(→:←!AH62)","v":0},{"$f":"SUM(→:←!AI62)","v":0},{"$f":"SUM(→:←!AJ62)","v":20.75},{"$f":"SUM(→:←!AK62)","v":92.75},{"$f":"SUM(→:←!AL62)","v":54.277844334053896},{"$f":"SUM(→:←!AM62)","v":2305.178661343929},1613.6250629407555,2697.4546580485621,4311.0797209893171,1604.7208477163106,null,{"$f":"SUM(K62:$K$70)","v":0},2305.178661343929,null,268.76920000000001,null,10268.769200000001,{"$f":"IF($AH62>0,\"車,\",\"\")&IF($AF62>0,\"リフォーム,\",\"\")&IF(子1!C62=18,\"大学入学,\",\"\")&IF(子2!C62=18,\"大学入学,\",\"\")&IF(子3!C62=18,\"大学入学,\",\"\")&IF(子4!C62=18,\"大学入学,\",\"\")","v":""}]
[null,2079,81,{"$f":"SUM(→:←!D63)","v":0},{"$f":"SUM(→:←!E63)","v":0},{"$f":"SUM(→:←!F63)","v":0},{"$f":"SUM(→:←!G63)","v":0},{"$f":"SUM(→:←!H63)","v":338.40028366153854},{"$f":"SUM(→:←!I63)","v":-15.353239327484621},{"$f":"SUM(→:←!J63)","v":323.04704433405391},{"$f":"SUM(→:←!K63)","v":0},{"$f":"SUM(→:←!L63)","v":36.849200000000003},{"$f":"SUM(→:←!M63)","v":79.2},{"$f":"SUM(→:←!N63)","v":26.400000000000002},{"$f":"SUM(→:←!O63)","v":9.9},{"$f":"SUM(→:←!P63)","v":7.9200000000000017},{"$f":"SUM(→:←!Q63)","v":4.95},{"$f":"SUM(→:←!R63)","v":0},{"$f":"SUM(→:←!S63)","v":0},{"$f":"SUM(→:←!T63)","v":165.2192},{"$f":"SUM(→:←!U63)","v":157.82784433405391},{"$f":"SUM(→:←!V63)","v":6},{"$f":"SUM(→:←!W63)","v":4.8000000000000007},{"$f":"SUM(→:←!X63)","v":0},{"$f":"SUM(→:←!Y63)","v":0},{"$f":"SUM(→:←!Z63)","v":0},{"$f":"SUM(→:←!AA63)","v":0},{"$f":"SUM(→:←!AB63)","v":0},{"$f":"SUM(→:←!AC63)","v":10.8},{"$f":"SUM(→:←!AD63)","v":147.0278443340539},{"$f":"SUM(→:←!AE63)","v":72},{"$f":"SUM(→:←!AF63)","v":0},{"$f":"SUM(→:←!AG63)","v":0},{"$f":"SUM(→:←!AH63)","v":0},{"$f":"SUM(→:←!AI63)","v":0},{"$f":"SUM(→:←!AJ63)","v":20.75},{"$f":"SUM(→:←!AK63)","v":92.75},{"$f":"SUM(→:←!AL63)","v":54.277844334053896},{"$f":"SUM(→:←!AM63)","v":2359.4565056779829},1651.6195539745931,2848.6107442512066,4500.2302982257997,1712.6190340382536,null,{"$f":"SUM(K63:$K$70)","v":0},2359.4565056779829,null,268.76920000000001,null,10268.769200000001,{"$f":"IF($AH63>0,\"車,\",\"\")&IF($AF63>0,\"リフォーム,\",\"\")&IF(子1!C63=18,\"大学入学,\",\"\")&IF(子2!C63=18,\"大学入学,\",\"\")&IF(子3!C63=18,\"大学入学,\",\"\")&IF(子4!C63=18,\"大学入学,\",\"\")","v":""}]
[null,2080,82,{"$f":"SUM(→:←!D64)","v":0},{"$f":"SUM(→:←!E64)","v":0},{"$f":"SUM(→:←!F64)","v":0},{"$f":"SUM(→:←!G64)","v":0},{"$f":"SUM(→:←!H64)","v":338.40028366153854},{"$f":"SUM(→:←!I64)","v":-15.353239327484621},{"$f":"SUM(→:←!J64)","v":323.04704433405391},{"$f":"SUM(→:←!K64)","v":0},{"$f":"SUM(→:←!L64)","v":36.849200000000003},{"$f":"SUM(→:←!M64)","v":79.2},{"$f":"SUM(→:←!N64)","v":26.400000000000002},{"$f":"SUM(→:←!O64)","v":9.9},{"$f":"SUM(→:←!P64)","v":7.9200000000000017},{"$f":"SUM(→:←!Q64)","v":4.95},{"$f":"SUM(→:←!R64)","v":0},{"$f":"SUM(→:←!S64)","v":0},{"$f":"SUM(→:←!T64)","v":165.2192},{"$f":"SUM(→:←!U64)","v":157.82784433405391},{"$f":"SUM(→:←!V64)","v":6},{"$f":"SUM(→:←!W64)","v":4.8000000000000007},{"$f":"SUM(→:←!X64)","v":0},{"$f":"SUM(→:←!Y64)","v":0},{"$f":"SUM(→:←!Z64)","v":0},{"$f":"SUM(→:←!AA64)","v":0},{"$f":"SUM(→:←!AB64)","v":0},{"$f":"SUM(→:←!AC64)","v":10.8},{"$f":"SUM(→:←!AD64)","v":147.0278443340539},{"$f":"SUM(→:←!AE64)","v":72},{"$f":"SUM(→:←!AF64)","v":0},{"$f":"SUM(→:←!AG64)","v":0},{"$f":"SUM(→:←!AH64)","v":0},{"$f":"SUM(→:←!AI64)","v":0},{"$f":"SUM(→:←!AJ64)","v":20.75},{"$f":"SUM(→:←!AK64)","v":92.75},{"$f":"SUM(→:←!AL64)","v":54.277844334053896},{"$f":"SUM(→:←!AM64)","v":2413.7343500120369},1689.6140450084308,3007.3246347639833,4696.9386797724146,1826.5634638083022,null,{"$f":"SUM(K64:$K$70)","v":0},2413.7343500120369,null,268.76920000000001,null,10268.769200000001,{"$f":"IF($AH64>0,\"車,\",\"\")&IF($AF64>0,\"リフォーム,\",\"\")&IF(子1!C64=18,\"大学入学,\",\"\")&IF(子2!C64=18,\"大学入学,\",\"\")&IF(子3!C64=18,\"大学入学,\",\"\")&IF(子4!C64=18,\"大学入学,\",\"\")","v":""}]
[null,2081,83,{"$f":"SUM(→:←!D65)","v":0},{"$f":"SUM(→:←!E65)","v":0},{"$f":"SUM(→:←!F65)","v":0},{"$f":"SUM(→:←!G65)","v":0},{"$f":"SUM(→:←!H65)","v":338.40028366153854},{"$f":"SUM(→:←!I65)","v":-15.353239327484621},{"$f":"SUM(→:←!J65)","v":323.04704433405391},{"$f":"SUM(→:←!K65)","v":0},{"$f":"SUM(→:←!L65)","v":36.849200000000003},{"$f":"SUM(→:←!M65)","v":79.2},{"$f":"SUM(→:←!N65)","v":26.400000000000002},{"$f":"SUM(→:←!O65)","v":9.9},{"$f":"SUM(→:←!P65)","v":7.9200000000000017},{"$f":"SUM(→:←!Q65)","v":4.95},{"$f":"SUM(→:←!R65)","v":0},{"$f":"SUM(→:←!S65)","v":0},{"$f":"SUM(→:←!T65)","v":165.2192},{"$f":"SUM(→:←!U65)","v":157.82784433405391},{"$f":"SUM(→:←!V65)","v":6},{"$f":"SUM(→:←!W65)","v":4.8000000000000007},{"$f":"SUM(→:←!X65)","v":0},{"$f":"SUM(→:←!Y65)","v":0},{"$f":"SUM(→:←!Z65)","v":0},{"$f":"SUM(→:←!AA65)","v":0},{"$f":"SUM(→:←!AB65)","v":0},{"$f":"SUM(→:←!AC65)","v":10.8},{"$f":"SUM(→:←!AD65)","v":147.0278443340539},{"$f":"SUM(→:←!AE65)","v":72},{"$f":"SUM(→:←!AF65)","v":0},{"$f":"SUM(→:←!AG65)","v":0},{"$f":"SUM(→:←!AH65)","v":250},{"$f":"SUM(→:←!AI65)","v":0},{"$f":"SUM(→:←!AJ65)","v":20.75},{"$f":"SUM(→:←!AK65)","v":342.75},{"$f":"SUM(→:←!AL65)","v":-195.7221556659461},{"$f":"SUM(→:←!AM65)","v":2218.0121943460872},1552.6085360422685,3098.9742198023987,4651.5827558446672,1946.8564491988641,null,{"$f":"SUM(K65:$K$70)","v":0},2218.0121943460872,null,518.76919999999996,null,622.52303999999992,{"$f":"IF($AH65>0,\"車,\",\"\")&IF($AF65>0,\"リフォーム,\",\"\")&IF(子1!C65=18,\"大学入学,\",\"\")&IF(子2!C65=18,\"大学入学,\",\"\")&IF(子3!C65=18,\"大学入学,\",\"\")&IF(子4!C65=18,\"大学入学,\",\"\")","v":"車,"}]
[null,2082,84,{"$f":"SUM(→:←!D66)","v":0},{"$f":"SUM(→:←!E66)","v":0},{"$f":"SUM(→:←!F66)","v":0},{"$f":"SUM(→:←!G66)","v":0},{"$f":"SUM(→:←!H66)","v":338.40028366153854},{"$f":"SUM(→:←!I66)","v":-15.353239327484621},{"$f":"SUM(→:←!J66)","v":323.04704433405391},{"$f":"SUM(→:←!K66)","v":0},{"$f":"SUM(→:←!L66)","v":36.849200000000003},{"$f":"SUM(→:←!M66)","v":79.2},{"$f":"SUM(→:←!N66)","v":26.400000000000002},{"$f":"SUM(→:←!O66)","v":9.9},{"$f":"SUM(→:←!P66)","v":7.9200000000000017},{"$f":"SUM(→:←!Q66)","v":4.95},{"$f":"SUM(→:←!R66)","v":0},{"$f":"SUM(→:←!S66)","v":0},{"$f":"SUM(→:←!T66)","v":165.2192},{"$f":"SUM(→:←!U66)","v":157.82784433405391},{"$f":"SUM(→:←!V66)","v":6},{"$f":"SUM(→:←!W66)","v":4.8000000000000007},{"$f":"SUM(→:←!X66)","v":0},{"$f":"SUM(→:←!Y66)","v":0},{"$f":"SUM(→:←!Z66)","v":0},{"$f":"SUM(→:←!AA66)","v":0},{"$f":"SUM(→:←!AB66)","v":0},{"$f":"SUM(→:←!AC66)","v":10.8},{"$f":"SUM(→:←!AD66)","v":147.0278443340539},{"$f":"SUM(→:←!AE66)","v":72},{"$f":"SUM(→:←!AF66)","v":0},{"$f":"SUM(→:←!AG66)","v":3},{"$f":"SUM(→:←!AH66)","v":0},{"$f":"SUM(→:←!AI66)","v":0},{"$f":"SUM(→:←!AJ66)","v":20.75},{"$f":"SUM(→:←!AK66)","v":95.75},{"$f":"SUM(→:←!AL66)","v":51.277844334053896},{"$f":"SUM(→:←!AM66)","v":2269.2900386801412},1588.5030270761063,3269.306284092735,4857.8093111688413,2070.8154179909602,null,{"$f":"SUM(K66:$K$70)","v":0},2269.2900386801412,null,271.76920000000001,null,10271.769200000001,{"$f":"IF($AH66>0,\"車,\",\"\")&IF($AF66>0,\"リフォーム,\",\"\")&IF(子1!C66=18,\"大学入学,\",\"\")&IF(子2!C66=18,\"大学入学,\",\"\")&IF(子3!C66=18,\"大学入学,\",\"\")&IF(子4!C66=18,\"大学入学,\",\"\")","v":""}]
[null,2083,85,{"$f":"SUM(→:←!D67)","v":0},{"$f":"SUM(→:←!E67)","v":0},{"$f":"SUM(→:←!F67)","v":0},{"$f":"SUM(→:←!G67)","v":0},{"$f":"SUM(→:←!H67)","v":338.40028366153854},{"$f":"SUM(→:←!I67)","v":-15.353239327484621},{"$f":"SUM(→:←!J67)","v":323.04704433405391},{"$f":"SUM(→:←!K67)","v":0},{"$f":"SUM(→:←!L67)","v":36.849200000000003},{"$f":"SUM(→:←!M67)","v":79.2},{"$f":"SUM(→:←!N67)","v":26.400000000000002},{"$f":"SUM(→:←!O67)","v":9.9},{"$f":"SUM(→:←!P67)","v":7.9200000000000017},{"$f":"SUM(→:←!Q67)","v":4.95},{"$f":"SUM(→:←!R67)","v":0},{"$f":"SUM(→:←!S67)","v":0},{"$f":"SUM(→:←!T67)","v":165.2192},{"$f":"SUM(→:←!U67)","v":157.82784433405391},{"$f":"SUM(→:←!V67)","v":6},{"$f":"SUM(→:←!W67)","v":4.8000000000000007},{"$f":"SUM(→:←!X67)","v":0},{"$f":"SUM(→:←!Y67)","v":0},{"$f":"SUM(→:←!Z67)","v":0},{"$f":"SUM(→:←!AA67)","v":0},{"$f":"SUM(→:←!AB67)","v":0},{"$f":"SUM(→:←!AC67)","v":10.8},{"$f":"SUM(→:←!AD67)","v":147.0278443340539},{"$f":"SUM(→:←!AE67)","v":72},{"$f":"SUM(→:←!AF67)","v":0},{"$f":"SUM(→:←!AG67)","v":0},{"$f":"SUM(→:←!AH67)","v":0},{"$f":"SUM(→:←!AI67)","v":0},{"$f":"SUM(→:←!AJ67)","v":20.75},{"$f":"SUM(→:←!AK67)","v":92.75},{"$f":"SUM(→:←!AL67)","v":54.277844334053896},{"$f":"SUM(→:←!AM67)","v":2323.5678830141951},1626.4975181099439,3449.0549515975881,5075.5524697075325,2201.5876693546702,null,{"$f":"SUM(K67:$K$70)","v":0},2323.5678830141951,null,268.76920000000001,null,10268.769200000001,{"$f":"IF($AH67>0,\"車,\",\"\")&IF($AF67>0,\"リフォーム,\",\"\")&IF(子1!C67=18,\"大学入学,\",\"\")&IF(子2!C67=18,\"大学入学,\",\"\")&IF(子3!C67=18,\"大学入学,\",\"\")&IF(子4!C67=18,\"大学入学,\",\"\")","v":""}]
[null,2084,86,{"$f":"SUM(→:←!D68)","v":0},{"$f":"SUM(→:←!E68)","v":0},{"$f":"SUM(→:←!F68)","v":0},{"$f":"SUM(→:←!G68)","v":0},{"$f":"SUM(→:←!H68)","v":338.40028366153854},{"$f":"SUM(→:←!I68)","v":-15.353239327484621},{"$f":"SUM(→:←!J68)","v":323.04704433405391},{"$f":"SUM(→:←!K68)","v":0},{"$f":"SUM(→:←!L68)","v":36.849200000000003},{"$f":"SUM(→:←!M68)","v":79.2},{"$f":"SUM(→:←!N68)","v":26.400000000000002},{"$f":"SUM(→:←!O68)","v":9.9},{"$f":"SUM(→:←!P68)","v":7.9200000000000017},{"$f":"SUM(→:←!Q68)","v":4.95},{"$f":"SUM(→:←!R68)","v":0},{"$f":"SUM(→:←!S68)","v":0},{"$f":"SUM(→:←!T68)","v":165.2192},{"$f":"SUM(→:←!U68)","v":157.82784433405391},{"$f":"SUM(→:←!V68)","v":6},{"$f":"SUM(→:←!W68)","v":4.8000000000000007},{"$f":"SUM(→:←!X68)","v":0},{"$f":"SUM(→:←!Y68)","v":0},{"$f":"SUM(→:←!Z68)","v":0},{"$f":"SUM(→:←!AA68)","v":0},{"$f":"SUM(→:←!AB68)","v":0},{"$f":"SUM(→:←!AC68)","v":10.8},{"$f":"SUM(→:←!AD68)","v":147.0278443340539},{"$f":"SUM(→:←!AE68)","v":72},{"$f":"SUM(→:←!AF68)","v":0},{"$f":"SUM(→:←!AG68)","v":0},{"$f":"SUM(→:←!AH68)","v":0},{"$f":"SUM(→:←!AI68)","v":0},{"$f":"SUM(→:←!AJ68)","v":20.75},{"$f":"SUM(→:←!AK68)","v":92.75},{"$f":"SUM(→:←!AL68)","v":54.277844334053896},{"$f":"SUM(→:←!AM68)","v":2377.8457273482454},1664.4920091437816,3637.7910524776839,5302.2830616214651,2339.549867418576,null,{"$f":"SUM(K68:$K$70)","v":0},2377.8457273482454,null,268.76920000000001,null,10268.769200000001,{"$f":"IF($AH68>0,\"車,\",\"\")&IF($AF68>0,\"リフォーム,\",\"\")&IF(子1!C68=18,\"大学入学,\",\"\")&IF(子2!C68=18,\"大学入学,\",\"\")&IF(子3!C68=18,\"大学入学,\",\"\")&IF(子4!C68=18,\"大学入学,\",\"\")","v":""}]
[null,2085,87,{"$f":"SUM(→:←!D69)","v":0},{"$f":"SUM(→:←!E69)","v":0},{"$f":"SUM(→:←!F69)","v":0},{"$f":"SUM(→:←!G69)","v":0},{"$f":"SUM(→:←!H69)","v":338.40028366153854},{"$f":"SUM(→:←!I69)","v":-15.353239327484621},{"$f":"SUM(→:←!J69)","v":323.04704433405391},{"$f":"SUM(→:←!K69)","v":0},{"$f":"SUM(→:←!L69)","v":36.849200000000003},{"$f":"SUM(→:←!M69)","v":79.2},{"$f":"SUM(→:←!N69)","v":26.400000000000002},{"$f":"SUM(→:←!O69)","v":9.9},{"$f":"SUM(→:←!P69)","v":7.9200000000000017},{"$f":"SUM(→:←!Q69)","v":4.95},{"$f":"SUM(→:←!R69)","v":0},{"$f":"SUM(→:←!S69)","v":0},{"$f":"SUM(→:←!T69)","v":165.2192},{"$f":"SUM(→:←!U69)","v":157.82784433405391},{"$f":"SUM(→:←!V69)","v":6},{"$f":"SUM(→:←!W69)","v":4.8000000000000007},{"$f":"SUM(→:←!X69)","v":0},{"$f":"SUM(→:←!Y69)","v":0},{"$f":"SUM(→:←!Z69)","v":0},{"$f":"SUM(→:←!AA69)","v":0},{"$f":"SUM(→:←!AB69)","v":0},{"$f":"SUM(→:←!AC69)","v":10.8},{"$f":"SUM(→:←!AD69)","v":147.0278443340539},{"$f":"SUM(→:←!AE69)","v":72},{"$f":"SUM(→:←!AF69)","v":0},{"$f":"SUM(→:←!AG69)","v":0},{"$f":"SUM(→:←!AH69)","v":0},{"$f":"SUM(→:←!AI69)","v":0},{"$f":"SUM(→:←!AJ69)","v":20.75},{"$f":"SUM(→:←!AK69)","v":92.75},{"$f":"SUM(→:←!AL69)","v":54.277844334053896},{"$f":"SUM(→:←!AM69)","v":2432.1235716822994},1702.4865001776193,3835.9639584017846,{"$f":"SUM(AN69:AO69)","v":5538.4504585794039},2485.0615095176836,null,{"$f":"SUM(K69:$K$70)","v":0},2432.1235716822994,null,268.76920000000001,null,10268.769200000001,{"$f":"IF($AH69>0,\"車,\",\"\")&IF($AF69>0,\"リフォーム,\",\"\")&IF(子1!C69=18,\"大学入学,\",\"\")&IF(子2!C69=18,\"大学入学,\",\"\")&IF(子3!C69=18,\"大学入学,\",\"\")&IF(子4!C69=18,\"大学入学,\",\"\")","v":""}]
[null,2086,88,{"$f":"SUM(→:←!D70)","v":0},{"$f":"SUM(→:←!E70)","v":0},{"$f":"SUM(→:←!F70)","v":0},{"$f":"SUM(→:←!G70)","v":0},{"$f":"SUM(→:←!H70)","v":338.40028366153854},{"$f":"SUM(→:←!I70)","v":-15.353239327484621},{"$f":"SUM(→:←!J70)","v":323.04704433405391},{"$f":"SUM(→:←!K70)","v":0},{"$f":"SUM(→:←!L70)","v":36.849200000000003},{"$f":"SUM(→:←!M70)","v":79.2},{"$f":"SUM(→:←!N70)","v":26.400000000000002},{"$f":"SUM(→:←!O70)","v":9.9},{"$f":"SUM(→:←!P70)","v":7.9200000000000017},{"$f":"SUM(→:←!Q70)","v":4.95},{"$f":"SUM(→:←!R70)","v":0},{"$f":"SUM(→:←!S70)","v":0},{"$f":"SUM(→:←!T70)","v":165.2192},{"$f":"SUM(→:←!U70)","v":157.82784433405391},{"$f":"SUM(→:←!V70)","v":6},{"$f":"SUM(→:←!W70)","v":4.8000000000000007},{"$f":"SUM(→:←!X70)","v":0},{"$f":"SUM(→:←!Y70)","v":0},{"$f":"SUM(→:←!Z70)","v":0},{"$f":"SUM(→:←!AA70)","v":0},{"$f":"SUM(→:←!AB70)","v":0},{"$f":"SUM(→:←!AC70)","v":10.8},{"$f":"SUM(→:←!AD70)","v":147.0278443340539},{"$f":"SUM(→:←!AE70)","v":72},{"$f":"SUM(→:←!AF70)","v":0},{"$f":"SUM(→:←!AG70)","v":0},{"$f":"SUM(→:←!AH70)","v":0},{"$f":"SUM(→:←!AI70)","v":0},{"$f":"SUM(→:←!AJ70)","v":20.75},{"$f":"SUM(→:←!AK70)","v":92.75},{"$f":"SUM(→:←!AL70)","v":54.277844334053896},{"$f":"SUM(→:←!AM70)","v":2486.4014160163533},1740.480991211457,4044.0455096220903,5784.5265008335473,2638.5000678537554,null,{"$f":"SUM(K70:$K$70)","v":0},2486.4014160163533,null,268.76920000000001,null,10268.769200000001,{"$f":"IF($AH70>0,\"車,\",\"\")&IF($AF70>0,\"リフォーム,\",\"\")&IF(子1!C70=18,\"大学入学,\",\"\")&IF(子2!C70=18,\"大学入学,\",\"\")&IF(子3!C70=18,\"大学入学,\",\"\")&IF(子4!C70=18,\"大学入学,\",\"\")","v":""}]
[null,null,null,{"$f":"SUM(D6:D70)","v":32988.473259511229},25890.552344000022,-723.05825000000004,null,7505.7327233538454,-346.82809308133562,33326.398724272505,5774.3997421368495,1854.5766661192943,5979.599999999994,1993.2000000000037,712.79999999999905,570.24000000000024,356.39999999999952,null,{"$f":"SUM(S6:S70)","v":0},17745.216408256143,15581.18231601636,390,364.80000000000035,144,288,1176.7309,432,0,2795.5309000000061,12785.651416016366,5136,870,363,2550,0,1380.25,10299.25,2486.4014160163683,null,null,null,null,null,null,null,null,null,{"$f":"T71+AC71+AK71","v":30839.997308256148}]

{"sheet":"→","index":2,"n_rows":5,"n_cols":47,"rows_kept":5,"cut":false,"hidden":false,"merged":[]}
[]
[null,null,null,null,null,null,null,null,"収入",null,null,null,null,null,null,null,null,null,null,"収支 小計",null,null,null,null,null,null,null,null,"収支 小計",null,null,null,null,null,null,null,"収支","収支累計",null,null,"投資をしたら","投資額","貯金",null,"投資計算","累積投資額","投資収入"]
[null,null,null,null,null,null,null,null,null,null,null,null,null,null,null,null,null,null,"支出1  衣食住",null,null,null,null,null,null,null,null,"支出2  固定費",null,null,null,null,null,null,null,null,"支出3  衣食住勉"]
[null,"西暦","年齢","年収","手取り","雑収入",null,null,null,"住居","住居維持費","食費","服費","電気","ガス","水道",null,null,null,null,"インターネット","携帯","塾","学校",null,null,null,null,null,null,"雑費","家具","車1",null,null,"合計",null,null,null,null,"毎月"]
[null,"貯金"]

{"sheet":"親1","index":3,"n_rows":81,"n_cols":50,"rows_kept":81,"cut":false,"hidden":false,"merged":[]}
[null,null,null,null,null,null,null,null,null,null,null,null,{"$f":"入力!$AD$11*12*(1+入力!$AD$16)","v":39.6},{"$f":"入力!$AE$11*12*(1+入力!$AD$16)","v":13.200000000000001},{"$f":"入力!$AF$11*12*(1+入力!$AD$16)","v":6.6000000000000005},{"$f":"入力!$AG$11*12*(1+入力!$AD$16)","v":5.2800000000000011},{"$f":"入力!$AH$11*12*(1+入力!$AD$16)","v":3.3000000000000003},null,null,null,null,{"$f":"入力!$AI$11*12","v":6},{"$f":"入力!$AJ$11*12","v":2.4000000000000004},null,null,null,null,null,null,null,{"$f":"入力!$D$38*12","v":36}]
[null,null,null,null,null,null,null,null,null,"収入",null,null,null,null,null,null,null,null,null,null,"収支 小計",null,null,null,null,null,null,null,null,"収支 小計",null,null,null,null,null,null,null,"収支","収支累計"]
[null,null,null,null,null,null,null,null,null,null,null,null,null,null,null,null,null,null,null,"支出1  衣食住",null,null,null,null,null,null,null,null,"支出2  固定費",null,null,null,null,null,null,null,"支出3  衣食住勉"]
[null,"西暦","年齢","年収","手取り","時短等","退職金","年金",null,null,"住居","住居維持費\n(含むローン控除)","食費","服費","電気","ガス","水道","保険",null,null,null,"インターネット","携帯","塾・仕送り","習い事","学費",null,null,null,null,"お小遣い","雑費","家具","車1","車2","車維持費","合計",null,null,null,null,null,null,null,"子供手当の\n扶養人数","子供の人数",null,"年金の計算"]
[null,"貯金",null,null,null,null,null,null,null,null,null,null,null,null,null,null,null,null,null,null,null,null,null,null,null,null,null,null,null,null,null,null,null,null,null,null,null,null,{"$f":"SUM(AN5:AO5)","v":0},{"$f":"入力!$D$11","v":0},{"$f":"入力!$E$11","v":0}]
[null,19,{"$f":"入力!$D$17","v":24},{"$f":"IF(C6>入力!$D$22,0,VLOOKUP(C6,賃金カーブ!R:T,3,0))","v":369.7506557197238},{"$f":"VLOOKUP(D6,年収と手取り!X:Y,2,1)","v":281.50351999999998},{"$f":"入力!$E$28","v":0},{"$f":"IF(C6=入力!D$22,入力!E$31,0)","v":0},{"$f":"IF(C6>65,6.5+$E$71/COUNTIF($E$6:$E$70,\">0\")*1.8%,0)*12","v":0},{"$f":"IF(H6>0,-年金の税金!$G$24/10000,0)","v":0},{"$f":"SUM(E6:I6)","v":281.50351999999998},null,null,{"$f":"M$1","v":39.6},{"$f":"N$1","v":13.200000000000001},6.6000000000000005,5.2800000000000011,3.3000000000000003,{"$f":"IF(C6>65,0,IF(OR(AND(子1!C6>=0,子1!C6<=18),AND(子2!C6>=0,子2!C6<=18),AND(子3!C6>=0,子3!C6<=18),AND(子4!C6>=0,子4!C6<=18)),入力!$D$35,入力!$D$34)*12)","v":12},null,{"$f":"SUM(K6:S6)","v":79.98},{"$f":"J6-T6","v":201.52351999999996},{"$f":"V$1","v":6},2.4000000000000004,null,null,null,null,null,{"$f":"SUM(V6:AB6)","v":8.4},{"$f":"U6-AC6","v":193.12351999999996},{"$f":"AE$1","v":36},null,null,null,null,null,{"$f":"SUM(AE6:AJ6)","v":36},{"$f":"AD6-AK6","v":157.12351999999996},{"$f":"AL6+AM5","v":157.12351999999996},null,null,null,null,null,{"$f":"(親2!E6<103)*1+AND(子1!C6>=0,子1!C6<15)*1+AND(子2!C6>=0,子2!C6<15)*1+AND(子3!C6>=0,子3!C6<15)*1+AND(子4!C6>=0,子4!C6<15)*1","v":0},{"$f":"AND(子1!AC6>0)*1+AND(子2!AC6>0)*1+AND(子3!AC6>0)*1+AND(子4!AC6>0)*1","v":0},{"$f":"IF(AND(AT6=0,AT5=0),\"夫婦\",IF(AT6=1,\"子1人\",IF(AT6>=2,\"子2人以上\",\"子離れ\")))","v":"夫婦"},{"$f":"IF(D6,VLOOKUP(D6,年収と手取り!C:I,7,1),0)/9.1%","v":386.10989010989005}]
[null,{"$f":"B6+1","v":20},{"$f":"C6+1","v":25},{"$f":"IF(C7>入力!$D$22,0,VLOOKUP(C7,賃金カーブ!R:T,3,0))","v":382.13050993949867},{"$f":"VLOOKUP(D7,年収と手取り!X:Y,2,1)","v":299.10352},{"$f":"入力!$E$28","v":0},{"$f":"IF(C7=入力!D$22,入力!E$31,0)","v":0},0,{"$f":"IF(H7>0,-年金の税金!$G$24/10000,0)","v":0},299.10352,null,null,{"$f":"M$1","v":39.6},13.200000000000001,6.6000000000000005,5.2800000000000011,3.3000000000000003,{"$f":"IF(C7>65,0,IF(OR(AND(子1!C7>=0,子1!C7<=18),AND(子2!C7>=0,子2!C7<=18),AND(子3!C7>=0,子3!C7<=18),AND(子4!C7>=0,子4!C7<=18)),入力!$D$35,入力!$D$34)*12)","v":12},null,79.98,219.12351999999998,6,2.4000000000000004,null,null,null,null,null,8.4,210.72351999999998,{"$f":"AE$1","v":36},null,null,null,null,null,{"$f":"SUM(AE7:AJ7)","v":36},174.72351999999998,331.84703999999994,null,null,null,null,null,{"$f":"(親2!E7<103)*1+AND(子1!C7>=0,子1!C7<15)*1+AND(子2!C7>=0,子2!C7<15)*1+AND(子3!C7>=0,子3!C7<15)*1+AND(子4!C7>=0,子4!C7<15)*1","v":0},{"$f":"AND(子1!AC7>0)*1+AND(子2!AC7>0)*1+AND(子3!AC7>0)*1+AND(子4!AC7>0)*1","v":0},{"$f":"IF(AND(AT7=0,AT6=0),\"夫婦\",IF(AT7=1,\"子1人\",IF(AT7>=2,\"子2人以上\",\"子離れ\")))","v":"夫婦"},{"$f":"IF(D7,VLOOKUP(D7,年収と手取り!C:I,7,1),0)/9.1%","v":386.10989010989005}]
[null,{"$f":"B7+1","v":21},{"$f":"C7+1","v":26},{"$f":"IF(C8>入力!$D$22,0,VLOOKUP(C8,賃金カーブ!R:T,3,0))","v":393.37623919667942},{"$f":"VLOOKUP(D8,年収と手取り!X:Y,2,1)","v":307.90352000000001},{"$f":"入力!$E$28","v":0},{"$f":"IF(C8=入力!D$22,入力!E$31,0)","v":0},0,{"$f":"IF(H8>0,-年金の税金!$G$24/10000,0)","v":0},307.90352000000001,null,null,39.6,13.200000000000001,6.6000000000000005,5.2800000000000011,3.3000000000000003,{"$f":"IF(C8>65,0,IF(OR(AND(子1!C8>=0,子1!C8<=18),AND(子2!C8>=0,子2!C8<=18),AND(子3!C8>=0,子3!C8<=18),AND(子4!C8>=0,子4!C8<=18)),入力!$D$35,入力!$D$34)*12)","v":12},null,79.98,227.92352,6,2.4000000000000004,null,null,null,null,null,8.4,219.52351999999999,36,null,null,null,null,null,36,183.52351999999999,515.37055999999995,null,null,null,null,null,{"$f":"(親2!E8<103)*1+AND(子1!C8>=0,子1!C8<15)*1+AND(子2!C8>=0,子2!C8<15)*1+AND(子3!C8>=0,子3!C8<15)*1+AND(子4!C8>=0,子4!C8<15)*1","v":0},{"$f":"AND(子1!AC8>0)*1+AND(子2!AC8>0)*1+AND(子3!AC8>0)*1+AND(子4!AC8>0)*1","v":0},"夫婦",{"$f":"IF(D8,VLOOKUP(D8,年収と手取り!C:I,7,1),0)/9.1%","v":386.10989010989005}]
[null,22,27,{"$f":"IF(C9>入力!$D$22,0,VLOOKUP(C9,賃金カーブ!R:T,3,0))","v":404.95291932859095},{"$f":"VLOOKUP(D9,年収と手取り!X:Y,2,1)","v":313.60374000000002},{"$f":"入力!$E$28","v":0},{"$f":"IF(C9=入力!D$22,入力!E$31,0)","v":0},0,{"$f":"IF(H9>0,-年金の税金!$G$24/10000,0)","v":0},313.60374000000002,null,null,39.6,13.200000000000001,6.6000000000000005,5.2800000000000011,3.3000000000000003,{"$f":"IF(C9>65,0,IF(OR(AND(子1!C9>=0,子1!C9<=18),AND(子2!C9>=0,子2!C9<=18),AND(子3!C9>=0,子3!C9<=18),AND(子4!C9>=0,子4!C9<=18)),入力!$D$35,入力!$D$34)*12)","v":12},null,79.98,233.62374,6,2.4000000000000004,null,null,null,null,null,8.4,225.22373999999999,36,null,null,null,null,null,36,189.22373999999999,704.59429999999998,null,null,null,null,null,{"$f":"(親2!E9<103)*1+AND(子1!C9>=0,子1!C9<15)*1+AND(子2!C9>=0,子2!C9<15)*1+AND(子3!C9>=0,子3!C9<15)*1+AND(子4!C9>=0,子4!C9<15)*1","v":0},{"$f":"AND(子1!AC9>0)*1+AND(子2!AC9>0)*1+AND(子3!AC9>0)*1+AND(子4!AC9>0)*1","v":0},"夫婦",{"$f":"IF(D9,VLOOKUP(D9,年収と手取り!C:I,7,1),0)/9.1%","v":410.24175824175819}]
[null,23,28,{"$f":"IF(C10>入力!$D$22,0,VLOOKUP(C10,賃金カーブ!R:T,3,0))","v":416.87028989760228},{"$f":"VLOOKUP(D10,年収と手取り!X:Y,2,1)","v":322.40374000000003},{"$f":"入力!$E$28","v":0},{"$f":"IF(C10=入力!D$22,入力!E$31,0)","v":0},0,{"$f":"IF(H10>0,-年金の税金!$G$24/10000,0)","v":0},322.40374000000003,null,null,39.6,13.200000000000001,6.6000000000000005,5.2800000000000011,3.3000000000000003,{"$f":"IF(C10>65,0,IF(OR(AND(子1!C10>=0,子1!C10<=18),AND(子2!C10>=0,子2!C10<=18),AND(子3!C10>=0,子3!C10<=18),AND(子4!C10>=0,子4!C10<=18)),入力!$D$35,入力!$D$34)*12)","v":12},null,79.98,242.42374000000001,6,2.4000000000000004,null,null,null,null,null,8.4,234.02374,36,null,null,null,null,null,36,198.02374,902.61803999999995,null,null,null,null,null,{"$f":"(親2!E10<103)*1+AND(子1!C10>=0,子1!C10<15)*1+AND(子2!C10>=0,子2!C10<15)*1+AND(子3!C10>=0,子3!C10<15)*1+AND(子4!C10>=0,子4!C10<15)*1","v":1},{"$f":"AND(子1!AC10>0)*1+AND(子2!AC10>0)*1+AND(子3!AC10>0)*1+AND(子4!AC10>0)*1","v":1},"子1人",{"$f":"IF(D10,VLOOKUP(D10,年収と手取り!C:I,7,1),0)/9.1%","v":410.24175824175819}]
[null,24,29,{"$f":"IF(C11>入力!$D$22,0,VLOOKUP(C11,賃金カーブ!R:T,3,0))","v":429.13837709193047},{"$f":"VLOOKUP(D11,年収と手取り!X:Y,2,1)","v":328.10396000000003},{"$f":"入力!$E$28","v":0},{"$f":"IF(C11=入力!D$22,入力!E$31,0)","v":0},0,{"$f":"IF(H11>0,-年金の税金!$G$24/10000,0)","v":0},328.10396000000003,null,null,39.6,13.200000000000001,6.6000000000000005,5.2800000000000011,3.3000000000000003,{"$f":"IF(C11>65,0,IF(OR(AND(子1!C11>=0,子1!C11<=18),AND(子2!C11>=0,子2!C11<=18),AND(子3!C11>=0,子3!C11<=18),AND(子4!C11>=0,子4!C11<=18)),入力!$D$35,入力!$D$34)*12)","v":12},null,79.98,248.12396000000001,6,2.4000000000000004,null,null,null,null,null,8.4,239.72396000000001,36,null,null,null,null,null,36,203.72396000000001,1106.3419999999999,null,null,null,null,null,{"$f":"(親2!E11<103)*1+AND(子1!C11>=0,子1!C11<15)*1+AND(子2!C11>=0,子2!C11<15)*1+AND(子3!C11>=0,子3!C11<15)*1+AND(子4!C11>=0,子4!C11<15)*1","v":1},{"$f":"AND(子1!AC11>0)*1+AND(子2!AC11>0)*1+AND(子3!AC11>0)*1+AND(子4!AC11>0)*1","v":1},"子1人",{"$f":"IF(D11,VLOOKUP(D11,年収と手取り!C:I,7,1),0)/9.1%","v":434.37362637362639}]
[null,25,30,{"$f":"IF(C12>入力!$D$22,0,VLOOKUP(C12,賃金カーブ!R:T,3,0))","v":441.76750216076061},{"$f":"VLOOKUP(D12,年収と手取り!X:Y,2,1)","v":345.70396},{"$f":"入力!$E$28","v":0},{"$f":"IF(C12=入力!D$22,入力!E$31,0)","v":0},0,{"$f":"IF(H12>0,-年金の税金!$G$24/10000,0)","v":0},345.70396,null,null,39.6,13.200000000000001,6.6000000000000005,5.2800000000000011,3.3000000000000003,{"$f":"IF(C12>65,0,IF(OR(AND(子1!C12>=0,子1!C12<=18),AND(子2!C12>=0,子2!C12<=18),AND(子3!C12>=0,子3!C12<=18),AND(子4!C12>=0,子4!C12<=18)),入力!$D$35,入力!$D$34)*12)","v":12},null,79.98,265.72395999999998,6,2.4000000000000004,null,null,null,null,null,8.4,257.32396,36,null,null,null,null,null,36,221.32396,1327.6659599999998,null,null,null,null,null,{"$f":"(親2!E12<103)*1+AND(子1!C12>=0,子1!C12<15)*1+AND(子2!C12>=0,子2!C12<15)*1+AND(子3!C12>=0,子3!C12<15)*1+AND(子4!C12>=0,子4!C12<15)*1","v":1},{"$f":"AND(子1!AC12>0)*1+AND(子2!AC12>0)*1+AND(子3!AC12>0)*1+AND(子4!AC12>0)*1","v":1},"子1人",{"$f":"IF(D12,VLOOKUP(D12,年収と手取り!C:I,7,1),0)/9.1%","v":434.37362637362639}]
[null,26,31,{"$f":"IF(C13>入力!$D$22,0,VLOOKUP(C13,賃金カーブ!R:T,3,0))","v":452.62893912920146},{"$f":"VLOOKUP(D13,年収と手取り!X:Y,2,1)","v":351.21863999999999},{"$f":"入力!$E$28","v":0},{"$f":"IF(C13=入力!D$22,入力!E$31,0)","v":0},0,{"$f":"IF(H13>0,-年金の税金!$G$24/10000,0)","v":0},351.21863999999999,null,null,39.6,13.200000000000001,6.6000000000000005,5.2800000000000011,3.3000000000000003,{"$f":"IF(C13>65,0,IF(OR(AND(子1!C13>=0,子1!C13<=18),AND(子2!C13>=0,子2!C13<=18),AND(子3!C13>=0,子3!C13<=18),AND(子4!C13>=0,子4!C13<=18)),入力!$D$35,入力!$D$34)*12)","v":12},null,79.98,271.23863999999998,6,2.4000000000000004,null,null,null,null,null,8.4,262.83864,36,null,null,null,null,null,36,226.83864,1554.5045999999998,null,null,null,null,null,{"$f":"(親2!E13<103)*1+AND(子1!C13>=0,子1!C13<15)*1+AND(子2!C13>=0,子2!C13<15)*1+AND(子3!C13>=0,子3!C13<15)*1+AND(子4!C13>=0,子4!C13<15)*1","v":2},{"$f":"AND(子1!AC13>0)*1+AND(子2!AC13>0)*1+AND(子3!AC13>0)*1+AND(子4!AC13>0)*1","v":2},"子2人以上",{"$f":"IF(D13,VLOOKUP(D13,年収と手取り!C:I,7,1),0)/9.1%","v":458.50549450549448}]
[null,27,32,{"$f":"IF(C14>入力!$D$22,0,VLOOKUP(C14,賃金カーブ!R:T,3,0))","v":463.75741885756111},{"$f":"VLOOKUP(D14,年収と手取り!X:Y,2,1)","v":359.61864000000003},{"$f":"入力!$E$28","v":0},{"$f":"IF(C14=入力!D$22,入力!E$31,0)","v":0},0,{"$f":"IF(H14>0,-年金の税金!$G$24/10000,0)","v":0},359.61864000000003,null,null,39.6,13.200000000000001,6.6000000000000005,5.2800000000000011,3.3000000000000003,{"$f":"IF(C14>65,0,IF(OR(AND(子1!C14>=0,子1!C14<=18),AND(子2!C14>=0,子2!C14<=18),AND(子3!C14>=0,子3!C14<=18),AND(子4!C14>=0,子4!C14<=18)),入力!$D$35,入力!$D$34)*12)","v":12},null,79.98,279.63864000000001,6,2.4000000000000004,null,null,null,null,null,8.4,271.23864000000003,36,null,null,null,null,null,36,235.23864000000003,1789.7432399999998,null,null,null,null,null,{"$f":"(親2!E14<103)*1+AND(子1!C14>=0,子1!C14<15)*1+AND(子2!C14>=0,子2!C14<15)*1+AND(子3!C14>=0,子3!C14<15)*1+AND(子4!C14>=0,子4!C14<15)*1","v":2},{"$f":"AND(子1!AC14>0)*1+AND(子2!AC14>0)*1+AND(子3!AC14>0)*1+AND(子4!AC14>0)*1","v":2},"子2人以上",{"$f":"IF(D14,VLOOKUP(D14,年収と手取り!C:I,7,1),0)/9.1%","v":458.50549450549448}]
[null,28,33,{"$f":"IF(C15>入力!$D$22,0,VLOOKUP(C15,賃金カーブ!R:T,3,0))","v":475.1595069444644},{"$f":"VLOOKUP(D15,年収と手取り!X:Y,2,1)","v":368.01864},{"$f":"入力!$E$28","v":0},{"$f":"IF(C15=入力!D$22,入力!E$31,0)","v":0},0,{"$f":"IF(H15>0,-年金の税金!$G$24/10000,0)","v":0},368.01864,null,null,39.6,13.200000000000001,6.6000000000000005,5.2800000000000011,3.3000000000000003,{"$f":"IF(C15>65,0,IF(OR(AND(子1!C15>=0,子1!C15<=18),AND(子2!C15>=0,子2!C15<=18),AND(子3!C15>=0,子3!C15<=18),AND(子4!C15>=0,子4!C15<=18)),入力!$D$35,入力!$D$34)*12)","v":12},null,79.98,288.03863999999999,6,2.4000000000000004,null,null,null,null,null,8.4,279.63864000000001,36,null,null,null,null,null,36,243.63864000000001,2033.3818799999999,null,null,null,null,null,{"$f":"(親2!E15<103)*1+AND(子1!C15>=0,子1!C15<15)*1+AND(子2!C15>=0,子2!C15<15)*1+AND(子3!C15>=0,子3!C15<15)*1+AND(子4!C15>=0,子4!C15<15)*1","v":2},{"$f":"AND(子1!AC15>0)*1+AND(子2!AC15>0)*1+AND(子3!AC15>0)*1+AND(子4!AC15>0)*1","v":2},"子2人以上",{"$f":"IF(D15,VLOOKUP(D15,年収と手取り!C:I,7,1),0)/9.1%","v":458.50549450549448}]
[null,29,34,{"$f":"IF(C16>入力!$D$22,0,VLOOKUP(C16,賃金カーブ!R:T,3,0))","v":486.84193041244208},{"$f":"VLOOKUP(D16,年収と手取り!X:Y,2,1)","v":372.04247999999995},{"$f":"入力!$E$28","v":0},{"$f":"IF(C16=入力!D$22,入力!E$31,0)","v":0},0,{"$f":"IF(H16>0,-年金の税金!$G$24/10000,0)","v":0},372.04247999999995,null,null,39.6,13.200000000000001,6.6000000000000005,5.2800000000000011,3.3000000000000003,{"$f":"IF(C16>65,0,IF(OR(AND(子1!C16>=0,子1!C16<=18),AND(子2!C16>=0,子2!C16<=18),AND(子3!C16>=0,子3!C16<=18),AND(子4!C16>=0,子4!C16<=18)),入力!$D$35,入力!$D$34)*12)","v":12},null,79.98,292.06247999999994,6,2.4000000000000004,null,null,null,null,null,8.4,283.66247999999996,36,null,null,null,null,null,36,247.66247999999996,2281.0443599999999,null,null,null,null,null,{"$f":"(親2!E16<103)*1+AND(子1!C16>=0,子1!C16<15)*1+AND(子2!C16>=0,子2!C16<15)*1+AND(子3!C16>=0,子3!C16<15)*1+AND(子4!C16>=0,子4!C16<15)*1","v":2},{"$f":"AND(子1!AC16>0)*1+AND(子2!AC16>0)*1+AND(子3!AC16>0)*1+AND(子4!AC16>0)*1","v":2},"子2人以上",{"$f":"IF(D16,VLOOKUP(D16,年収と手取り!C:I,7,1),0)/9.1%","v":494.7032967032967}]
[null,30,35,{"$f":"IF(C17>入力!$D$22,0,VLOOKUP(C17,賃金カーブ!R:T,3,0))","v":498.81158167675022},{"$f":"VLOOKUP(D17,年収と手取り!X:Y,2,1)","v":380.44247999999999},{"$f":"入力!$E$28","v":0},{"$f":"IF(C17=入力!D$22,入力!E$31,0)","v":0},0,{"$f":"IF(H17>0,-年金の税金!$G$24/10000,0)","v":0},380.44247999999999,null,null,39.6,13.200000000000001,6.6000000000000005,5.2800000000000011,3.3000000000000003,{"$f":"IF(C17>65,0,IF(OR(AND(子1!C17>=0,子1!C17<=18),AND(子2!C17>=0,子2!C17<=18),AND(子3!C17>=0,子3!C17<=18),AND(子4!C17>=0,子4!C17<=18)),入力!$D$35,入力!$D$34)*12)","v":12},null,79.98,300.46247999999997,6,2.4000000000000004,null,null,null,null,null,8.4,292.06247999999999,36,null,null,null,null,null,36,256.06247999999999,2537.1068399999999,null,null,null,null,null,{"$f":"(親2!E17<103)*1+AND(子1!C17>=0,子1!C17<15)*1+AND(子2!C17>=0,子2!C17<15)*1+AND(子3!C17>=0,子3!C17<15)*1+AND(子4!C17>=0,子4!C17<15)*1","v":2},{"$f":"AND(子1!AC17>0)*1+AND(子2!AC17>0)*1+AND(子3!AC17>0)*1+AND(子4!AC17>0)*1","v":2},"子2人以上",{"$f":"IF(D17,VLOOKUP(D17,年収と手取り!C:I,7,1),0)/9.1%","v":494.7032967032967}]
[null,31,36,{"$f":"IF(C18>入力!$D$22,0,VLOOKUP(C18,賃金カーブ!R:T,3,0))","v":508.05627670446523},{"$f":"VLOOKUP(D18,年収と手取り!X:Y,2,1)","v":388.84248000000002},{"$f":"入力!$E$28","v":0},{"$f":"IF(C18=入力!D$22,入力!E$31,0)","v":0},0,{"$f":"IF(H18>0,-年金の税金!$G$24/10000,0)","v":0},388.84248000000002,null,null,39.6,13.200000000000001,6.6000000000000005,5.2800000000000011,3.3000000000000003,{"$f":"IF(C18>65,0,IF(OR(AND(子1!C18>=0,子1!C18<=18),AND(子2!C18>=0,子2!C18<=18),AND(子3!C18>=0,子3!C18<=18),AND(子4!C18>=0,子4!C18<=18)),入力!$D$35,入力!$D$34)*12)","v":12},null,79.98,308.86248000000001,6,2.4000000000000004,null,null,null,null,null,8.4,300.46248000000003,36,null,null,null,null,null,36,264.46248000000003,2801.5693200000001,null,null,null,null,null,{"$f":"(親2!E18<103)*1+AND(子1!C18>=0,子1!C18<15)*1+AND(子2!C18>=0,子2!C18<15)*1+AND(子3!C18>=0,子3!C18<15)*1+AND(子4!C18>=0,子4!C18<15)*1","v":2},{"$f":"AND(子1!AC18>0)*1+AND(子2!AC18>0)*1+AND(子3!AC18>0)*1+AND(子4!AC18>0)*1","v":2},"子2人以上",{"$f":"IF(D18,VLOOKUP(D18,年収と手取り!C:I,7,1),0)/9.1%","v":494.7032967032967}]
[null,32,37,{"$f":"IF(C19>入力!$D$22,0,VLOOKUP(C19,賃金カーブ!R:T,3,0))","v":517.47230774219861},{"$f":"VLOOKUP(D19,年収と手取り!X:Y,2,1)","v":392.86632000000003},{"$f":"入力!$E$28","v":0},{"$f":"IF(C19=入力!D$22,入力!E$31,0)","v":0},0,{"$f":"IF(H19>0,-年金の税金!$G$24/10000,0)","v":0},392.86632000000003,null,null,39.6,13.200000000000001,6.6000000000000005,5.2800000000000011,3.3000000000000003,{"$f":"IF(C19>65,0,IF(OR(AND(子1!C19>=0,子1!C19<=18),AND(子2!C19>=0,子2!C19<=18),AND(子3!C19>=0,子3!C19<=18),AND(子4!C19>=0,子4!C19<=18)),入力!$D$35,入力!$D$34)*12)","v":12},null,79.98,312.88632000000001,6,2.4000000000000004,null,null,null,null,null,8.4,304.48632000000003,36,null,null,null,null,null,36,268.48632000000003,3070.05564,null,null,null,null,null,{"$f":"(親2!E19<103)*1+AND(子1!C19>=0,子1!C19<15)*1+AND(子2!C19>=0,子2!C19<15)*1+AND(子3!C19>=0,子3!C19<15)*1+AND(子4!C19>=0,子4!C19<15)*1","v":2},{"$f":"AND(子1!AC19>0)*1+AND(子2!AC19>0)*1+AND(子3!AC19>0)*1+AND(子4!AC19>0)*1","v":2},"子2人以上",{"$f":"IF(D19,VLOOKUP(D19,年収と手取り!C:I,7,1),0)/9.1%","v":530.90109890109886}]
[null,33,38,{"$f":"IF(C20>入力!$D$22,0,VLOOKUP(C20,賃金カーブ!R:T,3,0))","v":527.06285023578619},{"$f":"VLOOKUP(D20,年収と手取り!X:Y,2,1)","v":401.26632000000001},{"$f":"入力!$E$28","v":0},{"$f":"IF(C20=入力!D$22,入力!E$31,0)","v":0},0,{"$f":"IF(H20>0,-年金の税金!$G$24/10000,0)","v":0},401.26632000000001,null,null,39.6,13.200000000000001,6.6000000000000005,5.2800000000000011,3.3000000000000003,{"$f":"IF(C20>65,0,IF(OR(AND(子1!C20>=0,子1!C20<=18),AND(子2!C20>=0,子2!C20<=18),AND(子3!C20>=0,子3!C20<=18),AND(子4!C20>=0,子4!C20<=18)),入力!$D$35,入力!$D$34)*12)","v":12},null,79.98,321.28631999999999,6,2.4000000000000004,null,null,null,null,null,8.4,312.88632000000001,36,null,null,null,null,null,36,276.88632000000001,3346.9419600000001,null,null,null,null,null,{"$f":"(親2!E20<103)*1+AND(子1!C20>=0,子1!C20<15)*1+AND(子2!C20>=0,子2!C20<15)*1+AND(子3!C20>=0,子3!C20<15)*1+AND(子4!C20>=0,子4!C20<15)*1","v":2},{"$f":"AND(子1!AC20>0)*1+AND(子2!AC20>0)*1+AND(子3!AC20>0)*1+AND(子4!AC20>0)*1","v":2},"子2人以上",{"$f":"IF(D20,VLOOKUP(D20,年収と手取り!C:I,7,1),0)/9.1%","v":530.90109890109886}]
[null,34,39,{"$f":"IF(C21>入力!$D$22,0,VLOOKUP(C21,賃金カーブ!R:T,3,0))","v":536.83113848300195},{"$f":"VLOOKUP(D21,年収と手取り!X:Y,2,1)","v":409.66631999999998},{"$f":"入力!$E$28","v":0},{"$f":"IF(C21=入力!D$22,入力!E$31,0)","v":0},0,{"$f":"IF(H21>0,-年金の税金!$G$24/10000,0)","v":0},409.66631999999998,null,null,39.6,13.200000000000001,6.6000000000000005,5.2800000000000011,3.3000000000000003,{"$f":"IF(C21>65,0,IF(OR(AND(子1!C21>=0,子1!C21<=18),AND(子2!C21>=0,子2!C21<=18),AND(子3!C21>=0,子3!C21<=18),AND(子4!C21>=0,子4!C21<=18)),入力!$D$35,入力!$D$34)*12)","v":12},null,79.98,329.68631999999997,6,2.4000000000000004,null,null,null,null,null,8.4,321.28631999999999,36,null,null,null,null,null,36,285.28631999999999,3632.2282800000003,null,null,null,null,null,{"$f":"(親2!E21<103)*1+AND(子1!C21>=0,子1!C21<15)*1+AND(子2!C21>=0,子2!C21<15)*1+AND(子3!C21>=0,子3!C21<15)*1+AND(子4!C21>=0,子4!C21<15)*1","v":2},{"$f":"AND(子1!AC21>0)*1+AND(子2!AC21>0)*1+AND(子3!AC21>0)*1+AND(子4!AC21>0)*1","v":2},"子2人以上",{"$f":"IF(D21,VLOOKUP(D21,年収と手取り!C:I,7,1),0)/9.1%","v":530.90109890109886}]
[null,35,40,{"$f":"IF(C22>入力!$D$22,0,VLOOKUP(C22,賃金カーブ!R:T,3,0))","v":546.78046672428684},{"$f":"VLOOKUP(D22,年収と手取り!X:Y,2,1)","v":418.06632000000002},{"$f":"入力!$E$28","v":0},{"$f":"IF(C22=入力!D$22,入力!E$31,0)","v":0},0,{"$f":"IF(H22>0,-年金の税金!$G$24/10000,0)","v":0},418.06632000000002,null,null,39.6,13.200000000000001,6.6000000000000005,5.2800000000000011,3.3000000000000003,{"$f":"IF(C22>65,0,IF(OR(AND(子1!C22>=0,子1!C22<=18),AND(子2!C22>=0,子2!C22<=18),AND(子3!C22>=0,子3!C22<=18),AND(子4!C22>=0,子4!C22<=18)),入力!$D$35,入力!$D$34)*12)","v":12},null,79.98,338.08632,6,2.4000000000000004,null,null,null,null,null,8.4,329.68632000000002,36,null,null,null,null,null,36,293.68632000000002,3925.9146000000001,null,null,null,null,null,{"$f":"(親2!E22<103)*1+AND(子1!C22>=0,子1!C22<15)*1+AND(子2!C22>=0,子2!C22<15)*1+AND(子3!C22>=0,子3!C22<15)*1+AND(子4!C22>=0,子4!C22<15)*1","v":2},{"$f":"AND(子1!AC22>0)*1+AND(子2!AC22>0)*1+AND(子3!AC22>0)*1+AND(子4!AC22>0)*1","v":2},"子2人以上",{"$f":"IF(D22,VLOOKUP(D22,年収と手取り!C:I,7,1),0)/9.1%","v":530.90109890109886}]
[null,36,41,{"$f":"IF(C23>入力!$D$22,0,VLOOKUP(C23,賃金カーブ!R:T,3,0))","v":555.69017209107403},{"$f":"VLOOKUP(D23,年収と手取り!X:Y,2,1)","v":422.09016000000003},{"$f":"入力!$E$28","v":0},{"$f":"IF(C23=入力!D$22,入力!E$31,0)","v":0},0,{"$f":"IF(H23>0,-年金の税金!$G$24/10000,0)","v":0},422.09016000000003,null,null,{"$f":"M$1","v":39.6},13.200000000000001,6.6000000000000005,5.2800000000000011,3.3000000000000003,{"$f":"IF(C23>65,0,IF(OR(AND(子1!C23>=0,子1!C23<=18),AND(子2!C23>=0,子2!C23<=18),AND(子3!C23>=0,子3!C23<=18),AND(子4!C23>=0,子4!C23<=18)),入力!$D$35,入力!$D$34)*12)","v":12},null,79.98,342.11016000000001,6,2.4000000000000004,null,null,null,null,null,8.4,333.71016000000003,36,null,null,null,null,null,36,297.71016000000003,4223.6247599999997,null,null,null,null,null,{"$f":"(親2!E23<103)*1+AND(子1!C23>=0,子1!C23<15)*1+AND(子2!C23>=0,子2!C23<15)*1+AND(子3!C23>=0,子3!C23<15)*1+AND(子4!C23>=0,子4!C23<15)*1","v":2},{"$f":"AND(子1!AC23>0)*1+AND(子2!AC23>0)*1+AND(子3!AC23>0)*1+AND(子4!AC23>0)*1","v":2},"子2人以上",{"$f":"IF(D23,VLOOKUP(D23,年収と手取り!C:I,7,1),0)/9.1%","v":567.09890109890102}]
[null,37,42,{"$f":"IF(C24>入力!$D$22,0,VLOOKUP(C24,賃金カーブ!R:T,3,0))","v":564.74505976511989},{"$f":"VLOOKUP(D24,年収と手取り!X:Y,2,1)","v":430.49016},{"$f":"入力!$E$28","v":0},{"$f":"IF(C24=入力!D$22,入力!E$31,0)","v":0},0,{"$f":"IF(H24>0,-年金の税金!$G$24/10000,0)","v":0},430.49016,null,null,39.6,13.200000000000001,6.6000000000000005,5.2800000000000011,3.3000000000000003,{"$f":"IF(C24>65,0,IF(OR(AND(子1!C24>=0,子1!C24<=18),AND(子2!C24>=0,子2!C24<=18),AND(子3!C24>=0,子3!C24<=18),AND(子4!C24>=0,子4!C24<=18)),入力!$D$35,入力!$D$34)*12)","v":12},null,79.98,350.51015999999998,6,2.4000000000000004,null,null,null,null,null,8.4,342.11016000000001,36,null,null,null,null,null,36,306.11016000000001,4529.7349199999999,null,null,null,null,null,{"$f":"(親2!E24<103)*1+AND(子1!C24>=0,子1!C24<15)*1+AND(子2!C24>=0,子2!C24<15)*1+AND(子3!C24>=0,子3!C24<15)*1+AND(子4!C24>=0,子4!C24<15)*1","v":2},{"$f":"AND(子1!AC24>0)*1+AND(子2!AC24>0)*1+AND(子3!AC24>0)*1+AND(子4!AC24>0)*1","v":2},"子2人以上",{"$f":"IF(D24,VLOOKUP(D24,年収と手取り!C:I,7,1),0)/9.1%","v":567.09890109890102}]
[null,38,43,{"$f":"IF(C25>入力!$D$22,0,VLOOKUP(C25,賃金カーブ!R:T,3,0))","v":573.94749547025833},{"$f":"VLOOKUP(D25,年収と手取り!X:Y,2,1)","v":438.89016000000004},{"$f":"入力!$E$28","v":0},{"$f":"IF(C25=入力!D$22,入力!E$31,0)","v":0},0,{"$f":"IF(H25>0,-年金の税金!$G$24/10000,0)","v":0},438.89016000000004,null,null,39.6,13.200000000000001,6.6000000000000005,5.2800000000000011,3.3000000000000003,{"$f":"IF(C25>65,0,IF(OR(AND(子1!C25>=0,子1!C25<=18),AND(子2!C25>=0,子2!C25<=18),AND(子3!C25>=0,子3!C25<=18),AND(子4!C25>=0,子4!C25<=18)),入力!$D$35,入力!$D$34)*12)","v":12},null,79.98,358.91016000000002,6,2.4000000000000004,null,null,null,null,null,8.4,350.51016000000004,36,null,null,null,null,null,36,314.51016000000004,4844.2450799999997,null,null,null,null,null,{"$f":"(親2!E25<103)*1+AND(子1!C25>=0,子1!C25<15)*1+AND(子2!C25>=0,子2!C25<15)*1+AND(子3!C25>=0,子3!C25<15)*1+AND(子4!C25>=0,子4!C25<15)*1","v":1},{"$f":"AND(子1!AC25>0)*1+AND(子2!AC25>0)*1+AND(子3!AC25>0)*1+AND(子4!AC25>0)*1","v":2},"子2人以上",{"$f":"IF(D25,VLOOKUP(D25,年収と手取り!C:I,7,1),0)/9.1%","v":567.09890109890102}]
[null,39,44,{"$f":"IF(C26>入力!$D$22,0,VLOOKUP(C26,賃金カーブ!R:T,3,0))","v":583.29988347943709},{"$f":"VLOOKUP(D26,年収と手取り!X:Y,2,1)","v":447.29016000000001},{"$f":"入力!$E$28","v":0},{"$f":"IF(C26=入力!D$22,入力!E$31,0)","v":0},0,{"$f":"IF(H26>0,-年金の税金!$G$24/10000,0)","v":0},447.29016000000001,null,null,39.6,13.200000000000001,6.6000000000000005,5.2800000000000011,3.3000000000000003,{"$f":"IF(C26>65,0,IF(OR(AND(子1!C26>=0,子1!C26<=18),AND(子2!C26>=0,子2!C26<=18),AND(子3!C26>=0,子3!C26<=18),AND(子4!C26>=0,子4!C26<=18)),入力!$D$35,入力!$D$34)*12)","v":12},null,79.98,367.31016,6,2.4000000000000004,null,null,null,null,null,8.4,358.91016000000002,36,null,null,null,null,null,36,322.91016000000002,5167.15524,null,null,null,null,null,{"$f":"(親2!E26<103)*1+AND(子1!C26>=0,子1!C26<15)*1+AND(子2!C26>=0,子2!C26<15)*1+AND(子3!C26>=0,子3!C26<15)*1+AND(子4!C26>=0,子4!C26<15)*1","v":1},{"$f":"AND(子1!AC26>0)*1+AND(子2!AC26>0)*1+AND(子3!AC26>0)*1+AND(子4!AC26>0)*1","v":2},"子2人以上",{"$f":"IF(D26,VLOOKUP(D26,年収と手取り!C:I,7,1),0)/9.1%","v":567.09890109890102}]
[null,40,45,{"$f":"IF(C27>入力!$D$22,0,VLOOKUP(C27,賃金カーブ!R:T,3,0))","v":592.80466724286941},{"$f":"VLOOKUP(D27,年収と手取り!X:Y,2,1)","v":451.31399999999996},{"$f":"入力!$E$28","v":0},{"$f":"IF(C27=入力!D$22,入力!E$31,0)","v":0},0,{"$f":"IF(H27>0,-年金の税金!$G$24/10000,0)","v":0},451.31399999999996,null,null,39.6,13.200000000000001,6.6000000000000005,5.2800000000000011,3.3000000000000003,{"$f":"IF(C27>65,0,IF(OR(AND(子1!C27>=0,子1!C27<=18),AND(子2!C27>=0,子2!C27<=18),AND(子3!C27>=0,子3!C27<=18),AND(子4!C27>=0,子4!C27<=18)),入力!$D$35,入力!$D$34)*12)","v":12},null,79.98,371.33399999999995,6,2.4000000000000004,null,null,null,null,null,8.4,362.93399999999997,36,null,null,null,null,null,36,326.93399999999997,5494.0892400000002,null,null,null,null,null,{"$f":"(親2!E27<103)*1+AND(子1!C27>=0,子1!C27<15)*1+AND(子2!C27>=0,子2!C27<15)*1+AND(子3!C27>=0,子3!C27<15)*1+AND(子4!C27>=0,子4!C27<15)*1","v":1},{"$f":"AND(子1!AC27>0)*1+AND(子2!AC27>0)*1+AND(子3!AC27>0)*1+AND(子4!AC27>0)*1","v":2},"子2人以上",{"$f":"IF(D27,VLOOKUP(D27,年収と手取り!C:I,7,1),0)/9.1%","v":603.29670329670341}]
[null,41,46,{"$f":"IF(C28>入力!$D$22,0,VLOOKUP(C28,賃金カーブ!R:T,3,0))","v":602.58868895313367},{"$f":"VLOOKUP(D28,年収と手取り!X:Y,2,1)","v":459.714},{"$f":"入力!$E$28","v":0},{"$f":"IF(C28=入力!D$22,入力!E$31,0)","v":0},0,{"$f":"IF(H28>0,-年金の税金!$G$24/10000,0)","v":0},459.714,null,null,39.6,13.200000000000001,6.6000000000000005,5.2800000000000011,3.3000000000000003,{"$f":"IF(C28>65,0,IF(OR(AND(子1!C28>=0,子1!C28<=18),AND(子2!C28>=0,子2!C28<=18),AND(子3!C28>=0,子3!C28<=18),AND(子4!C28>=0,子4!C28<=18)),入力!$D$35,入力!$D$34)*12)","v":12},null,79.98,379.73399999999998,6,2.4000000000000004,null,null,null,null,null,8.4,371.334,36,null,null,null,null,null,36,335.334,5829.4232400000001,null,null,null,null,null,{"$f":"(親2!E28<103)*1+AND(子1!C28>=0,子1!C28<15)*1+AND(子2!C28>=0,子2!C28<15)*1+AND(子3!C28>=0,子3!C28<15)*1+AND(子4!C28>=0,子4!C28<15)*1","v":0},{"$f":"AND(子1!AC28>0)*1+AND(子2!AC28>0)*1+AND(子3!AC28>0)*1+AND(子4!AC28>0)*1","v":2},"子2人以上",{"$f":"IF(D28,VLOOKUP(D28,年収と手取り!C:I,7,1),0)/9.1%","v":603.29670329670341}]
[null,42,47,{"$f":"IF(C29>入力!$D$22,0,VLOOKUP(C29,賃金カーブ!R:T,3,0))","v":612.53419232188764},{"$f":"VLOOKUP(D29,年収と手取り!X:Y,2,1)","v":468.11399999999998},{"$f":"入力!$E$28","v":0},{"$f":"IF(C29=入力!D$22,入力!E$31,0)","v":0},0,{"$f":"IF(H29>0,-年金の税金!$G$24/10000,0)","v":0},468.11399999999998,null,null,39.6,13.200000000000001,6.6000000000000005,5.2800000000000011,3.3000000000000003,{"$f":"IF(C29>65,0,IF(OR(AND(子1!C29>=0,子1!C29<=18),AND(子2!C29>=0,子2!C29<=18),AND(子3!C29>=0,子3!C29<=18),AND(子4!C29>=0,子4!C29<=18)),入力!$D$35,入力!$D$34)*12)","v":12},null,79.98,388.13399999999996,6,2.4000000000000004,null,null,null,null,null,8.4,379.73399999999998,36,null,null,null,null,null,36,343.73399999999998,6173.1572400000005,null,null,null,null,null,{"$f":"(親2!E29<103)*1+AND(子1!C29>=0,子1!C29<15)*1+AND(子2!C29>=0,子2!C29<15)*1+AND(子3!C29>=0,子3!C29<15)*1+AND(子4!C29>=0,子4!C29<15)*1","v":0},{"$f":"AND(子1!AC29>0)*1+AND(子2!AC29>0)*1+AND(子3!AC29>0)*1+AND(子4!AC29>0)*1","v":2},"子2人以上",{"$f":"IF(D29,VLOOKUP(D29,年収と手取り!C:I,7,1),0)/9.1%","v":603.29670329670341}]
[null,43,48,{"$f":"IF(C30>入力!$D$22,0,VLOOKUP(C30,賃金カーブ!R:T,3,0))","v":622.64384254416086},{"$f":"VLOOKUP(D30,年収と手取り!X:Y,2,1)","v":472.13783999999998},{"$f":"入力!$E$28","v":0},{"$f":"IF(C30=入力!D$22,入力!E$31,0)","v":0},0,{"$f":"IF(H30>0,-年金の税金!$G$24/10000,0)","v":0},472.13783999999998,null,null,39.6,13.200000000000001,6.6000000000000005,5.2800000000000011,3.3000000000000003,{"$f":"IF(C30>65,0,IF(OR(AND(子1!C30>=0,子1!C30<=18),AND(子2!C30>=0,子2!C30<=18),AND(子3!C30>=0,子3!C30<=18),AND(子4!C30>=0,子4!C30<=18)),入力!$D$35,入力!$D$34)*12)","v":12},null,79.98,392.15783999999996,6,2.4000000000000004,null,null,null,null,null,8.4,383.75783999999999,36,null,null,null,null,null,36,347.75783999999999,6520.9150800000007,null,null,null,null,null,{"$f":"(親2!E30<103)*1+AND(子1!C30>=0,子1!C30<15)*1+AND(子2!C30>=0,子2!C30<15)*1+AND(子3!C30>=0,子3!C30<15)*1+AND(子4!C30>=0,子4!C30<15)*1","v":0},{"$f":"AND(子1!AC30>0)*1+AND(子2!AC30>0)*1+AND(子3!AC30>0)*1+AND(子4!AC30>0)*1","v":2},"子2人以上",{"$f":"IF(D30,VLOOKUP(D30,年収と手取り!C:I,7,1),0)/9.1%","v":639.49450549450557}]
[null,44,49,{"$f":"IF(C31>入力!$D$22,0,VLOOKUP(C31,賃金カーブ!R:T,3,0))","v":632.92034880304038},{"$f":"VLOOKUP(D31,年収と手取り!X:Y,2,1)","v":480.53783999999996},{"$f":"入力!$E$28","v":0},{"$f":"IF(C31=入力!D$22,入力!E$31,0)","v":0},0,{"$f":"IF(H31>0,-年金の税金!$G$24/10000,0)","v":0},480.53783999999996,null,null,39.6,13.200000000000001,6.6000000000000005,5.2800000000000011,3.3000000000000003,{"$f":"IF(C31>65,0,IF(OR(AND(子1!C31>=0,子1!C31<=18),AND(子2!C31>=0,子2!C31<=18),AND(子3!C31>=0,子3!C31<=18),AND(子4!C31>=0,子4!C31<=18)),入力!$D$35,入力!$D$34)*12)","v":12},null,79.98,400.55783999999994,6,2.4000000000000004,null,null,null,null,null,8.4,392.15783999999996,36,null,null,null,null,null,36,356.15783999999996,6877.0729200000005,null,null,null,null,null,{"$f":"(親2!E31<103)*1+AND(子1!C31>=0,子1!C31<15)*1+AND(子2!C31>=0,子2!C31<15)*1+AND(子3!C31>=0,子3!C31<15)*1+AND(子4!C31>=0,子4!C31<15)*1","v":0},{"$f":"AND(子1!AC31>0)*1+AND(子2!AC31>0)*1+AND(子3!AC31>0)*1+AND(子4!AC31>0)*1","v":2},"子2人以上",{"$f":"IF(D31,VLOOKUP(D31,年収と手取り!C:I,7,1),0)/9.1%","v":639.49450549450557}]
[null,45,50,{"$f":"IF(C32>入力!$D$22,0,VLOOKUP(C32,賃金カーブ!R:T,3,0))","v":643.36646499567848},{"$f":"VLOOKUP(D32,年収と手取り!X:Y,2,1)","v":488.93783999999999},{"$f":"入力!$E$28","v":0},{"$f":"IF(C32=入力!D$22,入力!E$31,0)","v":0},0,{"$f":"IF(H32>0,-年金の税金!$G$24/10000,0)","v":0},488.93783999999999,null,null,39.6,13.200000000000001,6.6000000000000005,5.2800000000000011,3.3000000000000003,{"$f":"IF(C32>65,0,IF(OR(AND(子1!C32>=0,子1!C32<=18),AND(子2!C32>=0,子2!C32<=18),AND(子3!C32>=0,子3!C32<=18),AND(子4!C32>=0,子4!C32<=18)),入力!$D$35,入力!$D$34)*12)","v":12},null,79.98,408.95783999999998,6,2.4000000000000004,null,null,null,null,null,8.4,400.55784,36,null,null,null,null,null,36,364.55784,7241.6307600000009,null,null,null,null,null,{"$f":"(親2!E32<103)*1+AND(子1!C32>=0,子1!C32<15)*1+AND(子2!C32>=0,子2!C32<15)*1+AND(子3!C32>=0,子3!C32<15)*1+AND(子4!C32>=0,子4!C32<15)*1","v":0},{"$f":"AND(子1!AC32>0)*1+AND(子2!AC32>0)*1+AND(子3!AC32>0)*1+AND(子4!AC32>0)*1","v":2},"子2人以上",{"$f":"IF(D32,VLOOKUP(D32,年収と手取り!C:I,7,1),0)/9.1%","v":639.49450549450557}]
[null,46,51,{"$f":"IF(C33>入力!$D$22,0,VLOOKUP(C33,賃金カーブ!R:T,3,0))","v":641.21294335086088},{"$f":"VLOOKUP(D33,年収と手取り!X:Y,2,1)","v":488.93783999999999},{"$f":"入力!$E$28","v":0},{"$f":"IF(C33=入力!D$22,入力!E$31,0)","v":0},0,{"$f":"IF(H33>0,-年金の税金!$G$24/10000,0)","v":0},488.93783999999999,null,null,39.6,13.200000000000001,6.6000000000000005,5.2800000000000011,3.3000000000000003,{"$f":"IF(C33>65,0,IF(OR(AND(子1!C33>=0,子1!C33<=18),AND(子2!C33>=0,子2!C33<=18),AND(子3!C33>=0,子3!C33<=18),AND(子4!C33>=0,子4!C33<=18)),入力!$D$35,入力!$D$34)*12)","v":12},null,79.98,408.95783999999998,6,2.4000000000000004,null,null,null,null,null,8.4,400.55784,36,null,null,null,null,null,36,364.55784,7606.1886000000013,null,null,null,null,null,{"$f":"(親2!E33<103)*1+AND(子1!C33>=0,子1!C33<15)*1+AND(子2!C33>=0,子2!C33<15)*1+AND(子3!C33>=0,子3!C33<15)*1+AND(子4!C33>=0,子4!C33<15)*1","v":0},{"$f":"AND(子1!AC33>0)*1+AND(子2!AC33>0)*1+AND(子3!AC33>0)*1+AND(子4!AC33>0)*1","v":1},"子1人",{"$f":"IF(D33,VLOOKUP(D33,年収と手取り!C:I,7,1),0)/9.1%","v":639.49450549450557}]
[null,47,52,{"$f":"IF(C34>入力!$D$22,0,VLOOKUP(C34,賃金カーブ!R:T,3,0))","v":639.066630125703},{"$f":"VLOOKUP(D34,年収と手取り!X:Y,2,1)","v":480.53783999999996},{"$f":"入力!$E$28","v":0},{"$f":"IF(C34=入力!D$22,入力!E$31,0)","v":0},0,{"$f":"IF(H34>0,-年金の税金!$G$24/10000,0)","v":0},480.53783999999996,null,null,39.6,13.200000000000001,6.6000000000000005,5.2800000000000011,3.3000000000000003,{"$f":"IF(C34>65,0,IF(OR(AND(子1!C34>=0,子1!C34<=18),AND(子2!C34>=0,子2!C34<=18),AND(子3!C34>=0,子3!C34<=18),AND(子4!C34>=0,子4!C34<=18)),入力!$D$35,入力!$D$34)*12)","v":12},null,79.98,400.55783999999994,6,2.4000000000000004,null,null,null,null,null,8.4,392.15783999999996,36,null,null,null,null,null,36,356.15783999999996,7962.3464400000012,null,null,null,null,null,{"$f":"(親2!E34<103)*1+AND(子1!C34>=0,子1!C34<15)*1+AND(子2!C34>=0,子2!C34<15)*1+AND(子3!C34>=0,子3!C34<15)*1+AND(子4!C34>=0,子4!C34<15)*1","v":0},{"$f":"AND(子1!AC34>0)*1+AND(子2!AC34>0)*1+AND(子3!AC34>0)*1+AND(子4!AC34>0)*1","v":1},"子1人",{"$f":"IF(D34,VLOOKUP(D34,年収と手取り!C:I,7,1),0)/9.1%","v":639.49450549450557}]
[null,48,53,{"$f":"IF(C35>入力!$D$22,0,VLOOKUP(C35,賃金カーブ!R:T,3,0))","v":636.92750119167385},{"$f":"VLOOKUP(D35,年収と手取り!X:Y,2,1)","v":480.53783999999996},{"$f":"入力!$E$28","v":0},{"$f":"IF(C35=入力!D$22,入力!E$31,0)","v":0},0,{"$f":"IF(H35>0,-年金の税金!$G$24/10000,0)","v":0},480.53783999999996,null,null,39.6,13.200000000000001,6.6000000000000005,5.2800000000000011,3.3000000000000003,{"$f":"IF(C35>65,0,IF(OR(AND(子1!C35>=0,子1!C35<=18),AND(子2!C35>=0,子2!C35<=18),AND(子3!C35>=0,子3!C35<=18),AND(子4!C35>=0,子4!C35<=18)),入力!$D$35,入力!$D$34)*12)","v":12},null,79.98,400.55783999999994,6,2.4000000000000004,null,null,null,null,null,8.4,392.15783999999996,36,null,null,null,null,null,36,356.15783999999996,8318.504280000001,null,null,null,null,null,{"$f":"(親2!E35<103)*1+AND(子1!C35>=0,子1!C35<15)*1+AND(子2!C35>=0,子2!C35<15)*1+AND(子3!C35>=0,子3!C35<15)*1+AND(子4!C35>=0,子4!C35<15)*1","v":0},{"$f":"AND(子1!AC35>0)*1+AND(子2!AC35>0)*1+AND(子3!AC35>0)*1+AND(子4!AC35>0)*1","v":1},"子1人",{"$f":"IF(D35,VLOOKUP(D35,年収と手取り!C:I,7,1),0)/9.1%","v":639.49450549450557}]
[null,49,54,{"$f":"IF(C36>入力!$D$22,0,VLOOKUP(C36,賃金カーブ!R:T,3,0))","v":634.79553250100696},{"$f":"VLOOKUP(D36,年収と手取り!X:Y,2,1)","v":480.53783999999996},{"$f":"入力!$E$28","v":0},{"$f":"IF(C36=入力!D$22,入力!E$31,0)","v":0},0,{"$f":"IF(H36>0,-年金の税金!$G$24/10000,0)","v":0},480.53783999999996,null,null,39.6,13.200000000000001,6.6000000000000005,5.2800000000000011,3.3000000000000003,{"$f":"IF(C36>65,0,IF(OR(AND(子1!C36>=0,子1!C36<=18),AND(子2!C36>=0,子2!C36<=18),AND(子3!C36>=0,子3!C36<=18),AND(子4!C36>=0,子4!C36<=18)),入力!$D$35,入力!$D$34)*12)","v":12},null,79.98,400.55783999999994,6,2.4000000000000004,null,null,null,null,null,8.4,392.15783999999996,36,null,null,null,null,null,36,356.15783999999996,8674.6621200000009,null,null,null,null,null,{"$f":"(親2!E36<103)*1+AND(子1!C36>=0,子1!C36<15)*1+AND(子2!C36>=0,子2!C36<15)*1+AND(子3!C36>=0,子3!C36<15)*1+AND(子4!C36>=0,子4!C36<15)*1","v":0},{"$f":"AND(子1!AC36>0)*1+AND(子2!AC36>0)*1+AND(子3!AC36>0)*1+AND(子4!AC36>0)*1","v":1},"子1人",{"$f":"IF(D36,VLOOKUP(D36,年収と手取り!C:I,7,1),0)/9.1%","v":639.49450549450557}]
[null,50,55,{"$f":"IF(C37>入力!$D$22,0,VLOOKUP(C37,賃金カーブ!R:T,3,0))","v":632.67070008643032},{"$f":"VLOOKUP(D37,年収と手取り!X:Y,2,1)","v":480.53783999999996},{"$f":"入力!$E$28","v":0},{"$f":"IF(C37=入力!D$22,入力!E$31,0)","v":0},{"$f":"IF(C37>65,6.5+$AX$74,0)*12","v":0},{"$f":"IF(H37>0,-年金の税金!$G$24/10000,0)","v":0},480.53783999999996,null,null,39.6,13.200000000000001,6.6000000000000005,5.2800000000000011,3.3000000000000003,{"$f":"IF(C37>65,0,IF(OR(AND(子1!C37>=0,子1!C37<=18),AND(子2!C37>=0,子2!C37<=18),AND(子3!C37>=0,子3!C37<=18),AND(子4!C37>=0,子4!C37<=18)),入力!$D$35,入力!$D$34)*12)","v":12},null,79.98,400.55783999999994,6,2.4000000000000004,null,null,null,null,null,8.4,392.15783999999996,36,null,null,null,null,null,36,356.15783999999996,9030.8199600000007,null,null,null,null,null,{"$f":"(親2!E37<103)*1+AND(子1!C37>=0,子1!C37<15)*1+AND(子2!C37>=0,子2!C37<15)*1+AND(子3!C37>=0,子3!C37<15)*1+AND(子4!C37>=0,子4!C37<15)*1","v":0},{"$f":"AND(子1!AC37>0)*1+AND(子2!AC37>0)*1+AND(子3!AC37>0)*1+AND(子4!AC37>0)*1","v":0},"子離れ",{"$f":"IF(D37,VLOOKUP(D37,年収と手取り!C:I,7,1),0)/9.1%","v":639.49450549450557}]
[null,51,56,{"$f":"IF(C38>入力!$D$22,0,VLOOKUP(C38,賃金カーブ!R:T,3,0))","v":587.69028717591129},{"$f":"VLOOKUP(D38,年収と手取り!X:Y,2,1)","v":447.29016000000001},{"$f":"入力!$E$28","v":0},{"$f":"IF(C38=入力!D$22,入力!E$31,0)","v":0},{"$f":"IF(C38>65,6.5+$AX$74,0)*12","v":0},{"$f":"IF(H38>0,-年金の税金!$G$24/10000,0)","v":0},447.29016000000001,null,null,39.6,13.200000000000001,6.6000000000000005,5.2800000000000011,3.3000000000000003,{"$f":"IF(C38>65,0,IF(OR(AND(子1!C38>=0,子1!C38<=18),AND(子2!C38>=0,子2!C38<=18),AND(子3!C38>=0,子3!C38<=18),AND(子4!C38>=0,子4!C38<=18)),入力!$D$35,入力!$D$34)*12)","v":12},null,{"$f":"SUM(K38:S38)","v":79.98},{"$f":"J38-T38","v":367.31016},6,2.4000000000000004,null,null,null,null,null,{"$f":"SUM(V38:AB38)","v":8.4},{"$f":"U38-AC38","v":358.91016000000002},36,null,null,null,null,null,36,{"$f":"AD38-AK38","v":322.91016000000002},{"$f":"AL38+AM37","v":9353.7301200000002},null,null,null,null,null,{"$f":"(親2!E38<103)*1+AND(子1!C38>=0,子1!C38<15)*1+AND(子2!C38>=0,子2!C38<15)*1+AND(子3!C38>=0,子3!C38<15)*1+AND(子4!C38>=0,子4!C38<15)*1","v":0},{"$f":"AND(子1!AC38>0)*1+AND(子2!AC38>0)*1+AND(子3!AC38>0)*1+AND(子4!AC38>0)*1","v":0},"夫婦",{"$f":"IF(D38,VLOOKUP(D38,年収と手取り!C:I,7,1),0)/9.1%","v":567.09890109890102}]
[null,52,57,{"$f":"IF(C39>入力!$D$22,0,VLOOKUP(C39,賃金カーブ!R:T,3,0))","v":545.9078057411574},{"$f":"VLOOKUP(D39,年収と手取り!X:Y,2,1)","v":418.06632000000002},{"$f":"入力!$E$28","v":0},{"$f":"IF(C39=入力!D$22,入力!E$31,0)","v":0},0,{"$f":"IF(H39>0,-年金の税金!$G$24/10000,0)","v":0},418.06632000000002,null,null,{"$f":"M$1","v":39.6},13.200000000000001,6.6000000000000005,5.2800000000000011,3.3000000000000003,{"$f":"IF(C39>65,0,IF(OR(AND(子1!C39>=0,子1!C39<=18),AND(子2!C39>=0,子2!C39<=18),AND(子3!C39>=0,子3!C39<=18),AND(子4!C39>=0,子4!C39<=18)),入力!$D$35,入力!$D$34)*12)","v":12},null,79.98,338.08632,6,2.4000000000000004,null,null,null,null,null,8.4,329.68632000000002,36,null,null,null,null,null,36,293.68632000000002,9647.4164400000009,null,null,null,null,null,{"$f":"(親2!E39<103)*1+AND(子1!C39>=0,子1!C39<15)*1+AND(子2!C39>=0,子2!C39<15)*1+AND(子3!C39>=0,子3!C39<15)*1+AND(子4!C39>=0,子4!C39<15)*1","v":0},{"$f":"AND(子1!AC39>0)*1+AND(子2!AC39>0)*1+AND(子3!AC39>0)*1+AND(子4!AC39>0)*1","v":0},"夫婦",{"$f":"IF(D39,VLOOKUP(D39,年収と手取り!C:I,7,1),0)/9.1%","v":530.90109890109886}]
[null,{"$f":"B39+1","v":53},58,{"$f":"IF(C40>入力!$D$22,0,VLOOKUP(C40,賃金カーブ!R:T,3,0))","v":507.09589535877654},{"$f":"VLOOKUP(D40,年収と手取り!X:Y,2,1)","v":388.84248000000002},{"$f":"入力!$E$28","v":0},{"$f":"IF(C40=入力!D$22,入力!E$31,0)","v":0},0,{"$f":"IF(H40>0,-年金の税金!$G$24/10000,0)","v":0},{"$f":"SUM(E40:I40)","v":388.84248000000002},null,null,39.6,13.200000000000001,6.6000000000000005,5.2800000000000011,3.3000000000000003,{"$f":"IF(C40>65,0,IF(OR(AND(子1!C40>=0,子1!C40<=18),AND(子2!C40>=0,子2!C40<=18),AND(子3!C40>=0,子3!C40<=18),AND(子4!C40>=0,子4!C40<=18)),入力!$D$35,入力!$D$34)*12)","v":12},null,79.98,308.86248000000001,6,2.4000000000000004,null,null,null,null,null,8.4,300.46248000000003,36,null,null,null,null,null,36,264.46248000000003,9911.878920000001,null,null,null,null,null,{"$f":"(親2!E40<103)*1+AND(子1!C40>=0,子1!C40<15)*1+AND(子2!C40>=0,子2!C40<15)*1+AND(子3!C40>=0,子3!C40<15)*1+AND(子4!C40>=0,子4!C40<15)*1","v":0},{"$f":"AND(子1!AC40>0)*1+AND(子2!AC40>0)*1+AND(子3!AC40>0)*1+AND(子4!AC40>0)*1","v":0},"夫婦",{"$f":"IF(D40,VLOOKUP(D40,年収と手取り!C:I,7,1),0)/9.1%","v":494.7032967032967}]
[null,54,59,{"$f":"IF(C41>入力!$D$22,0,VLOOKUP(C41,賃金カーブ!R:T,3,0))","v":471.04336004245619},{"$f":"VLOOKUP(D41,年収と手取り!X:Y,2,1)","v":368.01864},{"$f":"入力!$E$28","v":0},{"$f":"IF(C41=入力!D$22,入力!E$31,0)","v":0},0,{"$f":"IF(H41>0,-年金の税金!$G$24/10000,0)","v":0},368.01864,null,null,39.6,13.200000000000001,6.6000000000000005,5.2800000000000011,3.3000000000000003,{"$f":"IF(C41>65,0,IF(OR(AND(子1!C41>=0,子1!C41<=18),AND(子2!C41>=0,子2!C41<=18),AND(子3!C41>=0,子3!C41<=18),AND(子4!C41>=0,子4!C41<=18)),入力!$D$35,入力!$D$34)*12)","v":12},null,79.98,288.03863999999999,6,2.4000000000000004,null,null,null,null,null,8.4,279.63864000000001,36,null,null,null,null,null,36,243.63864000000001,10155.51756,null,null,null,null,null,{"$f":"(親2!E41<103)*1+AND(子1!C41>=0,子1!C41<15)*1+AND(子2!C41>=0,子2!C41<15)*1+AND(子3!C41>=0,子3!C41<15)*1+AND(子4!C41>=0,子4!C41<15)*1","v":0},{"$f":"AND(子1!AC41>0)*1+AND(子2!AC41>0)*1+AND(子3!AC41>0)*1+AND(子4!AC41>0)*1","v":0},"夫婦",{"$f":"IF(D41,VLOOKUP(D41,年収と手取り!C:I,7,1),0)/9.1%","v":458.50549450549448}]
[null,55,60,{"$f":"IF(C42>入力!$D$22,0,VLOOKUP(C42,賃金カーブ!R:T,3,0))","v":437.55401901469321},{"$f":"VLOOKUP(D42,年収と手取り!X:Y,2,1)","v":336.90395999999998},{"$f":"入力!$E$28","v":0},{"$f":"IF(C42=入力!D$22,入力!E$31,0)","v":0},0,{"$f":"IF(H42>0,-年金の税金!$G$24/10000,0)","v":0},336.90395999999998,null,null,39.6,13.200000000000001,6.6000000000000005,5.2800000000000011,3.3000000000000003,{"$f":"IF(C42>65,0,IF(OR(AND(子1!C42>=0,子1!C42<=18),AND(子2!C42>=0,子2!C42<=18),AND(子3!C42>=0,子3!C42<=18),AND(子4!C42>=0,子4!C42<=18)),入力!$D$35,入力!$D$34)*12)","v":12},null,79.98,256.92395999999997,6,2.4000000000000004,null,null,null,null,null,8.4,248.52395999999996,36,null,null,null,null,null,36,212.52395999999996,10368.041520000001,null,null,null,null,null,{"$f":"(親2!E42<103)*1+AND(子1!C42>=0,子1!C42<15)*1+AND(子2!C42>=0,子2!C42<15)*1+AND(子3!C42>=0,子3!C42<15)*1+AND(子4!C42>=0,子4!C42<15)*1","v":0},{"$f":"AND(子1!AC42>0)*1+AND(子2!AC42>0)*1+AND(子3!AC42>0)*1+AND(子4!AC42>0)*1","v":0},"夫婦",{"$f":"IF(D42,VLOOKUP(D42,年収と手取り!C:I,7,1),0)/9.1%","v":434.37362637362639}]
[null,56,61,{"$f":"IF(C43>入力!$D$22,0,VLOOKUP(C43,賃金カーブ!R:T,3,0))","v":437.55401901469321},{"$f":"VLOOKUP(D43,年収と手取り!X:Y,2,1)","v":336.90395999999998},{"$f":"入力!$E$28","v":0},{"$f":"IF(C43=入力!D$22,入力!E$31,0)","v":0},0,{"$f":"IF(H43>0,-年金の税金!$G$24/10000,0)","v":0},336.90395999999998,null,null,39.6,13.200000000000001,6.6000000000000005,5.2800000000000011,3.3000000000000003,{"$f":"IF(C43>65,0,IF(OR(AND(子1!C43>=0,子1!C43<=18),AND(子2!C43>=0,子2!C43<=18),AND(子3!C43>=0,子3!C43<=18),AND(子4!C43>=0,子4!C43<=18)),入力!$D$35,入力!$D$34)*12)","v":12},null,79.98,256.92395999999997,6,2.4000000000000004,null,null,null,null,null,8.4,248.52395999999996,36,null,null,null,null,null,36,212.52395999999996,10580.565480000001,null,null,null,null,null,{"$f":"(親2!E43<103)*1+AND(子1!C43>=0,子1!C43<15)*1+AND(子2!C43>=0,子2!C43<15)*1+AND(子3!C43>=0,子3!C43<15)*1+AND(子4!C43>=0,子4!C43<15)*1","v":0},{"$f":"AND(子1!AC43>0)*1+AND(子2!AC43>0)*1+AND(子3!AC43>0)*1+AND(子4!AC43>0)*1","v":0},"夫婦",{"$f":"IF(D43,VLOOKUP(D43,年収と手取り!C:I,7,1),0)/9.1%","v":434.37362637362639}]
[null,57,62,{"$f":"IF(C44>入力!$D$22,0,VLOOKUP(C44,賃金カーブ!R:T,3,0))","v":437.55401901469321},{"$f":"VLOOKUP(D44,年収と手取り!X:Y,2,1)","v":336.90395999999998},{"$f":"入力!$E$28","v":0},{"$f":"IF(C44=入力!D$22,入力!E$31,0)","v":0},0,{"$f":"IF(H44>0,-年金の税金!$G$24/10000,0)","v":0},336.90395999999998,null,null,39.6,13.200000000000001,6.6000000000000005,5.2800000000000011,3.3000000000000003,{"$f":"IF(C44>65,0,IF(OR(AND(子1!C44>=0,子1!C44<=18),AND(子2!C44>=0,子2!C44<=18),AND(子3!C44>=0,子3!C44<=18),AND(子4!C44>=0,子4!C44<=18)),入力!$D$35,入力!$D$34)*12)","v":12},null,79.98,256.92395999999997,6,2.4000000000000004,null,null,null,null,null,8.4,248.52395999999996,36,null,null,null,null,null,36,212.52395999999996,10793.089440000002,null,null,null,null,null,{"$f":"(親2!E44<103)*1+AND(子1!C44>=0,子1!C44<15)*1+AND(子2!C44>=0,子2!C44<15)*1+AND(子3!C44>=0,子3!C44<15)*1+AND(子4!C44>=0,子4!C44<15)*1","v":0},{"$f":"AND(子1!AC44>0)*1+AND(子2!AC44>0)*1+AND(子3!AC44>0)*1+AND(子4!AC44>0)*1","v":0},"夫婦",{"$f":"IF(D44,VLOOKUP(D44,年収と手取り!C:I,7,1),0)/9.1%","v":434.37362637362639}]
[null,58,63,{"$f":"IF(C45>入力!$D$22,0,VLOOKUP(C45,賃金カーブ!R:T,3,0))","v":437.55401901469321},{"$f":"VLOOKUP(D45,年収と手取り!X:Y,2,1)","v":336.90395999999998},{"$f":"入力!$E$28","v":0},{"$f":"IF(C45=入力!D$22,入力!E$31,0)","v":0},0,{"$f":"IF(H45>0,-年金の税金!$G$24/10000,0)","v":0},336.90395999999998,null,null,39.6,13.200000000000001,6.6000000000000005,5.2800000000000011,3.3000000000000003,{"$f":"IF(C45>65,0,IF(OR(AND(子1!C45>=0,子1!C45<=18),AND(子2!C45>=0,子2!C45<=18),AND(子3!C45>=0,子3!C45<=18),AND(子4!C45>=0,子4!C45<=18)),入力!$D$35,入力!$D$34)*12)","v":12},null,79.98,256.92395999999997,6,2.4000000000000004,null,null,null,null,null,8.4,248.52395999999996,36,null,null,null,null,null,36,212.52395999999996,11005.613400000002,null,null,null,null,null,{"$f":"(親2!E45<103)*1+AND(子1!C45>=0,子1!C45<15)*1+AND(子2!C45>=0,子2!C45<15)*1+AND(子3!C45>=0,子3!C45<15)*1+AND(子4!C45>=0,子4!C45<15)*1","v":0},{"$f":"AND(子1!AC45>0)*1+AND(子2!AC45>0)*1+AND(子3!AC45>0)*1+AND(子4!AC45>0)*1","v":0},"夫婦",{"$f":"IF(D45,VLOOKUP(D45,年収と手取り!C:I,7,1),0)/9.1%","v":434.37362637362639}]
[null,59,64,{"$f":"IF(C46>入力!$D$22,0,VLOOKUP(C46,賃金カーブ!R:T,3,0))","v":437.55401901469321},{"$f":"VLOOKUP(D46,年収と手取り!X:Y,2,1)","v":336.90395999999998},{"$f":"入力!$E$28","v":0},{"$f":"IF(C46=入力!D$22,入力!E$31,0)","v":0},0,{"$f":"IF(H46>0,-年金の税金!$G$24/10000,0)","v":0},336.90395999999998,null,null,39.6,13.200000000000001,6.6000000000000005,5.2800000000000011,3.3000000000000003,{"$f":"IF(C46>65,0,IF(OR(AND(子1!C46>=0,子1!C46<=18),AND(子2!C46>=0,子2!C46<=18),AND(子3!C46>=0,子3!C46<=18),AND(子4!C46>=0,子4!C46<=18)),入力!$D$35,入力!$D$34)*12)","v":12},null,79.98,256.92395999999997,6,2.4000000000000004,null,null,null,null,null,8.4,248.52395999999996,36,null,null,null,null,null,36,212.52395999999996,11218.137360000002,null,null,null,null,null,{"$f":"(親2!E46<103)*1+AND(子1!C46>=0,子1!C46<15)*1+AND(子2!C46>=0,子2!C46<15)*1+AND(子3!C46>=0,子3!C46<15)*1+AND(子4!C46>=0,子4!C46<15)*1","v":0},{"$f":"AND(子1!AC46>0)*1+AND(子2!AC46>0)*1+AND(子3!AC46>0)*1+AND(子4!AC46>0)*1","v":0},"夫婦",{"$f":"IF(D46,VLOOKUP(D46,年収と手取り!C:I,7,1),0)/9.1%","v":434.37362637362639}]
[null,60,65,{"$f":"IF(C47>入力!$D$22,0,VLOOKUP(C47,賃金カーブ!R:T,3,0))","v":437.55401901469321},{"$f":"VLOOKUP(D47,年収と手取り!X:Y,2,1)","v":336.90395999999998},{"$f":"入力!$E$28","v":0},{"$f":"IF(C47=入力!D$22,入力!E$31,0)","v":1000},0,{"$f":"IF(H47>0,-年金の税金!$G$24/10000,0)","v":0},1336.9039600000001,null,null,39.6,13.200000000000001,6.6000000000000005,5.2800000000000011,3.3000000000000003,{"$f":"IF(C47>65,0,IF(OR(AND(子1!C47>=0,子1!C47<=18),AND(子2!C47>=0,子2!C47<=18),AND(子3!C47>=0,子3!C47<=18),AND(子4!C47>=0,子4!C47<=18)),入力!$D$35,入力!$D$34)*12)","v":12},null,79.98,1256.9239600000001,6,2.4000000000000004,null,null,null,null,null,8.4,1248.52396,36,null,null,null,null,null,36,1212.52396,12430.661320000003,null,null,null,null,null,{"$f":"(親2!E47<103)*1+AND(子1!C47>=0,子1!C47<15)*1+AND(子2!C47>=0,子2!C47<15)*1+AND(子3!C47>=0,子3!C47<15)*1+AND(子4!C47>=0,子4!C47<15)*1","v":0},{"$f":"AND(子1!AC47>0)*1+AND(子2!AC47>0)*1+AND(子3!AC47>0)*1+AND(子4!AC47>0)*1","v":0},"夫婦",{"$f":"IF(D47,VLOOKUP(D47,年収と手取り!C:I,7,1),0)/9.1%","v":434.37362637362639}]
[null,61,66,{"$f":"IF(C48>入力!$D$22,0,VLOOKUP(C48,賃金カーブ!R:T,3,0))","v":0},{"$f":"VLOOKUP(D48,年収と手取り!X:Y,2,1)","v":0},{"$f":"入力!$E$28","v":0},{"$f":"IF(C48=入力!D$22,入力!E$31,0)","v":0},199.66338323076928,{"$f":"IF(H48>0,-年金の税金!$G$24/10000,0)","v":-12.205033602079252},187.45834962869003,null,null,39.6,13.200000000000001,6.6000000000000005,5.2800000000000011,3.3000000000000003,{"$f":"IF(C48>65,0,IF(OR(AND(子1!C48>=0,子1!C48<=18),AND(子2!C48>=0,子2!C48<=18),AND(子3!C48>=0,子3!C48<=18),AND(子4!C48>=0,子4!C48<=18)),入力!$D$35,入力!$D$34)*12)","v":0},null,67.98,119.47834962869003,6,2.4000000000000004,null,null,null,null,null,8.4,111.07834962869002,36,null,null,null,null,null,36,75.07834962869002,12505.739669628692,null,null,null,null,null,{"$f":"(親2!E48<103)*1+AND(子1!C48>=0,子1!C48<15)*1+AND(子2!C48>=0,子2!C48<15)*1+AND(子3!C48>=0,子3!C48<15)*1+AND(子4!C48>=0,子4!C48<15)*1","v":0},{"$f":"AND(子1!AC48>0)*1+AND(子2!AC48>0)*1+AND(子3!AC48>0)*1+AND(子4!AC48>0)*1","v":0},"夫婦",{"$f":"IF(D48,VLOOKUP(D48,年収と手取り!C:I,7,1),0)/9.1%","v":0}]
[null,62,67,{"$f":"IF(C49>入力!$D$22,0,VLOOKUP(C49,賃金カーブ!R:T,3,0))","v":0},{"$f":"VLOOKUP(D49,年収と手取り!X:Y,2,1)","v":0},{"$f":"入力!$E$28","v":0},{"$f":"IF(C49=入力!D$22,入力!E$31,0)","v":0},199.66338323076928,{"$f":"IF(H49>0,-年金の税金!$G$24/10000,0)","v":-12.205033602079252},187.45834962869003,null,null,39.6,13.200000000000001,6.6000000000000005,5.2800000000000011,3.3000000000000003,{"$f":"IF(C49>65,0,IF(OR(AND(子1!C49>=0,子1!C49<=18),AND(子2!C49>=0,子2!C49<=18),AND(子3!C49>=0,子3!C49<=18),AND(子4!C49>=0,子4!C49<=18)),入力!$D$35,入力!$D$34)*12)","v":0},null,67.98,119.47834962869003,6,2.4000000000000004,null,null,null,null,null,8.4,111.07834962869002,36,null,null,null,null,null,36,75.07834962869002,12580.818019257382,null,null,null,null,null,{"$f":"(親2!E49<103)*1+AND(子1!C49>=0,子1!C49<15)*1+AND(子2!C49>=0,子2!C49<15)*1+AND(子3!C49>=0,子3!C49<15)*1+AND(子4!C49>=0,子4!C49<15)*1","v":0},{"$f":"AND(子1!AC49>0)*1+AND(子2!AC49>0)*1+AND(子3!AC49>0)*1+AND(子4!AC49>0)*1","v":0},"夫婦",{"$f":"IF(D49,VLOOKUP(D49,年収と手取り!C:I,7,1),0)/9.1%","v":0}]
[null,63,68,{"$f":"IF(C50>入力!$D$22,0,VLOOKUP(C50,賃金カーブ!R:T,3,0))","v":0},{"$f":"VLOOKUP(D50,年収と手取り!X:Y,2,1)","v":0},{"$f":"入力!$E$28","v":0},{"$f":"IF(C50=入力!D$22,入力!E$31,0)","v":0},199.66338323076928,{"$f":"IF(H50>0,-年金の税金!$G$24/10000,0)","v":-12.205033602079252},187.45834962869003,null,null,39.6,13.200000000000001,6.6000000000000005,5.2800000000000011,3.3000000000000003,{"$f":"IF(C50>65,0,IF(OR(AND(子1!C50>=0,子1!C50<=18),AND(子2!C50>=0,子2!C50<=18),AND(子3!C50>=0,子3!C50<=18),AND(子4!C50>=0,子4!C50<=18)),入力!$D$35,入力!$D$34)*12)","v":0},null,67.98,119.47834962869003,6,2.4000000000000004,null,null,null,null,null,8.4,111.07834962869002,36,null,null,null,null,null,36,75.07834962869002,12655.896368886071,null,null,null,null,null,{"$f":"(親2!E50<103)*1+AND(子1!C50>=0,子1!C50<15)*1+AND(子2!C50>=0,子2!C50<15)*1+AND(子3!C50>=0,子3!C50<15)*1+AND(子4!C50>=0,子4!C50<15)*1","v":1},{"$f":"AND(子1!AC50>0)*1+AND(子2!AC50>0)*1+AND(子3!AC50>0)*1+AND(子4!AC50>0)*1","v":0},"夫婦",{"$f":"IF(D50,VLOOKUP(D50,年収と手取り!C:I,7,1),0)/9.1%","v":0}]
[null,64,69,{"$f":"IF(C51>入力!$D$22,0,VLOOKUP(C51,賃金カーブ!R:T,3,0))","v":0},{"$f":"VLOOKUP(D51,年収と手取り!X:Y,2,1)","v":0},{"$f":"入力!$E$28","v":0},{"$f":"IF(C51=入力!D$22,入力!E$31,0)","v":0},199.66338323076928,{"$f":"IF(H51>0,-年金の税金!$G$24/10000,0)","v":-12.205033602079252},187.45834962869003,null,null,39.6,13.200000000000001,6.6000000000000005,5.2800000000000011,3.3000000000000003,{"$f":"IF(C51>65,0,IF(OR(AND(子1!C51>=0,子1!C51<=18),AND(子2!C51>=0,子2!C51<=18),AND(子3!C51>=0,子3!C51<=18),AND(子4!C51>=0,子4!C51<=18)),入力!$D$35,入力!$D$34)*12)","v":0},null,67.98,119.47834962869003,6,2.4000000000000004,null,null,null,null,null,8.4,111.07834962869002,36,null,null,null,null,null,36,75.07834962869002,12730.974718514761,null,null,null,null,null,{"$f":"(親2!E51<103)*1+AND(子1!C51>=0,子1!C51<15)*1+AND(子2!C51>=0,子2!C51<15)*1+AND(子3!C51>=0,子3!C51<15)*1+AND(子4!C51>=0,子4!C51<15)*1","v":1},{"$f":"AND(子1!AC51>0)*1+AND(子2!AC51>0)*1+AND(子3!AC51>0)*1+AND(子4!AC51>0)*1","v":0},"夫婦",{"$f":"IF(D51,VLOOKUP(D51,年収と手取り!C:I,7,1),0)/9.1%","v":0}]
[null,65,70,{"$f":"IF(C52>入力!$D$22,0,VLOOKUP(C52,賃金カーブ!R:T,3,0))","v":0},{"$f":"VLOOKUP(D52,年収と手取り!X:Y,2,1)","v":0},{"$f":"入力!$E$28","v":0},{"$f":"IF(C52=入力!D$22,入力!E$31,0)","v":0},199.66338323076928,{"$f":"IF(H52>0,-年金の税金!$G$24/10000,0)","v":-12.205033602079252},187.45834962869003,null,null,39.6,13.200000000000001,6.6000000000000005,5.2800000000000011,3.3000000000000003,{"$f":"IF(C52>65,0,IF(OR(AND(子1!C52>=0,子1!C52<=18),AND(子2!C52>=0,子2!C52<=18),AND(子3!C52>=0,子3!C52<=18),AND(子4!C52>=0,子4!C52<=18)),入力!$D$35,入力!$D$34)*12)","v":0},null,67.98,119.47834962869003,6,2.4000000000000004,null,null,null,null,null,8.4,111.07834962869002,36,null,null,null,null,null,36,75.07834962869002,12806.05306814345,null,null,null,null,null,{"$f":"(親2!E52<103)*1+AND(子1!C52>=0,子1!C52<15)*1+AND(子2!C52>=0,子2!C52<15)*1+AND(子3!C52>=0,子3!C52<15)*1+AND(子4!C52>=0,子4!C52<15)*1","v":1},{"$f":"AND(子1!AC52>0)*1+AND(子2!AC52>0)*1+AND(子3!AC52>0)*1+AND(子4!AC52>0)*1","v":0},"夫婦",{"$f":"IF(D52,VLOOKUP(D52,年収と手取り!C:I,7,1),0)/9.1%","v":0}]
[null,66,71,{"$f":"IF(C53>入力!$D$22,0,VLOOKUP(C53,賃金カーブ!R:T,3,0))","v":0},{"$f":"VLOOKUP(D53,年収と手取り!X:Y,2,1)","v":0},{"$f":"入力!$E$28","v":0},{"$f":"IF(C53=入力!D$22,入力!E$31,0)","v":0},199.66338323076928,{"$f":"IF(H53>0,-年金の税金!$G$24/10000,0)","v":-12.205033602079252},187.45834962869003,null,null,39.6,13.200000000000001,6.6000000000000005,5.2800000000000011,3.3000000000000003,{"$f":"IF(C53>65,0,IF(OR(AND(子1!C53>=0,子1!C53<=18),AND(子2!C53>=0,子2!C53<=18),AND(子3!C53>=0,子3!C53<=18),AND(子4!C53>=0,子4!C53<=18)),入力!$D$35,入力!$D$34)*12)","v":0},null,67.98,119.47834962869003,6,2.4000000000000004,null,null,null,null,null,8.4,111.07834962869002,36,null,null,null,null,null,36,75.07834962869002,12881.13141777214,null,null,null,null,null,{"$f":"(親2!E53<103)*1+AND(子1!C53>=0,子1!C53<15)*1+AND(子2!C53>=0,子2!C53<15)*1+AND(子3!C53>=0,子3!C53<15)*1+AND(子4!C53>=0,子4!C53<15)*1","v":1},{"$f":"AND(子1!AC53>0)*1+AND(子2!AC53>0)*1+AND(子3!AC53>0)*1+AND(子4!AC53>0)*1","v":0},"夫婦",{"$f":"IF(D53,VLOOKUP(D53,年収と手取り!C:I,7,1),0)/9.1%","v":0}]
[null,67,72,{"$f":"IF(C54>入力!$D$22,0,VLOOKUP(C54,賃金カーブ!R:T,3,0))","v":0},{"$f":"VLOOKUP(D54,年収と手取り!X:Y,2,1)","v":0},{"$f":"入力!$E$28","v":0},{"$f":"IF(C54=入力!D$22,入力!E$31,0)","v":0},199.66338323076928,{"$f":"IF(H54>0,-年金の税金!$G$24/10000,0)","v":-12.205033602079252},187.45834962869003,null,null,39.6,13.200000000000001,6.6000000000000005,5.2800000000000011,3.3000000000000003,{"$f":"IF(C54>65,0,IF(OR(AND(子1!C54>=0,子1!C54<=18),AND(子2!C54>=0,子2!C54<=18),AND(子3!C54>=0,子3!C54<=18),AND(子4!C54>=0,子4!C54<=18)),入力!$D$35,入力!$D$34)*12)","v":0},null,67.98,119.47834962869003,6,2.4000000000000004,null,null,null,null,null,8.4,111.07834962869002,36,null,null,null,null,null,36,75.07834962869002,12956.209767400829,null,null,null,null,null,{"$f":"(親2!E54<103)*1+AND(子1!C54>=0,子1!C54<15)*1+AND(子2!C54>=0,子2!C54<15)*1+AND(子3!C54>=0,子3!C54<15)*1+AND(子4!C54>=0,子4!C54<15)*1","v":1},{"$f":"AND(子1!AC54>0)*1+AND(子2!AC54>0)*1+AND(子3!AC54>0)*1+AND(子4!AC54>0)*1","v":0},"夫婦",{"$f":"IF(D54,VLOOKUP(D54,年収と手取り!C:I,7,1),0)/9.1%","v":0}]
[null,68,73,{"$f":"IF(C55>入力!$D$22,0,VLOOKUP(C55,賃金カーブ!R:T,3,0))","v":0},{"$f":"VLOOKUP(D55,年収と手取り!X:Y,2,1)","v":0},{"$f":"入力!$E$28","v":0},{"$f":"IF(C55=入力!D$22,入力!E$31,0)","v":0},199.66338323076928,{"$f":"IF(H55>0,-年金の税金!$G$24/10000,0)","v":-12.205033602079252},187.45834962869003,null,null,{"$f":"M$1","v":39.6},13.200000000000001,6.6000000000000005,5.2800000000000011,3.3000000000000003,{"$f":"IF(C55>65,0,IF(OR(AND(子1!C55>=0,子1!C55<=18),AND(子2!C55>=0,子2!C55<=18),AND(子3!C55>=0,子3!C55<=18),AND(子4!C55>=0,子4!C55<=18)),入力!$D$35,入力!$D$34)*12)","v":0},null,67.98,119.47834962869003,6,2.4000000000000004,null,null,null,null,null,8.4,111.07834962869002,36,null,null,null,null,null,36,75.07834962869002,13031.288117029519,null,null,null,null,null,{"$f":"(親2!E55<103)*1+AND(子1!C55>=0,子1!C55<15)*1+AND(子2!C55>=0,子2!C55<15)*1+AND(子3!C55>=0,子3!C55<15)*1+AND(子4!C55>=0,子4!C55<15)*1","v":1},{"$f":"AND(子1!AC55>0)*1+AND(子2!AC55>0)*1+AND(子3!AC55>0)*1+AND(子4!AC55>0)*1","v":0},"夫婦",{"$f":"IF(D55,VLOOKUP(D55,年収と手取り!C:I,7,1),0)/9.1%","v":0}]
[null,69,74,{"$f":"IF(C56>入力!$D$22,0,VLOOKUP(C56,賃金カーブ!R:T,3,0))","v":0},{"$f":"VLOOKUP(D56,年収と手取り!X:Y,2,1)","v":0},{"$f":"入力!$E$28","v":0},{"$f":"IF(C56=入力!D$22,入力!E$31,0)","v":0},199.66338323076928,{"$f":"IF(H56>0,-年金の税金!$G$24/10000,0)","v":-12.205033602079252},187.45834962869003,null,null,39.6,13.200000000000001,6.6000000000000005,5.2800000000000011,3.3000000000000003,{"$f":"IF(C56>65,0,IF(OR(AND(子1!C56>=0,子1!C56<=18),AND(子2!C56>=0,子2!C56<=18),AND(子3!C56>=0,子3!C56<=18),AND(子4!C56>=0,子4!C56<=18)),入力!$D$35,入力!$D$34)*12)","v":0},null,67.98,119.47834962869003,6,2.4000000000000004,null,null,null,null,null,8.4,111.07834962869002,36,null,null,null,null,null,36,75.07834962869002,13106.366466658208,null,null,null,null,null,{"$f":"(親2!E56<103)*1+AND(子1!C56>=0,子1!C56<15)*1+AND(子2!C56>=0,子2!C56<15)*1+AND(子3!C56>=0,子3!C56<15)*1+AND(子4!C56>=0,子4!C56<15)*1","v":1},{"$f":"AND(子1!AC56>0)*1+AND(子2!AC56>0)*1+AND(子3!AC56>0)*1+AND(子4!AC56>0)*1","v":0},"夫婦",{"$f":"IF(D56,VLOOKUP(D56,年収と手取り!C:I,7,1),0)/9.1%","v":0}]
[null,70,75,{"$f":"IF(C57>入力!$D$22,0,VLOOKUP(C57,賃金カーブ!R:T,3,0))","v":0},{"$f":"VLOOKUP(D57,年収と手取り!X:Y,2,1)","v":0},{"$f":"入力!$E$28","v":0},{"$f":"IF(C57=入力!D$22,入力!E$31,0)","v":0},199.66338323076928,{"$f":"IF(H57>0,-年金の税金!$G$24/10000,0)","v":-12.205033602079252},187.45834962869003,null,null,39.6,13.200000000000001,6.6000000000000005,5.2800000000000011,3.3000000000000003,{"$f":"IF(C57>65,0,IF(OR(AND(子1!C57>=0,子1!C57<=18),AND(子2!C57>=0,子2!C57<=18),AND(子3!C57>=0,子3!C57<=18),AND(子4!C57>=0,子4!C57<=18)),入力!$D$35,入力!$D$34)*12)","v":0},null,67.98,119.47834962869003,6,2.4000000000000004,null,null,null,null,null,8.4,111.07834962869002,36,null,null,null,null,null,36,75.07834962869002,13181.444816286898,null,null,null,null,null,{"$f":"(親2!E57<103)*1+AND(子1!C57>=0,子1!C57<15)*1+AND(子2!C57>=0,子2!C57<15)*1+AND(子3!C57>=0,子3!C57<15)*1+AND(子4!C57>=0,子4!C57<15)*1","v":1},{"$f":"AND(子1!AC57>0)*1+AND(子2!AC57>0)*1+AND(子3!AC57>0)*1+AND(子4!AC57>0)*1","v":0},"夫婦",{"$f":"IF(D57,VLOOKUP(D57,年収と手取り!C:I,7,1),0)/9.1%","v":0}]
[null,71,76,{"$f":"IF(C58>入力!$D$22,0,VLOOKUP(C58,賃金カーブ!R:T,3,0))","v":0},{"$f":"VLOOKUP(D58,年収と手取り!X:Y,2,1)","v":0},{"$f":"入力!$E$28","v":0},{"$f":"IF(C58=入力!D$22,入力!E$31,0)","v":0},199.66338323076928,{"$f":"IF(H58>0,-年金の税金!$G$24/10000,0)","v":-12.205033602079252},187.45834962869003,null,null,39.6,13.200000000000001,6.6000000000000005,5.2800000000000011,3.3000000000000003,{"$f":"IF(C58>65,0,IF(OR(AND(子1!C58>=0,子1!C58<=18),AND(子2!C58>=0,子2!C58<=18),AND(子3!C58>=0,子3!C58<=18),AND(子4!C58>=0,子4!C58<=18)),入力!$D$35,入力!$D$34)*12)","v":0},null,67.98,119.47834962869003,6,2.4000000000000004,null,null,null,null,null,8.4,111.07834962869002,36,null,null,null,null,null,36,75.07834962869002,13256.523165915587,null,null,null,null,null,{"$f":"(親2!E58<103)*1+AND(子1!C58>=0,子1!C58<15)*1+AND(子2!C58>=0,子2!C58<15)*1+AND(子3!C58>=0,子3!C58<15)*1+AND(子4!C58>=0,子4!C58<15)*1","v":1},{"$f":"AND(子1!AC58>0)*1+AND(子2!AC58>0)*1+AND(子3!AC58>0)*1+AND(子4!AC58>0)*1","v":0},"夫婦",{"$f":"IF(D58,VLOOKUP(D58,年収と手取り!C:I,7,1),0)/9.1%","v":0}]
[null,72,77,{"$f":"IF(C59>入力!$D$22,0,VLOOKUP(C59,賃金カーブ!R:T,3,0))","v":0},{"$f":"VLOOKUP(D59,年収と手取り!X:Y,2,1)","v":0},{"$f":"入力!$E$28","v":0},{"$f":"IF(C59=入力!D$22,入力!E$31,0)","v":0},199.66338323076928,{"$f":"IF(H59>0,-年金の税金!$G$24/10000,0)","v":-12.205033602079252},187.45834962869003,null,null,39.6,13.200000000000001,6.6000000000000005,5.2800000000000011,3.3000000000000003,{"$f":"IF(C59>65,0,IF(OR(AND(子1!C59>=0,子1!C59<=18),AND(子2!C59>=0,子2!C59<=18),AND(子3!C59>=0,子3!C59<=18),AND(子4!C59>=0,子4!C59<=18)),入力!$D$35,入力!$D$34)*12)","v":0},null,67.98,119.47834962869003,6,2.4000000000000004,null,null,null,null,null,8.4,111.07834962869002,36,null,null,null,null,null,36,75.07834962869002,13331.601515544276,null,null,null,null,null,{"$f":"(親2!E59<103)*1+AND(子1!C59>=0,子1!C59<15)*1+AND(子2!C59>=0,子2!C59<15)*1+AND(子3!C59>=0,子3!C59<15)*1+AND(子4!C59>=0,子4!C59<15)*1","v":1},{"$f":"AND(子1!AC59>0)*1+AND(子2!AC59>0)*1+AND(子3!AC59>0)*1+AND(子4!AC59>0)*1","v":0},"夫婦",{"$f":"IF(D59,VLOOKUP(D59,年収と手取り!C:I,7,1),0)/9.1%","v":0}]
[null,73,78,{"$f":"IF(C60>入力!$D$22,0,VLOOKUP(C60,賃金カーブ!R:T,3,0))","v":0},{"$f":"VLOOKUP(D60,年収と手取り!X:Y,2,1)","v":0},{"$f":"入力!$E$28","v":0},{"$f":"IF(C60=入力!D$22,入力!E$31,0)","v":0},199.66338323076928,{"$f":"IF(H60>0,-年金の税金!$G$24/10000,0)","v":-12.205033602079252},187.45834962869003,null,null,39.6,13.200000000000001,6.6000000000000005,5.2800000000000011,3.3000000000000003,{"$f":"IF(C60>65,0,IF(OR(AND(子1!C60>=0,子1!C60<=18),AND(子2!C60>=0,子2!C60<=18),AND(子3!C60>=0,子3!C60<=18),AND(子4!C60>=0,子4!C60<=18)),入力!$D$35,入力!$D$34)*12)","v":0},null,67.98,119.47834962869003,6,2.4000000000000004,null,null,null,null,null,8.4,111.07834962869002,36,null,null,null,null,null,36,75.07834962869002,13406.679865172966,null,null,null,null,null,{"$f":"(親2!E60<103)*1+AND(子1!C60>=0,子1!C60<15)*1+AND(子2!C60>=0,子2!C60<15)*1+AND(子3!C60>=0,子3!C60<15)*1+AND(子4!C60>=0,子4!C60<15)*1","v":1},{"$f":"AND(子1!AC60>0)*1+AND(子2!AC60>0)*1+AND(子3!AC60>0)*1+AND(子4!AC60>0)*1","v":0},"夫婦",{"$f":"IF(D60,VLOOKUP(D60,年収と手取り!C:I,7,1),0)/9.1%","v":0}]
[null,74,79,{"$f":"IF(C61>入力!$D$22,0,VLOOKUP(C61,賃金カーブ!R:T,3,0))","v":0},{"$f":"VLOOKUP(D61,年収と手取り!X:Y,2,1)","v":0},{"$f":"入力!$E$28","v":0},{"$f":"IF(C61=入力!D$22,入力!E$31,0)","v":0},199.66338323076928,{"$f":"IF(H61>0,-年金の税金!$G$24/10000,0)","v":-12.205033602079252},187.45834962869003,null,null,39.6,13.200000000000001,6.6000000000000005,5.2800000000000011,3.3000000000000003,{"$f":"IF(C61>65,0,IF(OR(AND(子1!C61>=0,子1!C61<=18),AND(子2!C61>=0,子2!C61<=18),AND(子3!C61>=0,子3!C61<=18),AND(子4!C61>=0,子4!C61<=18)),入力!$D$35,入力!$D$34)*12)","v":0},null,67.98,119.47834962869003,6,2.4000000000000004,null,null,null,null,null,8.4,111.07834962869002,36,null,null,null,null,null,36,75.07834962869002,13481.758214801655,null,null,null,null,null,{"$f":"(親2!E61<103)*1+AND(子1!C61>=0,子1!C61<15)*1+AND(子2!C61>=0,子2!C61<15)*1+AND(子3!C61>=0,子3!C61<15)*1+AND(子4!C61>=0,子4!C61<15)*1","v":1},{"$f":"AND(子1!AC61>0)*1+AND(子2!AC61>0)*1+AND(子3!AC61>0)*1+AND(子4!AC61>0)*1","v":0},"夫婦",{"$f":"IF(D61,VLOOKUP(D61,年収と手取り!C:I,7,1),0)/9.1%","v":0}]
[null,75,80,{"$f":"IF(C62>入力!$D$22,0,VLOOKUP(C62,賃金カーブ!R:T,3,0))","v":0},{"$f":"VLOOKUP(D62,年収と手取り!X:Y,2,1)","v":0},{"$f":"入力!$E$28","v":0},{"$f":"IF(C62=入力!D$22,入力!E$31,0)","v":0},199.66338323076928,{"$f":"IF(H62>0,-年金の税金!$G$24/10000,0)","v":-12.205033602079252},187.45834962869003,null,null,39.6,13.200000000000001,6.6000000000000005,5.2800000000000011,3.3000000000000003,{"$f":"IF(C62>65,0,IF(OR(AND(子1!C62>=0,子1!C62<=18),AND(子2!C62>=0,子2!C62<=18),AND(子3!C62>=0,子3!C62<=18),AND(子4!C62>=0,子4!C62<=18)),入力!$D$35,入力!$D$34)*12)","v":0},null,67.98,119.47834962869003,6,2.4000000000000004,null,null,null,null,null,8.4,111.07834962869002,36,null,null,null,null,null,36,75.07834962869002,13556.836564430345,null,null,null,null,null,{"$f":"(親2!E62<103)*1+AND(子1!C62>=0,子1!C62<15)*1+AND(子2!C62>=0,子2!C62<15)*1+AND(子3!C62>=0,子3!C62<15)*1+AND(子4!C62>=0,子4!C62<15)*1","v":1},{"$f":"AND(子1!AC62>0)*1+AND(子2!AC62>0)*1+AND(子3!AC62>0)*1+AND(子4!AC62>0)*1","v":0},"夫婦",{"$f":"IF(D62,VLOOKUP(D62,年収と手取り!C:I,7,1),0)/9.1%","v":0}]
[null,76,81,{"$f":"IF(C63>入力!$D$22,0,VLOOKUP(C63,賃金カーブ!R:T,3,0))","v":0},{"$f":"VLOOKUP(D63,年収と手取り!X:Y,2,1)","v":0},{"$f":"入力!$E$28","v":0},{"$f":"IF(C63=入力!D$22,入力!E$31,0)","v":0},199.66338323076928,{"$f":"IF(H63>0,-年金の税金!$G$24/10000,0)","v":-12.205033602079252},187.45834962869003,null,null,39.6,13.200000000000001,6.6000000000000005,5.2800000000000011,3.3000000000000003,{"$f":"IF(C63>65,0,IF(OR(AND(子1!C63>=0,子1!C63<=18),AND(子2!C63>=0,子2!C63<=18),AND(子3!C63>=0,子3!C63<=18),AND(子4!C63>=0,子4!C63<=18)),入力!$D$35,入力!$D$34)*12)","v":0},null,67.98,119.47834962869003,6,2.4000000000000004,null,null,null,null,null,8.4,111.07834962869002,36,null,null,null,null,null,36,75.07834962869002,13631.914914059034,null,null,null,null,null,{"$f":"(親2!E63<103)*1+AND(子1!C63>=0,子1!C63<15)*1+AND(子2!C63>=0,子2!C63<15)*1+AND(子3!C63>=0,子3!C63<15)*1+AND(子4!C63>=0,子4!C63<15)*1","v":1},{"$f":"AND(子1!AC63>0)*1+AND(子2!AC63>0)*1+AND(子3!AC63>0)*1+AND(子4!AC63>0)*1","v":0},"夫婦",{"$f":"IF(D63,VLOOKUP(D63,年収と手取り!C:I,7,1),0)/9.1%","v":0}]
[null,77,82,{"$f":"IF(C64>入力!$D$22,0,VLOOKUP(C64,賃金カーブ!R:T,3,0))","v":0},{"$f":"VLOOKUP(D64,年収と手取り!X:Y,2,1)","v":0},{"$f":"入力!$E$28","v":0},{"$f":"IF(C64=入力!D$22,入力!E$31,0)","v":0},199.66338323076928,{"$f":"IF(H64>0,-年金の税金!$G$24/10000,0)","v":-12.205033602079252},187.45834962869003,null,null,39.6,13.200000000000001,6.6000000000000005,5.2800000000000011,3.3000000000000003,{"$f":"IF(C64>65,0,IF(OR(AND(子1!C64>=0,子1!C64<=18),AND(子2!C64>=0,子2!C64<=18),AND(子3!C64>=0,子3!C64<=18),AND(子4!C64>=0,子4!C64<=18)),入力!$D$35,入力!$D$34)*12)","v":0},null,67.98,119.47834962869003,6,2.4000000000000004,null,null,null,null,null,8.4,111.07834962869002,36,null,null,null,null,null,36,75.07834962869002,13706.993263687724,null,null,null,null,null,{"$f":"(親2!E64<103)*1+AND(子1!C64>=0,子1!C64<15)*1+AND(子2!C64>=0,子2!C64<15)*1+AND(子3!C64>=0,子3!C64<15)*1+AND(子4!C64>=0,子4!C64<15)*1","v":1},{"$f":"AND(子1!AC64>0)*1+AND(子2!AC64>0)*1+AND(子3!AC64>0)*1+AND(子4!AC64>0)*1","v":0},"夫婦",{"$f":"IF(D64,VLOOKUP(D64,年収と手取り!C:I,7,1),0)/9.1%","v":0}]
[null,78,83,{"$f":"IF(C65>入力!$D$22,0,VLOOKUP(C65,賃金カーブ!R:T,3,0))","v":0},{"$f":"VLOOKUP(D65,年収と手取り!X:Y,2,1)","v":0},{"$f":"入力!$E$28","v":0},{"$f":"IF(C65=入力!D$22,入力!E$31,0)","v":0},199.66338323076928,{"$f":"IF(H65>0,-年金の税金!$G$24/10000,0)","v":-12.205033602079252},187.45834962869003,null,null,39.6,13.200000000000001,6.6000000000000005,5.2800000000000011,3.3000000000000003,{"$f":"IF(C65>65,0,IF(OR(AND(子1!C65>=0,子1!C65<=18),AND(子2!C65>=0,子2!C65<=18),AND(子3!C65>=0,子3!C65<=18),AND(子4!C65>=0,子4!C65<=18)),入力!$D$35,入力!$D$34)*12)","v":0},null,67.98,119.47834962869003,6,2.4000000000000004,null,null,null,null,null,8.4,111.07834962869002,36,null,null,null,null,null,36,75.07834962869002,13782.071613316413,null,null,null,null,null,{"$f":"(親2!E65<103)*1+AND(子1!C65>=0,子1!C65<15)*1+AND(子2!C65>=0,子2!C65<15)*1+AND(子3!C65>=0,子3!C65<15)*1+AND(子4!C65>=0,子4!C65<15)*1","v":1},{"$f":"AND(子1!AC65>0)*1+AND(子2!AC65>0)*1+AND(子3!AC65>0)*1+AND(子4!AC65>0)*1","v":0},"夫婦",{"$f":"IF(D65,VLOOKUP(D65,年収と手取り!C:I,7,1),0)/9.1%","v":0}]
[null,79,84,{"$f":"IF(C66>入力!$D$22,0,VLOOKUP(C66,賃金カーブ!R:T,3,0))","v":0},{"$f":"VLOOKUP(D66,年収と手取り!X:Y,2,1)","v":0},{"$f":"入力!$E$28","v":0},{"$f":"IF(C66=入力!D$22,入力!E$31,0)","v":0},199.66338323076928,{"$f":"IF(H66>0,-年金の税金!$G$24/10000,0)","v":-12.205033602079252},187.45834962869003,null,null,39.6,13.200000000000001,6.6000000000000005,5.2800000000000011,3.3000000000000003,{"$f":"IF(C66>65,0,IF(OR(AND(子1!C66>=0,子1!C66<=18),AND(子2!C66>=0,子2!C66<=18),AND(子3!C66>=0,子3!C66<=18),AND(子4!C66>=0,子4!C66<=18)),入力!$D$35,入力!$D$34)*12)","v":0},null,67.98,119.47834962869003,6,2.4000000000000004,null,null,null,null,null,8.4,111.07834962869002,36,null,null,null,null,null,36,75.07834962869002,13857.149962945103,null,null,null,null,null,{"$f":"(親2!E66<103)*1+AND(子1!C66>=0,子1!C66<15)*1+AND(子2!C66>=0,子2!C66<15)*1+AND(子3!C66>=0,子3!C66<15)*1+AND(子4!C66>=0,子4!C66<15)*1","v":1},{"$f":"AND(子1!AC66>0)*1+AND(子2!AC66>0)*1+AND(子3!AC66>0)*1+AND(子4!AC66>0)*1","v":0},"夫婦",{"$f":"IF(D66,VLOOKUP(D66,年収と手取り!C:I,7,1),0)/9.1%","v":0}]
[null,80,85,{"$f":"IF(C67>入力!$D$22,0,VLOOKUP(C67,賃金カーブ!R:T,3,0))","v":0},{"$f":"VLOOKUP(D67,年収と手取り!X:Y,2,1)","v":0},{"$f":"入力!$E$28","v":0},{"$f":"IF(C67=入力!D$22,入力!E$31,0)","v":0},199.66338323076928,{"$f":"IF(H67>0,-年金の税金!$G$24/10000,0)","v":-12.205033602079252},187.45834962869003,null,null,39.6,13.200000000000001,6.6000000000000005,5.2800000000000011,3.3000000000000003,{"$f":"IF(C67>65,0,IF(OR(AND(子1!C67>=0,子1!C67<=18),AND(子2!C67>=0,子2!C67<=18),AND(子3!C67>=0,子3!C67<=18),AND(子4!C67>=0,子4!C67<=18)),入力!$D$35,入力!$D$34)*12)","v":0},null,67.98,119.47834962869003,6,2.4000000000000004,null,null,null,null,null,8.4,111.07834962869002,36,null,null,null,null,null,36,75.07834962869002,13932.228312573792,null,null,null,null,null,{"$f":"(親2!E67<103)*1+AND(子1!C67>=0,子1!C67<15)*1+AND(子2!C67>=0,子2!C67<15)*1+AND(子3!C67>=0,子3!C67<15)*1+AND(子4!C67>=0,子4!C67<15)*1","v":1},{"$f":"AND(子1!AC67>0)*1+AND(子2!AC67>0)*1+AND(子3!AC67>0)*1+AND(子4!AC67>0)*1","v":0},"夫婦",{"$f":"IF(D67,VLOOKUP(D67,年収と手取り!C:I,7,1),0)/9.1%","v":0}]
[null,81,86,{"$f":"IF(C68>入力!$D$22,0,VLOOKUP(C68,賃金カーブ!R:T,3,0))","v":0},{"$f":"VLOOKUP(D68,年収と手取り!X:Y,2,1)","v":0},{"$f":"入力!$E$28","v":0},{"$f":"IF(C68=入力!D$22,入力!E$31,0)","v":0},199.66338323076928,{"$f":"IF(H68>0,-年金の税金!$G$24/10000,0)","v":-12.205033602079252},187.45834962869003,null,null,39.6,13.200000000000001,6.6000000000000005,5.2800000000000011,3.3000000000000003,{"$f":"IF(C68>65,0,IF(OR(AND(子1!C68>=0,子1!C68<=18),AND(子2!C68>=0,子2!C68<=18),AND(子3!C68>=0,子3!C68<=18),AND(子4!C68>=0,子4!C68<=18)),入力!$D$35,入力!$D$34)*12)","v":0},null,67.98,119.47834962869003,6,2.4000000000000004,null,null,null,null,null,8.4,111.07834962869002,36,null,null,null,null,null,36,75.07834962869002,14007.306662202482,null,null,null,null,null,{"$f":"(親2!E68<103)*1+AND(子1!C68>=0,子1!C68<15)*1+AND(子2!C68>=0,子2!C68<15)*1+AND(子3!C68>=0,子3!C68<15)*1+AND(子4!C68>=0,子4!C68<15)*1","v":1},{"$f":"AND(子1!AC68>0)*1+AND(子2!AC68>0)*1+AND(子3!AC68>0)*1+AND(子4!AC68>0)*1","v":0},"夫婦",{"$f":"IF(D68,VLOOKUP(D68,年収と手取り!C:I,7,1),0)/9.1%","v":0}]
[null,82,87,{"$f":"IF(C69>入力!$D$22,0,VLOOKUP(C69,賃金カーブ!R:T,3,0))","v":0},{"$f":"VLOOKUP(D69,年収と手取り!X:Y,2,1)","v":0},{"$f":"入力!$E$28","v":0},{"$f":"IF(C69=入力!D$22,入力!E$31,0)","v":0},199.66338323076928,{"$f":"IF(H69>0,-年金の税金!$G$24/10000,0)","v":-12.205033602079252},187.45834962869003,null,null,39.6,13.200000000000001,6.6000000000000005,5.2800000000000011,3.3000000000000003,{"$f":"IF(C69>65,0,IF(OR(AND(子1!C69>=0,子1!C69<=18),AND(子2!C69>=0,子2!C69<=18),AND(子3!C69>=0,子3!C69<=18),AND(子4!C69>=0,子4!C69<=18)),入力!$D$35,入力!$D$34)*12)","v":0},null,67.98,119.47834962869003,6,2.4000000000000004,null,null,null,null,null,8.4,111.07834962869002,36,null,null,null,null,null,36,75.07834962869002,14082.385011831171,null,null,null,null,null,{"$f":"(親2!E69<103)*1+AND(子1!C69>=0,子1!C69<15)*1+AND(子2!C69>=0,子2!C69<15)*1+AND(子3!C69>=0,子3!C69<15)*1+AND(子4!C69>=0,子4!C69<15)*1","v":1},{"$f":"AND(子1!AC69>0)*1+AND(子2!AC69>0)*1+AND(子3!AC69>0)*1+AND(子4!AC69>0)*1","v":0},"夫婦",{"$f":"IF(D69,VLOOKUP(D69,年収と手取り!C:I,7,1),0)/9.1%","v":0}]
[null,83,88,{"$f":"IF(C70>入力!$D$22,0,VLOOKUP(C70,賃金カーブ!R:T,3,0))","v":0},{"$f":"VLOOKUP(D70,年収と手取り!X:Y,2,1)","v":0},{"$f":"入力!$E$28","v":0},{"$f":"IF(C70=入力!D$22,入力!E$31,0)","v":0},199.66338323076928,{"$f":"IF(H70>0,-年金の税金!$G$24/10000,0)","v":-12.205033602079252},187.45834962869003,null,null,39.6,13.200000000000001,6.6000000000000005,5.2800000000000011,3.3000000000000003,{"$f":"IF(C70>65,0,IF(OR(AND(子1!C70>=0,子1!C70<=18),AND(子2!C70>=0,子2!C70<=18),AND(子3!C70>=0,子3!C70<=18),AND(子4!C70>=0,子4!C70<=18)),入力!$D$35,入力!$D$34)*12)","v":0},null,{"$f":"SUM(K70:S70)","v":67.98},{"$f":"J70-T70","v":119.47834962869003},{"$f":"V$1","v":6},2.4000000000000004,null,null,null,null,null,{"$f":"SUM(V70:AB70)","v":8.4},{"$f":"U70-AC70","v":111.07834962869002},36,null,null,null,null,null,36,{"$f":"AD70-AK70","v":75.07834962869002},{"$f":"AL70+AM69","v":14157.463361459861},null,null,null,null,null,{"$f":"(親2!E70<103)*1+AND(子1!C70>=0,子1!C70<15)*1+AND(子2!C70>=0,子2!C70<15)*1+AND(子3!C70>=0,子3!C70<15)*1+AND(子4!C70>=0,子4!C70<15)*1","v":1},{"$f":"AND(子1!AC70>0)*1+AND(子2!AC70>0)*1+AND(子3!AC70>0)*1+AND(子4!AC70>0)*1","v":0},"夫婦",{"$f":"IF(D70,VLOOKUP(D70,年収と手取り!C:I,7,1),0)/9.1%","v":0}]
[null,null,null,{"$f":"SUM(D6:D70)","v":21757.664495573739},16654.621320000002,0,1000,4592.2578143076935,-280.71577284782279,21966.163361459883,0,0,2573.9999999999968,858.00000000000091,429.00000000000045,343.19999999999959,214.50000000000023,504,{"$f":"SUM(S6:S70)","v":0},4922.6999999999953,17043.46336145989,390,156.0000000000002,0,0,0,0,0,545.99999999999932,16497.463361459861,2340,0,0,0,0,0,2340,{"$f":"SUM(AL5:AL70)","v":14157.463361459861},null,null,null,null,null,null,null,null,null,{"$f":"AVERAGEIF(AV6:AV70,\">0\")","v":516.24960753532196},{"$f":"COUNTIF(AV6:AV70,\">0\")","v":42},{"$f":"AV71*AW71","v":21682.483516483524}]
[null,null,null,null,null,null,null,null,null,null,null,null,null,null,null,null,null,null,null,null,null,null,null,null,null,null,null,null,null,null,null,null,null,null,null,null,null,null,null,null,null,null,null,null,null,null,null,{"$f":"AV6*2/3","v":257.40659340659334},{"$f":"C6-22","v":2},{"$f":"AV72*AW72","v":514.81318681318669}]
[null,null,null,null,null,null,null,null,null,null,null,null,null,null,null,null,null,null,null,null,null,null,null,null,null,null,null,null,null,null,null,null,null,null,null,null,null,null,null,null,null,null,null,null,null,null,null,null,null,{"$f":"SUM(AX71:AX72)/SUM(AW71:AW72)/12","v":42.040334665334676}]
[null,null,null,null,null,null,null,null,null,null,null,null,null,null,null,null,null,null,null,null,null,null,null,null,null,null,null,null,null,null,null,null,null,null,null,null,null,null,null,null,null,null,null,null,null,null,null,null,null,{"$f":"AX73*0.005481*SUM(AW71:AW72)","v":10.138615269230772}]
[]
[null,null,null,null,null,"支給額　→　国民年金6.5万円×人数　＋　(働いていた期間(年)×その期間の平均年収)/40×1.8％"]
[]
[]
[]
[null,null,null,null,null,null,null,null,null,null,null,null,null,null,null,null,null,null,null,null,null,"交通・通信"]
[null,null,null,null,null,null,null,null,null,null,null,null,"食料","住居","光熱・水道","家具・家事用品","被服及び履物","保健医療","教養娯楽",null,null,null,null,null,null,null,null,null,null,null,"その他の消費支出"]

{"sheet":"親2","index":4,"n_rows":74,"n_cols":49,"rows_kept":74,"cut":false,"hidden":false,"merged":[]}
[null,null,null,null,null,null,null,null,null,null,null,null,{"$f":"入力!$AD$12*12*(1+入力!$AD$16)","v":39.6},{"$f":"入力!$AE$12*12*(1+入力!$AD$16)","v":13.200000000000001},{"$f":"入力!$AF$12*12*(1+入力!$AD$16)","v":3.3000000000000003},{"$f":"入力!$AG$12*12*(1+入力!$AD$16)","v":2.6400000000000006},{"$f":"入力!$AH$12*12*(1+入力!$AD$16)","v":1.6500000000000001},null,null,null,null,{"$f":"入力!$AI$12*12","v":0},{"$f":"入力!$AJ$12*12","v":2.4000000000000004},null,null,null,null,null,null,null,{"$f":"入力!$I$38*12","v":36}]
[null,null,null,null,null,null,null,null,null,"収入",null,null,null,null,null,null,null,null,null,null,"収支 小計",null,null,null,null,null,null,null,null,"収支 小計",null,null,null,null,null,null,null,"収支","収支累計"]
[null,null,null,null,null,null,null,null,null,null,null,null,null,null,null,null,null,null,null,"支出1  衣食住",null,null,null,null,null,null,null,null,"支出2  固定費",null,null,null,null,null,null,null,"支出3  衣食住勉"]
[null,"西暦","年齢","年収","手取り","時短等","退職金","年金",null,null,"住居","住居維持費\n(含むローン控除)","食費","服費","電気","ガス","水道","保険",null,null,null,"インターネット","携帯","塾・仕送り","習い事","学費",null,null,null,null,"お小遣い","雑費","家具","車1","車2","車維持費","合計",null,null,null,null,null,null,null,null,null,"年金の計算"]
[null,"貯金",null,null,null,null,null,null,null,null,null,null,null,null,null,null,null,null,null,null,null,null,null,null,null,null,null,null,null,null,null,null,null,null,null,null,null,null,{"$f":"SUM(AN5:AO5)","v":0},{"$f":"入力!I11","v":0},{"$f":"入力!J11","v":0}]
[null,19,{"$f":"入力!$I$17","v":22},{"$f":"IF(C6>入力!$I$22,0,VLOOKUP(C6,賃金カーブ!R:Z,4,0))","v":173.09058078416805},{"$f":"VLOOKUP(D6,年収と手取り!X:Y,2,1)","v":138.89156199999999},{"$f":"-IF(OR(AND(子1!C6>=入力!$I$28,子1!C6<=入力!$J$28),AND(子2!C6>=入力!$I$28,子2!C6<=入力!$J$28),AND(子3!C6>=入力!$I$28,子3!C6<=入力!$J$28),AND(子4!C6>=入力!$I$28,子4!C6<=入力!$J$28)),親2!E6*(1-入力!$K$28),\nIF(OR(AND(子1!C6>=入力!$I$29,子1!C6<=入力!$J$29),AND(子2!C6>=入力!$I$29,子2!C6<=入力!$J$29),AND(子3!C6>=入力!$I$29,子3!C6<=入力!$J$29),AND(子4!C6>=入力!$I$29,子4!C6<=入力!$J$29)),親2!E6*(1-入力!$K$29),0))","v":0},{"$f":"IF(C6=入力!I$22,入力!J$31,0)","v":0},{"$f":"IFERROR(IF(C6>65,6.5+$E$71/COUNTIF($E$6:$E$70,\">0\")*1.8%,0)*12,0)","v":0},{"$f":"IF(H6>0,-年金の税金!$G$25/10000,0)","v":0},{"$f":"SUM(E6:I6)","v":138.89156199999999},null,null,{"$f":"M$1","v":39.6},{"$f":"N$1","v":13.200000000000001},3.3000000000000003,2.6400000000000006,1.6500000000000001,{"$f":"IF(OR(AND(子1!C6>=0,子1!C6<=18),AND(子2!C6>=0,子2!C6<=18),AND(子3!C6>=0,子3!C6<=18),AND(子4!C6>=0,子4!C6<=18)),入力!$I$35,入力!$I$34)*12","v":0},null,{"$f":"SUM(K6:S6)","v":60.39},{"$f":"J6-T6","v":78.501561999999993},null,{"$f":"W$1","v":2.4000000000000004},null,null,null,null,null,{"$f":"SUM(V6:AB6)","v":2.4000000000000004},{"$f":"U6-AC6","v":76.101561999999987},{"$f":"AE$1","v":36},null,null,null,null,null,{"$f":"SUM(AE6:AJ6)","v":36},{"$f":"AD6-AK6","v":40.101561999999987},{"$f":"AL6+AM5","v":40.101561999999987},null,null,null,null,null,null,null,{"$f":"IF(D6,VLOOKUP(D6,年収と手取り!C:I,7,1),0)/9.1%","v":171.33626373626373}]
[null,{"$f":"B6+1","v":20},{"$f":"C6+1","v":23},{"$f":"IF(C7>入力!$I$22,0,VLOOKUP(C7,賃金カーブ!R:Z,4,0))","v":178.88593536644231},{"$f":"VLOOKUP(D7,年収と手取り!X:Y,2,1)","v":138.89156199999999},{"$f":"-IF(OR(AND(子1!C7>=入力!$I$28,子1!C7<=入力!$J$28),AND(子2!C7>=入力!$I$28,子2!C7<=入力!$J$28),AND(子3!C7>=入力!$I$28,子3!C7<=入力!$J$28),AND(子4!C7>=入力!$I$28,子4!C7<=入力!$J$28)),親2!E7*(1-入力!$K$28),\nIF(OR(AND(子1!C7>=入力!$I$29,子1!C7<=入力!$J$29),AND(子2!C7>=入力!$I$29,子2!C7<=入力!$J$29),AND(子3!C7>=入力!$I$29,子3!C7<=入力!$J$29),AND(子4!C7>=入力!$I$29,子4!C7<=入力!$J$29)),親2!E7*(1-入力!$K$29),0))","v":0},{"$f":"IF(C7=入力!I$22,入力!J$31,0)","v":0},0,{"$f":"IF(H7>0,-年金の税金!$G$25/10000,0)","v":0},138.89156199999999,null,null,{"$f":"M$1","v":39.6},13.200000000000001,3.3000000000000003,2.6400000000000006,1.6500000000000001,{"$f":"IF(OR(AND(子1!C7>=0,子1!C7<=18),AND(子2!C7>=0,子2!C7<=18),AND(子3!C7>=0,子3!C7<=18),AND(子4!C7>=0,子4!C7<=18)),入力!$I$35,入力!$I$34)*12","v":0},null,60.39,78.501561999999993,null,2.4000000000000004,null,null,null,null,null,2.4000000000000004,76.101561999999987,{"$f":"AE$1","v":36},null,null,null,null,null,{"$f":"SUM(AE7:AJ7)","v":36},40.101561999999987,{"$f":"AL7+AM6","v":80.203123999999974},null,null,null,null,null,null,null,{"$f":"IF(D7,VLOOKUP(D7,年収と手取り!C:I,7,1),0)/9.1%","v":171.33626373626373}]
[null,{"$f":"B7+1","v":21},{"$f":"C7+1","v":24},{"$f":"IF(C8>入力!$I$22,0,VLOOKUP(C8,賃金カーブ!R:Z,4,0))","v":184.8753278598619},{"$f":"VLOOKUP(D8,年収と手取り!X:Y,2,1)","v":146.75165000000001},{"$f":"-IF(OR(AND(子1!C8>=入力!$I$28,子1!C8<=入力!$J$28),AND(子2!C8>=入力!$I$28,子2!C8<=入力!$J$28),AND(子3!C8>=入力!$I$28,子3!C8<=入力!$J$28),AND(子4!C8>=入力!$I$28,子4!C8<=入力!$J$28)),親2!E8*(1-入力!$K$28),\nIF(OR(AND(子1!C8>=入力!$I$29,子1!C8<=入力!$J$29),AND(子2!C8>=入力!$I$29,子2!C8<=入力!$J$29),AND(子3!C8>=入力!$I$29,子3!C8<=入力!$J$29),AND(子4!C8>=入力!$I$29,子4!C8<=入力!$J$29)),親2!E8*(1-入力!$K$29),0))","v":0},{"$f":"IF(C8=入力!I$22,入力!J$31,0)","v":0},0,{"$f":"IF(H8>0,-年金の税金!$G$25/10000,0)","v":0},146.75165000000001,null,null,39.6,13.200000000000001,3.3000000000000003,2.6400000000000006,1.6500000000000001,{"$f":"IF(OR(AND(子1!C8>=0,子1!C8<=18),AND(子2!C8>=0,子2!C8<=18),AND(子3!C8>=0,子3!C8<=18),AND(子4!C8>=0,子4!C8<=18)),入力!$I$35,入力!$I$34)*12","v":0},null,60.39,86.361650000000012,null,2.4000000000000004,null,null,null,null,null,2.4000000000000004,83.961650000000006,36,null,null,null,null,null,36,47.961650000000006,128.16477399999997,null,null,null,null,null,null,null,{"$f":"IF(D8,VLOOKUP(D8,年収と手取り!C:I,7,1),0)/9.1%","v":180.98901098901098}]
[null,22,25,{"$f":"IF(C9>入力!$I$22,0,VLOOKUP(C9,賃金カーブ!R:Z,4,0))","v":191.06525496974933},{"$f":"VLOOKUP(D9,年収と手取り!X:Y,2,1)","v":154.15176},{"$f":"-IF(OR(AND(子1!C9>=入力!$I$28,子1!C9<=入力!$J$28),AND(子2!C9>=入力!$I$28,子2!C9<=入力!$J$28),AND(子3!C9>=入力!$I$28,子3!C9<=入力!$J$28),AND(子4!C9>=入力!$I$28,子4!C9<=入力!$J$28)),親2!E9*(1-入力!$K$28),\nIF(OR(AND(子1!C9>=入力!$I$29,子1!C9<=入力!$J$29),AND(子2!C9>=入力!$I$29,子2!C9<=入力!$J$29),AND(子3!C9>=入力!$I$29,子3!C9<=入力!$J$29),AND(子4!C9>=入力!$I$29,子4!C9<=入力!$J$29)),親2!E9*(1-入力!$K$29),0))","v":0},{"$f":"IF(C9=入力!I$22,入力!J$31,0)","v":0},0,{"$f":"IF(H9>0,-年金の税金!$G$25/10000,0)","v":0},154.15176,null,null,39.6,13.200000000000001,3.3000000000000003,2.6400000000000006,1.6500000000000001,{"$f":"IF(OR(AND(子1!C9>=0,子1!C9<=18),AND(子2!C9>=0,子2!C9<=18),AND(子3!C9>=0,子3!C9<=18),AND(子4!C9>=0,子4!C9<=18)),入力!$I$35,入力!$I$34)*12","v":0},null,60.39,93.761759999999995,null,2.4000000000000004,null,null,null,null,null,2.4000000000000004,91.36175999999999,36,null,null,null,null,null,36,55.36175999999999,183.52653399999997,null,null,null,null,null,null,null,{"$f":"IF(D9,VLOOKUP(D9,年収と手取り!C:I,7,1),0)/9.1%","v":193.05494505494502}]
[null,23,26,{"$f":"IF(C10>入力!$I$22,0,VLOOKUP(C10,賃金カーブ!R:Z,4,0))","v":196.68811959833971},{"$f":"VLOOKUP(D10,年収と手取り!X:Y,2,1)","v":154.15176},{"$f":"-IF(OR(AND(子1!C10>=入力!$I$28,子1!C10<=入力!$J$28),AND(子2!C10>=入力!$I$28,子2!C10<=入力!$J$28),AND(子3!C10>=入力!$I$28,子3!C10<=入力!$J$28),AND(子4!C10>=入力!$I$28,子4!C10<=入力!$J$28)),親2!E10*(1-入力!$K$28),\nIF(OR(AND(子1!C10>=入力!$I$29,子1!C10<=入力!$J$29),AND(子2!C10>=入力!$I$29,子2!C10<=入力!$J$29),AND(子3!C10>=入力!$I$29,子3!C10<=入力!$J$29),AND(子4!C10>=入力!$I$29,子4!C10<=入力!$J$29)),親2!E10*(1-入力!$K$29),0))","v":-107.90623199999999},{"$f":"IF(C10=入力!I$22,入力!J$31,0)","v":0},0,{"$f":"IF(H10>0,-年金の税金!$G$25/10000,0)","v":0},46.245528000000007,null,null,39.6,13.200000000000001,3.3000000000000003,2.6400000000000006,1.6500000000000001,{"$f":"IF(OR(AND(子1!C10>=0,子1!C10<=18),AND(子2!C10>=0,子2!C10<=18),AND(子3!C10>=0,子3!C10<=18),AND(子4!C10>=0,子4!C10<=18)),入力!$I$35,入力!$I$34)*12","v":0},null,60.39,-14.144471999999993,null,2.4000000000000004,null,null,null,null,null,2.4000000000000004,-16.544471999999992,36,null,null,null,null,null,36,-52.544471999999992,130.98206199999998,null,null,null,null,null,null,null,{"$f":"IF(D10,VLOOKUP(D10,年収と手取り!C:I,7,1),0)/9.1%","v":193.05494505494502}]
[null,24,27,{"$f":"IF(C11>入力!$I$22,0,VLOOKUP(C11,賃金カーブ!R:Z,4,0))","v":202.47645966429548},{"$f":"VLOOKUP(D11,年収と手取り!X:Y,2,1)","v":161.55187000000001},{"$f":"-IF(OR(AND(子1!C11>=入力!$I$28,子1!C11<=入力!$J$28),AND(子2!C11>=入力!$I$28,子2!C11<=入力!$J$28),AND(子3!C11>=入力!$I$28,子3!C11<=入力!$J$28),AND(子4!C11>=入力!$I$28,子4!C11<=入力!$J$28)),親2!E11*(1-入力!$K$28),\nIF(OR(AND(子1!C11>=入力!$I$29,子1!C11<=入力!$J$29),AND(子2!C11>=入力!$I$29,子2!C11<=入力!$J$29),AND(子3!C11>=入力!$I$29,子3!C11<=入力!$J$29),AND(子4!C11>=入力!$I$29,子4!C11<=入力!$J$29)),親2!E11*(1-入力!$K$29),0))","v":-64.620748000000006},{"$f":"IF(C11=入力!I$22,入力!J$31,0)","v":0},0,{"$f":"IF(H11>0,-年金の税金!$G$25/10000,0)","v":0},96.931122000000002,null,null,39.6,13.200000000000001,3.3000000000000003,2.6400000000000006,1.6500000000000001,{"$f":"IF(OR(AND(子1!C11>=0,子1!C11<=18),AND(子2!C11>=0,子2!C11<=18),AND(子3!C11>=0,子3!C11<=18),AND(子4!C11>=0,子4!C11<=18)),入力!$I$35,入力!$I$34)*12","v":0},null,60.39,36.541122000000001,null,2.4000000000000004,null,null,null,null,null,2.4000000000000004,34.141122000000003,36,null,null,null,null,null,36,-1.8588779999999971,129.12318399999998,null,null,null,null,null,null,null,{"$f":"IF(D11,VLOOKUP(D11,年収と手取り!C:I,7,1),0)/9.1%","v":205.1208791208791}]
[null,25,28,{"$f":"IF(C12>入力!$I$22,0,VLOOKUP(C12,賃金カーブ!R:Z,4,0))","v":208.43514494880114},{"$f":"VLOOKUP(D12,年収と手取り!X:Y,2,1)","v":161.55187000000001},{"$f":"-IF(OR(AND(子1!C12>=入力!$I$28,子1!C12<=入力!$J$28),AND(子2!C12>=入力!$I$28,子2!C12<=入力!$J$28),AND(子3!C12>=入力!$I$28,子3!C12<=入力!$J$28),AND(子4!C12>=入力!$I$28,子4!C12<=入力!$J$28)),親2!E12*(1-入力!$K$28),\nIF(OR(AND(子1!C12>=入力!$I$29,子1!C12<=入力!$J$29),AND(子2!C12>=入力!$I$29,子2!C12<=入力!$J$29),AND(子3!C12>=入力!$I$29,子3!C12<=入力!$J$29),AND(子4!C12>=入力!$I$29,子4!C12<=入力!$J$29)),親2!E12*(1-入力!$K$29),0))","v":-64.620748000000006},{"$f":"IF(C12=入力!I$22,入力!J$31,0)","v":0},0,{"$f":"IF(H12>0,-年金の税金!$G$25/10000,0)","v":0},96.931122000000002,null,null,39.6,13.200000000000001,3.3000000000000003,2.6400000000000006,1.6500000000000001,{"$f":"IF(OR(AND(子1!C12>=0,子1!C12<=18),AND(子2!C12>=0,子2!C12<=18),AND(子3!C12>=0,子3!C12<=18),AND(子4!C12>=0,子4!C12<=18)),入力!$I$35,入力!$I$34)*12","v":0},null,60.39,36.541122000000001,null,2.4000000000000004,null,null,null,null,null,2.4000000000000004,34.141122000000003,36,null,null,null,null,null,36,-1.8588779999999971,127.26430599999998,null,null,null,null,null,null,null,{"$f":"IF(D12,VLOOKUP(D12,年収と手取り!C:I,7,1),0)/9.1%","v":205.1208791208791}]
[null,26,29,{"$f":"IF(C13>入力!$I$22,0,VLOOKUP(C13,賃金カーブ!R:Z,4,0))","v":214.56918854596523},{"$f":"VLOOKUP(D13,年収と手取り!X:Y,2,1)","v":168.95197999999999},{"$f":"-IF(OR(AND(子1!C13>=入力!$I$28,子1!C13<=入力!$J$28),AND(子2!C13>=入力!$I$28,子2!C13<=入力!$J$28),AND(子3!C13>=入力!$I$28,子3!C13<=入力!$J$28),AND(子4!C13>=入力!$I$28,子4!C13<=入力!$J$28)),親2!E13*(1-入力!$K$28),\nIF(OR(AND(子1!C13>=入力!$I$29,子1!C13<=入力!$J$29),AND(子2!C13>=入力!$I$29,子2!C13<=入力!$J$29),AND(子3!C13>=入力!$I$29,子3!C13<=入力!$J$29),AND(子4!C13>=入力!$I$29,子4!C13<=入力!$J$29)),親2!E13*(1-入力!$K$29),0))","v":-118.26638599999998},{"$f":"IF(C13=入力!I$22,入力!J$31,0)","v":0},0,{"$f":"IF(H13>0,-年金の税金!$G$25/10000,0)","v":0},50.685594000000009,null,null,39.6,13.200000000000001,3.3000000000000003,2.6400000000000006,1.6500000000000001,{"$f":"IF(OR(AND(子1!C13>=0,子1!C13<=18),AND(子2!C13>=0,子2!C13<=18),AND(子3!C13>=0,子3!C13<=18),AND(子4!C13>=0,子4!C13<=18)),入力!$I$35,入力!$I$34)*12","v":0},null,60.39,-9.7044059999999916,null,2.4000000000000004,null,null,null,null,null,2.4000000000000004,-12.104405999999992,36,null,null,null,null,null,36,-48.10440599999999,79.159899999999993,null,null,null,null,null,null,null,{"$f":"IF(D13,VLOOKUP(D13,年収と手取り!C:I,7,1),0)/9.1%","v":217.1868131868132}]
[null,27,30,{"$f":"IF(C14>入力!$I$22,0,VLOOKUP(C14,賃金カーブ!R:Z,4,0))","v":220.88375108038031},{"$f":"VLOOKUP(D14,年収と手取り!X:Y,2,1)","v":177.90198000000001},{"$f":"-IF(OR(AND(子1!C14>=入力!$I$28,子1!C14<=入力!$J$28),AND(子2!C14>=入力!$I$28,子2!C14<=入力!$J$28),AND(子3!C14>=入力!$I$28,子3!C14<=入力!$J$28),AND(子4!C14>=入力!$I$28,子4!C14<=入力!$J$28)),親2!E14*(1-入力!$K$28),\nIF(OR(AND(子1!C14>=入力!$I$29,子1!C14<=入力!$J$29),AND(子2!C14>=入力!$I$29,子2!C14<=入力!$J$29),AND(子3!C14>=入力!$I$29,子3!C14<=入力!$J$29),AND(子4!C14>=入力!$I$29,子4!C14<=入力!$J$29)),親2!E14*(1-入力!$K$29),0))","v":-71.160792000000001},{"$f":"IF(C14=入力!I$22,入力!J$31,0)","v":0},0,{"$f":"IF(H14>0,-年金の税金!$G$25/10000,0)","v":0},106.74118800000001,null,null,39.6,13.200000000000001,3.3000000000000003,2.6400000000000006,1.6500000000000001,{"$f":"IF(OR(AND(子1!C14>=0,子1!C14<=18),AND(子2!C14>=0,子2!C14<=18),AND(子3!C14>=0,子3!C14<=18),AND(子4!C14>=0,子4!C14<=18)),入力!$I$35,入力!$I$34)*12","v":0},null,60.39,46.351188000000008,null,2.4000000000000004,null,null,null,null,null,2.4000000000000004,43.951188000000009,36,null,null,null,null,null,36,7.951188000000009,87.111087999999995,null,null,null,null,null,null,null,{"$f":"IF(D14,VLOOKUP(D14,年収と手取り!C:I,7,1),0)/9.1%","v":217.1868131868132}]
[null,28,31,{"$f":"IF(C15>入力!$I$22,0,VLOOKUP(C15,賃金カーブ!R:Z,4,0))","v":226.31446956460073},{"$f":"VLOOKUP(D15,年収と手取り!X:Y,2,1)","v":177.90198000000001},{"$f":"-IF(OR(AND(子1!C15>=入力!$I$28,子1!C15<=入力!$J$28),AND(子2!C15>=入力!$I$28,子2!C15<=入力!$J$28),AND(子3!C15>=入力!$I$28,子3!C15<=入力!$J$28),AND(子4!C15>=入力!$I$28,子4!C15<=入力!$J$28)),親2!E15*(1-入力!$K$28),\nIF(OR(AND(子1!C15>=入力!$I$29,子1!C15<=入力!$J$29),AND(子2!C15>=入力!$I$29,子2!C15<=入力!$J$29),AND(子3!C15>=入力!$I$29,子3!C15<=入力!$J$29),AND(子4!C15>=入力!$I$29,子4!C15<=入力!$J$29)),親2!E15*(1-入力!$K$29),0))","v":-71.160792000000001},{"$f":"IF(C15=入力!I$22,入力!J$31,0)","v":0},0,{"$f":"IF(H15>0,-年金の税金!$G$25/10000,0)","v":0},106.74118800000001,null,null,39.6,13.200000000000001,3.3000000000000003,2.6400000000000006,1.6500000000000001,{"$f":"IF(OR(AND(子1!C15>=0,子1!C15<=18),AND(子2!C15>=0,子2!C15<=18),AND(子3!C15>=0,子3!C15<=18),AND(子4!C15>=0,子4!C15<=18)),入力!$I$35,入力!$I$34)*12","v":0},null,60.39,46.351188000000008,null,2.4000000000000004,null,null,null,null,null,2.4000000000000004,43.951188000000009,36,null,null,null,null,null,36,7.951188000000009,95.062275999999997,null,null,null,null,null,null,null,{"$f":"IF(D15,VLOOKUP(D15,年収と手取り!C:I,7,1),0)/9.1%","v":217.1868131868132}]
[null,29,32,{"$f":"IF(C16>入力!$I$22,0,VLOOKUP(C16,賃金カーブ!R:Z,4,0))","v":231.87870942878055},{"$f":"VLOOKUP(D16,年収と手取り!X:Y,2,1)","v":185.30209000000002},{"$f":"-IF(OR(AND(子1!C16>=入力!$I$28,子1!C16<=入力!$J$28),AND(子2!C16>=入力!$I$28,子2!C16<=入力!$J$28),AND(子3!C16>=入力!$I$28,子3!C16<=入力!$J$28),AND(子4!C16>=入力!$I$28,子4!C16<=入力!$J$28)),親2!E16*(1-入力!$K$28),\nIF(OR(AND(子1!C16>=入力!$I$29,子1!C16<=入力!$J$29),AND(子2!C16>=入力!$I$29,子2!C16<=入力!$J$29),AND(子3!C16>=入力!$I$29,子3!C16<=入力!$J$29),AND(子4!C16>=入力!$I$29,子4!C16<=入力!$J$29)),親2!E16*(1-入力!$K$29),0))","v":-74.120836000000011},{"$f":"IF(C16=入力!I$22,入力!J$31,0)","v":0},0,{"$f":"IF(H16>0,-年金の税金!$G$25/10000,0)","v":0},111.18125400000001,null,null,39.6,13.200000000000001,3.3000000000000003,2.6400000000000006,1.6500000000000001,{"$f":"IF(OR(AND(子1!C16>=0,子1!C16<=18),AND(子2!C16>=0,子2!C16<=18),AND(子3!C16>=0,子3!C16<=18),AND(子4!C16>=0,子4!C16<=18)),入力!$I$35,入力!$I$34)*12","v":0},null,60.39,50.791254000000009,null,2.4000000000000004,null,null,null,null,null,2.4000000000000004,48.391254000000011,36,null,null,null,null,null,36,12.391254000000011,107.45353,null,null,null,null,null,null,null,{"$f":"IF(D16,VLOOKUP(D16,年収と手取り!C:I,7,1),0)/9.1%","v":229.25274725274724}]
[null,30,33,{"$f":"IF(C17>入力!$I$22,0,VLOOKUP(C17,賃金カーブ!R:Z,4,0))","v":237.5797534722322},{"$f":"VLOOKUP(D17,年収と手取り!X:Y,2,1)","v":185.30209000000002},{"$f":"-IF(OR(AND(子1!C17>=入力!$I$28,子1!C17<=入力!$J$28),AND(子2!C17>=入力!$I$28,子2!C17<=入力!$J$28),AND(子3!C17>=入力!$I$28,子3!C17<=入力!$J$28),AND(子4!C17>=入力!$I$28,子4!C17<=入力!$J$28)),親2!E17*(1-入力!$K$28),\nIF(OR(AND(子1!C17>=入力!$I$29,子1!C17<=入力!$J$29),AND(子2!C17>=入力!$I$29,子2!C17<=入力!$J$29),AND(子3!C17>=入力!$I$29,子3!C17<=入力!$J$29),AND(子4!C17>=入力!$I$29,子4!C17<=入力!$J$29)),親2!E17*(1-入力!$K$29),0))","v":-74.120836000000011},{"$f":"IF(C17=入力!I$22,入力!J$31,0)","v":0},0,{"$f":"IF(H17>0,-年金の税金!$G$25/10000,0)","v":0},111.18125400000001,null,null,39.6,13.200000000000001,3.3000000000000003,2.6400000000000006,1.6500000000000001,{"$f":"IF(OR(AND(子1!C17>=0,子1!C17<=18),AND(子2!C17>=0,子2!C17<=18),AND(子3!C17>=0,子3!C17<=18),AND(子4!C17>=0,子4!C17<=18)),入力!$I$35,入力!$I$34)*12","v":0},null,60.39,50.791254000000009,null,2.4000000000000004,null,null,null,null,null,2.4000000000000004,48.391254000000011,36,null,null,null,null,null,36,12.391254000000011,119.844784,null,null,null,null,null,null,null,{"$f":"IF(D17,VLOOKUP(D17,年収と手取り!C:I,7,1),0)/9.1%","v":229.25274725274724}]
[null,31,34,{"$f":"IF(C18>入力!$I$22,0,VLOOKUP(C18,賃金カーブ!R:Z,4,0))","v":243.42096520622104},{"$f":"VLOOKUP(D18,年収と手取り!X:Y,2,1)","v":192.7022},{"$f":"-IF(OR(AND(子1!C18>=入力!$I$28,子1!C18<=入力!$J$28),AND(子2!C18>=入力!$I$28,子2!C18<=入力!$J$28),AND(子3!C18>=入力!$I$28,子3!C18<=入力!$J$28),AND(子4!C18>=入力!$I$28,子4!C18<=入力!$J$28)),親2!E18*(1-入力!$K$28),\nIF(OR(AND(子1!C18>=入力!$I$29,子1!C18<=入力!$J$29),AND(子2!C18>=入力!$I$29,子2!C18<=入力!$J$29),AND(子3!C18>=入力!$I$29,子3!C18<=入力!$J$29),AND(子4!C18>=入力!$I$29,子4!C18<=入力!$J$29)),親2!E18*(1-入力!$K$29),0))","v":-77.080880000000008},{"$f":"IF(C18=入力!I$22,入力!J$31,0)","v":0},0,{"$f":"IF(H18>0,-年金の税金!$G$25/10000,0)","v":0},115.62132,null,null,39.6,13.200000000000001,3.3000000000000003,2.6400000000000006,1.6500000000000001,{"$f":"IF(OR(AND(子1!C18>=0,子1!C18<=18),AND(子2!C18>=0,子2!C18<=18),AND(子3!C18>=0,子3!C18<=18),AND(子4!C18>=0,子4!C18<=18)),入力!$I$35,入力!$I$34)*12","v":0},null,60.39,55.231319999999997,null,2.4000000000000004,null,null,null,null,null,2.4000000000000004,52.831319999999998,36,null,null,null,null,null,36,16.831319999999998,136.67610400000001,null,null,null,null,null,null,null,{"$f":"IF(D18,VLOOKUP(D18,年収と手取り!C:I,7,1),0)/9.1%","v":241.31868131868134}]
[null,32,35,{"$f":"IF(C19>入力!$I$22,0,VLOOKUP(C19,賃金カーブ!R:Z,4,0))","v":249.40579083837511},{"$f":"VLOOKUP(D19,年収と手取り!X:Y,2,1)","v":192.7022},{"$f":"-IF(OR(AND(子1!C19>=入力!$I$28,子1!C19<=入力!$J$28),AND(子2!C19>=入力!$I$28,子2!C19<=入力!$J$28),AND(子3!C19>=入力!$I$28,子3!C19<=入力!$J$28),AND(子4!C19>=入力!$I$28,子4!C19<=入力!$J$28)),親2!E19*(1-入力!$K$28),\nIF(OR(AND(子1!C19>=入力!$I$29,子1!C19<=入力!$J$29),AND(子2!C19>=入力!$I$29,子2!C19<=入力!$J$29),AND(子3!C19>=入力!$I$29,子3!C19<=入力!$J$29),AND(子4!C19>=入力!$I$29,子4!C19<=入力!$J$29)),親2!E19*(1-入力!$K$29),0))","v":0},{"$f":"IF(C19=入力!I$22,入力!J$31,0)","v":0},0,{"$f":"IF(H19>0,-年金の税金!$G$25/10000,0)","v":0},192.7022,null,null,39.6,13.200000000000001,3.3000000000000003,2.6400000000000006,1.6500000000000001,{"$f":"IF(OR(AND(子1!C19>=0,子1!C19<=18),AND(子2!C19>=0,子2!C19<=18),AND(子3!C19>=0,子3!C19<=18),AND(子4!C19>=0,子4!C19<=18)),入力!$I$35,入力!$I$34)*12","v":0},null,60.39,132.31220000000002,null,2.4000000000000004,null,null,null,null,null,2.4000000000000004,129.91220000000001,36,null,null,null,null,null,36,93.912200000000013,230.58830400000002,null,null,null,null,null,null,null,{"$f":"IF(D19,VLOOKUP(D19,年収と手取り!C:I,7,1),0)/9.1%","v":241.31868131868134}]
[null,33,36,{"$f":"IF(C20>入力!$I$22,0,VLOOKUP(C20,賃金カーブ!R:Z,4,0))","v":254.02813835223262},{"$f":"VLOOKUP(D20,年収と手取り!X:Y,2,1)","v":201.65219999999999},{"$f":"-IF(OR(AND(子1!C20>=入力!$I$28,子1!C20<=入力!$J$28),AND(子2!C20>=入力!$I$28,子2!C20<=入力!$J$28),AND(子3!C20>=入力!$I$28,子3!C20<=入力!$J$28),AND(子4!C20>=入力!$I$28,子4!C20<=入力!$J$28)),親2!E20*(1-入力!$K$28),\nIF(OR(AND(子1!C20>=入力!$I$29,子1!C20<=入力!$J$29),AND(子2!C20>=入力!$I$29,子2!C20<=入力!$J$29),AND(子3!C20>=入力!$I$29,子3!C20<=入力!$J$29),AND(子4!C20>=入力!$I$29,子4!C20<=入力!$J$29)),親2!E20*(1-入力!$K$29),0))","v":0},{"$f":"IF(C20=入力!I$22,入力!J$31,0)","v":0},0,{"$f":"IF(H20>0,-年金の税金!$G$25/10000,0)","v":0},201.65219999999999,null,null,39.6,13.200000000000001,3.3000000000000003,2.6400000000000006,1.6500000000000001,{"$f":"IF(OR(AND(子1!C20>=0,子1!C20<=18),AND(子2!C20>=0,子2!C20<=18),AND(子3!C20>=0,子3!C20<=18),AND(子4!C20>=0,子4!C20<=18)),入力!$I$35,入力!$I$34)*12","v":0},null,60.39,141.26220000000001,null,2.4000000000000004,null,null,null,null,null,2.4000000000000004,138.8622,36,null,null,null,null,null,36,102.8622,333.45050400000002,null,null,null,null,null,null,null,{"$f":"IF(D20,VLOOKUP(D20,年収と手取り!C:I,7,1),0)/9.1%","v":241.31868131868134}]
[null,34,37,{"$f":"IF(C21>入力!$I$22,0,VLOOKUP(C21,賃金カーブ!R:Z,4,0))","v":258.7361538710993},{"$f":"VLOOKUP(D21,年収と手取り!X:Y,2,1)","v":201.65219999999999},{"$f":"-IF(OR(AND(子1!C21>=入力!$I$28,子1!C21<=入力!$J$28),AND(子2!C21>=入力!$I$28,子2!C21<=入力!$J$28),AND(子3!C21>=入力!$I$28,子3!C21<=入力!$J$28),AND(子4!C21>=入力!$I$28,子4!C21<=入力!$J$28)),親2!E21*(1-入力!$K$28),\nIF(OR(AND(子1!C21>=入力!$I$29,子1!C21<=入力!$J$29),AND(子2!C21>=入力!$I$29,子2!C21<=入力!$J$29),AND(子3!C21>=入力!$I$29,子3!C21<=入力!$J$29),AND(子4!C21>=入力!$I$29,子4!C21<=入力!$J$29)),親2!E21*(1-入力!$K$29),0))","v":0},{"$f":"IF(C21=入力!I$22,入力!J$31,0)","v":0},0,{"$f":"IF(H21>0,-年金の税金!$G$25/10000,0)","v":0},201.65219999999999,null,null,39.6,13.200000000000001,3.3000000000000003,2.6400000000000006,1.6500000000000001,{"$f":"IF(OR(AND(子1!C21>=0,子1!C21<=18),AND(子2!C21>=0,子2!C21<=18),AND(子3!C21>=0,子3!C21<=18),AND(子4!C21>=0,子4!C21<=18)),入力!$I$35,入力!$I$34)*12","v":0},null,60.39,141.26220000000001,null,2.4000000000000004,null,null,null,null,null,2.4000000000000004,138.8622,36,null,null,null,null,null,36,102.8622,436.31270400000005,null,null,null,null,null,null,null,{"$f":"IF(D21,VLOOKUP(D21,年収と手取り!C:I,7,1),0)/9.1%","v":241.31868131868134}]
[null,35,38,{"$f":"IF(C22>入力!$I$22,0,VLOOKUP(C22,賃金カーブ!R:Z,4,0))","v":263.53142511789309},{"$f":"VLOOKUP(D22,年収と手取り!X:Y,2,1)","v":207.50242},{"$f":"-IF(OR(AND(子1!C22>=入力!$I$28,子1!C22<=入力!$J$28),AND(子2!C22>=入力!$I$28,子2!C22<=入力!$J$28),AND(子3!C22>=入力!$I$28,子3!C22<=入力!$J$28),AND(子4!C22>=入力!$I$28,子4!C22<=入力!$J$28)),親2!E22*(1-入力!$K$28),\nIF(OR(AND(子1!C22>=入力!$I$29,子1!C22<=入力!$J$29),AND(子2!C22>=入力!$I$29,子2!C22<=入力!$J$29),AND(子3!C22>=入力!$I$29,子3!C22<=入力!$J$29),AND(子4!C22>=入力!$I$29,子4!C22<=入力!$J$29)),親2!E22*(1-入力!$K$29),0))","v":0},{"$f":"IF(C22=入力!I$22,入力!J$31,0)","v":0},0,{"$f":"IF(H22>0,-年金の税金!$G$25/10000,0)","v":0},207.50242,null,null,39.6,13.200000000000001,3.3000000000000003,2.6400000000000006,1.6500000000000001,{"$f":"IF(OR(AND(子1!C22>=0,子1!C22<=18),AND(子2!C22>=0,子2!C22<=18),AND(子3!C22>=0,子3!C22<=18),AND(子4!C22>=0,子4!C22<=18)),入力!$I$35,入力!$I$34)*12","v":0},null,60.39,147.11241999999999,null,2.4000000000000004,null,null,null,null,null,2.4000000000000004,144.71241999999998,36,null,null,null,null,null,36,108.71241999999998,545.02512400000001,null,null,null,null,null,null,null,{"$f":"IF(D22,VLOOKUP(D22,年収と手取り!C:I,7,1),0)/9.1%","v":265.45054945054943}]
[null,36,39,{"$f":"IF(C23>入力!$I$22,0,VLOOKUP(C23,賃金カーブ!R:Z,4,0))","v":268.41556924150098},{"$f":"VLOOKUP(D23,年収と手取り!X:Y,2,1)","v":207.50242},{"$f":"-IF(OR(AND(子1!C23>=入力!$I$28,子1!C23<=入力!$J$28),AND(子2!C23>=入力!$I$28,子2!C23<=入力!$J$28),AND(子3!C23>=入力!$I$28,子3!C23<=入力!$J$28),AND(子4!C23>=入力!$I$28,子4!C23<=入力!$J$28)),親2!E23*(1-入力!$K$28),\nIF(OR(AND(子1!C23>=入力!$I$29,子1!C23<=入力!$J$29),AND(子2!C23>=入力!$I$29,子2!C23<=入力!$J$29),AND(子3!C23>=入力!$I$29,子3!C23<=入力!$J$29),AND(子4!C23>=入力!$I$29,子4!C23<=入力!$J$29)),親2!E23*(1-入力!$K$29),0))","v":0},{"$f":"IF(C23=入力!I$22,入力!J$31,0)","v":0},0,{"$f":"IF(H23>0,-年金の税金!$G$25/10000,0)","v":0},207.50242,null,null,{"$f":"M$1","v":39.6},13.200000000000001,3.3000000000000003,2.6400000000000006,1.6500000000000001,{"$f":"IF(OR(AND(子1!C23>=0,子1!C23<=18),AND(子2!C23>=0,子2!C23<=18),AND(子3!C23>=0,子3!C23<=18),AND(子4!C23>=0,子4!C23<=18)),入力!$I$35,入力!$I$34)*12","v":0},null,60.39,147.11241999999999,null,2.4000000000000004,null,null,null,null,null,2.4000000000000004,144.71241999999998,36,null,null,null,null,null,36,108.71241999999998,653.73754399999996,null,null,null,null,null,null,null,{"$f":"IF(D23,VLOOKUP(D23,年収と手取り!C:I,7,1),0)/9.1%","v":265.45054945054943}]
[null,37,40,{"$f":"IF(C24>入力!$I$22,0,VLOOKUP(C24,賃金カーブ!R:Z,4,0))","v":273.39023336214342},{"$f":"VLOOKUP(D24,年収と手取り!X:Y,2,1)","v":216.45242000000002},{"$f":"-IF(OR(AND(子1!C24>=入力!$I$28,子1!C24<=入力!$J$28),AND(子2!C24>=入力!$I$28,子2!C24<=入力!$J$28),AND(子3!C24>=入力!$I$28,子3!C24<=入力!$J$28),AND(子4!C24>=入力!$I$28,子4!C24<=入力!$J$28)),親2!E24*(1-入力!$K$28),\nIF(OR(AND(子1!C24>=入力!$I$29,子1!C24<=入力!$J$29),AND(子2!C24>=入力!$I$29,子2!C24<=入力!$J$29),AND(子3!C24>=入力!$I$29,子3!C24<=入力!$J$29),AND(子4!C24>=入力!$I$29,子4!C24<=入力!$J$29)),親2!E24*(1-入力!$K$29),0))","v":0},{"$f":"IF(C24=入力!I$22,入力!J$31,0)","v":0},0,{"$f":"IF(H24>0,-年金の税金!$G$25/10000,0)","v":0},216.45242000000002,null,null,39.6,13.200000000000001,3.3000000000000003,2.6400000000000006,1.6500000000000001,{"$f":"IF(OR(AND(子1!C24>=0,子1!C24<=18),AND(子2!C24>=0,子2!C24<=18),AND(子3!C24>=0,子3!C24<=18),AND(子4!C24>=0,子4!C24<=18)),入力!$I$35,入力!$I$34)*12","v":0},null,60.39,156.06242000000003,null,2.4000000000000004,null,null,null,null,null,2.4000000000000004,153.66242000000003,36,null,null,null,null,null,36,117.66242000000003,771.39996399999995,null,null,null,null,null,null,null,{"$f":"IF(D24,VLOOKUP(D24,年収と手取り!C:I,7,1),0)/9.1%","v":265.45054945054943}]
[null,38,41,{"$f":"IF(C25>入力!$I$22,0,VLOOKUP(C25,賃金カーブ!R:Z,4,0))","v":277.84508604553702},{"$f":"VLOOKUP(D25,年収と手取り!X:Y,2,1)","v":216.45242000000002},{"$f":"-IF(OR(AND(子1!C25>=入力!$I$28,子1!C25<=入力!$J$28),AND(子2!C25>=入力!$I$28,子2!C25<=入力!$J$28),AND(子3!C25>=入力!$I$28,子3!C25<=入力!$J$28),AND(子4!C25>=入力!$I$28,子4!C25<=入力!$J$28)),親2!E25*(1-入力!$K$28),\nIF(OR(AND(子1!C25>=入力!$I$29,子1!C25<=入力!$J$29),AND(子2!C25>=入力!$I$29,子2!C25<=入力!$J$29),AND(子3!C25>=入力!$I$29,子3!C25<=入力!$J$29),AND(子4!C25>=入力!$I$29,子4!C25<=入力!$J$29)),親2!E25*(1-入力!$K$29),0))","v":0},{"$f":"IF(C25=入力!I$22,入力!J$31,0)","v":0},0,{"$f":"IF(H25>0,-年金の税金!$G$25/10000,0)","v":0},216.45242000000002,null,null,39.6,13.200000000000001,3.3000000000000003,2.6400000000000006,1.6500000000000001,{"$f":"IF(OR(AND(子1!C25>=0,子1!C25<=18),AND(子2!C25>=0,子2!C25<=18),AND(子3!C25>=0,子3!C25<=18),AND(子4!C25>=0,子4!C25<=18)),入力!$I$35,入力!$I$34)*12","v":0},null,60.39,156.06242000000003,null,2.4000000000000004,null,null,null,null,null,2.4000000000000004,153.66242000000003,36,null,null,null,null,null,36,117.66242000000003,889.06238399999995,null,null,null,null,null,null,null,{"$f":"IF(D25,VLOOKUP(D25,年収と手取り!C:I,7,1),0)/9.1%","v":265.45054945054943}]
[null,39,42,{"$f":"IF(C26>入力!$I$22,0,VLOOKUP(C26,賃金カーブ!R:Z,4,0))","v":282.37252988255995},{"$f":"VLOOKUP(D26,年収と手取り!X:Y,2,1)","v":222.30264},{"$f":"-IF(OR(AND(子1!C26>=入力!$I$28,子1!C26<=入力!$J$28),AND(子2!C26>=入力!$I$28,子2!C26<=入力!$J$28),AND(子3!C26>=入力!$I$28,子3!C26<=入力!$J$28),AND(子4!C26>=入力!$I$28,子4!C26<=入力!$J$28)),親2!E26*(1-入力!$K$28),\nIF(OR(AND(子1!C26>=入力!$I$29,子1!C26<=入力!$J$29),AND(子2!C26>=入力!$I$29,子2!C26<=入力!$J$29),AND(子3!C26>=入力!$I$29,子3!C26<=入力!$J$29),AND(子4!C26>=入力!$I$29,子4!C26<=入力!$J$29)),親2!E26*(1-入力!$K$29),0))","v":0},{"$f":"IF(C26=入力!I$22,入力!J$31,0)","v":0},0,{"$f":"IF(H26>0,-年金の税金!$G$25/10000,0)","v":0},222.30264,null,null,39.6,13.200000000000001,3.3000000000000003,2.6400000000000006,1.6500000000000001,{"$f":"IF(OR(AND(子1!C26>=0,子1!C26<=18),AND(子2!C26>=0,子2!C26<=18),AND(子3!C26>=0,子3!C26<=18),AND(子4!C26>=0,子4!C26<=18)),入力!$I$35,入力!$I$34)*12","v":0},null,60.39,161.91264000000001,null,2.4000000000000004,null,null,null,null,null,2.4000000000000004,159.51264,36,null,null,null,null,null,36,123.51264,1012.575024,null,null,null,null,null,null,null,{"$f":"IF(D26,VLOOKUP(D26,年収と手取り!C:I,7,1),0)/9.1%","v":289.58241758241758}]
[null,40,43,{"$f":"IF(C27>入力!$I$22,0,VLOOKUP(C27,賃金カーブ!R:Z,4,0))","v":286.97374773512917},{"$f":"VLOOKUP(D27,年収と手取り!X:Y,2,1)","v":222.30264},{"$f":"-IF(OR(AND(子1!C27>=入力!$I$28,子1!C27<=入力!$J$28),AND(子2!C27>=入力!$I$28,子2!C27<=入力!$J$28),AND(子3!C27>=入力!$I$28,子3!C27<=入力!$J$28),AND(子4!C27>=入力!$I$28,子4!C27<=入力!$J$28)),親2!E27*(1-入力!$K$28),\nIF(OR(AND(子1!C27>=入力!$I$29,子1!C27<=入力!$J$29),AND(子2!C27>=入力!$I$29,子2!C27<=入力!$J$29),AND(子3!C27>=入力!$I$29,子3!C27<=入力!$J$29),AND(子4!C27>=入力!$I$29,子4!C27<=入力!$J$29)),親2!E27*(1-入力!$K$29),0))","v":0},{"$f":"IF(C27=入力!I$22,入力!J$31,0)","v":0},0,{"$f":"IF(H27>0,-年金の税金!$G$25/10000,0)","v":0},222.30264,null,null,39.6,13.200000000000001,3.3000000000000003,2.6400000000000006,1.6500000000000001,{"$f":"IF(OR(AND(子1!C27>=0,子1!C27<=18),AND(子2!C27>=0,子2!C27<=18),AND(子3!C27>=0,子3!C27<=18),AND(子4!C27>=0,子4!C27<=18)),入力!$I$35,入力!$I$34)*12","v":0},null,60.39,161.91264000000001,null,2.4000000000000004,null,null,null,null,null,2.4000000000000004,159.51264,36,null,null,null,null,null,36,123.51264,1136.0876639999999,null,null,null,null,null,null,null,{"$f":"IF(D27,VLOOKUP(D27,年収と手取り!C:I,7,1),0)/9.1%","v":289.58241758241758}]
[null,41,44,{"$f":"IF(C28>入力!$I$22,0,VLOOKUP(C28,賃金カーブ!R:Z,4,0))","v":291.64994173971854},{"$f":"VLOOKUP(D28,年収と手取り!X:Y,2,1)","v":231.25263999999999},{"$f":"-IF(OR(AND(子1!C28>=入力!$I$28,子1!C28<=入力!$J$28),AND(子2!C28>=入力!$I$28,子2!C28<=入力!$J$28),AND(子3!C28>=入力!$I$28,子3!C28<=入力!$J$28),AND(子4!C28>=入力!$I$28,子4!C28<=入力!$J$28)),親2!E28*(1-入力!$K$28),\nIF(OR(AND(子1!C28>=入力!$I$29,子1!C28<=入力!$J$29),AND(子2!C28>=入力!$I$29,子2!C28<=入力!$J$29),AND(子3!C28>=入力!$I$29,子3!C28<=入力!$J$29),AND(子4!C28>=入力!$I$29,子4!C28<=入力!$J$29)),親2!E28*(1-入力!$K$29),0))","v":0},{"$f":"IF(C28=入力!I$22,入力!J$31,0)","v":0},0,{"$f":"IF(H28>0,-年金の税金!$G$25/10000,0)","v":0},231.25263999999999,null,null,39.6,13.200000000000001,3.3000000000000003,2.6400000000000006,1.6500000000000001,{"$f":"IF(OR(AND(子1!C28>=0,子1!C28<=18),AND(子2!C28>=0,子2!C28<=18),AND(子3!C28>=0,子3!C28<=18),AND(子4!C28>=0,子4!C28<=18)),入力!$I$35,入力!$I$34)*12","v":0},null,60.39,170.86264,null,2.4000000000000004,null,null,null,null,null,2.4000000000000004,168.46263999999999,36,null,null,null,null,null,36,132.46263999999999,1268.5503039999999,null,null,null,null,null,null,null,{"$f":"IF(D28,VLOOKUP(D28,年収と手取り!C:I,7,1),0)/9.1%","v":289.58241758241758}]
[null,42,45,{"$f":"IF(C29>入力!$I$22,0,VLOOKUP(C29,賃金カーブ!R:Z,4,0))","v":296.40233362143471},{"$f":"VLOOKUP(D29,年収と手取り!X:Y,2,1)","v":231.25263999999999},{"$f":"-IF(OR(AND(子1!C29>=入力!$I$28,子1!C29<=入力!$J$28),AND(子2!C29>=入力!$I$28,子2!C29<=入力!$J$28),AND(子3!C29>=入力!$I$28,子3!C29<=入力!$J$28),AND(子4!C29>=入力!$I$28,子4!C29<=入力!$J$28)),親2!E29*(1-入力!$K$28),\nIF(OR(AND(子1!C29>=入力!$I$29,子1!C29<=入力!$J$29),AND(子2!C29>=入力!$I$29,子2!C29<=入力!$J$29),AND(子3!C29>=入力!$I$29,子3!C29<=入力!$J$29),AND(子4!C29>=入力!$I$29,子4!C29<=入力!$J$29)),親2!E29*(1-入力!$K$29),0))","v":0},{"$f":"IF(C29=入力!I$22,入力!J$31,0)","v":0},0,{"$f":"IF(H29>0,-年金の税金!$G$25/10000,0)","v":0},231.25263999999999,null,null,39.6,13.200000000000001,3.3000000000000003,2.6400000000000006,1.6500000000000001,{"$f":"IF(OR(AND(子1!C29>=0,子1!C29<=18),AND(子2!C29>=0,子2!C29<=18),AND(子3!C29>=0,子3!C29<=18),AND(子4!C29>=0,子4!C29<=18)),入力!$I$35,入力!$I$34)*12","v":0},null,60.39,170.86264,null,2.4000000000000004,null,null,null,null,null,2.4000000000000004,168.46263999999999,36,null,null,null,null,null,36,132.46263999999999,1401.0129439999998,null,null,null,null,null,null,null,{"$f":"IF(D29,VLOOKUP(D29,年収と手取り!C:I,7,1),0)/9.1%","v":289.58241758241758}]
[null,43,46,{"$f":"IF(C30>入力!$I$22,0,VLOOKUP(C30,賃金カーブ!R:Z,4,0))","v":301.29434447656683},{"$f":"VLOOKUP(D30,年収と手取り!X:Y,2,1)","v":237.10285999999999},{"$f":"-IF(OR(AND(子1!C30>=入力!$I$28,子1!C30<=入力!$J$28),AND(子2!C30>=入力!$I$28,子2!C30<=入力!$J$28),AND(子3!C30>=入力!$I$28,子3!C30<=入力!$J$28),AND(子4!C30>=入力!$I$28,子4!C30<=入力!$J$28)),親2!E30*(1-入力!$K$28),\nIF(OR(AND(子1!C30>=入力!$I$29,子1!C30<=入力!$J$29),AND(子2!C30>=入力!$I$29,子2!C30<=入力!$J$29),AND(子3!C30>=入力!$I$29,子3!C30<=入力!$J$29),AND(子4!C30>=入力!$I$29,子4!C30<=入力!$J$29)),親2!E30*(1-入力!$K$29),0))","v":0},{"$f":"IF(C30=入力!I$22,入力!J$31,0)","v":0},0,{"$f":"IF(H30>0,-年金の税金!$G$25/10000,0)","v":0},237.10285999999999,null,null,39.6,13.200000000000001,3.3000000000000003,2.6400000000000006,1.6500000000000001,{"$f":"IF(OR(AND(子1!C30>=0,子1!C30<=18),AND(子2!C30>=0,子2!C30<=18),AND(子3!C30>=0,子3!C30<=18),AND(子4!C30>=0,子4!C30<=18)),入力!$I$35,入力!$I$34)*12","v":0},null,60.39,176.71285999999998,null,2.4000000000000004,null,null,null,null,null,2.4000000000000004,174.31285999999997,36,null,null,null,null,null,36,138.31285999999997,1539.3258039999998,null,null,null,null,null,null,null,{"$f":"IF(D30,VLOOKUP(D30,年収と手取り!C:I,7,1),0)/9.1%","v":313.71428571428572}]
[null,44,47,{"$f":"IF(C31>入力!$I$22,0,VLOOKUP(C31,賃金カーブ!R:Z,4,0))","v":306.26709616094382},{"$f":"VLOOKUP(D31,年収と手取り!X:Y,2,1)","v":237.10285999999999},{"$f":"-IF(OR(AND(子1!C31>=入力!$I$28,子1!C31<=入力!$J$28),AND(子2!C31>=入力!$I$28,子2!C31<=入力!$J$28),AND(子3!C31>=入力!$I$28,子3!C31<=入力!$J$28),AND(子4!C31>=入力!$I$28,子4!C31<=入力!$J$28)),親2!E31*(1-入力!$K$28),\nIF(OR(AND(子1!C31>=入力!$I$29,子1!C31<=入力!$J$29),AND(子2!C31>=入力!$I$29,子2!C31<=入力!$J$29),AND(子3!C31>=入力!$I$29,子3!C31<=入力!$J$29),AND(子4!C31>=入力!$I$29,子4!C31<=入力!$J$29)),親2!E31*(1-入力!$K$29),0))","v":0},{"$f":"IF(C31=入力!I$22,入力!J$31,0)","v":0},0,{"$f":"IF(H31>0,-年金の税金!$G$25/10000,0)","v":0},237.10285999999999,null,null,39.6,13.200000000000001,3.3000000000000003,2.6400000000000006,1.6500000000000001,{"$f":"IF(OR(AND(子1!C31>=0,子1!C31<=18),AND(子2!C31>=0,子2!C31<=18),AND(子3!C31>=0,子3!C31<=18),AND(子4!C31>=0,子4!C31<=18)),入力!$I$35,入力!$I$34)*12","v":0},null,60.39,176.71285999999998,null,2.4000000000000004,null,null,null,null,null,2.4000000000000004,174.31285999999997,36,null,null,null,null,null,36,138.31285999999997,1677.6386639999998,null,null,null,null,null,null,null,{"$f":"IF(D31,VLOOKUP(D31,年収と手取り!C:I,7,1),0)/9.1%","v":313.71428571428572}]
[null,45,48,{"$f":"IF(C32>入力!$I$22,0,VLOOKUP(C32,賃金カーブ!R:Z,4,0))","v":311.32192127208043},{"$f":"VLOOKUP(D32,年収と手取り!X:Y,2,1)","v":246.05286000000001},{"$f":"-IF(OR(AND(子1!C32>=入力!$I$28,子1!C32<=入力!$J$28),AND(子2!C32>=入力!$I$28,子2!C32<=入力!$J$28),AND(子3!C32>=入力!$I$28,子3!C32<=入力!$J$28),AND(子4!C32>=入力!$I$28,子4!C32<=入力!$J$28)),親2!E32*(1-入力!$K$28),\nIF(OR(AND(子1!C32>=入力!$I$29,子1!C32<=入力!$J$29),AND(子2!C32>=入力!$I$29,子2!C32<=入力!$J$29),AND(子3!C32>=入力!$I$29,子3!C32<=入力!$J$29),AND(子4!C32>=入力!$I$29,子4!C32<=入力!$J$29)),親2!E32*(1-入力!$K$29),0))","v":0},{"$f":"IF(C32=入力!I$22,入力!J$31,0)","v":0},0,{"$f":"IF(H32>0,-年金の税金!$G$25/10000,0)","v":0},246.05286000000001,null,null,39.6,13.200000000000001,3.3000000000000003,2.6400000000000006,1.6500000000000001,{"$f":"IF(OR(AND(子1!C32>=0,子1!C32<=18),AND(子2!C32>=0,子2!C32<=18),AND(子3!C32>=0,子3!C32<=18),AND(子4!C32>=0,子4!C32<=18)),入力!$I$35,入力!$I$34)*12","v":0},null,60.39,185.66286000000002,null,2.4000000000000004,null,null,null,null,null,2.4000000000000004,183.26286000000002,36,null,null,null,null,null,36,147.26286000000002,1824.9015239999999,null,null,null,null,null,null,null,{"$f":"IF(D32,VLOOKUP(D32,年収と手取り!C:I,7,1),0)/9.1%","v":313.71428571428572}]
[null,46,49,{"$f":"IF(C33>入力!$I$22,0,VLOOKUP(C33,賃金カーブ!R:Z,4,0))","v":316.46017440152019},{"$f":"VLOOKUP(D33,年収と手取り!X:Y,2,1)","v":246.05286000000001},{"$f":"-IF(OR(AND(子1!C33>=入力!$I$28,子1!C33<=入力!$J$28),AND(子2!C33>=入力!$I$28,子2!C33<=入力!$J$28),AND(子3!C33>=入力!$I$28,子3!C33<=入力!$J$28),AND(子4!C33>=入力!$I$28,子4!C33<=入力!$J$28)),親2!E33*(1-入力!$K$28),\nIF(OR(AND(子1!C33>=入力!$I$29,子1!C33<=入力!$J$29),AND(子2!C33>=入力!$I$29,子2!C33<=入力!$J$29),AND(子3!C33>=入力!$I$29,子3!C33<=入力!$J$29),AND(子4!C33>=入力!$I$29,子4!C33<=入力!$J$29)),親2!E33*(1-入力!$K$29),0))","v":0},{"$f":"IF(C33=入力!I$22,入力!J$31,0)","v":0},0,{"$f":"IF(H33>0,-年金の税金!$G$25/10000,0)","v":0},246.05286000000001,null,null,39.6,13.200000000000001,3.3000000000000003,2.6400000000000006,1.6500000000000001,{"$f":"IF(OR(AND(子1!C33>=0,子1!C33<=18),AND(子2!C33>=0,子2!C33<=18),AND(子3!C33>=0,子3!C33<=18),AND(子4!C33>=0,子4!C33<=18)),入力!$I$35,入力!$I$34)*12","v":0},null,60.39,185.66286000000002,null,2.4000000000000004,null,null,null,null,null,2.4000000000000004,183.26286000000002,36,null,null,null,null,null,36,147.26286000000002,1972.1643839999999,null,null,null,null,null,null,null,{"$f":"IF(D33,VLOOKUP(D33,年収と手取り!C:I,7,1),0)/9.1%","v":313.71428571428572}]
[null,47,50,{"$f":"IF(C34>入力!$I$22,0,VLOOKUP(C34,賃金カーブ!R:Z,4,0))","v":321.68323249783924},{"$f":"VLOOKUP(D34,年収と手取り!X:Y,2,1)","v":255.00286},{"$f":"-IF(OR(AND(子1!C34>=入力!$I$28,子1!C34<=入力!$J$28),AND(子2!C34>=入力!$I$28,子2!C34<=入力!$J$28),AND(子3!C34>=入力!$I$28,子3!C34<=入力!$J$28),AND(子4!C34>=入力!$I$28,子4!C34<=入力!$J$28)),親2!E34*(1-入力!$K$28),\nIF(OR(AND(子1!C34>=入力!$I$29,子1!C34<=入力!$J$29),AND(子2!C34>=入力!$I$29,子2!C34<=入力!$J$29),AND(子3!C34>=入力!$I$29,子3!C34<=入力!$J$29),AND(子4!C34>=入力!$I$29,子4!C34<=入力!$J$29)),親2!E34*(1-入力!$K$29),0))","v":0},{"$f":"IF(C34=入力!I$22,入力!J$31,0)","v":0},0,{"$f":"IF(H34>0,-年金の税金!$G$25/10000,0)","v":0},255.00286,null,null,39.6,13.200000000000001,3.3000000000000003,2.6400000000000006,1.6500000000000001,{"$f":"IF(OR(AND(子1!C34>=0,子1!C34<=18),AND(子2!C34>=0,子2!C34<=18),AND(子3!C34>=0,子3!C34<=18),AND(子4!C34>=0,子4!C34<=18)),入力!$I$35,入力!$I$34)*12","v":0},null,60.39,194.61286000000001,null,2.4000000000000004,null,null,null,null,null,2.4000000000000004,192.21286000000001,36,null,null,null,null,null,36,156.21286000000001,2128.3772439999998,null,null,null,null,null,null,null,{"$f":"IF(D34,VLOOKUP(D34,年収と手取り!C:I,7,1),0)/9.1%","v":313.71428571428572}]
[null,48,51,{"$f":"IF(C35>入力!$I$22,0,VLOOKUP(C35,賃金カーブ!R:Z,4,0))","v":320.60647167543044},{"$f":"VLOOKUP(D35,年収と手取り!X:Y,2,1)","v":255.00286},{"$f":"-IF(OR(AND(子1!C35>=入力!$I$28,子1!C35<=入力!$J$28),AND(子2!C35>=入力!$I$28,子2!C35<=入力!$J$28),AND(子3!C35>=入力!$I$28,子3!C35<=入力!$J$28),AND(子4!C35>=入力!$I$28,子4!C35<=入力!$J$28)),親2!E35*(1-入力!$K$28),\nIF(OR(AND(子1!C35>=入力!$I$29,子1!C35<=入力!$J$29),AND(子2!C35>=入力!$I$29,子2!C35<=入力!$J$29),AND(子3!C35>=入力!$I$29,子3!C35<=入力!$J$29),AND(子4!C35>=入力!$I$29,子4!C35<=入力!$J$29)),親2!E35*(1-入力!$K$29),0))","v":0},{"$f":"IF(C35=入力!I$22,入力!J$31,0)","v":0},0,{"$f":"IF(H35>0,-年金の税金!$G$25/10000,0)","v":0},255.00286,null,null,39.6,13.200000000000001,3.3000000000000003,2.6400000000000006,1.6500000000000001,{"$f":"IF(OR(AND(子1!C35>=0,子1!C35<=18),AND(子2!C35>=0,子2!C35<=18),AND(子3!C35>=0,子3!C35<=18),AND(子4!C35>=0,子4!C35<=18)),入力!$I$35,入力!$I$34)*12","v":0},null,60.39,194.61286000000001,null,2.4000000000000004,null,null,null,null,null,2.4000000000000004,192.21286000000001,36,null,null,null,null,null,36,156.21286000000001,2284.5901039999999,null,null,null,null,null,null,null,{"$f":"IF(D35,VLOOKUP(D35,年収と手取り!C:I,7,1),0)/9.1%","v":313.71428571428572}]
[null,49,52,{"$f":"IF(C36>入力!$I$22,0,VLOOKUP(C36,賃金カーブ!R:Z,4,0))","v":319.5333150628515},{"$f":"VLOOKUP(D36,年収と手取り!X:Y,2,1)","v":246.05286000000001},{"$f":"-IF(OR(AND(子1!C36>=入力!$I$28,子1!C36<=入力!$J$28),AND(子2!C36>=入力!$I$28,子2!C36<=入力!$J$28),AND(子3!C36>=入力!$I$28,子3!C36<=入力!$J$28),AND(子4!C36>=入力!$I$28,子4!C36<=入力!$J$28)),親2!E36*(1-入力!$K$28),\nIF(OR(AND(子1!C36>=入力!$I$29,子1!C36<=入力!$J$29),AND(子2!C36>=入力!$I$29,子2!C36<=入力!$J$29),AND(子3!C36>=入力!$I$29,子3!C36<=入力!$J$29),AND(子4!C36>=入力!$I$29,子4!C36<=入力!$J$29)),親2!E36*(1-入力!$K$29),0))","v":0},{"$f":"IF(C36=入力!I$22,入力!J$31,0)","v":0},0,{"$f":"IF(H36>0,-年金の税金!$G$25/10000,0)","v":0},246.05286000000001,null,null,39.6,13.200000000000001,3.3000000000000003,2.6400000000000006,1.6500000000000001,{"$f":"IF(OR(AND(子1!C36>=0,子1!C36<=18),AND(子2!C36>=0,子2!C36<=18),AND(子3!C36>=0,子3!C36<=18),AND(子4!C36>=0,子4!C36<=18)),入力!$I$35,入力!$I$34)*12","v":0},null,60.39,185.66286000000002,null,2.4000000000000004,null,null,null,null,null,2.4000000000000004,183.26286000000002,36,null,null,null,null,null,36,147.26286000000002,2431.8529639999997,null,null,null,null,null,null,null,{"$f":"IF(D36,VLOOKUP(D36,年収と手取り!C:I,7,1),0)/9.1%","v":313.71428571428572}]
[null,50,53,{"$f":"IF(C37>入力!$I$22,0,VLOOKUP(C37,賃金カーブ!R:Z,4,0))","v":318.46375059583693},{"$f":"VLOOKUP(D37,年収と手取り!X:Y,2,1)","v":246.05286000000001},{"$f":"-IF(OR(AND(子1!C37>=入力!$I$28,子1!C37<=入力!$J$28),AND(子2!C37>=入力!$I$28,子2!C37<=入力!$J$28),AND(子3!C37>=入力!$I$28,子3!C37<=入力!$J$28),AND(子4!C37>=入力!$I$28,子4!C37<=入力!$J$28)),親2!E37*(1-入力!$K$28),\nIF(OR(AND(子1!C37>=入力!$I$29,子1!C37<=入力!$J$29),AND(子2!C37>=入力!$I$29,子2!C37<=入力!$J$29),AND(子3!C37>=入力!$I$29,子3!C37<=入力!$J$29),AND(子4!C37>=入力!$I$29,子4!C37<=入力!$J$29)),親2!E37*(1-入力!$K$29),0))","v":0},{"$f":"IF(C37=入力!I$22,入力!J$31,0)","v":0},0,{"$f":"IF(H37>0,-年金の税金!$G$25/10000,0)","v":0},246.05286000000001,null,null,39.6,13.200000000000001,3.3000000000000003,2.6400000000000006,1.6500000000000001,{"$f":"IF(OR(AND(子1!C37>=0,子1!C37<=18),AND(子2!C37>=0,子2!C37<=18),AND(子3!C37>=0,子3!C37<=18),AND(子4!C37>=0,子4!C37<=18)),入力!$I$35,入力!$I$34)*12","v":0},null,60.39,185.66286000000002,null,2.4000000000000004,null,null,null,null,null,2.4000000000000004,183.26286000000002,36,null,null,null,null,null,36,147.26286000000002,2579.1158239999995,null,null,null,null,null,null,null,{"$f":"IF(D37,VLOOKUP(D37,年収と手取り!C:I,7,1),0)/9.1%","v":313.71428571428572}]
[null,51,54,{"$f":"IF(C38>入力!$I$22,0,VLOOKUP(C38,賃金カーブ!R:Z,4,0))","v":317.39776625050348},{"$f":"VLOOKUP(D38,年収と手取り!X:Y,2,1)","v":246.05286000000001},{"$f":"-IF(OR(AND(子1!C38>=入力!$I$28,子1!C38<=入力!$J$28),AND(子2!C38>=入力!$I$28,子2!C38<=入力!$J$28),AND(子3!C38>=入力!$I$28,子3!C38<=入力!$J$28),AND(子4!C38>=入力!$I$28,子4!C38<=入力!$J$28)),親2!E38*(1-入力!$K$28),\nIF(OR(AND(子1!C38>=入力!$I$29,子1!C38<=入力!$J$29),AND(子2!C38>=入力!$I$29,子2!C38<=入力!$J$29),AND(子3!C38>=入力!$I$29,子3!C38<=入力!$J$29),AND(子4!C38>=入力!$I$29,子4!C38<=入力!$J$29)),親2!E38*(1-入力!$K$29),0))","v":0},{"$f":"IF(C38=入力!I$22,入力!J$31,0)","v":0},0,{"$f":"IF(H38>0,-年金の税金!$G$25/10000,0)","v":0},246.05286000000001,null,null,39.6,13.200000000000001,3.3000000000000003,2.6400000000000006,1.6500000000000001,{"$f":"IF(OR(AND(子1!C38>=0,子1!C38<=18),AND(子2!C38>=0,子2!C38<=18),AND(子3!C38>=0,子3!C38<=18),AND(子4!C38>=0,子4!C38<=18)),入力!$I$35,入力!$I$34)*12","v":0},null,{"$f":"SUM(K38:S38)","v":60.39},{"$f":"J38-T38","v":185.66286000000002},null,2.4000000000000004,null,null,null,null,null,{"$f":"SUM(V38:AB38)","v":2.4000000000000004},{"$f":"U38-AC38","v":183.26286000000002},36,null,null,null,null,null,36,147.26286000000002,{"$f":"AL38+AM37","v":2726.3786839999993},null,null,null,null,null,null,null,{"$f":"IF(D38,VLOOKUP(D38,年収と手取り!C:I,7,1),0)/9.1%","v":313.71428571428572}]
[null,52,55,{"$f":"IF(C39>入力!$I$22,0,VLOOKUP(C39,賃金カーブ!R:Z,4,0))","v":316.33535004321516},{"$f":"VLOOKUP(D39,年収と手取り!X:Y,2,1)","v":246.05286000000001},{"$f":"-IF(OR(AND(子1!C39>=入力!$I$28,子1!C39<=入力!$J$28),AND(子2!C39>=入力!$I$28,子2!C39<=入力!$J$28),AND(子3!C39>=入力!$I$28,子3!C39<=入力!$J$28),AND(子4!C39>=入力!$I$28,子4!C39<=入力!$J$28)),親2!E39*(1-入力!$K$28),\nIF(OR(AND(子1!C39>=入力!$I$29,子1!C39<=入力!$J$29),AND(子2!C39>=入力!$I$29,子2!C39<=入力!$J$29),AND(子3!C39>=入力!$I$29,子3!C39<=入力!$J$29),AND(子4!C39>=入力!$I$29,子4!C39<=入力!$J$29)),親2!E39*(1-入力!$K$29),0))","v":0},{"$f":"IF(C39=入力!I$22,入力!J$31,0)","v":0},0,{"$f":"IF(H39>0,-年金の税金!$G$25/10000,0)","v":0},246.05286000000001,null,null,{"$f":"M$1","v":39.6},13.200000000000001,3.3000000000000003,2.6400000000000006,1.6500000000000001,{"$f":"IF(OR(AND(子1!C39>=0,子1!C39<=18),AND(子2!C39>=0,子2!C39<=18),AND(子3!C39>=0,子3!C39<=18),AND(子4!C39>=0,子4!C39<=18)),入力!$I$35,入力!$I$34)*12","v":0},null,60.39,185.66286000000002,null,2.4000000000000004,null,null,null,null,null,2.4000000000000004,183.26286000000002,36,null,null,null,null,null,36,147.26286000000002,2873.6415439999992,null,null,null,null,null,null,null,{"$f":"IF(D39,VLOOKUP(D39,年収と手取り!C:I,7,1),0)/9.1%","v":313.71428571428572}]
[null,{"$f":"B39+1","v":53},56,{"$f":"IF(C40>入力!$I$22,0,VLOOKUP(C40,賃金カーブ!R:Z,4,0))","v":293.84514358795565},{"$f":"VLOOKUP(D40,年収と手取り!X:Y,2,1)","v":231.25263999999999},{"$f":"-IF(OR(AND(子1!C40>=入力!$I$28,子1!C40<=入力!$J$28),AND(子2!C40>=入力!$I$28,子2!C40<=入力!$J$28),AND(子3!C40>=入力!$I$28,子3!C40<=入力!$J$28),AND(子4!C40>=入力!$I$28,子4!C40<=入力!$J$28)),親2!E40*(1-入力!$K$28),\nIF(OR(AND(子1!C40>=入力!$I$29,子1!C40<=入力!$J$29),AND(子2!C40>=入力!$I$29,子2!C40<=入力!$J$29),AND(子3!C40>=入力!$I$29,子3!C40<=入力!$J$29),AND(子4!C40>=入力!$I$29,子4!C40<=入力!$J$29)),親2!E40*(1-入力!$K$29),0))","v":0},{"$f":"IF(C40=入力!I$22,入力!J$31,0)","v":0},0,{"$f":"IF(H40>0,-年金の税金!$G$25/10000,0)","v":0},{"$f":"SUM(E40:I40)","v":231.25263999999999},null,null,39.6,13.200000000000001,3.3000000000000003,2.6400000000000006,1.6500000000000001,{"$f":"IF(OR(AND(子1!C40>=0,子1!C40<=18),AND(子2!C40>=0,子2!C40<=18),AND(子3!C40>=0,子3!C40<=18),AND(子4!C40>=0,子4!C40<=18)),入力!$I$35,入力!$I$34)*12","v":0},null,60.39,170.86264,null,2.4000000000000004,null,null,null,null,null,2.4000000000000004,168.46263999999999,36,null,null,null,null,null,36,132.46263999999999,3006.1041839999993,null,null,null,null,null,null,null,{"$f":"IF(D40,VLOOKUP(D40,年収と手取り!C:I,7,1),0)/9.1%","v":289.58241758241758}]
[null,54,57,{"$f":"IF(C41>入力!$I$22,0,VLOOKUP(C41,賃金カーブ!R:Z,4,0))","v":272.9539028705787},{"$f":"VLOOKUP(D41,年収と手取り!X:Y,2,1)","v":216.45242000000002},{"$f":"-IF(OR(AND(子1!C41>=入力!$I$28,子1!C41<=入力!$J$28),AND(子2!C41>=入力!$I$28,子2!C41<=入力!$J$28),AND(子3!C41>=入力!$I$28,子3!C41<=入力!$J$28),AND(子4!C41>=入力!$I$28,子4!C41<=入力!$J$28)),親2!E41*(1-入力!$K$28),\nIF(OR(AND(子1!C41>=入力!$I$29,子1!C41<=入力!$J$29),AND(子2!C41>=入力!$I$29,子2!C41<=入力!$J$29),AND(子3!C41>=入力!$I$29,子3!C41<=入力!$J$29),AND(子4!C41>=入力!$I$29,子4!C41<=入力!$J$29)),親2!E41*(1-入力!$K$29),0))","v":0},{"$f":"IF(C41=入力!I$22,入力!J$31,0)","v":0},0,{"$f":"IF(H41>0,-年金の税金!$G$25/10000,0)","v":0},216.45242000000002,null,null,39.6,13.200000000000001,3.3000000000000003,2.6400000000000006,1.6500000000000001,{"$f":"IF(OR(AND(子1!C41>=0,子1!C41<=18),AND(子2!C41>=0,子2!C41<=18),AND(子3!C41>=0,子3!C41<=18),AND(子4!C41>=0,子4!C41<=18)),入力!$I$35,入力!$I$34)*12","v":0},null,60.39,156.06242000000003,null,2.4000000000000004,null,null,null,null,null,2.4000000000000004,153.66242000000003,36,null,null,null,null,null,36,117.66242000000003,3123.7666039999995,null,null,null,null,null,null,null,{"$f":"IF(D41,VLOOKUP(D41,年収と手取り!C:I,7,1),0)/9.1%","v":265.45054945054943}]
[null,55,58,{"$f":"IF(C42>入力!$I$22,0,VLOOKUP(C42,賃金カーブ!R:Z,4,0))","v":253.54794767938827},{"$f":"VLOOKUP(D42,年収と手取り!X:Y,2,1)","v":201.65219999999999},{"$f":"-IF(OR(AND(子1!C42>=入力!$I$28,子1!C42<=入力!$J$28),AND(子2!C42>=入力!$I$28,子2!C42<=入力!$J$28),AND(子3!C42>=入力!$I$28,子3!C42<=入力!$J$28),AND(子4!C42>=入力!$I$28,子4!C42<=入力!$J$28)),親2!E42*(1-入力!$K$28),\nIF(OR(AND(子1!C42>=入力!$I$29,子1!C42<=入力!$J$29),AND(子2!C42>=入力!$I$29,子2!C42<=入力!$J$29),AND(子3!C42>=入力!$I$29,子3!C42<=入力!$J$29),AND(子4!C42>=入力!$I$29,子4!C42<=入力!$J$29)),親2!E42*(1-入力!$K$29),0))","v":0},{"$f":"IF(C42=入力!I$22,入力!J$31,0)","v":0},0,{"$f":"IF(H42>0,-年金の税金!$G$25/10000,0)","v":0},201.65219999999999,null,null,39.6,13.200000000000001,3.3000000000000003,2.6400000000000006,1.6500000000000001,{"$f":"IF(OR(AND(子1!C42>=0,子1!C42<=18),AND(子2!C42>=0,子2!C42<=18),AND(子3!C42>=0,子3!C42<=18),AND(子4!C42>=0,子4!C42<=18)),入力!$I$35,入力!$I$34)*12","v":0},null,60.39,141.26220000000001,null,2.4000000000000004,null,null,null,null,null,2.4000000000000004,138.8622,36,null,null,null,null,null,36,102.8622,3226.6288039999995,null,null,null,null,null,null,null,{"$f":"IF(D42,VLOOKUP(D42,年収と手取り!C:I,7,1),0)/9.1%","v":241.31868131868134}]
[null,56,59,{"$f":"IF(C43>入力!$I$22,0,VLOOKUP(C43,賃金カーブ!R:Z,4,0))","v":235.52168002122809},{"$f":"VLOOKUP(D43,年収と手取り!X:Y,2,1)","v":185.30209000000002},{"$f":"-IF(OR(AND(子1!C43>=入力!$I$28,子1!C43<=入力!$J$28),AND(子2!C43>=入力!$I$28,子2!C43<=入力!$J$28),AND(子3!C43>=入力!$I$28,子3!C43<=入力!$J$28),AND(子4!C43>=入力!$I$28,子4!C43<=入力!$J$28)),親2!E43*(1-入力!$K$28),\nIF(OR(AND(子1!C43>=入力!$I$29,子1!C43<=入力!$J$29),AND(子2!C43>=入力!$I$29,子2!C43<=入力!$J$29),AND(子3!C43>=入力!$I$29,子3!C43<=入力!$J$29),AND(子4!C43>=入力!$I$29,子4!C43<=入力!$J$29)),親2!E43*(1-入力!$K$29),0))","v":0},{"$f":"IF(C43=入力!I$22,入力!J$31,0)","v":0},0,{"$f":"IF(H43>0,-年金の税金!$G$25/10000,0)","v":0},185.30209000000002,null,null,39.6,13.200000000000001,3.3000000000000003,2.6400000000000006,1.6500000000000001,{"$f":"IF(OR(AND(子1!C43>=0,子1!C43<=18),AND(子2!C43>=0,子2!C43<=18),AND(子3!C43>=0,子3!C43<=18),AND(子4!C43>=0,子4!C43<=18)),入力!$I$35,入力!$I$34)*12","v":0},null,60.39,124.91209000000002,null,2.4000000000000004,null,null,null,null,null,2.4000000000000004,122.51209000000001,36,null,null,null,null,null,36,86.512090000000015,3313.1408939999997,null,null,null,null,null,null,null,{"$f":"IF(D43,VLOOKUP(D43,年収と手取り!C:I,7,1),0)/9.1%","v":229.25274725274724}]
[null,57,60,{"$f":"IF(C44>入力!$I$22,0,VLOOKUP(C44,賃金カーブ!R:Z,4,0))","v":218.77700950734661},{"$f":"VLOOKUP(D44,年収と手取り!X:Y,2,1)","v":168.95197999999999},{"$f":"-IF(OR(AND(子1!C44>=入力!$I$28,子1!C44<=入力!$J$28),AND(子2!C44>=入力!$I$28,子2!C44<=入力!$J$28),AND(子3!C44>=入力!$I$28,子3!C44<=入力!$J$28),AND(子4!C44>=入力!$I$28,子4!C44<=入力!$J$28)),親2!E44*(1-入力!$K$28),\nIF(OR(AND(子1!C44>=入力!$I$29,子1!C44<=入力!$J$29),AND(子2!C44>=入力!$I$29,子2!C44<=入力!$J$29),AND(子3!C44>=入力!$I$29,子3!C44<=入力!$J$29),AND(子4!C44>=入力!$I$29,子4!C44<=入力!$J$29)),親2!E44*(1-入力!$K$29),0))","v":0},{"$f":"IF(C44=入力!I$22,入力!J$31,0)","v":0},0,{"$f":"IF(H44>0,-年金の税金!$G$25/10000,0)","v":0},168.95197999999999,null,null,39.6,13.200000000000001,3.3000000000000003,2.6400000000000006,1.6500000000000001,{"$f":"IF(OR(AND(子1!C44>=0,子1!C44<=18),AND(子2!C44>=0,子2!C44<=18),AND(子3!C44>=0,子3!C44<=18),AND(子4!C44>=0,子4!C44<=18)),入力!$I$35,入力!$I$34)*12","v":0},null,60.39,108.56197999999999,null,2.4000000000000004,null,null,null,null,null,2.4000000000000004,106.16197999999999,36,null,null,null,null,null,36,70.161979999999986,3383.3028739999995,null,null,null,null,null,null,null,{"$f":"IF(D44,VLOOKUP(D44,年収と手取り!C:I,7,1),0)/9.1%","v":217.1868131868132}]
[null,58,61,{"$f":"IF(C45>入力!$I$22,0,VLOOKUP(C45,賃金カーブ!R:Z,4,0))","v":218.77700950734661},{"$f":"VLOOKUP(D45,年収と手取り!X:Y,2,1)","v":168.95197999999999},{"$f":"-IF(OR(AND(子1!C45>=入力!$I$28,子1!C45<=入力!$J$28),AND(子2!C45>=入力!$I$28,子2!C45<=入力!$J$28),AND(子3!C45>=入力!$I$28,子3!C45<=入力!$J$28),AND(子4!C45>=入力!$I$28,子4!C45<=入力!$J$28)),親2!E45*(1-入力!$K$28),\nIF(OR(AND(子1!C45>=入力!$I$29,子1!C45<=入力!$J$29),AND(子2!C45>=入力!$I$29,子2!C45<=入力!$J$29),AND(子3!C45>=入力!$I$29,子3!C45<=入力!$J$29),AND(子4!C45>=入力!$I$29,子4!C45<=入力!$J$29)),親2!E45*(1-入力!$K$29),0))","v":0},{"$f":"IF(C45=入力!I$22,入力!J$31,0)","v":0},{"$f":"IF(C45>65,6.5+$AW$74,0)*12","v":0},{"$f":"IF(H45>0,-年金の税金!$G$25/10000,0)","v":0},168.95197999999999,null,null,39.6,13.200000000000001,3.3000000000000003,2.6400000000000006,1.6500000000000001,{"$f":"IF(OR(AND(子1!C45>=0,子1!C45<=18),AND(子2!C45>=0,子2!C45<=18),AND(子3!C45>=0,子3!C45<=18),AND(子4!C45>=0,子4!C45<=18)),入力!$I$35,入力!$I$34)*12","v":0},null,60.39,108.56197999999999,null,2.4000000000000004,null,null,null,null,null,2.4000000000000004,106.16197999999999,36,null,null,null,null,null,36,70.161979999999986,3453.4648539999994,null,null,null,null,null,null,null,{"$f":"IF(D45,VLOOKUP(D45,年収と手取り!C:I,7,1),0)/9.1%","v":217.1868131868132}]
[null,59,62,{"$f":"IF(C46>入力!$I$22,0,VLOOKUP(C46,賃金カーブ!R:Z,4,0))","v":218.77700950734661},{"$f":"VLOOKUP(D46,年収と手取り!X:Y,2,1)","v":168.95197999999999},{"$f":"-IF(OR(AND(子1!C46>=入力!$I$28,子1!C46<=入力!$J$28),AND(子2!C46>=入力!$I$28,子2!C46<=入力!$J$28),AND(子3!C46>=入力!$I$28,子3!C46<=入力!$J$28),AND(子4!C46>=入力!$I$28,子4!C46<=入力!$J$28)),親2!E46*(1-入力!$K$28),\nIF(OR(AND(子1!C46>=入力!$I$29,子1!C46<=入力!$J$29),AND(子2!C46>=入力!$I$29,子2!C46<=入力!$J$29),AND(子3!C46>=入力!$I$29,子3!C46<=入力!$J$29),AND(子4!C46>=入力!$I$29,子4!C46<=入力!$J$29)),親2!E46*(1-入力!$K$29),0))","v":0},{"$f":"IF(C46=入力!I$22,入力!J$31,0)","v":0},{"$f":"IF(C46>65,6.5+$AW$74,0)*12","v":0},{"$f":"IF(H46>0,-年金の税金!$G$25/10000,0)","v":0},168.95197999999999,null,null,39.6,13.200000000000001,3.3000000000000003,2.6400000000000006,1.6500000000000001,{"$f":"IF(OR(AND(子1!C46>=0,子1!C46<=18),AND(子2!C46>=0,子2!C46<=18),AND(子3!C46>=0,子3!C46<=18),AND(子4!C46>=0,子4!C46<=18)),入力!$I$35,入力!$I$34)*12","v":0},null,60.39,108.56197999999999,null,2.4000000000000004,null,null,null,null,null,2.4000000000000004,106.16197999999999,36,null,null,null,null,null,36,70.161979999999986,3523.6268339999992,null,null,null,null,null,null,null,{"$f":"IF(D46,VLOOKUP(D46,年収と手取り!C:I,7,1),0)/9.1%","v":217.1868131868132}]
[null,60,63,{"$f":"IF(C47>入力!$I$22,0,VLOOKUP(C47,賃金カーブ!R:Z,4,0))","v":218.77700950734661},{"$f":"VLOOKUP(D47,年収と手取り!X:Y,2,1)","v":168.95197999999999},{"$f":"-IF(OR(AND(子1!C47>=入力!$I$28,子1!C47<=入力!$J$28),AND(子2!C47>=入力!$I$28,子2!C47<=入力!$J$28),AND(子3!C47>=入力!$I$28,子3!C47<=入力!$J$28),AND(子4!C47>=入力!$I$28,子4!C47<=入力!$J$28)),親2!E47*(1-入力!$K$28),\nIF(OR(AND(子1!C47>=入力!$I$29,子1!C47<=入力!$J$29),AND(子2!C47>=入力!$I$29,子2!C47<=入力!$J$29),AND(子3!C47>=入力!$I$29,子3!C47<=入力!$J$29),AND(子4!C47>=入力!$I$29,子4!C47<=入力!$J$29)),親2!E47*(1-入力!$K$29),0))","v":0},{"$f":"IF(C47=入力!I$22,入力!J$31,0)","v":0},0,{"$f":"IF(H47>0,-年金の税金!$G$25/10000,0)","v":0},168.95197999999999,null,null,39.6,13.200000000000001,3.3000000000000003,2.6400000000000006,1.6500000000000001,{"$f":"IF(OR(AND(子1!C47>=0,子1!C47<=18),AND(子2!C47>=0,子2!C47<=18),AND(子3!C47>=0,子3!C47<=18),AND(子4!C47>=0,子4!C47<=18)),入力!$I$35,入力!$I$34)*12","v":0},null,60.39,108.56197999999999,null,2.4000000000000004,null,null,null,null,null,2.4000000000000004,106.16197999999999,36,null,null,null,null,null,36,70.161979999999986,3593.7888139999991,null,null,null,null,null,null,null,{"$f":"IF(D47,VLOOKUP(D47,年収と手取り!C:I,7,1),0)/9.1%","v":217.1868131868132}]
[null,61,64,{"$f":"IF(C48>入力!$I$22,0,VLOOKUP(C48,賃金カーブ!R:Z,4,0))","v":218.77700950734661},{"$f":"VLOOKUP(D48,年収と手取り!X:Y,2,1)","v":168.95197999999999},{"$f":"-IF(OR(AND(子1!C48>=入力!$I$28,子1!C48<=入力!$J$28),AND(子2!C48>=入力!$I$28,子2!C48<=入力!$J$28),AND(子3!C48>=入力!$I$28,子3!C48<=入力!$J$28),AND(子4!C48>=入力!$I$28,子4!C48<=入力!$J$28)),親2!E48*(1-入力!$K$28),\nIF(OR(AND(子1!C48>=入力!$I$29,子1!C48<=入力!$J$29),AND(子2!C48>=入力!$I$29,子2!C48<=入力!$J$29),AND(子3!C48>=入力!$I$29,子3!C48<=入力!$J$29),AND(子4!C48>=入力!$I$29,子4!C48<=入力!$J$29)),親2!E48*(1-入力!$K$29),0))","v":0},{"$f":"IF(C48=入力!I$22,入力!J$31,0)","v":0},0,{"$f":"IF(H48>0,-年金の税金!$G$25/10000,0)","v":0},168.95197999999999,null,null,39.6,13.200000000000001,3.3000000000000003,2.6400000000000006,1.6500000000000001,{"$f":"IF(OR(AND(子1!C48>=0,子1!C48<=18),AND(子2!C48>=0,子2!C48<=18),AND(子3!C48>=0,子3!C48<=18),AND(子4!C48>=0,子4!C48<=18)),入力!$I$35,入力!$I$34)*12","v":0},null,60.39,108.56197999999999,null,2.4000000000000004,null,null,null,null,null,2.4000000000000004,106.16197999999999,36,null,null,null,null,null,36,70.161979999999986,3663.950793999999,null,null,null,null,null,null,null,{"$f":"IF(D48,VLOOKUP(D48,年収と手取り!C:I,7,1),0)/9.1%","v":217.1868131868132}]
[null,62,65,{"$f":"IF(C49>入力!$I$22,0,VLOOKUP(C49,賃金カーブ!R:Z,4,0))","v":218.77700950734661},{"$f":"VLOOKUP(D49,年収と手取り!X:Y,2,1)","v":168.95197999999999},{"$f":"-IF(OR(AND(子1!C49>=入力!$I$28,子1!C49<=入力!$J$28),AND(子2!C49>=入力!$I$28,子2!C49<=入力!$J$28),AND(子3!C49>=入力!$I$28,子3!C49<=入力!$J$28),AND(子4!C49>=入力!$I$28,子4!C49<=入力!$J$28)),親2!E49*(1-入力!$K$28),\nIF(OR(AND(子1!C49>=入力!$I$29,子1!C49<=入力!$J$29),AND(子2!C49>=入力!$I$29,子2!C49<=入力!$J$29),AND(子3!C49>=入力!$I$29,子3!C49<=入力!$J$29),AND(子4!C49>=入力!$I$29,子4!C49<=入力!$J$29)),親2!E49*(1-入力!$K$29),0))","v":0},{"$f":"IF(C49=入力!I$22,入力!J$31,0)","v":0},0,{"$f":"IF(H49>0,-年金の税金!$G$25/10000,0)","v":0},168.95197999999999,null,null,39.6,13.200000000000001,3.3000000000000003,2.6400000000000006,1.6500000000000001,{"$f":"IF(OR(AND(子1!C49>=0,子1!C49<=18),AND(子2!C49>=0,子2!C49<=18),AND(子3!C49>=0,子3!C49<=18),AND(子4!C49>=0,子4!C49<=18)),入力!$I$35,入力!$I$34)*12","v":0},null,60.39,108.56197999999999,null,2.4000000000000004,null,null,null,null,null,2.4000000000000004,106.16197999999999,36,null,null,null,null,null,36,70.161979999999986,3734.1127739999988,null,null,null,null,null,null,null,{"$f":"IF(D49,VLOOKUP(D49,年収と手取り!C:I,7,1),0)/9.1%","v":217.1868131868132}]
[null,63,66,{"$f":"IF(C50>入力!$I$22,0,VLOOKUP(C50,賃金カーブ!R:Z,4,0))","v":0},{"$f":"VLOOKUP(D50,年収と手取り!X:Y,2,1)","v":0},{"$f":"-IF(OR(AND(子1!C50>=入力!$I$28,子1!C50<=入力!$J$28),AND(子2!C50>=入力!$I$28,子2!C50<=入力!$J$28),AND(子3!C50>=入力!$I$28,子3!C50<=入力!$J$28),AND(子4!C50>=入力!$I$28,子4!C50<=入力!$J$28)),親2!E50*(1-入力!$K$28),\nIF(OR(AND(子1!C50>=入力!$I$29,子1!C50<=入力!$J$29),AND(子2!C50>=入力!$I$29,子2!C50<=入力!$J$29),AND(子3!C50>=入力!$I$29,子3!C50<=入力!$J$29),AND(子4!C50>=入力!$I$29,子4!C50<=入力!$J$29)),親2!E50*(1-入力!$K$29),0))","v":0},{"$f":"IF(C50=入力!I$22,入力!J$31,0)","v":0},138.73690043076925,{"$f":"IF(H50>0,-年金の税金!$G$25/10000,0)","v":-3.1482057254053681},135.58869470536388,null,null,39.6,13.200000000000001,3.3000000000000003,2.6400000000000006,1.6500000000000001,{"$f":"IF(OR(AND(子1!C50>=0,子1!C50<=18),AND(子2!C50>=0,子2!C50<=18),AND(子3!C50>=0,子3!C50<=18),AND(子4!C50>=0,子4!C50<=18)),入力!$I$35,入力!$I$34)*12","v":0},null,60.39,75.198694705363877,null,2.4000000000000004,null,null,null,null,null,2.4000000000000004,72.798694705363872,36,null,null,null,null,null,36,36.798694705363872,3770.9114687053625,null,null,null,null,null,null,null,{"$f":"IF(D50,VLOOKUP(D50,年収と手取り!C:I,7,1),0)/9.1%","v":0}]
[null,64,67,{"$f":"IF(C51>入力!$I$22,0,VLOOKUP(C51,賃金カーブ!R:Z,4,0))","v":0},{"$f":"VLOOKUP(D51,年収と手取り!X:Y,2,1)","v":0},{"$f":"-IF(OR(AND(子1!C51>=入力!$I$28,子1!C51<=入力!$J$28),AND(子2!C51>=入力!$I$28,子2!C51<=入力!$J$28),AND(子3!C51>=入力!$I$28,子3!C51<=入力!$J$28),AND(子4!C51>=入力!$I$28,子4!C51<=入力!$J$28)),親2!E51*(1-入力!$K$28),\nIF(OR(AND(子1!C51>=入力!$I$29,子1!C51<=入力!$J$29),AND(子2!C51>=入力!$I$29,子2!C51<=入力!$J$29),AND(子3!C51>=入力!$I$29,子3!C51<=入力!$J$29),AND(子4!C51>=入力!$I$29,子4!C51<=入力!$J$29)),親2!E51*(1-入力!$K$29),0))","v":0},{"$f":"IF(C51=入力!I$22,入力!J$31,0)","v":0},138.73690043076925,{"$f":"IF(H51>0,-年金の税金!$G$25/10000,0)","v":-3.1482057254053681},135.58869470536388,null,null,39.6,13.200000000000001,3.3000000000000003,2.6400000000000006,1.6500000000000001,{"$f":"IF(OR(AND(子1!C51>=0,子1!C51<=18),AND(子2!C51>=0,子2!C51<=18),AND(子3!C51>=0,子3!C51<=18),AND(子4!C51>=0,子4!C51<=18)),入力!$I$35,入力!$I$34)*12","v":0},null,60.39,75.198694705363877,null,2.4000000000000004,null,null,null,null,null,2.4000000000000004,72.798694705363872,36,null,null,null,null,null,36,36.798694705363872,3807.7101634107262,null,null,null,null,null,null,null,{"$f":"IF(D51,VLOOKUP(D51,年収と手取り!C:I,7,1),0)/9.1%","v":0}]
[null,65,68,{"$f":"IF(C52>入力!$I$22,0,VLOOKUP(C52,賃金カーブ!R:Z,4,0))","v":0},{"$f":"VLOOKUP(D52,年収と手取り!X:Y,2,1)","v":0},{"$f":"-IF(OR(AND(子1!C52>=入力!$I$28,子1!C52<=入力!$J$28),AND(子2!C52>=入力!$I$28,子2!C52<=入力!$J$28),AND(子3!C52>=入力!$I$28,子3!C52<=入力!$J$28),AND(子4!C52>=入力!$I$28,子4!C52<=入力!$J$28)),親2!E52*(1-入力!$K$28),\nIF(OR(AND(子1!C52>=入力!$I$29,子1!C52<=入力!$J$29),AND(子2!C52>=入力!$I$29,子2!C52<=入力!$J$29),AND(子3!C52>=入力!$I$29,子3!C52<=入力!$J$29),AND(子4!C52>=入力!$I$29,子4!C52<=入力!$J$29)),親2!E52*(1-入力!$K$29),0))","v":0},{"$f":"IF(C52=入力!I$22,入力!J$31,0)","v":0},138.73690043076925,{"$f":"IF(H52>0,-年金の税金!$G$25/10000,0)","v":-3.1482057254053681},135.58869470536388,null,null,39.6,13.200000000000001,3.3000000000000003,2.6400000000000006,1.6500000000000001,{"$f":"IF(OR(AND(子1!C52>=0,子1!C52<=18),AND(子2!C52>=0,子2!C52<=18),AND(子3!C52>=0,子3!C52<=18),AND(子4!C52>=0,子4!C52<=18)),入力!$I$35,入力!$I$34)*12","v":0},null,60.39,75.198694705363877,null,2.4000000000000004,null,null,null,null,null,2.4000000000000004,72.798694705363872,36,null,null,null,null,null,36,36.798694705363872,3844.5088581160899,null,null,null,null,null,null,null,{"$f":"IF(D52,VLOOKUP(D52,年収と手取り!C:I,7,1),0)/9.1%","v":0}]
[null,66,69,{"$f":"IF(C53>入力!$I$22,0,VLOOKUP(C53,賃金カーブ!R:Z,4,0))","v":0},{"$f":"VLOOKUP(D53,年収と手取り!X:Y,2,1)","v":0},{"$f":"-IF(OR(AND(子1!C53>=入力!$I$28,子1!C53<=入力!$J$28),AND(子2!C53>=入力!$I$28,子2!C53<=入力!$J$28),AND(子3!C53>=入力!$I$28,子3!C53<=入力!$J$28),AND(子4!C53>=入力!$I$28,子4!C53<=入力!$J$28)),親2!E53*(1-入力!$K$28),\nIF(OR(AND(子1!C53>=入力!$I$29,子1!C53<=入力!$J$29),AND(子2!C53>=入力!$I$29,子2!C53<=入力!$J$29),AND(子3!C53>=入力!$I$29,子3!C53<=入力!$J$29),AND(子4!C53>=入力!$I$29,子4!C53<=入力!$J$29)),親2!E53*(1-入力!$K$29),0))","v":0},{"$f":"IF(C53=入力!I$22,入力!J$31,0)","v":0},138.73690043076925,{"$f":"IF(H53>0,-年金の税金!$G$25/10000,0)","v":-3.1482057254053681},135.58869470536388,null,null,39.6,13.200000000000001,3.3000000000000003,2.6400000000000006,1.6500000000000001,{"$f":"IF(OR(AND(子1!C53>=0,子1!C53<=18),AND(子2!C53>=0,子2!C53<=18),AND(子3!C53>=0,子3!C53<=18),AND(子4!C53>=0,子4!C53<=18)),入力!$I$35,入力!$I$34)*12","v":0},null,60.39,75.198694705363877,null,2.4000000000000004,null,null,null,null,null,2.4000000000000004,72.798694705363872,36,null,null,null,null,null,36,36.798694705363872,3881.3075528214536,null,null,null,null,null,null,null,{"$f":"IF(D53,VLOOKUP(D53,年収と手取り!C:I,7,1),0)/9.1%","v":0}]
[null,67,70,{"$f":"IF(C54>入力!$I$22,0,VLOOKUP(C54,賃金カーブ!R:Z,4,0))","v":0},{"$f":"VLOOKUP(D54,年収と手取り!X:Y,2,1)","v":0},{"$f":"-IF(OR(AND(子1!C54>=入力!$I$28,子1!C54<=入力!$J$28),AND(子2!C54>=入力!$I$28,子2!C54<=入力!$J$28),AND(子3!C54>=入力!$I$28,子3!C54<=入力!$J$28),AND(子4!C54>=入力!$I$28,子4!C54<=入力!$J$28)),親2!E54*(1-入力!$K$28),\nIF(OR(AND(子1!C54>=入力!$I$29,子1!C54<=入力!$J$29),AND(子2!C54>=入力!$I$29,子2!C54<=入力!$J$29),AND(子3!C54>=入力!$I$29,子3!C54<=入力!$J$29),AND(子4!C54>=入力!$I$29,子4!C54<=入力!$J$29)),親2!E54*(1-入力!$K$29),0))","v":0},{"$f":"IF(C54=入力!I$22,入力!J$31,0)","v":0},138.73690043076925,{"$f":"IF(H54>0,-年金の税金!$G$25/10000,0)","v":-3.1482057254053681},135.58869470536388,null,null,39.6,13.200000000000001,3.3000000000000003,2.6400000000000006,1.6500000000000001,{"$f":"IF(OR(AND(子1!C54>=0,子1!C54<=18),AND(子2!C54>=0,子2!C54<=18),AND(子3!C54>=0,子3!C54<=18),AND(子4!C54>=0,子4!C54<=18)),入力!$I$35,入力!$I$34)*12","v":0},null,60.39,75.198694705363877,null,2.4000000000000004,null,null,null,null,null,2.4000000000000004,72.798694705363872,36,null,null,null,null,null,36,36.798694705363872,3918.1062475268172,null,null,null,null,null,null,null,{"$f":"IF(D54,VLOOKUP(D54,年収と手取り!C:I,7,1),0)/9.1%","v":0}]
[null,68,71,{"$f":"IF(C55>入力!$I$22,0,VLOOKUP(C55,賃金カーブ!R:Z,4,0))","v":0},{"$f":"VLOOKUP(D55,年収と手取り!X:Y,2,1)","v":0},{"$f":"-IF(OR(AND(子1!C55>=入力!$I$28,子1!C55<=入力!$J$28),AND(子2!C55>=入力!$I$28,子2!C55<=入力!$J$28),AND(子3!C55>=入力!$I$28,子3!C55<=入力!$J$28),AND(子4!C55>=入力!$I$28,子4!C55<=入力!$J$28)),親2!E55*(1-入力!$K$28),\nIF(OR(AND(子1!C55>=入力!$I$29,子1!C55<=入力!$J$29),AND(子2!C55>=入力!$I$29,子2!C55<=入力!$J$29),AND(子3!C55>=入力!$I$29,子3!C55<=入力!$J$29),AND(子4!C55>=入力!$I$29,子4!C55<=入力!$J$29)),親2!E55*(1-入力!$K$29),0))","v":0},{"$f":"IF(C55=入力!I$22,入力!J$31,0)","v":0},138.73690043076925,{"$f":"IF(H55>0,-年金の税金!$G$25/10000,0)","v":-3.1482057254053681},135.58869470536388,null,null,{"$f":"M$1","v":39.6},13.200000000000001,3.3000000000000003,2.6400000000000006,1.6500000000000001,{"$f":"IF(OR(AND(子1!C55>=0,子1!C55<=18),AND(子2!C55>=0,子2!C55<=18),AND(子3!C55>=0,子3!C55<=18),AND(子4!C55>=0,子4!C55<=18)),入力!$I$35,入力!$I$34)*12","v":0},null,60.39,75.198694705363877,null,2.4000000000000004,null,null,null,null,null,2.4000000000000004,72.798694705363872,36,null,null,null,null,null,36,36.798694705363872,3954.9049422321809,null,null,null,null,null,null,null,{"$f":"IF(D55,VLOOKUP(D55,年収と手取り!C:I,7,1),0)/9.1%","v":0}]
[null,69,72,{"$f":"IF(C56>入力!$I$22,0,VLOOKUP(C56,賃金カーブ!R:Z,4,0))","v":0},{"$f":"VLOOKUP(D56,年収と手取り!X:Y,2,1)","v":0},{"$f":"-IF(OR(AND(子1!C56>=入力!$I$28,子1!C56<=入力!$J$28),AND(子2!C56>=入力!$I$28,子2!C56<=入力!$J$28),AND(子3!C56>=入力!$I$28,子3!C56<=入力!$J$28),AND(子4!C56>=入力!$I$28,子4!C56<=入力!$J$28)),親2!E56*(1-入力!$K$28),\nIF(OR(AND(子1!C56>=入力!$I$29,子1!C56<=入力!$J$29),AND(子2!C56>=入力!$I$29,子2!C56<=入力!$J$29),AND(子3!C56>=入力!$I$29,子3!C56<=入力!$J$29),AND(子4!C56>=入力!$I$29,子4!C56<=入力!$J$29)),親2!E56*(1-入力!$K$29),0))","v":0},{"$f":"IF(C56=入力!I$22,入力!J$31,0)","v":0},138.73690043076925,{"$f":"IF(H56>0,-年金の税金!$G$25/10000,0)","v":-3.1482057254053681},135.58869470536388,null,null,39.6,13.200000000000001,3.3000000000000003,2.6400000000000006,1.6500000000000001,{"$f":"IF(OR(AND(子1!C56>=0,子1!C56<=18),AND(子2!C56>=0,子2!C56<=18),AND(子3!C56>=0,子3!C56<=18),AND(子4!C56>=0,子4!C56<=18)),入力!$I$35,入力!$I$34)*12","v":0},null,60.39,75.198694705363877,null,2.4000000000000004,null,null,null,null,null,2.4000000000000004,72.798694705363872,36,null,null,null,null,null,36,36.798694705363872,3991.7036369375446,null,null,null,null,null,null,null,{"$f":"IF(D56,VLOOKUP(D56,年収と手取り!C:I,7,1),0)/9.1%","v":0}]
[null,70,73,{"$f":"IF(C57>入力!$I$22,0,VLOOKUP(C57,賃金カーブ!R:Z,4,0))","v":0},{"$f":"VLOOKUP(D57,年収と手取り!X:Y,2,1)","v":0},{"$f":"-IF(OR(AND(子1!C57>=入力!$I$28,子1!C57<=入力!$J$28),AND(子2!C57>=入力!$I$28,子2!C57<=入力!$J$28),AND(子3!C57>=入力!$I$28,子3!C57<=入力!$J$28),AND(子4!C57>=入力!$I$28,子4!C57<=入力!$J$28)),親2!E57*(1-入力!$K$28),\nIF(OR(AND(子1!C57>=入力!$I$29,子1!C57<=入力!$J$29),AND(子2!C57>=入力!$I$29,子2!C57<=入力!$J$29),AND(子3!C57>=入力!$I$29,子3!C57<=入力!$J$29),AND(子4!C57>=入力!$I$29,子4!C57<=入力!$J$29)),親2!E57*(1-入力!$K$29),0))","v":0},{"$f":"IF(C57=入力!I$22,入力!J$31,0)","v":0},138.73690043076925,{"$f":"IF(H57>0,-年金の税金!$G$25/10000,0)","v":-3.1482057254053681},135.58869470536388,null,null,39.6,13.200000000000001,3.3000000000000003,2.6400000000000006,1.6500000000000001,{"$f":"IF(OR(AND(子1!C57>=0,子1!C57<=18),AND(子2!C57>=0,子2!C57<=18),AND(子3!C57>=0,子3!C57<=18),AND(子4!C57>=0,子4!C57<=18)),入力!$I$35,入力!$I$34)*12","v":0},null,60.39,75.198694705363877,null,2.4000000000000004,null,null,null,null,null,2.4000000000000004,72.798694705363872,36,null,null,null,null,null,36,36.798694705363872,4028.5023316429083,null,null,null,null,null,null,null,{"$f":"IF(D57,VLOOKUP(D57,年収と手取り!C:I,7,1),0)/9.1%","v":0}]
[null,71,74,{"$f":"IF(C58>入力!$I$22,0,VLOOKUP(C58,賃金カーブ!R:Z,4,0))","v":0},{"$f":"VLOOKUP(D58,年収と手取り!X:Y,2,1)","v":0},{"$f":"-IF(OR(AND(子1!C58>=入力!$I$28,子1!C58<=入力!$J$28),AND(子2!C58>=入力!$I$28,子2!C58<=入力!$J$28),AND(子3!C58>=入力!$I$28,子3!C58<=入力!$J$28),AND(子4!C58>=入力!$I$28,子4!C58<=入力!$J$28)),親2!E58*(1-入力!$K$28),\nIF(OR(AND(子1!C58>=入力!$I$29,子1!C58<=入力!$J$29),AND(子2!C58>=入力!$I$29,子2!C58<=入力!$J$29),AND(子3!C58>=入力!$I$29,子3!C58<=入力!$J$29),AND(子4!C58>=入力!$I$29,子4!C58<=入力!$J$29)),親2!E58*(1-入力!$K$29),0))","v":0},{"$f":"IF(C58=入力!I$22,入力!J$31,0)","v":0},138.73690043076925,{"$f":"IF(H58>0,-年金の税金!$G$25/10000,0)","v":-3.1482057254053681},135.58869470536388,null,null,39.6,13.200000000000001,3.3000000000000003,2.6400000000000006,1.6500000000000001,{"$f":"IF(OR(AND(子1!C58>=0,子1!C58<=18),AND(子2!C58>=0,子2!C58<=18),AND(子3!C58>=0,子3!C58<=18),AND(子4!C58>=0,子4!C58<=18)),入力!$I$35,入力!$I$34)*12","v":0},null,60.39,75.198694705363877,null,2.4000000000000004,null,null,null,null,null,2.4000000000000004,72.798694705363872,36,null,null,null,null,null,36,36.798694705363872,4065.301026348272,null,null,null,null,null,null,null,{"$f":"IF(D58,VLOOKUP(D58,年収と手取り!C:I,7,1),0)/9.1%","v":0}]
[null,72,75,{"$f":"IF(C59>入力!$I$22,0,VLOOKUP(C59,賃金カーブ!R:Z,4,0))","v":0},{"$f":"VLOOKUP(D59,年収と手取り!X:Y,2,1)","v":0},{"$f":"-IF(OR(AND(子1!C59>=入力!$I$28,子1!C59<=入力!$J$28),AND(子2!C59>=入力!$I$28,子2!C59<=入力!$J$28),AND(子3!C59>=入力!$I$28,子3!C59<=入力!$J$28),AND(子4!C59>=入力!$I$28,子4!C59<=入力!$J$28)),親2!E59*(1-入力!$K$28),\nIF(OR(AND(子1!C59>=入力!$I$29,子1!C59<=入力!$J$29),AND(子2!C59>=入力!$I$29,子2!C59<=入力!$J$29),AND(子3!C59>=入力!$I$29,子3!C59<=入力!$J$29),AND(子4!C59>=入力!$I$29,子4!C59<=入力!$J$29)),親2!E59*(1-入力!$K$29),0))","v":0},{"$f":"IF(C59=入力!I$22,入力!J$31,0)","v":0},138.73690043076925,{"$f":"IF(H59>0,-年金の税金!$G$25/10000,0)","v":-3.1482057254053681},135.58869470536388,null,null,39.6,13.200000000000001,3.3000000000000003,2.6400000000000006,1.6500000000000001,{"$f":"IF(OR(AND(子1!C59>=0,子1!C59<=18),AND(子2!C59>=0,子2!C59<=18),AND(子3!C59>=0,子3!C59<=18),AND(子4!C59>=0,子4!C59<=18)),入力!$I$35,入力!$I$34)*12","v":0},null,60.39,75.198694705363877,null,2.4000000000000004,null,null,null,null,null,2.4000000000000004,72.798694705363872,36,null,null,null,null,null,36,36.798694705363872,4102.0997210536361,null,null,null,null,null,null,null,{"$f":"IF(D59,VLOOKUP(D59,年収と手取り!C:I,7,1),0)/9.1%","v":0}]
[null,73,76,{"$f":"IF(C60>入力!$I$22,0,VLOOKUP(C60,賃金カーブ!R:Z,4,0))","v":0},{"$f":"VLOOKUP(D60,年収と手取り!X:Y,2,1)","v":0},{"$f":"-IF(OR(AND(子1!C60>=入力!$I$28,子1!C60<=入力!$J$28),AND(子2!C60>=入力!$I$28,子2!C60<=入力!$J$28),AND(子3!C60>=入力!$I$28,子3!C60<=入力!$J$28),AND(子4!C60>=入力!$I$28,子4!C60<=入力!$J$28)),親2!E60*(1-入力!$K$28),\nIF(OR(AND(子1!C60>=入力!$I$29,子1!C60<=入力!$J$29),AND(子2!C60>=入力!$I$29,子2!C60<=入力!$J$29),AND(子3!C60>=入力!$I$29,子3!C60<=入力!$J$29),AND(子4!C60>=入力!$I$29,子4!C60<=入力!$J$29)),親2!E60*(1-入力!$K$29),0))","v":0},{"$f":"IF(C60=入力!I$22,入力!J$31,0)","v":0},138.73690043076925,{"$f":"IF(H60>0,-年金の税金!$G$25/10000,0)","v":-3.1482057254053681},135.58869470536388,null,null,39.6,13.200000000000001,3.3000000000000003,2.6400000000000006,1.6500000000000001,{"$f":"IF(OR(AND(子1!C60>=0,子1!C60<=18),AND(子2!C60>=0,子2!C60<=18),AND(子3!C60>=0,子3!C60<=18),AND(子4!C60>=0,子4!C60<=18)),入力!$I$35,入力!$I$34)*12","v":0},null,60.39,75.198694705363877,null,2.4000000000000004,null,null,null,null,null,2.4000000000000004,72.798694705363872,36,null,null,null,null,null,36,36.798694705363872,4138.8984157590003,null,null,null,null,null,null,null,{"$f":"IF(D60,VLOOKUP(D60,年収と手取り!C:I,7,1),0)/9.1%","v":0}]
[null,74,77,{"$f":"IF(C61>入力!$I$22,0,VLOOKUP(C61,賃金カーブ!R:Z,4,0))","v":0},{"$f":"VLOOKUP(D61,年収と手取り!X:Y,2,1)","v":0},{"$f":"-IF(OR(AND(子1!C61>=入力!$I$28,子1!C61<=入力!$J$28),AND(子2!C61>=入力!$I$28,子2!C61<=入力!$J$28),AND(子3!C61>=入力!$I$28,子3!C61<=入力!$J$28),AND(子4!C61>=入力!$I$28,子4!C61<=入力!$J$28)),親2!E61*(1-入力!$K$28),\nIF(OR(AND(子1!C61>=入力!$I$29,子1!C61<=入力!$J$29),AND(子2!C61>=入力!$I$29,子2!C61<=入力!$J$29),AND(子3!C61>=入力!$I$29,子3!C61<=入力!$J$29),AND(子4!C61>=入力!$I$29,子4!C61<=入力!$J$29)),親2!E61*(1-入力!$K$29),0))","v":0},{"$f":"IF(C61=入力!I$22,入力!J$31,0)","v":0},138.73690043076925,{"$f":"IF(H61>0,-年金の税金!$G$25/10000,0)","v":-3.1482057254053681},135.58869470536388,null,null,39.6,13.200000000000001,3.3000000000000003,2.6400000000000006,1.6500000000000001,{"$f":"IF(OR(AND(子1!C61>=0,子1!C61<=18),AND(子2!C61>=0,子2!C61<=18),AND(子3!C61>=0,子3!C61<=18),AND(子4!C61>=0,子4!C61<=18)),入力!$I$35,入力!$I$34)*12","v":0},null,60.39,75.198694705363877,null,2.4000000000000004,null,null,null,null,null,2.4000000000000004,72.798694705363872,36,null,null,null,null,null,36,36.798694705363872,4175.6971104643644,null,null,null,null,null,null,null,{"$f":"IF(D61,VLOOKUP(D61,年収と手取り!C:I,7,1),0)/9.1%","v":0}]
[null,75,78,{"$f":"IF(C62>入力!$I$22,0,VLOOKUP(C62,賃金カーブ!R:Z,4,0))","v":0},{"$f":"VLOOKUP(D62,年収と手取り!X:Y,2,1)","v":0},{"$f":"-IF(OR(AND(子1!C62>=入力!$I$28,子1!C62<=入力!$J$28),AND(子2!C62>=入力!$I$28,子2!C62<=入力!$J$28),AND(子3!C62>=入力!$I$28,子3!C62<=入力!$J$28),AND(子4!C62>=入力!$I$28,子4!C62<=入力!$J$28)),親2!E62*(1-入力!$K$28),\nIF(OR(AND(子1!C62>=入力!$I$29,子1!C62<=入力!$J$29),AND(子2!C62>=入力!$I$29,子2!C62<=入力!$J$29),AND(子3!C62>=入力!$I$29,子3!C62<=入力!$J$29),AND(子4!C62>=入力!$I$29,子4!C62<=入力!$J$29)),親2!E62*(1-入力!$K$29),0))","v":0},{"$f":"IF(C62=入力!I$22,入力!J$31,0)","v":0},138.73690043076925,{"$f":"IF(H62>0,-年金の税金!$G$25/10000,0)","v":-3.1482057254053681},135.58869470536388,null,null,39.6,13.200000000000001,3.3000000000000003,2.6400000000000006,1.6500000000000001,{"$f":"IF(OR(AND(子1!C62>=0,子1!C62<=18),AND(子2!C62>=0,子2!C62<=18),AND(子3!C62>=0,子3!C62<=18),AND(子4!C62>=0,子4!C62<=18)),入力!$I$35,入力!$I$34)*12","v":0},null,60.39,75.198694705363877,null,2.4000000000000004,null,null,null,null,null,2.4000000000000004,72.798694705363872,36,null,null,null,null,null,36,36.798694705363872,4212.4958051697286,null,null,null,null,null,null,null,{"$f":"IF(D62,VLOOKUP(D62,年収と手取り!C:I,7,1),0)/9.1%","v":0}]
[null,76,79,{"$f":"IF(C63>入力!$I$22,0,VLOOKUP(C63,賃金カーブ!R:Z,4,0))","v":0},{"$f":"VLOOKUP(D63,年収と手取り!X:Y,2,1)","v":0},{"$f":"-IF(OR(AND(子1!C63>=入力!$I$28,子1!C63<=入力!$J$28),AND(子2!C63>=入力!$I$28,子2!C63<=入力!$J$28),AND(子3!C63>=入力!$I$28,子3!C63<=入力!$J$28),AND(子4!C63>=入力!$I$28,子4!C63<=入力!$J$28)),親2!E63*(1-入力!$K$28),\nIF(OR(AND(子1!C63>=入力!$I$29,子1!C63<=入力!$J$29),AND(子2!C63>=入力!$I$29,子2!C63<=入力!$J$29),AND(子3!C63>=入力!$I$29,子3!C63<=入力!$J$29),AND(子4!C63>=入力!$I$29,子4!C63<=入力!$J$29)),親2!E63*(1-入力!$K$29),0))","v":0},{"$f":"IF(C63=入力!I$22,入力!J$31,0)","v":0},138.73690043076925,{"$f":"IF(H63>0,-年金の税金!$G$25/10000,0)","v":-3.1482057254053681},135.58869470536388,null,null,39.6,13.200000000000001,3.3000000000000003,2.6400000000000006,1.6500000000000001,{"$f":"IF(OR(AND(子1!C63>=0,子1!C63<=18),AND(子2!C63>=0,子2!C63<=18),AND(子3!C63>=0,子3!C63<=18),AND(子4!C63>=0,子4!C63<=18)),入力!$I$35,入力!$I$34)*12","v":0},null,60.39,75.198694705363877,null,2.4000000000000004,null,null,null,null,null,2.4000000000000004,72.798694705363872,36,null,null,null,null,null,36,36.798694705363872,4249.2944998750927,null,null,null,null,null,null,null,{"$f":"IF(D63,VLOOKUP(D63,年収と手取り!C:I,7,1),0)/9.1%","v":0}]
[null,77,80,{"$f":"IF(C64>入力!$I$22,0,VLOOKUP(C64,賃金カーブ!R:Z,4,0))","v":0},{"$f":"VLOOKUP(D64,年収と手取り!X:Y,2,1)","v":0},{"$f":"-IF(OR(AND(子1!C64>=入力!$I$28,子1!C64<=入力!$J$28),AND(子2!C64>=入力!$I$28,子2!C64<=入力!$J$28),AND(子3!C64>=入力!$I$28,子3!C64<=入力!$J$28),AND(子4!C64>=入力!$I$28,子4!C64<=入力!$J$28)),親2!E64*(1-入力!$K$28),\nIF(OR(AND(子1!C64>=入力!$I$29,子1!C64<=入力!$J$29),AND(子2!C64>=入力!$I$29,子2!C64<=入力!$J$29),AND(子3!C64>=入力!$I$29,子3!C64<=入力!$J$29),AND(子4!C64>=入力!$I$29,子4!C64<=入力!$J$29)),親2!E64*(1-入力!$K$29),0))","v":0},{"$f":"IF(C64=入力!I$22,入力!J$31,0)","v":0},138.73690043076925,{"$f":"IF(H64>0,-年金の税金!$G$25/10000,0)","v":-3.1482057254053681},135.58869470536388,null,null,39.6,13.200000000000001,3.3000000000000003,2.6400000000000006,1.6500000000000001,{"$f":"IF(OR(AND(子1!C64>=0,子1!C64<=18),AND(子2!C64>=0,子2!C64<=18),AND(子3!C64>=0,子3!C64<=18),AND(子4!C64>=0,子4!C64<=18)),入力!$I$35,入力!$I$34)*12","v":0},null,60.39,75.198694705363877,null,2.4000000000000004,null,null,null,null,null,2.4000000000000004,72.798694705363872,36,null,null,null,null,null,36,36.798694705363872,4286.0931945804568,null,null,null,null,null,null,null,{"$f":"IF(D64,VLOOKUP(D64,年収と手取り!C:I,7,1),0)/9.1%","v":0}]
[null,78,81,{"$f":"IF(C65>入力!$I$22,0,VLOOKUP(C65,賃金カーブ!R:Z,4,0))","v":0},{"$f":"VLOOKUP(D65,年収と手取り!X:Y,2,1)","v":0},{"$f":"-IF(OR(AND(子1!C65>=入力!$I$28,子1!C65<=入力!$J$28),AND(子2!C65>=入力!$I$28,子2!C65<=入力!$J$28),AND(子3!C65>=入力!$I$28,子3!C65<=入力!$J$28),AND(子4!C65>=入力!$I$28,子4!C65<=入力!$J$28)),親2!E65*(1-入力!$K$28),\nIF(OR(AND(子1!C65>=入力!$I$29,子1!C65<=入力!$J$29),AND(子2!C65>=入力!$I$29,子2!C65<=入力!$J$29),AND(子3!C65>=入力!$I$29,子3!C65<=入力!$J$29),AND(子4!C65>=入力!$I$29,子4!C65<=入力!$J$29)),親2!E65*(1-入力!$K$29),0))","v":0},{"$f":"IF(C65=入力!I$22,入力!J$31,0)","v":0},138.73690043076925,{"$f":"IF(H65>0,-年金の税金!$G$25/10000,0)","v":-3.1482057254053681},135.58869470536388,null,null,39.6,13.200000000000001,3.3000000000000003,2.6400000000000006,1.6500000000000001,{"$f":"IF(OR(AND(子1!C65>=0,子1!C65<=18),AND(子2!C65>=0,子2!C65<=18),AND(子3!C65>=0,子3!C65<=18),AND(子4!C65>=0,子4!C65<=18)),入力!$I$35,入力!$I$34)*12","v":0},null,60.39,75.198694705363877,null,2.4000000000000004,null,null,null,null,null,2.4000000000000004,72.798694705363872,36,null,null,null,null,null,36,36.798694705363872,4322.891889285821,null,null,null,null,null,null,null,{"$f":"IF(D65,VLOOKUP(D65,年収と手取り!C:I,7,1),0)/9.1%","v":0}]
[null,79,82,{"$f":"IF(C66>入力!$I$22,0,VLOOKUP(C66,賃金カーブ!R:Z,4,0))","v":0},{"$f":"VLOOKUP(D66,年収と手取り!X:Y,2,1)","v":0},{"$f":"-IF(OR(AND(子1!C66>=入力!$I$28,子1!C66<=入力!$J$28),AND(子2!C66>=入力!$I$28,子2!C66<=入力!$J$28),AND(子3!C66>=入力!$I$28,子3!C66<=入力!$J$28),AND(子4!C66>=入力!$I$28,子4!C66<=入力!$J$28)),親2!E66*(1-入力!$K$28),\nIF(OR(AND(子1!C66>=入力!$I$29,子1!C66<=入力!$J$29),AND(子2!C66>=入力!$I$29,子2!C66<=入力!$J$29),AND(子3!C66>=入力!$I$29,子3!C66<=入力!$J$29),AND(子4!C66>=入力!$I$29,子4!C66<=入力!$J$29)),親2!E66*(1-入力!$K$29),0))","v":0},{"$f":"IF(C66=入力!I$22,入力!J$31,0)","v":0},138.73690043076925,{"$f":"IF(H66>0,-年金の税金!$G$25/10000,0)","v":-3.1482057254053681},135.58869470536388,null,null,39.6,13.200000000000001,3.3000000000000003,2.6400000000000006,1.6500000000000001,{"$f":"IF(OR(AND(子1!C66>=0,子1!C66<=18),AND(子2!C66>=0,子2!C66<=18),AND(子3!C66>=0,子3!C66<=18),AND(子4!C66>=0,子4!C66<=18)),入力!$I$35,入力!$I$34)*12","v":0},null,60.39,75.198694705363877,null,2.4000000000000004,null,null,null,null,null,2.4000000000000004,72.798694705363872,36,null,null,null,null,null,36,36.798694705363872,4359.6905839911851,null,null,null,null,null,null,null,{"$f":"IF(D66,VLOOKUP(D66,年収と手取り!C:I,7,1),0)/9.1%","v":0}]
[null,80,83,{"$f":"IF(C67>入力!$I$22,0,VLOOKUP(C67,賃金カーブ!R:Z,4,0))","v":0},{"$f":"VLOOKUP(D67,年収と手取り!X:Y,2,1)","v":0},{"$f":"-IF(OR(AND(子1!C67>=入力!$I$28,子1!C67<=入力!$J$28),AND(子2!C67>=入力!$I$28,子2!C67<=入力!$J$28),AND(子3!C67>=入力!$I$28,子3!C67<=入力!$J$28),AND(子4!C67>=入力!$I$28,子4!C67<=入力!$J$28)),親2!E67*(1-入力!$K$28),\nIF(OR(AND(子1!C67>=入力!$I$29,子1!C67<=入力!$J$29),AND(子2!C67>=入力!$I$29,子2!C67<=入力!$J$29),AND(子3!C67>=入力!$I$29,子3!C67<=入力!$J$29),AND(子4!C67>=入力!$I$29,子4!C67<=入力!$J$29)),親2!E67*(1-入力!$K$29),0))","v":0},{"$f":"IF(C67=入力!I$22,入力!J$31,0)","v":0},138.73690043076925,{"$f":"IF(H67>0,-年金の税金!$G$25/10000,0)","v":-3.1482057254053681},135.58869470536388,null,null,39.6,13.200000000000001,3.3000000000000003,2.6400000000000006,1.6500000000000001,{"$f":"IF(OR(AND(子1!C67>=0,子1!C67<=18),AND(子2!C67>=0,子2!C67<=18),AND(子3!C67>=0,子3!C67<=18),AND(子4!C67>=0,子4!C67<=18)),入力!$I$35,入力!$I$34)*12","v":0},null,60.39,75.198694705363877,null,2.4000000000000004,null,null,null,null,null,2.4000000000000004,72.798694705363872,36,null,null,null,null,null,36,36.798694705363872,4396.4892786965493,null,null,null,null,null,null,null,{"$f":"IF(D67,VLOOKUP(D67,年収と手取り!C:I,7,1),0)/9.1%","v":0}]
[null,81,84,{"$f":"IF(C68>入力!$I$22,0,VLOOKUP(C68,賃金カーブ!R:Z,4,0))","v":0},{"$f":"VLOOKUP(D68,年収と手取り!X:Y,2,1)","v":0},{"$f":"-IF(OR(AND(子1!C68>=入力!$I$28,子1!C68<=入力!$J$28),AND(子2!C68>=入力!$I$28,子2!C68<=入力!$J$28),AND(子3!C68>=入力!$I$28,子3!C68<=入力!$J$28),AND(子4!C68>=入力!$I$28,子4!C68<=入力!$J$28)),親2!E68*(1-入力!$K$28),\nIF(OR(AND(子1!C68>=入力!$I$29,子1!C68<=入力!$J$29),AND(子2!C68>=入力!$I$29,子2!C68<=入力!$J$29),AND(子3!C68>=入力!$I$29,子3!C68<=入力!$J$29),AND(子4!C68>=入力!$I$29,子4!C68<=入力!$J$29)),親2!E68*(1-入力!$K$29),0))","v":0},{"$f":"IF(C68=入力!I$22,入力!J$31,0)","v":0},138.73690043076925,{"$f":"IF(H68>0,-年金の税金!$G$25/10000,0)","v":-3.1482057254053681},135.58869470536388,null,null,39.6,13.200000000000001,3.3000000000000003,2.6400000000000006,1.6500000000000001,{"$f":"IF(OR(AND(子1!C68>=0,子1!C68<=18),AND(子2!C68>=0,子2!C68<=18),AND(子3!C68>=0,子3!C68<=18),AND(子4!C68>=0,子4!C68<=18)),入力!$I$35,入力!$I$34)*12","v":0},null,60.39,75.198694705363877,null,2.4000000000000004,null,null,null,null,null,2.4000000000000004,72.798694705363872,36,null,null,null,null,null,36,36.798694705363872,4433.2879734019134,null,null,null,null,null,null,null,{"$f":"IF(D68,VLOOKUP(D68,年収と手取り!C:I,7,1),0)/9.1%","v":0}]
[null,82,85,{"$f":"IF(C69>入力!$I$22,0,VLOOKUP(C69,賃金カーブ!R:Z,4,0))","v":0},{"$f":"VLOOKUP(D69,年収と手取り!X:Y,2,1)","v":0},{"$f":"-IF(OR(AND(子1!C69>=入力!$I$28,子1!C69<=入力!$J$28),AND(子2!C69>=入力!$I$28,子2!C69<=入力!$J$28),AND(子3!C69>=入力!$I$28,子3!C69<=入力!$J$28),AND(子4!C69>=入力!$I$28,子4!C69<=入力!$J$28)),親2!E69*(1-入力!$K$28),\nIF(OR(AND(子1!C69>=入力!$I$29,子1!C69<=入力!$J$29),AND(子2!C69>=入力!$I$29,子2!C69<=入力!$J$29),AND(子3!C69>=入力!$I$29,子3!C69<=入力!$J$29),AND(子4!C69>=入力!$I$29,子4!C69<=入力!$J$29)),親2!E69*(1-入力!$K$29),0))","v":0},{"$f":"IF(C69=入力!I$22,入力!J$31,0)","v":0},138.73690043076925,{"$f":"IF(H69>0,-年金の税金!$G$25/10000,0)","v":-3.1482057254053681},135.58869470536388,null,null,39.6,13.200000000000001,3.3000000000000003,2.6400000000000006,1.6500000000000001,{"$f":"IF(OR(AND(子1!C69>=0,子1!C69<=18),AND(子2!C69>=0,子2!C69<=18),AND(子3!C69>=0,子3!C69<=18),AND(子4!C69>=0,子4!C69<=18)),入力!$I$35,入力!$I$34)*12","v":0},null,60.39,75.198694705363877,null,2.4000000000000004,null,null,null,null,null,2.4000000000000004,72.798694705363872,36,null,null,null,null,null,36,36.798694705363872,4470.0866681072775,null,null,null,null,null,null,null,{"$f":"IF(D69,VLOOKUP(D69,年収と手取り!C:I,7,1),0)/9.1%","v":0}]
[null,83,86,{"$f":"IF(C70>入力!$I$22,0,VLOOKUP(C70,賃金カーブ!R:Z,4,0))","v":0},{"$f":"VLOOKUP(D70,年収と手取り!X:Y,2,1)","v":0},{"$f":"-IF(OR(AND(子1!C70>=入力!$I$28,子1!C70<=入力!$J$28),AND(子2!C70>=入力!$I$28,子2!C70<=入力!$J$28),AND(子3!C70>=入力!$I$28,子3!C70<=入力!$J$28),AND(子4!C70>=入力!$I$28,子4!C70<=入力!$J$28)),親2!E70*(1-入力!$K$28),\nIF(OR(AND(子1!C70>=入力!$I$29,子1!C70<=入力!$J$29),AND(子2!C70>=入力!$I$29,子2!C70<=入力!$J$29),AND(子3!C70>=入力!$I$29,子3!C70<=入力!$J$29),AND(子4!C70>=入力!$I$29,子4!C70<=入力!$J$29)),親2!E70*(1-入力!$K$29),0))","v":0},{"$f":"IF(C70=入力!I$22,入力!J$31,0)","v":0},138.73690043076925,{"$f":"IF(H70>0,-年金の税金!$G$25/10000,0)","v":-3.1482057254053681},135.58869470536388,null,null,39.6,13.200000000000001,3.3000000000000003,2.6400000000000006,1.6500000000000001,{"$f":"IF(OR(AND(子1!C70>=0,子1!C70<=18),AND(子2!C70>=0,子2!C70<=18),AND(子3!C70>=0,子3!C70<=18),AND(子4!C70>=0,子4!C70<=18)),入力!$I$35,入力!$I$34)*12","v":0},null,{"$f":"SUM(K70:S70)","v":60.39},{"$f":"J70-T70","v":75.198694705363877},null,{"$f":"W$1","v":2.4000000000000004},null,null,null,null,null,{"$f":"SUM(V70:AB70)","v":2.4000000000000004},{"$f":"U70-AC70","v":72.798694705363872},36,null,null,null,null,null,36,{"$f":"AD70-AK70","v":36.798694705363872},{"$f":"AL70+AM69","v":4506.8853628126417},null,null,null,null,null,null,null,{"$f":"IF(D70,VLOOKUP(D70,年収と手取り!C:I,7,1),0)/9.1%","v":0}]
[null,null,null,{"$f":"SUM(D6:D70)","v":11230.808763937479},8803.9310239999977,-723.05825000000004,null,2913.4749090461551,-66.112320233512733,10928.235362812642,0,0,2573.9999999999968,858.00000000000091,214.50000000000023,171.5999999999998,107.25000000000011,0,{"$f":"SUM(S6:S70)","v":0},3925.3499999999976,7002.8853628126417,0,156.0000000000002,0,0,0,0,0,156.0000000000002,6846.8853628126453,2340,0,0,0,0,0,2340,{"$f":"SUM(AL5:AL70)","v":4506.8853628126417},null,null,null,null,null,null,null,null,{"$f":"AVERAGEIF(AU6:AU70,\">0\")","v":251.84895104895111},{"$f":"COUNTIF(AU6:AU70,\">0\")","v":44},{"$f":"AU71*AV71","v":11081.353846153848}]
[null,null,null,null,null,null,null,null,null,null,null,null,null,null,null,null,null,null,null,null,null,null,null,null,null,null,null,null,null,null,null,null,null,null,null,null,null,null,null,null,null,null,null,null,null,null,{"$f":"AU6*2/3","v":114.22417582417582},{"$f":"C6-22","v":0},{"$f":"AU72*AV72","v":0}]
[null,null,null,null,null,null,null,null,null,null,null,null,null,null,null,null,null,null,null,null,null,null,null,null,null,null,null,null,null,null,null,null,null,null,null,null,null,null,null,null,null,null,null,null,null,null,null,null,{"$f":"SUM(AW71:AW72)/SUM(AV71:AV72)/12","v":20.987412587412592}]
[null,null,null,null,null,null,null,null,null,null,null,null,null,null,null,null,null,null,null,null,null,null,null,null,null,null,null,null,null,null,null,null,null,null,null,null,null,null,null,null,null,null,null,null,null,null,null,null,{"$f":"AW73*0.005481*SUM(AV71:AV72)","v":5.0614083692307705}]

{"sheet":"子1","index":5,"n_rows":74,"n_cols":51,"rows_kept":74,"cut":false,"hidden":false,"merged":[]}
[null,null,null,null,null,null,null,null,null,null,null,null,{"$f":"IF($C$30>0,入力!AD13*12*(1+入力!$AD$16),0)","v":19.8},{"$f":"IF($C$30>0,入力!AE13*12*(1+入力!$AD$16),0)","v":6.6000000000000005},{"$f":"IF($C$30>0,入力!AF13*12*(1+入力!$AD$16),0)","v":1.6500000000000001},{"$f":"IF($C$30>0,入力!AG13*12*(1+入力!$AD$16),0)","v":1.3200000000000003},{"$f":"IF($C$30>0,入力!AH13*12*(1+入力!$AD$16),0)","v":0.82500000000000007},null,null,null,null,null,{"$f":"IF($C$30>0,入力!AJ13*12,0)","v":2.4000000000000004},null,null,null,null,null,null,null,{"$f":"入力!P35*12","v":12}]
[null,null,null,null,null,null,null,null,null,"収入",null,null,null,null,null,null,null,null,null,null,"収支 小計",null,null,null,null,null,null,null,null,"収支 小計",null,null,null,null,null,null,null,"収支","収支累計"]
[null,null,null,null,null,null,null,null,null,null,null,null,null,null,null,null,null,null,null,"支出1  衣食住",null,null,null,null,null,null,null,null,"支出2  固定費",null,null,null,null,null,null,null,"支出3  衣食住勉"]
[null,"西暦","年齢","年収","手取り","時短等","退職金","年金",null,null,"住居","住居維持費\n(含むローン控除)","食費","服費","電気","ガス","水道","保険",null,null,null,"インターネット","携帯","塾・仕送り","習い事","学費","仕送り",null,null,null,"お小遣い","雑費","家具","車1","車2","車維持費","合計"]
[null,"貯金"]
[null,19,{"$f":"IF(入力!$P$11=\"\",-100,入力!$P$11)","v":-4},null,{"$f":"IF(親1!D6<=833.3+42*親1!AS6,IF(AND(C6>=0,C6<=3),1.5*12,IF(AND(C6>3,C6<=15),1*12,0)),IF(AND(C6>=0,C6<=15),0.5*12,0))","v":0},null,null,null,null,{"$f":"SUM(E6:I6)","v":0},null,null,{"$f":"IF(AND($C6>=0,$C6<=入力!$P$38),M$1,0)","v":0},{"$f":"IF(AND($C6>=0,$C6<=入力!$P$38),N$1,0)","v":0},{"$f":"IF(AND($C6>=0,$C6<=入力!$P$38),O$1,0)","v":0},{"$f":"IF(AND($C6>=0,$C6<=入力!$P$38),P$1,0)","v":0},{"$f":"IF(AND($C6>=0,$C6<=入力!$P$38),Q$1,0)","v":0},null,null,{"$f":"SUM(K6:S6)","v":0},{"$f":"J6-T6","v":0},null,{"$f":"IF(AND($C6>=10,$C6<=入力!$P$38),W$1,0)","v":0},{"$f":"IFERROR(VLOOKUP($C6,学費計算!$C:$R,学費計算!D$1,0),0)","v":0},{"$f":"IFERROR(VLOOKUP($C6,学費計算!$C:$R,学費計算!E$1,0),0)","v":0},{"$f":"IFERROR(VLOOKUP($C6,学費計算!$C:$R,学費計算!F$1,0),0)","v":0},{"$f":"IFERROR(VLOOKUP($C6,学費計算!$C:$R,学費計算!G$1,0),0)","v":0},null,{"$f":"SUM(V6:AB6)","v":0},{"$f":"U6-AC6","v":0},{"$f":"IF(AND($C6>=0,$C6<=入力!$P$36),AE$1,0)","v":0},null,null,null,null,null,{"$f":"SUM(AE6:AJ6)","v":0},{"$f":"AD6-AK6","v":0},{"$f":"AL6+AM5","v":0}]
[null,{"$f":"B6+1","v":20},{"$f":"C6+1","v":-3},null,{"$f":"IF(親1!D7<=833.3+42*親1!AS7,IF(AND(C7>=0,C7<=3),1.5*12,IF(AND(C7>3,C7<=15),1*12,0)),IF(AND(C7>=0,C7<=15),0.5*12,0))","v":0},null,null,null,null,0,null,null,{"$f":"IF(AND($C7>=0,$C7<=入力!$P$38),M$1,0)","v":0},{"$f":"IF(AND($C7>=0,$C7<=入力!$P$38),N$1,0)","v":0},{"$f":"IF(AND($C7>=0,$C7<=入力!$P$38),O$1,0)","v":0},{"$f":"IF(AND($C7>=0,$C7<=入力!$P$38),P$1,0)","v":0},{"$f":"IF(AND($C7>=0,$C7<=入力!$P$38),Q$1,0)","v":0},null,null,0,0,null,{"$f":"IF(AND($C7>=10,$C7<=入力!$P$38),W$1,0)","v":0},{"$f":"IFERROR(VLOOKUP($C7,学費計算!$C:$R,学費計算!D$1,0),0)","v":0},{"$f":"IFERROR(VLOOKUP($C7,学費計算!$C:$R,学費計算!E$1,0),0)","v":0},{"$f":"IFERROR(VLOOKUP($C7,学費計算!$C:$R,学費計算!F$1,0),0)","v":0},{"$f":"IFERROR(VLOOKUP($C7,学費計算!$C:$R,学費計算!G$1,0),0)","v":0},null,0,0,{"$f":"IF(AND($C7>=0,$C7<=入力!$P$36),AE$1,0)","v":0},null,null,null,null,null,{"$f":"SUM(AE7:AJ7)","v":0},0,0,null,null,"扶養親族等の数","所得制限限度額（万円）","収入額の目安（万円）",null,null,null,null,null,null,{"$f":"IF($AH7>0,\"車\",\"\")&IF($AF7>0,\"リフォーム\",\"\")&IF(子1!C6=18,\"大学入学\",\"\")&IF(子2!C6=18,\"大学入学\",\"\")&IF(子3!C6=18,\"大学入学\",\"\")&IF(子4!C6=18,\"大学入学\",\"\")","v":""}]
[null,{"$f":"B7+1","v":21},{"$f":"C7+1","v":-2},null,{"$f":"IF(親1!D8<=833.3+42*親1!AS8,IF(AND(C8>=0,C8<=3),1.5*12,IF(AND(C8>3,C8<=15),1*12,0)),IF(AND(C8>=0,C8<=15),0.5*12,0))","v":0},null,null,null,null,0,null,null,{"$f":"IF(AND($C8>=0,$C8<=入力!$P$38),M$1,0)","v":0},{"$f":"IF(AND($C8>=0,$C8<=入力!$P$38),N$1,0)","v":0},{"$f":"IF(AND($C8>=0,$C8<=入力!$P$38),O$1,0)","v":0},{"$f":"IF(AND($C8>=0,$C8<=入力!$P$38),P$1,0)","v":0},{"$f":"IF(AND($C8>=0,$C8<=入力!$P$38),Q$1,0)","v":0},null,null,0,0,null,{"$f":"IF(AND($C8>=10,$C8<=入力!$P$38),W$1,0)","v":0},{"$f":"IFERROR(VLOOKUP($C8,学費計算!$C:$R,学費計算!D$1,0),0)","v":0},{"$f":"IFERROR(VLOOKUP($C8,学費計算!$C:$R,学費計算!E$1,0),0)","v":0},{"$f":"IFERROR(VLOOKUP($C8,学費計算!$C:$R,学費計算!F$1,0),0)","v":0},{"$f":"IFERROR(VLOOKUP($C8,学費計算!$C:$R,学費計算!G$1,0),0)","v":0},null,0,0,{"$f":"IF(AND($C8>=0,$C8<=入力!$P$36),AE$1,0)","v":0},null,null,null,null,null,0,0,0,null,null,"0人",622,833.3]
[null,22,-1,null,{"$f":"IF(親1!D9<=833.3+42*親1!AS9,IF(AND(C9>=0,C9<=3),1.5*12,IF(AND(C9>3,C9<=15),1*12,0)),IF(AND(C9>=0,C9<=15),0.5*12,0))","v":0},null,null,null,null,0,null,null,{"$f":"IF(AND($C9>=0,$C9<=入力!$P$38),M$1,0)","v":0},{"$f":"IF(AND($C9>=0,$C9<=入力!$P$38),N$1,0)","v":0},{"$f":"IF(AND($C9>=0,$C9<=入力!$P$38),O$1,0)","v":0},{"$f":"IF(AND($C9>=0,$C9<=入力!$P$38),P$1,0)","v":0},{"$f":"IF(AND($C9>=0,$C9<=入力!$P$38),Q$1,0)","v":0},null,null,0,0,null,{"$f":"IF(AND($C9>=10,$C9<=入力!$P$38),W$1,0)","v":0},{"$f":"IFERROR(VLOOKUP($C9,学費計算!$C:$R,学費計算!D$1,0),0)","v":0},{"$f":"IFERROR(VLOOKUP($C9,学費計算!$C:$R,学費計算!E$1,0),0)","v":0},{"$f":"IFERROR(VLOOKUP($C9,学費計算!$C:$R,学費計算!F$1,0),0)","v":0},{"$f":"IFERROR(VLOOKUP($C9,学費計算!$C:$R,学費計算!G$1,0),0)","v":0},null,0,0,{"$f":"IF(AND($C9>=0,$C9<=入力!$P$36),AE$1,0)","v":0},null,null,null,null,null,0,0,0,null,null,"（前年末に児童が生まれていない場合　等）"]
[null,23,0,null,{"$f":"IF(親1!D10<=833.3+42*親1!AS10,IF(AND(C10>=0,C10<=3),1.5*12,IF(AND(C10>3,C10<=15),1*12,0)),IF(AND(C10>=0,C10<=15),0.5*12,0))","v":18},null,null,null,null,18,null,null,{"$f":"IF(AND($C10>=0,$C10<=入力!$P$38),M$1,0)","v":19.8},{"$f":"IF(AND($C10>=0,$C10<=入力!$P$38),N$1,0)","v":6.6000000000000005},{"$f":"IF(AND($C10>=0,$C10<=入力!$P$38),O$1,0)","v":1.6500000000000001},{"$f":"IF(AND($C10>=0,$C10<=入力!$P$38),P$1,0)","v":1.3200000000000003},{"$f":"IF(AND($C10>=0,$C10<=入力!$P$38),Q$1,0)","v":0.82500000000000007},null,null,30.195,-12.195,null,{"$f":"IF(AND($C10>=10,$C10<=入力!$P$38),W$1,0)","v":0},{"$f":"IFERROR(VLOOKUP($C10,学費計算!$C:$R,学費計算!D$1,0),0)","v":0},{"$f":"IFERROR(VLOOKUP($C10,学費計算!$C:$R,学費計算!E$1,0),0)","v":0},{"$f":"IFERROR(VLOOKUP($C10,学費計算!$C:$R,学費計算!F$1,0),0)","v":36},{"$f":"IFERROR(VLOOKUP($C10,学費計算!$C:$R,学費計算!G$1,0),0)","v":0},null,36,-48.195,{"$f":"IF(AND($C10>=0,$C10<=入力!$P$36),AE$1,0)","v":12},null,null,null,null,null,12,-60.195,-60.195,null,null,"1人",660,875.6]
[null,24,1,null,{"$f":"IF(親1!D11<=833.3+42*親1!AS11,IF(AND(C11>=0,C11<=3),1.5*12,IF(AND(C11>3,C11<=15),1*12,0)),IF(AND(C11>=0,C11<=15),0.5*12,0))","v":18},null,null,null,null,18,null,null,{"$f":"IF(AND($C11>=0,$C11<=入力!$P$38),M$1,0)","v":19.8},{"$f":"IF(AND($C11>=0,$C11<=入力!$P$38),N$1,0)","v":6.6000000000000005},{"$f":"IF(AND($C11>=0,$C11<=入力!$P$38),O$1,0)","v":1.6500000000000001},{"$f":"IF(AND($C11>=0,$C11<=入力!$P$38),P$1,0)","v":1.3200000000000003},{"$f":"IF(AND($C11>=0,$C11<=入力!$P$38),Q$1,0)","v":0.82500000000000007},null,null,30.195,-12.195,null,{"$f":"IF(AND($C11>=10,$C11<=入力!$P$38),W$1,0)","v":0},{"$f":"IFERROR(VLOOKUP($C11,学費計算!$C:$R,学費計算!D$1,0),0)","v":0},{"$f":"IFERROR(VLOOKUP($C11,学費計算!$C:$R,学費計算!E$1,0),0)","v":0},{"$f":"IFERROR(VLOOKUP($C11,学費計算!$C:$R,学費計算!F$1,0),0)","v":36},{"$f":"IFERROR(VLOOKUP($C11,学費計算!$C:$R,学費計算!G$1,0),0)","v":0},null,36,-48.195,{"$f":"IF(AND($C11>=0,$C11<=入力!$P$36),AE$1,0)","v":12},null,null,null,null,null,12,-60.195,-120.39,null,null,"（児童１人の場合　等）"]
[null,25,2,null,{"$f":"IF(親1!D12<=833.3+42*親1!AS12,IF(AND(C12>=0,C12<=3),1.5*12,IF(AND(C12>3,C12<=15),1*12,0)),IF(AND(C12>=0,C12<=15),0.5*12,0))","v":18},null,null,null,null,18,null,null,{"$f":"IF(AND($C12>=0,$C12<=入力!$P$38),M$1,0)","v":19.8},{"$f":"IF(AND($C12>=0,$C12<=入力!$P$38),N$1,0)","v":6.6000000000000005},{"$f":"IF(AND($C12>=0,$C12<=入力!$P$38),O$1,0)","v":1.6500000000000001},{"$f":"IF(AND($C12>=0,$C12<=入力!$P$38),P$1,0)","v":1.3200000000000003},{"$f":"IF(AND($C12>=0,$C12<=入力!$P$38),Q$1,0)","v":0.82500000000000007},null,null,30.195,-12.195,null,{"$f":"IF(AND($C12>=10,$C12<=入力!$P$38),W$1,0)","v":0},{"$f":"IFERROR(VLOOKUP($C12,学費計算!$C:$R,学費計算!D$1,0),0)","v":0},{"$f":"IFERROR(VLOOKUP($C12,学費計算!$C:$R,学費計算!E$1,0),0)","v":0},{"$f":"IFERROR(VLOOKUP($C12,学費計算!$C:$R,学費計算!F$1,0),0)","v":36},{"$f":"IFERROR(VLOOKUP($C12,学費計算!$C:$R,学費計算!G$1,0),0)","v":0},null,36,-48.195,{"$f":"IF(AND($C12>=0,$C12<=入力!$P$36),AE$1,0)","v":12},null,null,null,null,null,12,-60.195,-180.58500000000001,null,null,"2人",698,917.8]
[null,26,3,null,{"$f":"IF(親1!D13<=833.3+42*親1!AS13,IF(AND(C13>=0,C13<=3),1.5*12,IF(AND(C13>3,C13<=15),1*12,0)),IF(AND(C13>=0,C13<=15),0.5*12,0))","v":18},null,null,null,null,18,null,null,{"$f":"IF(AND($C13>=0,$C13<=入力!$P$38),M$1,0)","v":19.8},{"$f":"IF(AND($C13>=0,$C13<=入力!$P$38),N$1,0)","v":6.6000000000000005},{"$f":"IF(AND($C13>=0,$C13<=入力!$P$38),O$1,0)","v":1.6500000000000001},{"$f":"IF(AND($C13>=0,$C13<=入力!$P$38),P$1,0)","v":1.3200000000000003},{"$f":"IF(AND($C13>=0,$C13<=入力!$P$38),Q$1,0)","v":0.82500000000000007},null,null,30.195,-12.195,null,{"$f":"IF(AND($C13>=10,$C13<=入力!$P$38),W$1,0)","v":0},{"$f":"IFERROR(VLOOKUP($C13,学費計算!$C:$R,学費計算!D$1,0),0)","v":0},{"$f":"IFERROR(VLOOKUP($C13,学費計算!$C:$R,学費計算!E$1,0),0)","v":12},{"$f":"IFERROR(VLOOKUP($C13,学費計算!$C:$R,学費計算!F$1,0),0)","v":4.4733000000000001},{"$f":"IFERROR(VLOOKUP($C13,学費計算!$C:$R,学費計算!G$1,0),0)","v":0},null,16.473300000000002,-28.668300000000002,{"$f":"IF(AND($C13>=0,$C13<=入力!$P$36),AE$1,0)","v":12},null,null,null,null,null,12,-40.668300000000002,-221.25330000000002,null,null,"（児童１人 ＋ 年収103万円以下の配偶者の場合　等）"]
[null,27,4,null,{"$f":"IF(親1!D14<=833.3+42*親1!AS14,IF(AND(C14>=0,C14<=3),1.5*12,IF(AND(C14>3,C14<=15),1*12,0)),IF(AND(C14>=0,C14<=15),0.5*12,0))","v":12},null,null,null,null,12,null,null,{"$f":"IF(AND($C14>=0,$C14<=入力!$P$38),M$1,0)","v":19.8},{"$f":"IF(AND($C14>=0,$C14<=入力!$P$38),N$1,0)","v":6.6000000000000005},{"$f":"IF(AND($C14>=0,$C14<=入力!$P$38),O$1,0)","v":1.6500000000000001},{"$f":"IF(AND($C14>=0,$C14<=入力!$P$38),P$1,0)","v":1.3200000000000003},{"$f":"IF(AND($C14>=0,$C14<=入力!$P$38),Q$1,0)","v":0.82500000000000007},null,null,30.195,-18.195,null,{"$f":"IF(AND($C14>=10,$C14<=入力!$P$38),W$1,0)","v":0},{"$f":"IFERROR(VLOOKUP($C14,学費計算!$C:$R,学費計算!D$1,0),0)","v":0},{"$f":"IFERROR(VLOOKUP($C14,学費計算!$C:$R,学費計算!E$1,0),0)","v":12},{"$f":"IFERROR(VLOOKUP($C14,学費計算!$C:$R,学費計算!F$1,0),0)","v":4.2769000000000004},{"$f":"IFERROR(VLOOKUP($C14,学費計算!$C:$R,学費計算!G$1,0),0)","v":0},null,16.276900000000001,-34.471900000000005,{"$f":"IF(AND($C14>=0,$C14<=入力!$P$36),AE$1,0)","v":12},null,null,null,null,null,12,-46.471900000000005,-267.72520000000003,null,null,"3人",736,960]
[null,28,5,null,{"$f":"IF(親1!D15<=833.3+42*親1!AS15,IF(AND(C15>=0,C15<=3),1.5*12,IF(AND(C15>3,C15<=15),1*12,0)),IF(AND(C15>=0,C15<=15),0.5*12,0))","v":12},null,null,null,null,12,null,null,{"$f":"IF(AND($C15>=0,$C15<=入力!$P$38),M$1,0)","v":19.8},{"$f":"IF(AND($C15>=0,$C15<=入力!$P$38),N$1,0)","v":6.6000000000000005},{"$f":"IF(AND($C15>=0,$C15<=入力!$P$38),O$1,0)","v":1.6500000000000001},{"$f":"IF(AND($C15>=0,$C15<=入力!$P$38),P$1,0)","v":1.3200000000000003},{"$f":"IF(AND($C15>=0,$C15<=入力!$P$38),Q$1,0)","v":0.82500000000000007},null,null,30.195,-18.195,null,{"$f":"IF(AND($C15>=10,$C15<=入力!$P$38),W$1,0)","v":0},{"$f":"IFERROR(VLOOKUP($C15,学費計算!$C:$R,学費計算!D$1,0),0)","v":0},{"$f":"IFERROR(VLOOKUP($C15,学費計算!$C:$R,学費計算!E$1,0),0)","v":12},{"$f":"IFERROR(VLOOKUP($C15,学費計算!$C:$R,学費計算!F$1,0),0)","v":4.2496},{"$f":"IFERROR(VLOOKUP($C15,学費計算!$C:$R,学費計算!G$1,0),0)","v":0},null,16.249600000000001,-34.444600000000001,{"$f":"IF(AND($C15>=0,$C15<=入力!$P$36),AE$1,0)","v":12},null,null,null,null,null,12,-46.444600000000001,-314.16980000000001,null,null,"（児童２人 ＋ 年収103万円以下の配偶者の場合　等）"]
[null,29,6,null,{"$f":"IF(親1!D16<=833.3+42*親1!AS16,IF(AND(C16>=0,C16<=3),1.5*12,IF(AND(C16>3,C16<=15),1*12,0)),IF(AND(C16>=0,C16<=15),0.5*12,0))","v":12},null,null,null,null,12,null,null,{"$f":"IF(AND($C16>=0,$C16<=入力!$P$38),M$1,0)","v":19.8},{"$f":"IF(AND($C16>=0,$C16<=入力!$P$38),N$1,0)","v":6.6000000000000005},{"$f":"IF(AND($C16>=0,$C16<=入力!$P$38),O$1,0)","v":1.6500000000000001},{"$f":"IF(AND($C16>=0,$C16<=入力!$P$38),P$1,0)","v":1.3200000000000003},{"$f":"IF(AND($C16>=0,$C16<=入力!$P$38),Q$1,0)","v":0.82500000000000007},null,null,30.195,-18.195,null,{"$f":"IF(AND($C16>=10,$C16<=入力!$P$38),W$1,0)","v":0},{"$f":"IFERROR(VLOOKUP($C16,学費計算!$C:$R,学費計算!D$1,0),0)","v":12},{"$f":"IFERROR(VLOOKUP($C16,学費計算!$C:$R,学費計算!E$1,0),0)","v":0},{"$f":"IFERROR(VLOOKUP($C16,学費計算!$C:$R,学費計算!F$1,0),0)","v":10.975300000000001},{"$f":"IFERROR(VLOOKUP($C16,学費計算!$C:$R,学費計算!G$1,0),0)","v":0},null,22.975300000000001,-41.170299999999997,{"$f":"IF(AND($C16>=0,$C16<=入力!$P$36),AE$1,0)","v":12},null,null,null,null,null,12,-53.170299999999997,-367.34010000000001,null,null,"4人",774,1002]
[null,30,7,null,{"$f":"IF(親1!D17<=833.3+42*親1!AS17,IF(AND(C17>=0,C17<=3),1.5*12,IF(AND(C17>3,C17<=15),1*12,0)),IF(AND(C17>=0,C17<=15),0.5*12,0))","v":12},null,null,null,null,12,null,null,{"$f":"IF(AND($C17>=0,$C17<=入力!$P$38),M$1,0)","v":19.8},{"$f":"IF(AND($C17>=0,$C17<=入力!$P$38),N$1,0)","v":6.6000000000000005},{"$f":"IF(AND($C17>=0,$C17<=入力!$P$38),O$1,0)","v":1.6500000000000001},{"$f":"IF(AND($C17>=0,$C17<=入力!$P$38),P$1,0)","v":1.3200000000000003},{"$f":"IF(AND($C17>=0,$C17<=入力!$P$38),Q$1,0)","v":0.82500000000000007},null,null,30.195,-18.195,null,{"$f":"IF(AND($C17>=10,$C17<=入力!$P$38),W$1,0)","v":0},{"$f":"IFERROR(VLOOKUP($C17,学費計算!$C:$R,学費計算!D$1,0),0)","v":12},{"$f":"IFERROR(VLOOKUP($C17,学費計算!$C:$R,学費計算!E$1,0),0)","v":0},{"$f":"IFERROR(VLOOKUP($C17,学費計算!$C:$R,学費計算!F$1,0),0)","v":3.6476999999999999},{"$f":"IFERROR(VLOOKUP($C17,学費計算!$C:$R,学費計算!G$1,0),0)","v":0},null,15.6477,-33.842700000000001,{"$f":"IF(AND($C17>=0,$C17<=入力!$P$36),AE$1,0)","v":12},null,null,null,null,null,12,-45.842700000000001,-413.18279999999999,null,null,"（児童３人 ＋ 年収103万円以下の配偶者の場合　等）"]
[null,31,8,null,{"$f":"IF(親1!D18<=833.3+42*親1!AS18,IF(AND(C18>=0,C18<=3),1.5*12,IF(AND(C18>3,C18<=15),1*12,0)),IF(AND(C18>=0,C18<=15),0.5*12,0))","v":12},null,null,null,null,12,null,null,{"$f":"IF(AND($C18>=0,$C18<=入力!$P$38),M$1,0)","v":19.8},{"$f":"IF(AND($C18>=0,$C18<=入力!$P$38),N$1,0)","v":6.6000000000000005},{"$f":"IF(AND($C18>=0,$C18<=入力!$P$38),O$1,0)","v":1.6500000000000001},{"$f":"IF(AND($C18>=0,$C18<=入力!$P$38),P$1,0)","v":1.3200000000000003},{"$f":"IF(AND($C18>=0,$C18<=入力!$P$38),Q$1,0)","v":0.82500000000000007},null,null,30.195,-18.195,null,{"$f":"IF(AND($C18>=10,$C18<=入力!$P$38),W$1,0)","v":0},{"$f":"IFERROR(VLOOKUP($C18,学費計算!$C:$R,学費計算!D$1,0),0)","v":12},{"$f":"IFERROR(VLOOKUP($C18,学費計算!$C:$R,学費計算!E$1,0),0)","v":0},{"$f":"IFERROR(VLOOKUP($C18,学費計算!$C:$R,学費計算!F$1,0),0)","v":4.6673999999999998},{"$f":"IFERROR(VLOOKUP($C18,学費計算!$C:$R,学費計算!G$1,0),0)","v":0},null,16.667400000000001,-34.862400000000001,{"$f":"IF(AND($C18>=0,$C18<=入力!$P$36),AE$1,0)","v":12},null,null,null,null,null,12,-46.862400000000001,-460.04519999999997,null,null,"5人",812,1040]
[null,32,9,null,{"$f":"IF(親1!D19<=833.3+42*親1!AS19,IF(AND(C19>=0,C19<=3),1.5*12,IF(AND(C19>3,C19<=15),1*12,0)),IF(AND(C19>=0,C19<=15),0.5*12,0))","v":12},null,null,null,null,12,null,null,{"$f":"IF(AND($C19>=0,$C19<=入力!$P$38),M$1,0)","v":19.8},{"$f":"IF(AND($C19>=0,$C19<=入力!$P$38),N$1,0)","v":6.6000000000000005},{"$f":"IF(AND($C19>=0,$C19<=入力!$P$38),O$1,0)","v":1.6500000000000001},{"$f":"IF(AND($C19>=0,$C19<=入力!$P$38),P$1,0)","v":1.3200000000000003},{"$f":"IF(AND($C19>=0,$C19<=入力!$P$38),Q$1,0)","v":0.82500000000000007},null,null,30.195,-18.195,null,{"$f":"IF(AND($C19>=10,$C19<=入力!$P$38),W$1,0)","v":0},{"$f":"IFERROR(VLOOKUP($C19,学費計算!$C:$R,学費計算!D$1,0),0)","v":12},{"$f":"IFERROR(VLOOKUP($C19,学費計算!$C:$R,学費計算!E$1,0),0)","v":0},{"$f":"IFERROR(VLOOKUP($C19,学費計算!$C:$R,学費計算!F$1,0),0)","v":4.5660999999999996},{"$f":"IFERROR(VLOOKUP($C19,学費計算!$C:$R,学費計算!G$1,0),0)","v":0},null,16.566099999999999,-34.761099999999999,{"$f":"IF(AND($C19>=0,$C19<=入力!$P$36),AE$1,0)","v":12},null,null,null,null,null,12,-46.761099999999999,-506.80629999999996,null,null,"（児童４人 ＋ 年収103万円以下の配偶者の場合　等）"]
[null,33,10,null,{"$f":"IF(親1!D20<=833.3+42*親1!AS20,IF(AND(C20>=0,C20<=3),1.5*12,IF(AND(C20>3,C20<=15),1*12,0)),IF(AND(C20>=0,C20<=15),0.5*12,0))","v":12},null,null,null,null,12,null,null,{"$f":"IF(AND($C20>=0,$C20<=入力!$P$38),M$1,0)","v":19.8},{"$f":"IF(AND($C20>=0,$C20<=入力!$P$38),N$1,0)","v":6.6000000000000005},{"$f":"IF(AND($C20>=0,$C20<=入力!$P$38),O$1,0)","v":1.6500000000000001},{"$f":"IF(AND($C20>=0,$C20<=入力!$P$38),P$1,0)","v":1.3200000000000003},{"$f":"IF(AND($C20>=0,$C20<=入力!$P$38),Q$1,0)","v":0.82500000000000007},null,null,30.195,-18.195,null,{"$f":"IF(AND($C20>=10,$C20<=入力!$P$38),W$1,0)","v":2.4000000000000004},{"$f":"IFERROR(VLOOKUP($C20,学費計算!$C:$R,学費計算!D$1,0),0)","v":12},{"$f":"IFERROR(VLOOKUP($C20,学費計算!$C:$R,学費計算!E$1,0),0)","v":0},{"$f":"IFERROR(VLOOKUP($C20,学費計算!$C:$R,学費計算!F$1,0),0)","v":5.6357999999999997},{"$f":"IFERROR(VLOOKUP($C20,学費計算!$C:$R,学費計算!G$1,0),0)","v":0},null,20.035800000000002,-38.230800000000002,{"$f":"IF(AND($C20>=0,$C20<=入力!$P$36),AE$1,0)","v":12},null,null,null,null,null,12,-50.230800000000002,-557.03710000000001]
[null,34,11,null,{"$f":"IF(親1!D21<=833.3+42*親1!AS21,IF(AND(C21>=0,C21<=3),1.5*12,IF(AND(C21>3,C21<=15),1*12,0)),IF(AND(C21>=0,C21<=15),0.5*12,0))","v":12},null,null,null,null,12,null,null,{"$f":"IF(AND($C21>=0,$C21<=入力!$P$38),M$1,0)","v":19.8},{"$f":"IF(AND($C21>=0,$C21<=入力!$P$38),N$1,0)","v":6.6000000000000005},{"$f":"IF(AND($C21>=0,$C21<=入力!$P$38),O$1,0)","v":1.6500000000000001},{"$f":"IF(AND($C21>=0,$C21<=入力!$P$38),P$1,0)","v":1.3200000000000003},{"$f":"IF(AND($C21>=0,$C21<=入力!$P$38),Q$1,0)","v":0.82500000000000007},null,null,30.195,-18.195,null,{"$f":"IF(AND($C21>=10,$C21<=入力!$P$38),W$1,0)","v":2.4000000000000004},{"$f":"IFERROR(VLOOKUP($C21,学費計算!$C:$R,学費計算!D$1,0),0)","v":12},{"$f":"IFERROR(VLOOKUP($C21,学費計算!$C:$R,学費計算!E$1,0),0)","v":0},{"$f":"IFERROR(VLOOKUP($C21,学費計算!$C:$R,学費計算!F$1,0),0)","v":8.4511000000000003},{"$f":"IFERROR(VLOOKUP($C21,学費計算!$C:$R,学費計算!G$1,0),0)","v":0},null,22.851100000000002,-41.046100000000003,{"$f":"IF(AND($C21>=0,$C21<=入力!$P$36),AE$1,0)","v":12},null,null,null,null,null,12,-53.046100000000003,-610.08320000000003]
[null,35,12,null,{"$f":"IF(親1!D22<=833.3+42*親1!AS22,IF(AND(C22>=0,C22<=3),1.5*12,IF(AND(C22>3,C22<=15),1*12,0)),IF(AND(C22>=0,C22<=15),0.5*12,0))","v":12},null,null,null,null,12,null,null,{"$f":"IF(AND($C22>=0,$C22<=入力!$P$38),M$1,0)","v":19.8},{"$f":"IF(AND($C22>=0,$C22<=入力!$P$38),N$1,0)","v":6.6000000000000005},{"$f":"IF(AND($C22>=0,$C22<=入力!$P$38),O$1,0)","v":1.6500000000000001},{"$f":"IF(AND($C22>=0,$C22<=入力!$P$38),P$1,0)","v":1.3200000000000003},{"$f":"IF(AND($C22>=0,$C22<=入力!$P$38),Q$1,0)","v":0.82500000000000007},null,null,30.195,-18.195,null,{"$f":"IF(AND($C22>=10,$C22<=入力!$P$38),W$1,0)","v":2.4000000000000004},{"$f":"IFERROR(VLOOKUP($C22,学費計算!$C:$R,学費計算!D$1,0),0)","v":0},{"$f":"IFERROR(VLOOKUP($C22,学費計算!$C:$R,学費計算!E$1,0),0)","v":12},{"$f":"IFERROR(VLOOKUP($C22,学費計算!$C:$R,学費計算!F$1,0),0)","v":19.459900000000001},{"$f":"IFERROR(VLOOKUP($C22,学費計算!$C:$R,学費計算!G$1,0),0)","v":0},null,33.859900000000003,-52.054900000000004,{"$f":"IF(AND($C22>=0,$C22<=入力!$P$36),AE$1,0)","v":12},null,null,null,null,null,12,-64.054900000000004,-674.13810000000001]
[null,36,13,null,{"$f":"IF(親1!D23<=833.3+42*親1!AS23,IF(AND(C23>=0,C23<=3),1.5*12,IF(AND(C23>3,C23<=15),1*12,0)),IF(AND(C23>=0,C23<=15),0.5*12,0))","v":12},null,null,null,null,12,null,null,{"$f":"IF(AND($C23>=0,$C23<=入力!$P$38),M$1,0)","v":19.8},{"$f":"IF(AND($C23>=0,$C23<=入力!$P$38),N$1,0)","v":6.6000000000000005},{"$f":"IF(AND($C23>=0,$C23<=入力!$P$38),O$1,0)","v":1.6500000000000001},{"$f":"IF(AND($C23>=0,$C23<=入力!$P$38),P$1,0)","v":1.3200000000000003},{"$f":"IF(AND($C23>=0,$C23<=入力!$P$38),Q$1,0)","v":0.82500000000000007},null,null,30.195,-18.195,null,{"$f":"IF(AND($C23>=10,$C23<=入力!$P$38),W$1,0)","v":2.4000000000000004},{"$f":"IFERROR(VLOOKUP($C23,学費計算!$C:$R,学費計算!D$1,0),0)","v":0},{"$f":"IFERROR(VLOOKUP($C23,学費計算!$C:$R,学費計算!E$1,0),0)","v":12},{"$f":"IFERROR(VLOOKUP($C23,学費計算!$C:$R,学費計算!F$1,0),0)","v":10.5365},{"$f":"IFERROR(VLOOKUP($C23,学費計算!$C:$R,学費計算!G$1,0),0)","v":0},null,24.936500000000002,-43.131500000000003,{"$f":"IF(AND($C23>=0,$C23<=入力!$P$36),AE$1,0)","v":12},null,null,null,null,null,12,-55.131500000000003,-729.26959999999997]
[null,37,14,null,{"$f":"IF(親1!D24<=833.3+42*親1!AS24,IF(AND(C24>=0,C24<=3),1.5*12,IF(AND(C24>3,C24<=15),1*12,0)),IF(AND(C24>=0,C24<=15),0.5*12,0))","v":12},null,null,null,null,12,null,null,{"$f":"IF(AND($C24>=0,$C24<=入力!$P$38),M$1,0)","v":19.8},{"$f":"IF(AND($C24>=0,$C24<=入力!$P$38),N$1,0)","v":6.6000000000000005},{"$f":"IF(AND($C24>=0,$C24<=入力!$P$38),O$1,0)","v":1.6500000000000001},{"$f":"IF(AND($C24>=0,$C24<=入力!$P$38),P$1,0)","v":1.3200000000000003},{"$f":"IF(AND($C24>=0,$C24<=入力!$P$38),Q$1,0)","v":0.82500000000000007},null,null,30.195,-18.195,null,{"$f":"IF(AND($C24>=10,$C24<=入力!$P$38),W$1,0)","v":2.4000000000000004},{"$f":"IFERROR(VLOOKUP($C24,学費計算!$C:$R,学費計算!D$1,0),0)","v":0},{"$f":"IFERROR(VLOOKUP($C24,学費計算!$C:$R,学費計算!E$1,0),0)","v":12},{"$f":"IFERROR(VLOOKUP($C24,学費計算!$C:$R,学費計算!F$1,0),0)","v":11.936},{"$f":"IFERROR(VLOOKUP($C24,学費計算!$C:$R,学費計算!G$1,0),0)","v":0},null,26.335999999999999,-44.530999999999999,{"$f":"IF(AND($C24>=0,$C24<=入力!$P$36),AE$1,0)","v":12},null,null,null,null,null,12,-56.530999999999999,-785.80059999999992]
[null,38,15,null,{"$f":"IF(親1!D25<=833.3+42*親1!AS25,IF(AND(C25>=0,C25<=3),1.5*12,IF(AND(C25>3,C25<=15),1*12,0)),IF(AND(C25>=0,C25<=15),0.5*12,0))","v":12},null,null,null,null,12,null,null,{"$f":"IF(AND($C25>=0,$C25<=入力!$P$38),M$1,0)","v":19.8},{"$f":"IF(AND($C25>=0,$C25<=入力!$P$38),N$1,0)","v":6.6000000000000005},{"$f":"IF(AND($C25>=0,$C25<=入力!$P$38),O$1,0)","v":1.6500000000000001},{"$f":"IF(AND($C25>=0,$C25<=入力!$P$38),P$1,0)","v":1.3200000000000003},{"$f":"IF(AND($C25>=0,$C25<=入力!$P$38),Q$1,0)","v":0.82500000000000007},null,null,30.195,-18.195,null,{"$f":"IF(AND($C25>=10,$C25<=入力!$P$38),W$1,0)","v":2.4000000000000004},{"$f":"IFERROR(VLOOKUP($C25,学費計算!$C:$R,学費計算!D$1,0),0)","v":0},{"$f":"IFERROR(VLOOKUP($C25,学費計算!$C:$R,学費計算!E$1,0),0)","v":24},{"$f":"IFERROR(VLOOKUP($C25,学費計算!$C:$R,学費計算!F$1,0),0)","v":37.037399999999998},{"$f":"IFERROR(VLOOKUP($C25,学費計算!$C:$R,学費計算!G$1,0),0)","v":0},null,63.437399999999997,-81.63239999999999,{"$f":"IF(AND($C25>=0,$C25<=入力!$P$36),AE$1,0)","v":12},null,null,null,null,null,12,-93.63239999999999,-879.43299999999988]
[null,39,16,null,{"$f":"IF(親1!D26<=833.3+42*親1!AS26,IF(AND(C26>=0,C26<=3),1.5*12,IF(AND(C26>3,C26<=15),1*12,0)),IF(AND(C26>=0,C26<=15),0.5*12,0))","v":0},null,null,null,null,0,null,null,{"$f":"IF(AND($C26>=0,$C26<=入力!$P$38),M$1,0)","v":19.8},{"$f":"IF(AND($C26>=0,$C26<=入力!$P$38),N$1,0)","v":6.6000000000000005},{"$f":"IF(AND($C26>=0,$C26<=入力!$P$38),O$1,0)","v":1.6500000000000001},{"$f":"IF(AND($C26>=0,$C26<=入力!$P$38),P$1,0)","v":1.3200000000000003},{"$f":"IF(AND($C26>=0,$C26<=入力!$P$38),Q$1,0)","v":0.82500000000000007},null,null,30.195,-30.195,null,{"$f":"IF(AND($C26>=10,$C26<=入力!$P$38),W$1,0)","v":2.4000000000000004},{"$f":"IFERROR(VLOOKUP($C26,学費計算!$C:$R,学費計算!D$1,0),0)","v":0},{"$f":"IFERROR(VLOOKUP($C26,学費計算!$C:$R,学費計算!E$1,0),0)","v":24},{"$f":"IFERROR(VLOOKUP($C26,学費計算!$C:$R,学費計算!F$1,0),0)","v":29.9848},{"$f":"IFERROR(VLOOKUP($C26,学費計算!$C:$R,学費計算!G$1,0),0)","v":0},null,56.384799999999998,-86.579800000000006,{"$f":"IF(AND($C26>=0,$C26<=入力!$P$36),AE$1,0)","v":12},null,null,null,null,null,12,-98.579800000000006,-978.01279999999986]
[null,40,17,null,{"$f":"IF(親1!D27<=833.3+42*親1!AS27,IF(AND(C27>=0,C27<=3),1.5*12,IF(AND(C27>3,C27<=15),1*12,0)),IF(AND(C27>=0,C27<=15),0.5*12,0))","v":0},null,null,null,null,0,null,null,{"$f":"IF(AND($C27>=0,$C27<=入力!$P$38),M$1,0)","v":19.8},{"$f":"IF(AND($C27>=0,$C27<=入力!$P$38),N$1,0)","v":6.6000000000000005},{"$f":"IF(AND($C27>=0,$C27<=入力!$P$38),O$1,0)","v":1.6500000000000001},{"$f":"IF(AND($C27>=0,$C27<=入力!$P$38),P$1,0)","v":1.3200000000000003},{"$f":"IF(AND($C27>=0,$C27<=入力!$P$38),Q$1,0)","v":0.82500000000000007},null,null,30.195,-30.195,null,{"$f":"IF(AND($C27>=10,$C27<=入力!$P$38),W$1,0)","v":2.4000000000000004},{"$f":"IFERROR(VLOOKUP($C27,学費計算!$C:$R,学費計算!D$1,0),0)","v":0},{"$f":"IFERROR(VLOOKUP($C27,学費計算!$C:$R,学費計算!E$1,0),0)","v":24},{"$f":"IFERROR(VLOOKUP($C27,学費計算!$C:$R,学費計算!F$1,0),0)","v":17.100000000000001},{"$f":"IFERROR(VLOOKUP($C27,学費計算!$C:$R,学費計算!G$1,0),0)","v":0},null,43.5,-73.694999999999993,{"$f":"IF(AND($C27>=0,$C27<=入力!$P$36),AE$1,0)","v":12},null,null,null,null,null,12,-85.694999999999993,-1063.7077999999999]
[null,41,18,null,{"$f":"IF(親1!D28<=833.3+42*親1!AS28,IF(AND(C28>=0,C28<=3),1.5*12,IF(AND(C28>3,C28<=15),1*12,0)),IF(AND(C28>=0,C28<=15),0.5*12,0))","v":0},null,null,null,null,0,null,null,{"$f":"IF(AND($C28>=0,$C28<=入力!$P$38),M$1,0)","v":19.8},{"$f":"IF(AND($C28>=0,$C28<=入力!$P$38),N$1,0)","v":6.6000000000000005},{"$f":"IF(AND($C28>=0,$C28<=入力!$P$38),O$1,0)","v":1.6500000000000001},{"$f":"IF(AND($C28>=0,$C28<=入力!$P$38),P$1,0)","v":1.3200000000000003},{"$f":"IF(AND($C28>=0,$C28<=入力!$P$38),Q$1,0)","v":0.82500000000000007},null,null,30.195,-30.195,null,{"$f":"IF(AND($C28>=10,$C28<=入力!$P$38),W$1,0)","v":2.4000000000000004},{"$f":"IFERROR(VLOOKUP($C28,学費計算!$C:$R,学費計算!D$1,0),0)","v":0},{"$f":"IFERROR(VLOOKUP($C28,学費計算!$C:$R,学費計算!E$1,0),0)","v":0},{"$f":"IFERROR(VLOOKUP($C28,学費計算!$C:$R,学費計算!F$1,0),0)","v":93.225099999999998},{"$f":"IFERROR(VLOOKUP($C28,学費計算!$C:$R,学費計算!G$1,0),0)","v":0},null,95.625100000000003,-125.8201,{"$f":"IF(AND($C28>=0,$C28<=入力!$P$36),AE$1,0)","v":12},null,null,null,null,null,12,-137.8201,-1201.5278999999998]
[null,42,19,null,{"$f":"IF(親1!D29<=833.3+42*親1!AS29,IF(AND(C29>=0,C29<=3),1.5*12,IF(AND(C29>3,C29<=15),1*12,0)),IF(AND(C29>=0,C29<=15),0.5*12,0))","v":0},null,null,null,null,0,null,null,{"$f":"IF(AND($C29>=0,$C29<=入力!$P$38),M$1,0)","v":19.8},{"$f":"IF(AND($C29>=0,$C29<=入力!$P$38),N$1,0)","v":6.6000000000000005},{"$f":"IF(AND($C29>=0,$C29<=入力!$P$38),O$1,0)","v":1.6500000000000001},{"$f":"IF(AND($C29>=0,$C29<=入力!$P$38),P$1,0)","v":1.3200000000000003},{"$f":"IF(AND($C29>=0,$C29<=入力!$P$38),Q$1,0)","v":0.82500000000000007},null,null,30.195,-30.195,null,{"$f":"IF(AND($C29>=10,$C29<=入力!$P$38),W$1,0)","v":2.4000000000000004},{"$f":"IFERROR(VLOOKUP($C29,学費計算!$C:$R,学費計算!D$1,0),0)","v":0},{"$f":"IFERROR(VLOOKUP($C29,学費計算!$C:$R,学費計算!E$1,0),0)","v":0},{"$f":"IFERROR(VLOOKUP($C29,学費計算!$C:$R,学費計算!F$1,0),0)","v":53.58},{"$f":"IFERROR(VLOOKUP($C29,学費計算!$C:$R,学費計算!G$1,0),0)","v":0},null,55.98,-86.174999999999997,{"$f":"IF(AND($C29>=0,$C29<=入力!$P$36),AE$1,0)","v":0},null,null,null,null,null,0,-86.174999999999997,-1287.7028999999998]
[null,43,20,null,{"$f":"IF(親1!D30<=833.3+42*親1!AS30,IF(AND(C30>=0,C30<=3),1.5*12,IF(AND(C30>3,C30<=15),1*12,0)),IF(AND(C30>=0,C30<=15),0.5*12,0))","v":0},null,null,null,null,0,null,null,{"$f":"IF(AND($C30>=0,$C30<=入力!$P$38),M$1,0)","v":19.8},{"$f":"IF(AND($C30>=0,$C30<=入力!$P$38),N$1,0)","v":6.6000000000000005},{"$f":"IF(AND($C30>=0,$C30<=入力!$P$38),O$1,0)","v":1.6500000000000001},{"$f":"IF(AND($C30>=0,$C30<=入力!$P$38),P$1,0)","v":1.3200000000000003},{"$f":"IF(AND($C30>=0,$C30<=入力!$P$38),Q$1,0)","v":0.82500000000000007},null,null,30.195,-30.195,null,{"$f":"IF(AND($C30>=10,$C30<=入力!$P$38),W$1,0)","v":2.4000000000000004},{"$f":"IFERROR(VLOOKUP($C30,学費計算!$C:$R,学費計算!D$1,0),0)","v":0},{"$f":"IFERROR(VLOOKUP($C30,学費計算!$C:$R,学費計算!E$1,0),0)","v":0},{"$f":"IFERROR(VLOOKUP($C30,学費計算!$C:$R,学費計算!F$1,0),0)","v":53.58},{"$f":"IFERROR(VLOOKUP($C30,学費計算!$C:$R,学費計算!G$1,0),0)","v":0},null,55.98,-86.174999999999997,{"$f":"IF(AND($C30>=0,$C30<=入力!$P$36),AE$1,0)","v":0},null,null,null,null,null,0,-86.174999999999997,-1373.8778999999997]
[null,44,21,null,{"$f":"IF(親1!D31<=833.3+42*親1!AS31,IF(AND(C31>=0,C31<=3),1.5*12,IF(AND(C31>3,C31<=15),1*12,0)),IF(AND(C31>=0,C31<=15),0.5*12,0))","v":0},null,null,null,null,0,null,null,{"$f":"IF(AND($C31>=0,$C31<=入力!$P$38),M$1,0)","v":19.8},{"$f":"IF(AND($C31>=0,$C31<=入力!$P$38),N$1,0)","v":6.6000000000000005},{"$f":"IF(AND($C31>=0,$C31<=入力!$P$38),O$1,0)","v":1.6500000000000001},{"$f":"IF(AND($C31>=0,$C31<=入力!$P$38),P$1,0)","v":1.3200000000000003},{"$f":"IF(AND($C31>=0,$C31<=入力!$P$38),Q$1,0)","v":0.82500000000000007},null,null,30.195,-30.195,null,{"$f":"IF(AND($C31>=10,$C31<=入力!$P$38),W$1,0)","v":2.4000000000000004},{"$f":"IFERROR(VLOOKUP($C31,学費計算!$C:$R,学費計算!D$1,0),0)","v":0},{"$f":"IFERROR(VLOOKUP($C31,学費計算!$C:$R,学費計算!E$1,0),0)","v":0},{"$f":"IFERROR(VLOOKUP($C31,学費計算!$C:$R,学費計算!F$1,0),0)","v":53.58},{"$f":"IFERROR(VLOOKUP($C31,学費計算!$C:$R,学費計算!G$1,0),0)","v":0},null,55.98,-86.174999999999997,{"$f":"IF(AND($C31>=0,$C31<=入力!$P$36),AE$1,0)","v":0},null,null,null,null,null,0,-86.174999999999997,-1460.0528999999997]
[null,45,22,null,{"$f":"IF(親1!D32<=833.3+42*親1!AS32,IF(AND(C32>=0,C32<=3),1.5*12,IF(AND(C32>3,C32<=15),1*12,0)),IF(AND(C32>=0,C32<=15),0.5*12,0))","v":0},null,null,null,null,0,null,null,{"$f":"IF(AND($C32>=0,$C32<=入力!$P$38),M$1,0)","v":19.8},{"$f":"IF(AND($C32>=0,$C32<=入力!$P$38),N$1,0)","v":6.6000000000000005},{"$f":"IF(AND($C32>=0,$C32<=入力!$P$38),O$1,0)","v":1.6500000000000001},{"$f":"IF(AND($C32>=0,$C32<=入力!$P$38),P$1,0)","v":1.3200000000000003},{"$f":"IF(AND($C32>=0,$C32<=入力!$P$38),Q$1,0)","v":0.82500000000000007},null,null,30.195,-30.195,null,{"$f":"IF(AND($C32>=10,$C32<=入力!$P$38),W$1,0)","v":2.4000000000000004},{"$f":"IFERROR(VLOOKUP($C32,学費計算!$C:$R,学費計算!D$1,0),0)","v":0},{"$f":"IFERROR(VLOOKUP($C32,学費計算!$C:$R,学費計算!E$1,0),0)","v":0},{"$f":"IFERROR(VLOOKUP($C32,学費計算!$C:$R,学費計算!F$1,0),0)","v":0},{"$f":"IFERROR(VLOOKUP($C32,学費計算!$C:$R,学費計算!G$1,0),0)","v":0},null,2.4000000000000004,-32.594999999999999,{"$f":"IF(AND($C32>=0,$C32<=入力!$P$36),AE$1,0)","v":0},null,null,null,null,null,0,-32.594999999999999,-1492.6478999999997]
[null,46,23,null,{"$f":"IF(親1!D33<=833.3+42*親1!AS33,IF(AND(C33>=0,C33<=3),1.5*12,IF(AND(C33>3,C33<=15),1*12,0)),IF(AND(C33>=0,C33<=15),0.5*12,0))","v":0},null,null,null,null,0,null,null,{"$f":"IF(AND($C33>=0,$C33<=入力!$P$38),M$1,0)","v":0},{"$f":"IF(AND($C33>=0,$C33<=入力!$P$38),N$1,0)","v":0},{"$f":"IF(AND($C33>=0,$C33<=入力!$P$38),O$1,0)","v":0},{"$f":"IF(AND($C33>=0,$C33<=入力!$P$38),P$1,0)","v":0},{"$f":"IF(AND($C33>=0,$C33<=入力!$P$38),Q$1,0)","v":0},null,null,0,0,null,{"$f":"IF(AND($C33>=10,$C33<=入力!$P$38),W$1,0)","v":0},{"$f":"IFERROR(VLOOKUP($C33,学費計算!$C:$R,学費計算!D$1,0),0)","v":0},{"$f":"IFERROR(VLOOKUP($C33,学費計算!$C:$R,学費計算!E$1,0),0)","v":0},{"$f":"IFERROR(VLOOKUP($C33,学費計算!$C:$R,学費計算!F$1,0),0)","v":0},{"$f":"IFERROR(VLOOKUP($C33,学費計算!$C:$R,学費計算!G$1,0),0)","v":0},null,0,0,{"$f":"IF(AND($C33>=0,$C33<=入力!$P$36),AE$1,0)","v":0},null,null,null,null,null,0,0,-1492.6478999999997]
[null,47,24,null,{"$f":"IF(親1!D34<=833.3+42*親1!AS34,IF(AND(C34>=0,C34<=3),1.5*12,IF(AND(C34>3,C34<=15),1*12,0)),IF(AND(C34>=0,C34<=15),0.5*12,0))","v":0},null,null,null,null,0,null,null,{"$f":"IF(AND($C34>=0,$C34<=入力!$P$38),M$1,0)","v":0},{"$f":"IF(AND($C34>=0,$C34<=入力!$P$38),N$1,0)","v":0},{"$f":"IF(AND($C34>=0,$C34<=入力!$P$38),O$1,0)","v":0},{"$f":"IF(AND($C34>=0,$C34<=入力!$P$38),P$1,0)","v":0},{"$f":"IF(AND($C34>=0,$C34<=入力!$P$38),Q$1,0)","v":0},null,null,0,0,null,{"$f":"IF(AND($C34>=10,$C34<=入力!$P$38),W$1,0)","v":0},{"$f":"IFERROR(VLOOKUP($C34,学費計算!$C:$R,学費計算!D$1,0),0)","v":0},{"$f":"IFERROR(VLOOKUP($C34,学費計算!$C:$R,学費計算!E$1,0),0)","v":0},{"$f":"IFERROR(VLOOKUP($C34,学費計算!$C:$R,学費計算!F$1,0),0)","v":0},{"$f":"IFERROR(VLOOKUP($C34,学費計算!$C:$R,学費計算!G$1,0),0)","v":0},null,0,0,{"$f":"IF(AND($C34>=0,$C34<=入力!$P$36),AE$1,0)","v":0},null,null,null,null,null,0,0,-1492.6478999999997]
[null,48,25,null,{"$f":"IF(親1!D35<=833.3+42*親1!AS35,IF(AND(C35>=0,C35<=3),1.5*12,IF(AND(C35>3,C35<=15),1*12,0)),IF(AND(C35>=0,C35<=15),0.5*12,0))","v":0},null,null,null,null,0,null,null,{"$f":"IF(AND($C35>=0,$C35<=入力!$P$38),M$1,0)","v":0},{"$f":"IF(AND($C35>=0,$C35<=入力!$P$38),N$1,0)","v":0},{"$f":"IF(AND($C35>=0,$C35<=入力!$P$38),O$1,0)","v":0},{"$f":"IF(AND($C35>=0,$C35<=入力!$P$38),P$1,0)","v":0},{"$f":"IF(AND($C35>=0,$C35<=入力!$P$38),Q$1,0)","v":0},null,null,0,0,null,{"$f":"IF(AND($C35>=10,$C35<=入力!$P$38),W$1,0)","v":0},{"$f":"IFERROR(VLOOKUP($C35,学費計算!$C:$R,学費計算!D$1,0),0)","v":0},{"$f":"IFERROR(VLOOKUP($C35,学費計算!$C:$R,学費計算!E$1,0),0)","v":0},{"$f":"IFERROR(VLOOKUP($C35,学費計算!$C:$R,学費計算!F$1,0),0)","v":0},{"$f":"IFERROR(VLOOKUP($C35,学費計算!$C:$R,学費計算!G$1,0),0)","v":0},null,0,0,{"$f":"IF(AND($C35>=0,$C35<=入力!$P$36),AE$1,0)","v":0},null,null,null,null,null,0,0,-1492.6478999999997]
[null,49,26,null,{"$f":"IF(親1!D36<=833.3+42*親1!AS36,IF(AND(C36>=0,C36<=3),1.5*12,IF(AND(C36>3,C36<=15),1*12,0)),IF(AND(C36>=0,C36<=15),0.5*12,0))","v":0},null,null,null,null,0,null,null,{"$f":"IF(AND($C36>=0,$C36<=入力!$P$38),M$1,0)","v":0},{"$f":"IF(AND($C36>=0,$C36<=入力!$P$38),N$1,0)","v":0},{"$f":"IF(AND($C36>=0,$C36<=入力!$P$38),O$1,0)","v":0},{"$f":"IF(AND($C36>=0,$C36<=入力!$P$38),P$1,0)","v":0},{"$f":"IF(AND($C36>=0,$C36<=入力!$P$38),Q$1,0)","v":0},null,null,0,0,null,{"$f":"IF(AND($C36>=10,$C36<=入力!$P$38),W$1,0)","v":0},{"$f":"IFERROR(VLOOKUP($C36,学費計算!$C:$R,学費計算!D$1,0),0)","v":0},{"$f":"IFERROR(VLOOKUP($C36,学費計算!$C:$R,学費計算!E$1,0),0)","v":0},{"$f":"IFERROR(VLOOKUP($C36,学費計算!$C:$R,学費計算!F$1,0),0)","v":0},{"$f":"IFERROR(VLOOKUP($C36,学費計算!$C:$R,学費計算!G$1,0),0)","v":0},null,0,0,{"$f":"IF(AND($C36>=0,$C36<=入力!$P$36),AE$1,0)","v":0},null,null,null,null,null,0,0,-1492.6478999999997]
[null,50,27,null,{"$f":"IF(親1!D37<=833.3+42*親1!AS37,IF(AND(C37>=0,C37<=3),1.5*12,IF(AND(C37>3,C37<=15),1*12,0)),IF(AND(C37>=0,C37<=15),0.5*12,0))","v":0},null,null,null,null,0,null,null,{"$f":"IF(AND($C37>=0,$C37<=入力!$P$38),M$1,0)","v":0},{"$f":"IF(AND($C37>=0,$C37<=入力!$P$38),N$1,0)","v":0},{"$f":"IF(AND($C37>=0,$C37<=入力!$P$38),O$1,0)","v":0},{"$f":"IF(AND($C37>=0,$C37<=入力!$P$38),P$1,0)","v":0},{"$f":"IF(AND($C37>=0,$C37<=入力!$P$38),Q$1,0)","v":0},null,null,0,0,null,{"$f":"IF(AND($C37>=10,$C37<=入力!$P$38),W$1,0)","v":0},{"$f":"IFERROR(VLOOKUP($C37,学費計算!$C:$R,学費計算!D$1,0),0)","v":0},{"$f":"IFERROR(VLOOKUP($C37,学費計算!$C:$R,学費計算!E$1,0),0)","v":0},{"$f":"IFERROR(VLOOKUP($C37,学費計算!$C:$R,学費計算!F$1,0),0)","v":0},{"$f":"IFERROR(VLOOKUP($C37,学費計算!$C:$R,学費計算!G$1,0),0)","v":0},null,0,0,{"$f":"IF(AND($C37>=0,$C37<=入力!$P$36),AE$1,0)","v":0},null,null,null,null,null,0,0,-1492.6478999999997]
[null,51,28,null,{"$f":"IF(親1!D38<=833.3+42*親1!AS38,IF(AND(C38>=0,C38<=3),1.5*12,IF(AND(C38>3,C38<=15),1*12,0)),IF(AND(C38>=0,C38<=15),0.5*12,0))","v":0},null,null,null,null,0,null,null,{"$f":"IF(AND($C38>=0,$C38<=入力!$P$38),M$1,0)","v":0},{"$f":"IF(AND($C38>=0,$C38<=入力!$P$38),N$1,0)","v":0},{"$f":"IF(AND($C38>=0,$C38<=入力!$P$38),O$1,0)","v":0},{"$f":"IF(AND($C38>=0,$C38<=入力!$P$38),P$1,0)","v":0},{"$f":"IF(AND($C38>=0,$C38<=入力!$P$38),Q$1,0)","v":0},null,null,{"$f":"SUM(K38:S38)","v":0},{"$f":"J38-T38","v":0},null,{"$f":"IF(AND($C38>=10,$C38<=入力!$P$38),W$1,0)","v":0},{"$f":"IFERROR(VLOOKUP($C38,学費計算!$C:$R,学費計算!D$1,0),0)","v":0},{"$f":"IFERROR(VLOOKUP($C38,学費計算!$C:$R,学費計算!E$1,0),0)","v":0},{"$f":"IFERROR(VLOOKUP($C38,学費計算!$C:$R,学費計算!F$1,0),0)","v":0},{"$f":"IFERROR(VLOOKUP($C38,学費計算!$C:$R,学費計算!G$1,0),0)","v":0},null,{"$f":"SUM(V38:AB38)","v":0},{"$f":"U38-AC38","v":0},{"$f":"IF(AND($C38>=0,$C38<=入力!$P$36),AE$1,0)","v":0},null,null,null,null,null,0,0,{"$f":"AL38+AM37","v":-1492.6478999999997}]
[null,52,29,null,{"$f":"IF(親1!D39<=833.3+42*親1!AS39,IF(AND(C39>=0,C39<=3),1.5*12,IF(AND(C39>3,C39<=15),1*12,0)),IF(AND(C39>=0,C39<=15),0.5*12,0))","v":0},null,null,null,null,0,null,null,{"$f":"IF(AND($C39>=0,$C39<=入力!$P$38),M$1,0)","v":0},{"$f":"IF(AND($C39>=0,$C39<=入力!$P$38),N$1,0)","v":0},{"$f":"IF(AND($C39>=0,$C39<=入力!$P$38),O$1,0)","v":0},{"$f":"IF(AND($C39>=0,$C39<=入力!$P$38),P$1,0)","v":0},{"$f":"IF(AND($C39>=0,$C39<=入力!$P$38),Q$1,0)","v":0},null,null,0,0,null,{"$f":"IF(AND($C39>=10,$C39<=入力!$P$38),W$1,0)","v":0},{"$f":"IFERROR(VLOOKUP($C39,学費計算!$C:$R,学費計算!D$1,0),0)","v":0},{"$f":"IFERROR(VLOOKUP($C39,学費計算!$C:$R,学費計算!E$1,0),0)","v":0},{"$f":"IFERROR(VLOOKUP($C39,学費計算!$C:$R,学費計算!F$1,0),0)","v":0},{"$f":"IFERROR(VLOOKUP($C39,学費計算!$C:$R,学費計算!G$1,0),0)","v":0},null,0,0,{"$f":"IF(AND($C39>=0,$C39<=入力!$P$36),AE$1,0)","v":0},null,null,null,null,null,0,0,-1492.6478999999997]
[null,{"$f":"B39+1","v":53},30,null,{"$f":"IF(親1!D40<=833.3+42*親1!AS40,IF(AND(C40>=0,C40<=3),1.5*12,IF(AND(C40>3,C40<=15),1*12,0)),IF(AND(C40>=0,C40<=15),0.5*12,0))","v":0},null,null,null,null,{"$f":"SUM(E40:I40)","v":0},null,null,{"$f":"IF(AND($C40>=0,$C40<=入力!$P$38),M$1,0)","v":0},{"$f":"IF(AND($C40>=0,$C40<=入力!$P$38),N$1,0)","v":0},{"$f":"IF(AND($C40>=0,$C40<=入力!$P$38),O$1,0)","v":0},{"$f":"IF(AND($C40>=0,$C40<=入力!$P$38),P$1,0)","v":0},{"$f":"IF(AND($C40>=0,$C40<=入力!$P$38),Q$1,0)","v":0},null,null,0,0,null,{"$f":"IF(AND($C40>=10,$C40<=入力!$P$38),W$1,0)","v":0},{"$f":"IFERROR(VLOOKUP($C40,学費計算!$C:$R,学費計算!D$1,0),0)","v":0},{"$f":"IFERROR(VLOOKUP($C40,学費計算!$C:$R,学費計算!E$1,0),0)","v":0},{"$f":"IFERROR(VLOOKUP($C40,学費計算!$C:$R,学費計算!F$1,0),0)","v":0},{"$f":"IFERROR(VLOOKUP($C40,学費計算!$C:$R,学費計算!G$1,0),0)","v":0},null,0,0,{"$f":"IF(AND($C40>=0,$C40<=入力!$P$36),AE$1,0)","v":0},null,null,null,null,null,0,0,-1492.6478999999997]
[null,54,31,null,{"$f":"IF(親1!D41<=833.3+42*親1!AS41,IF(AND(C41>=0,C41<=3),1.5*12,IF(AND(C41>3,C41<=15),1*12,0)),IF(AND(C41>=0,C41<=15),0.5*12,0))","v":0},null,null,null,null,0,null,null,{"$f":"IF(AND($C41>=0,$C41<=入力!$P$38),M$1,0)","v":0},{"$f":"IF(AND($C41>=0,$C41<=入力!$P$38),N$1,0)","v":0},{"$f":"IF(AND($C41>=0,$C41<=入力!$P$38),O$1,0)","v":0},{"$f":"IF(AND($C41>=0,$C41<=入力!$P$38),P$1,0)","v":0},{"$f":"IF(AND($C41>=0,$C41<=入力!$P$38),Q$1,0)","v":0},null,null,0,0,null,{"$f":"IF(AND($C41>=10,$C41<=入力!$P$38),W$1,0)","v":0},{"$f":"IFERROR(VLOOKUP($C41,学費計算!$C:$R,学費計算!D$1,0),0)","v":0},{"$f":"IFERROR(VLOOKUP($C41,学費計算!$C:$R,学費計算!E$1,0),0)","v":0},{"$f":"IFERROR(VLOOKUP($C41,学費計算!$C:$R,学費計算!F$1,0),0)","v":0},{"$f":"IFERROR(VLOOKUP($C41,学費計算!$C:$R,学費計算!G$1,0),0)","v":0},null,0,0,{"$f":"IF(AND($C41>=0,$C41<=入力!$P$36),AE$1,0)","v":0},null,null,null,null,null,0,0,-1492.6478999999997]
[null,55,32,null,{"$f":"IF(親1!D42<=833.3+42*親1!AS42,IF(AND(C42>=0,C42<=3),1.5*12,IF(AND(C42>3,C42<=15),1*12,0)),IF(AND(C42>=0,C42<=15),0.5*12,0))","v":0},null,null,null,null,0,null,null,{"$f":"IF(AND($C42>=0,$C42<=入力!$P$38),M$1,0)","v":0},{"$f":"IF(AND($C42>=0,$C42<=入力!$P$38),N$1,0)","v":0},{"$f":"IF(AND($C42>=0,$C42<=入力!$P$38),O$1,0)","v":0},{"$f":"IF(AND($C42>=0,$C42<=入力!$P$38),P$1,0)","v":0},{"$f":"IF(AND($C42>=0,$C42<=入力!$P$38),Q$1,0)","v":0},null,null,0,0,null,{"$f":"IF(AND($C42>=10,$C42<=入力!$P$38),W$1,0)","v":0},{"$f":"IFERROR(VLOOKUP($C42,学費計算!$C:$R,学費計算!D$1,0),0)","v":0},{"$f":"IFERROR(VLOOKUP($C42,学費計算!$C:$R,学費計算!E$1,0),0)","v":0},{"$f":"IFERROR(VLOOKUP($C42,学費計算!$C:$R,学費計算!F$1,0),0)","v":0},{"$f":"IFERROR(VLOOKUP($C42,学費計算!$C:$R,学費計算!G$1,0),0)","v":0},null,0,0,{"$f":"IF(AND($C42>=0,$C42<=入力!$P$36),AE$1,0)","v":0},null,null,null,null,null,0,0,-1492.6478999999997]
[null,56,33,null,{"$f":"IF(親1!D43<=833.3+42*親1!AS43,IF(AND(C43>=0,C43<=3),1.5*12,IF(AND(C43>3,C43<=15),1*12,0)),IF(AND(C43>=0,C43<=15),0.5*12,0))","v":0},null,null,null,null,0,null,null,{"$f":"IF(AND($C43>=0,$C43<=入力!$P$38),M$1,0)","v":0},{"$f":"IF(AND($C43>=0,$C43<=入力!$P$38),N$1,0)","v":0},{"$f":"IF(AND($C43>=0,$C43<=入力!$P$38),O$1,0)","v":0},{"$f":"IF(AND($C43>=0,$C43<=入力!$P$38),P$1,0)","v":0},{"$f":"IF(AND($C43>=0,$C43<=入力!$P$38),Q$1,0)","v":0},null,null,0,0,null,{"$f":"IF(AND($C43>=10,$C43<=入力!$P$38),W$1,0)","v":0},{"$f":"IFERROR(VLOOKUP($C43,学費計算!$C:$R,学費計算!D$1,0),0)","v":0},{"$f":"IFERROR(VLOOKUP($C43,学費計算!$C:$R,学費計算!E$1,0),0)","v":0},{"$f":"IFERROR(VLOOKUP($C43,学費計算!$C:$R,学費計算!F$1,0),0)","v":0},{"$f":"IFERROR(VLOOKUP($C43,学費計算!$C:$R,学費計算!G$1,0),0)","v":0},null,0,0,{"$f":"IF(AND($C43>=0,$C43<=入力!$P$36),AE$1,0)","v":0},null,null,null,null,null,0,0,-1492.6478999999997]
[null,57,34,null,{"$f":"IF(親1!D44<=833.3+42*親1!AS44,IF(AND(C44>=0,C44<=3),1.5*12,IF(AND(C44>3,C44<=15),1*12,0)),IF(AND(C44>=0,C44<=15),0.5*12,0))","v":0},null,null,null,null,0,null,null,{"$f":"IF(AND($C44>=0,$C44<=入力!$P$38),M$1,0)","v":0},{"$f":"IF(AND($C44>=0,$C44<=入力!$P$38),N$1,0)","v":0},{"$f":"IF(AND($C44>=0,$C44<=入力!$P$38),O$1,0)","v":0},{"$f":"IF(AND($C44>=0,$C44<=入力!$P$38),P$1,0)","v":0},{"$f":"IF(AND($C44>=0,$C44<=入力!$P$38),Q$1,0)","v":0},null,null,0,0,null,{"$f":"IF(AND($C44>=10,$C44<=入力!$P$38),W$1,0)","v":0},{"$f":"IFERROR(VLOOKUP($C44,学費計算!$C:$R,学費計算!D$1,0),0)","v":0},{"$f":"IFERROR(VLOOKUP($C44,学費計算!$C:$R,学費計算!E$1,0),0)","v":0},{"$f":"IFERROR(VLOOKUP($C44,学費計算!$C:$R,学費計算!F$1,0),0)","v":0},{"$f":"IFERROR(VLOOKUP($C44,学費計算!$C:$R,学費計算!G$1,0),0)","v":0},null,0,0,{"$f":"IF(AND($C44>=0,$C44<=入力!$P$36),AE$1,0)","v":0},null,null,null,null,null,0,0,-1492.6478999999997]
[null,58,35,null,{"$f":"IF(親1!D45<=833.3+42*親1!AS45,IF(AND(C45>=0,C45<=3),1.5*12,IF(AND(C45>3,C45<=15),1*12,0)),IF(AND(C45>=0,C45<=15),0.5*12,0))","v":0},null,null,null,null,0,null,null,{"$f":"IF(AND($C45>=0,$C45<=入力!$P$38),M$1,0)","v":0},{"$f":"IF(AND($C45>=0,$C45<=入力!$P$38),N$1,0)","v":0},{"$f":"IF(AND($C45>=0,$C45<=入力!$P$38),O$1,0)","v":0},{"$f":"IF(AND($C45>=0,$C45<=入力!$P$38),P$1,0)","v":0},{"$f":"IF(AND($C45>=0,$C45<=入力!$P$38),Q$1,0)","v":0},null,null,0,0,null,{"$f":"IF(AND($C45>=10,$C45<=入力!$P$38),W$1,0)","v":0},{"$f":"IFERROR(VLOOKUP($C45,学費計算!$C:$R,学費計算!D$1,0),0)","v":0},{"$f":"IFERROR(VLOOKUP($C45,学費計算!$C:$R,学費計算!E$1,0),0)","v":0},{"$f":"IFERROR(VLOOKUP($C45,学費計算!$C:$R,学費計算!F$1,0),0)","v":0},{"$f":"IFERROR(VLOOKUP($C45,学費計算!$C:$R,学費計算!G$1,0),0)","v":0},null,0,0,{"$f":"IF(AND($C45>=0,$C45<=入力!$P$36),AE$1,0)","v":0},null,null,null,null,null,0,0,-1492.6478999999997]
[null,59,36,null,{"$f":"IF(親1!D46<=833.3+42*親1!AS46,IF(AND(C46>=0,C46<=3),1.5*12,IF(AND(C46>3,C46<=15),1*12,0)),IF(AND(C46>=0,C46<=15),0.5*12,0))","v":0},null,null,null,null,0,null,null,{"$f":"IF(AND($C46>=0,$C46<=入力!$P$38),M$1,0)","v":0},{"$f":"IF(AND($C46>=0,$C46<=入力!$P$38),N$1,0)","v":0},{"$f":"IF(AND($C46>=0,$C46<=入力!$P$38),O$1,0)","v":0},{"$f":"IF(AND($C46>=0,$C46<=入力!$P$38),P$1,0)","v":0},{"$f":"IF(AND($C46>=0,$C46<=入力!$P$38),Q$1,0)","v":0},null,null,0,0,null,{"$f":"IF(AND($C46>=10,$C46<=入力!$P$38),W$1,0)","v":0},{"$f":"IFERROR(VLOOKUP($C46,学費計算!$C:$R,学費計算!D$1,0),0)","v":0},{"$f":"IFERROR(VLOOKUP($C46,学費計算!$C:$R,学費計算!E$1,0),0)","v":0},{"$f":"IFERROR(VLOOKUP($C46,学費計算!$C:$R,学費計算!F$1,0),0)","v":0},{"$f":"IFERROR(VLOOKUP($C46,学費計算!$C:$R,学費計算!G$1,0),0)","v":0},null,0,0,{"$f":"IF(AND($C46>=0,$C46<=入力!$P$36),AE$1,0)","v":0},null,null,null,null,null,0,0,-1492.6478999999997]
[null,60,37,null,{"$f":"IF(親1!D47<=833.3+42*親1!AS47,IF(AND(C47>=0,C47<=3),1.5*12,IF(AND(C47>3,C47<=15),1*12,0)),IF(AND(C47>=0,C47<=15),0.5*12,0))","v":0},null,null,null,null,0,null,null,{"$f":"IF(AND($C47>=0,$C47<=入力!$P$38),M$1,0)","v":0},{"$f":"IF(AND($C47>=0,$C47<=入力!$P$38),N$1,0)","v":0},{"$f":"IF(AND($C47>=0,$C47<=入力!$P$38),O$1,0)","v":0},{"$f":"IF(AND($C47>=0,$C47<=入力!$P$38),P$1,0)","v":0},{"$f":"IF(AND($C47>=0,$C47<=入力!$P$38),Q$1,0)","v":0},null,null,0,0,null,{"$f":"IF(AND($C47>=10,$C47<=入力!$P$38),W$1,0)","v":0},{"$f":"IFERROR(VLOOKUP($C47,学費計算!$C:$R,学費計算!D$1,0),0)","v":0},{"$f":"IFERROR(VLOOKUP($C47,学費計算!$C:$R,学費計算!E$1,0),0)","v":0},{"$f":"IFERROR(VLOOKUP($C47,学費計算!$C:$R,学費計算!F$1,0),0)","v":0},{"$f":"IFERROR(VLOOKUP($C47,学費計算!$C:$R,学費計算!G$1,0),0)","v":0},null,0,0,{"$f":"IF(AND($C47>=0,$C47<=入力!$P$36),AE$1,0)","v":0},null,null,null,null,null,0,0,-1492.6478999999997]
[null,61,38,null,{"$f":"IF(親1!D48<=833.3+42*親1!AS48,IF(AND(C48>=0,C48<=3),1.5*12,IF(AND(C48>3,C48<=15),1*12,0)),IF(AND(C48>=0,C48<=15),0.5*12,0))","v":0},null,null,null,null,0,null,null,{"$f":"IF(AND($C48>=0,$C48<=入力!$P$38),M$1,0)","v":0},{"$f":"IF(AND($C48>=0,$C48<=入力!$P$38),N$1,0)","v":0},{"$f":"IF(AND($C48>=0,$C48<=入力!$P$38),O$1,0)","v":0},{"$f":"IF(AND($C48>=0,$C48<=入力!$P$38),P$1,0)","v":0},{"$f":"IF(AND($C48>=0,$C48<=入力!$P$38),Q$1,0)","v":0},null,null,0,0,null,{"$f":"IF(AND($C48>=10,$C48<=入力!$P$38),W$1,0)","v":0},{"$f":"IFERROR(VLOOKUP($C48,学費計算!$C:$R,学費計算!D$1,0),0)","v":0},{"$f":"IFERROR(VLOOKUP($C48,学費計算!$C:$R,学費計算!E$1,0),0)","v":0},{"$f":"IFERROR(VLOOKUP($C48,学費計算!$C:$R,学費計算!F$1,0),0)","v":0},{"$f":"IFERROR(VLOOKUP($C48,学費計算!$C:$R,学費計算!G$1,0),0)","v":0},null,0,0,{"$f":"IF(AND($C48>=0,$C48<=入力!$P$36),AE$1,0)","v":0},null,null,null,null,null,0,0,-1492.6478999999997]
[null,62,39,null,{"$f":"IF(親1!D49<=833.3+42*親1!AS49,IF(AND(C49>=0,C49<=3),1.5*12,IF(AND(C49>3,C49<=15),1*12,0)),IF(AND(C49>=0,C49<=15),0.5*12,0))","v":0},null,null,null,null,0,null,null,{"$f":"IF(AND($C49>=0,$C49<=入力!$P$38),M$1,0)","v":0},{"$f":"IF(AND($C49>=0,$C49<=入力!$P$38),N$1,0)","v":0},{"$f":"IF(AND($C49>=0,$C49<=入力!$P$38),O$1,0)","v":0},{"$f":"IF(AND($C49>=0,$C49<=入力!$P$38),P$1,0)","v":0},{"$f":"IF(AND($C49>=0,$C49<=入力!$P$38),Q$1,0)","v":0},null,null,0,0,null,{"$f":"IF(AND($C49>=10,$C49<=入力!$P$38),W$1,0)","v":0},{"$f":"IFERROR(VLOOKUP($C49,学費計算!$C:$R,学費計算!D$1,0),0)","v":0},{"$f":"IFERROR(VLOOKUP($C49,学費計算!$C:$R,学費計算!E$1,0),0)","v":0},{"$f":"IFERROR(VLOOKUP($C49,学費計算!$C:$R,学費計算!F$1,0),0)","v":0},{"$f":"IFERROR(VLOOKUP($C49,学費計算!$C:$R,学費計算!G$1,0),0)","v":0},null,0,0,{"$f":"IF(AND($C49>=0,$C49<=入力!$P$36),AE$1,0)","v":0},null,null,null,null,null,0,0,-1492.6478999999997]
[null,63,40,null,{"$f":"IF(親1!D50<=833.3+42*親1!AS50,IF(AND(C50>=0,C50<=3),1.5*12,IF(AND(C50>3,C50<=15),1*12,0)),IF(AND(C50>=0,C50<=15),0.5*12,0))","v":0},null,null,null,null,0,null,null,{"$f":"IF(AND($C50>=0,$C50<=入力!$P$38),M$1,0)","v":0},{"$f":"IF(AND($C50>=0,$C50<=入力!$P$38),N$1,0)","v":0},{"$f":"IF(AND($C50>=0,$C50<=入力!$P$38),O$1,0)","v":0},{"$f":"IF(AND($C50>=0,$C50<=入力!$P$38),P$1,0)","v":0},{"$f":"IF(AND($C50>=0,$C50<=入力!$P$38),Q$1,0)","v":0},null,null,0,0,null,{"$f":"IF(AND($C50>=10,$C50<=入力!$P$38),W$1,0)","v":0},{"$f":"IFERROR(VLOOKUP($C50,学費計算!$C:$R,学費計算!D$1,0),0)","v":0},{"$f":"IFERROR(VLOOKUP($C50,学費計算!$C:$R,学費計算!E$1,0),0)","v":0},{"$f":"IFERROR(VLOOKUP($C50,学費計算!$C:$R,学費計算!F$1,0),0)","v":0},{"$f":"IFERROR(VLOOKUP($C50,学費計算!$C:$R,学費計算!G$1,0),0)","v":0},null,0,0,{"$f":"IF(AND($C50>=0,$C50<=入力!$P$36),AE$1,0)","v":0},null,null,null,null,null,0,0,-1492.6478999999997]
[null,64,41,null,{"$f":"IF(親1!D51<=833.3+42*親1!AS51,IF(AND(C51>=0,C51<=3),1.5*12,IF(AND(C51>3,C51<=15),1*12,0)),IF(AND(C51>=0,C51<=15),0.5*12,0))","v":0},null,null,null,null,0,null,null,{"$f":"IF(AND($C51>=0,$C51<=入力!$P$38),M$1,0)","v":0},{"$f":"IF(AND($C51>=0,$C51<=入力!$P$38),N$1,0)","v":0},{"$f":"IF(AND($C51>=0,$C51<=入力!$P$38),O$1,0)","v":0},{"$f":"IF(AND($C51>=0,$C51<=入力!$P$38),P$1,0)","v":0},{"$f":"IF(AND($C51>=0,$C51<=入力!$P$38),Q$1,0)","v":0},null,null,0,0,null,{"$f":"IF(AND($C51>=10,$C51<=入力!$P$38),W$1,0)","v":0},{"$f":"IFERROR(VLOOKUP($C51,学費計算!$C:$R,学費計算!D$1,0),0)","v":0},{"$f":"IFERROR(VLOOKUP($C51,学費計算!$C:$R,学費計算!E$1,0),0)","v":0},{"$f":"IFERROR(VLOOKUP($C51,学費計算!$C:$R,学費計算!F$1,0),0)","v":0},{"$f":"IFERROR(VLOOKUP($C51,学費計算!$C:$R,学費計算!G$1,0),0)","v":0},null,0,0,{"$f":"IF(AND($C51>=0,$C51<=入力!$P$36),AE$1,0)","v":0},null,null,null,null,null,0,0,-1492.6478999999997]
[null,65,42,null,{"$f":"IF(親1!D52<=833.3+42*親1!AS52,IF(AND(C52>=0,C52<=3),1.5*12,IF(AND(C52>3,C52<=15),1*12,0)),IF(AND(C52>=0,C52<=15),0.5*12,0))","v":0},null,null,null,null,0,null,null,{"$f":"IF(AND($C52>=0,$C52<=入力!$P$38),M$1,0)","v":0},{"$f":"IF(AND($C52>=0,$C52<=入力!$P$38),N$1,0)","v":0},{"$f":"IF(AND($C52>=0,$C52<=入力!$P$38),O$1,0)","v":0},{"$f":"IF(AND($C52>=0,$C52<=入力!$P$38),P$1,0)","v":0},{"$f":"IF(AND($C52>=0,$C52<=入力!$P$38),Q$1,0)","v":0},null,null,0,0,null,{"$f":"IF(AND($C52>=10,$C52<=入力!$P$38),W$1,0)","v":0},{"$f":"IFERROR(VLOOKUP($C52,学費計算!$C:$R,学費計算!D$1,0),0)","v":0},{"$f":"IFERROR(VLOOKUP($C52,学費計算!$C:$R,学費計算!E$1,0),0)","v":0},{"$f":"IFERROR(VLOOKUP($C52,学費計算!$C:$R,学費計算!F$1,0),0)","v":0},{"$f":"IFERROR(VLOOKUP($C52,学費計算!$C:$R,学費計算!G$1,0),0)","v":0},null,0,0,{"$f":"IF(AND($C52>=0,$C52<=入力!$P$36),AE$1,0)","v":0},null,null,null,null,null,0,0,-1492.6478999999997]
[null,66,43,null,{"$f":"IF(親1!D53<=833.3+42*親1!AS53,IF(AND(C53>=0,C53<=3),1.5*12,IF(AND(C53>3,C53<=15),1*12,0)),IF(AND(C53>=0,C53<=15),0.5*12,0))","v":0},null,null,null,null,0,null,null,{"$f":"IF(AND($C53>=0,$C53<=入力!$P$38),M$1,0)","v":0},{"$f":"IF(AND($C53>=0,$C53<=入力!$P$38),N$1,0)","v":0},{"$f":"IF(AND($C53>=0,$C53<=入力!$P$38),O$1,0)","v":0},{"$f":"IF(AND($C53>=0,$C53<=入力!$P$38),P$1,0)","v":0},{"$f":"IF(AND($C53>=0,$C53<=入力!$P$38),Q$1,0)","v":0},null,null,0,0,null,{"$f":"IF(AND($C53>=10,$C53<=入力!$P$38),W$1,0)","v":0},{"$f":"IFERROR(VLOOKUP($C53,学費計算!$C:$R,学費計算!D$1,0),0)","v":0},{"$f":"IFERROR(VLOOKUP($C53,学費計算!$C:$R,学費計算!E$1,0),0)","v":0},{"$f":"IFERROR(VLOOKUP($C53,学費計算!$C:$R,学費計算!F$1,0),0)","v":0},{"$f":"IFERROR(VLOOKUP($C53,学費計算!$C:$R,学費計算!G$1,0),0)","v":0},null,0,0,{"$f":"IF(AND($C53>=0,$C53<=入力!$P$36),AE$1,0)","v":0},null,null,null,null,null,0,0,-1492.6478999999997]
[null,67,44,null,{"$f":"IF(親1!D54<=833.3+42*親1!AS54,IF(AND(C54>=0,C54<=3),1.5*12,IF(AND(C54>3,C54<=15),1*12,0)),IF(AND(C54>=0,C54<=15),0.5*12,0))","v":0},null,null,null,null,0,null,null,{"$f":"IF(AND($C54>=0,$C54<=入力!$P$38),M$1,0)","v":0},{"$f":"IF(AND($C54>=0,$C54<=入力!$P$38),N$1,0)","v":0},{"$f":"IF(AND($C54>=0,$C54<=入力!$P$38),O$1,0)","v":0},{"$f":"IF(AND($C54>=0,$C54<=入力!$P$38),P$1,0)","v":0},{"$f":"IF(AND($C54>=0,$C54<=入力!$P$38),Q$1,0)","v":0},null,null,0,0,null,{"$f":"IF(AND($C54>=10,$C54<=入力!$P$38),W$1,0)","v":0},{"$f":"IFERROR(VLOOKUP($C54,学費計算!$C:$R,学費計算!D$1,0),0)","v":0},{"$f":"IFERROR(VLOOKUP($C54,学費計算!$C:$R,学費計算!E$1,0),0)","v":0},{"$f":"IFERROR(VLOOKUP($C54,学費計算!$C:$R,学費計算!F$1,0),0)","v":0},{"$f":"IFERROR(VLOOKUP($C54,学費計算!$C:$R,学費計算!G$1,0),0)","v":0},null,0,0,{"$f":"IF(AND($C54>=0,$C54<=入力!$P$36),AE$1,0)","v":0},null,null,null,null,null,0,0,-1492.6478999999997]
[null,68,45,null,{"$f":"IF(親1!D55<=833.3+42*親1!AS55,IF(AND(C55>=0,C55<=3),1.5*12,IF(AND(C55>3,C55<=15),1*12,0)),IF(AND(C55>=0,C55<=15),0.5*12,0))","v":0},null,null,null,null,0,null,null,{"$f":"IF(AND($C55>=0,$C55<=入力!$P$38),M$1,0)","v":0},{"$f":"IF(AND($C55>=0,$C55<=入力!$P$38),N$1,0)","v":0},{"$f":"IF(AND($C55>=0,$C55<=入力!$P$38),O$1,0)","v":0},{"$f":"IF(AND($C55>=0,$C55<=入力!$P$38),P$1,0)","v":0},{"$f":"IF(AND($C55>=0,$C55<=入力!$P$38),Q$1,0)","v":0},null,null,0,0,null,{"$f":"IF(AND($C55>=10,$C55<=入力!$P$38),W$1,0)","v":0},{"$f":"IFERROR(VLOOKUP($C55,学費計算!$C:$R,学費計算!D$1,0),0)","v":0},{"$f":"IFERROR(VLOOKUP($C55,学費計算!$C:$R,学費計算!E$1,0),0)","v":0},{"$f":"IFERROR(VLOOKUP($C55,学費計算!$C:$R,学費計算!F$1,0),0)","v":0},{"$f":"IFERROR(VLOOKUP($C55,学費計算!$C:$R,学費計算!G$1,0),0)","v":0},null,0,0,{"$f":"IF(AND($C55>=0,$C55<=入力!$P$36),AE$1,0)","v":0},null,null,null,null,null,0,0,-1492.6478999999997]
[null,69,46,null,{"$f":"IF(親1!D56<=833.3+42*親1!AS56,IF(AND(C56>=0,C56<=3),1.5*12,IF(AND(C56>3,C56<=15),1*12,0)),IF(AND(C56>=0,C56<=15),0.5*12,0))","v":0},null,null,null,null,0,null,null,{"$f":"IF(AND($C56>=0,$C56<=入力!$P$38),M$1,0)","v":0},{"$f":"IF(AND($C56>=0,$C56<=入力!$P$38),N$1,0)","v":0},{"$f":"IF(AND($C56>=0,$C56<=入力!$P$38),O$1,0)","v":0},{"$f":"IF(AND($C56>=0,$C56<=入力!$P$38),P$1,0)","v":0},{"$f":"IF(AND($C56>=0,$C56<=入力!$P$38),Q$1,0)","v":0},null,null,0,0,null,{"$f":"IF(AND($C56>=10,$C56<=入力!$P$38),W$1,0)","v":0},{"$f":"IFERROR(VLOOKUP($C56,学費計算!$C:$R,学費計算!D$1,0),0)","v":0},{"$f":"IFERROR(VLOOKUP($C56,学費計算!$C:$R,学費計算!E$1,0),0)","v":0},{"$f":"IFERROR(VLOOKUP($C56,学費計算!$C:$R,学費計算!F$1,0),0)","v":0},{"$f":"IFERROR(VLOOKUP($C56,学費計算!$C:$R,学費計算!G$1,0),0)","v":0},null,0,0,{"$f":"IF(AND($C56>=0,$C56<=入力!$P$36),AE$1,0)","v":0},null,null,null,null,null,0,0,-1492.6478999999997]
[null,70,47,null,{"$f":"IF(親1!D57<=833.3+42*親1!AS57,IF(AND(C57>=0,C57<=3),1.5*12,IF(AND(C57>3,C57<=15),1*12,0)),IF(AND(C57>=0,C57<=15),0.5*12,0))","v":0},null,null,null,null,0,null,null,{"$f":"IF(AND($C57>=0,$C57<=入力!$P$38),M$1,0)","v":0},{"$f":"IF(AND($C57>=0,$C57<=入力!$P$38),N$1,0)","v":0},{"$f":"IF(AND($C57>=0,$C57<=入力!$P$38),O$1,0)","v":0},{"$f":"IF(AND($C57>=0,$C57<=入力!$P$38),P$1,0)","v":0},{"$f":"IF(AND($C57>=0,$C57<=入力!$P$38),Q$1,0)","v":0},null,null,0,0,null,{"$f":"IF(AND($C57>=10,$C57<=入力!$P$38),W$1,0)","v":0},{"$f":"IFERROR(VLOOKUP($C57,学費計算!$C:$R,学費計算!D$1,0),0)","v":0},{"$f":"IFERROR(VLOOKUP($C57,学費計算!$C:$R,学費計算!E$1,0),0)","v":0},{"$f":"IFERROR(VLOOKUP($C57,学費計算!$C:$R,学費計算!F$1,0),0)","v":0},{"$f":"IFERROR(VLOOKUP($C57,学費計算!$C:$R,学費計算!G$1,0),0)","v":0},null,0,0,{"$f":"IF(AND($C57>=0,$C57<=入力!$P$36),AE$1,0)","v":0},null,null,null,null,null,0,0,-1492.6478999999997]
[null,71,48,null,{"$f":"IF(親1!D58<=833.3+42*親1!AS58,IF(AND(C58>=0,C58<=3),1.5*12,IF(AND(C58>3,C58<=15),1*12,0)),IF(AND(C58>=0,C58<=15),0.5*12,0))","v":0},null,null,null,null,0,null,null,{"$f":"IF(AND($C58>=0,$C58<=入力!$P$38),M$1,0)","v":0},{"$f":"IF(AND($C58>=0,$C58<=入力!$P$38),N$1,0)","v":0},{"$f":"IF(AND($C58>=0,$C58<=入力!$P$38),O$1,0)","v":0},{"$f":"IF(AND($C58>=0,$C58<=入力!$P$38),P$1,0)","v":0},{"$f":"IF(AND($C58>=0,$C58<=入力!$P$38),Q$1,0)","v":0},null,null,0,0,null,{"$f":"IF(AND($C58>=10,$C58<=入力!$P$38),W$1,0)","v":0},{"$f":"IFERROR(VLOOKUP($C58,学費計算!$C:$R,学費計算!D$1,0),0)","v":0},{"$f":"IFERROR(VLOOKUP($C58,学費計算!$C:$R,学費計算!E$1,0),0)","v":0},{"$f":"IFERROR(VLOOKUP($C58,学費計算!$C:$R,学費計算!F$1,0),0)","v":0},{"$f":"IFERROR(VLOOKUP($C58,学費計算!$C:$R,学費計算!G$1,0),0)","v":0},null,0,0,{"$f":"IF(AND($C58>=0,$C58<=入力!$P$36),AE$1,0)","v":0},null,null,null,null,null,0,0,-1492.6478999999997]
[null,72,49,null,{"$f":"IF(親1!D59<=833.3+42*親1!AS59,IF(AND(C59>=0,C59<=3),1.5*12,IF(AND(C59>3,C59<=15),1*12,0)),IF(AND(C59>=0,C59<=15),0.5*12,0))","v":0},null,null,null,null,0,null,null,{"$f":"IF(AND($C59>=0,$C59<=入力!$P$38),M$1,0)","v":0},{"$f":"IF(AND($C59>=0,$C59<=入力!$P$38),N$1,0)","v":0},{"$f":"IF(AND($C59>=0,$C59<=入力!$P$38),O$1,0)","v":0},{"$f":"IF(AND($C59>=0,$C59<=入力!$P$38),P$1,0)","v":0},{"$f":"IF(AND($C59>=0,$C59<=入力!$P$38),Q$1,0)","v":0},null,null,0,0,null,{"$f":"IF(AND($C59>=10,$C59<=入力!$P$38),W$1,0)","v":0},{"$f":"IFERROR(VLOOKUP($C59,学費計算!$C:$R,学費計算!D$1,0),0)","v":0},{"$f":"IFERROR(VLOOKUP($C59,学費計算!$C:$R,学費計算!E$1,0),0)","v":0},{"$f":"IFERROR(VLOOKUP($C59,学費計算!$C:$R,学費計算!F$1,0),0)","v":0},{"$f":"IFERROR(VLOOKUP($C59,学費計算!$C:$R,学費計算!G$1,0),0)","v":0},null,0,0,{"$f":"IF(AND($C59>=0,$C59<=入力!$P$36),AE$1,0)","v":0},null,null,null,null,null,0,0,-1492.6478999999997]
[null,73,50,null,{"$f":"IF(親1!D60<=833.3+42*親1!AS60,IF(AND(C60>=0,C60<=3),1.5*12,IF(AND(C60>3,C60<=15),1*12,0)),IF(AND(C60>=0,C60<=15),0.5*12,0))","v":0},null,null,null,null,0,null,null,{"$f":"IF(AND($C60>=0,$C60<=入力!$P$38),M$1,0)","v":0},{"$f":"IF(AND($C60>=0,$C60<=入力!$P$38),N$1,0)","v":0},{"$f":"IF(AND($C60>=0,$C60<=入力!$P$38),O$1,0)","v":0},{"$f":"IF(AND($C60>=0,$C60<=入力!$P$38),P$1,0)","v":0},{"$f":"IF(AND($C60>=0,$C60<=入力!$P$38),Q$1,0)","v":0},null,null,0,0,null,{"$f":"IF(AND($C60>=10,$C60<=入力!$P$38),W$1,0)","v":0},{"$f":"IFERROR(VLOOKUP($C60,学費計算!$C:$R,学費計算!D$1,0),0)","v":0},{"$f":"IFERROR(VLOOKUP($C60,学費計算!$C:$R,学費計算!E$1,0),0)","v":0},{"$f":"IFERROR(VLOOKUP($C60,学費計算!$C:$R,学費計算!F$1,0),0)","v":0},{"$f":"IFERROR(VLOOKUP($C60,学費計算!$C:$R,学費計算!G$1,0),0)","v":0},null,0,0,{"$f":"IF(AND($C60>=0,$C60<=入力!$P$36),AE$1,0)","v":0},null,null,null,null,null,0,0,-1492.6478999999997]
[null,74,51,null,{"$f":"IF(親1!D61<=833.3+42*親1!AS61,IF(AND(C61>=0,C61<=3),1.5*12,IF(AND(C61>3,C61<=15),1*12,0)),IF(AND(C61>=0,C61<=15),0.5*12,0))","v":0},null,null,null,null,0,null,null,{"$f":"IF(AND($C61>=0,$C61<=入力!$P$38),M$1,0)","v":0},{"$f":"IF(AND($C61>=0,$C61<=入力!$P$38),N$1,0)","v":0},{"$f":"IF(AND($C61>=0,$C61<=入力!$P$38),O$1,0)","v":0},{"$f":"IF(AND($C61>=0,$C61<=入力!$P$38),P$1,0)","v":0},{"$f":"IF(AND($C61>=0,$C61<=入力!$P$38),Q$1,0)","v":0},null,null,0,0,null,{"$f":"IF(AND($C61>=10,$C61<=入力!$P$38),W$1,0)","v":0},{"$f":"IFERROR(VLOOKUP($C61,学費計算!$C:$R,学費計算!D$1,0),0)","v":0},{"$f":"IFERROR(VLOOKUP($C61,学費計算!$C:$R,学費計算!E$1,0),0)","v":0},{"$f":"IFERROR(VLOOKUP($C61,学費計算!$C:$R,学費計算!F$1,0),0)","v":0},{"$f":"IFERROR(VLOOKUP($C61,学費計算!$C:$R,学費計算!G$1,0),0)","v":0},null,0,0,{"$f":"IF(AND($C61>=0,$C61<=入力!$P$36),AE$1,0)","v":0},null,null,null,null,null,0,0,-1492.6478999999997]
[null,75,52,null,{"$f":"IF(親1!D62<=833.3+42*親1!AS62,IF(AND(C62>=0,C62<=3),1.5*12,IF(AND(C62>3,C62<=15),1*12,0)),IF(AND(C62>=0,C62<=15),0.5*12,0))","v":0},null,null,null,null,0,null,null,{"$f":"IF(AND($C62>=0,$C62<=入力!$P$38),M$1,0)","v":0},{"$f":"IF(AND($C62>=0,$C62<=入力!$P$38),N$1,0)","v":0},{"$f":"IF(AND($C62>=0,$C62<=入力!$P$38),O$1,0)","v":0},{"$f":"IF(AND($C62>=0,$C62<=入力!$P$38),P$1,0)","v":0},{"$f":"IF(AND($C62>=0,$C62<=入力!$P$38),Q$1,0)","v":0},null,null,0,0,null,{"$f":"IF(AND($C62>=10,$C62<=入力!$P$38),W$1,0)","v":0},{"$f":"IFERROR(VLOOKUP($C62,学費計算!$C:$R,学費計算!D$1,0),0)","v":0},{"$f":"IFERROR(VLOOKUP($C62,学費計算!$C:$R,学費計算!E$1,0),0)","v":0},{"$f":"IFERROR(VLOOKUP($C62,学費計算!$C:$R,学費計算!F$1,0),0)","v":0},{"$f":"IFERROR(VLOOKUP($C62,学費計算!$C:$R,学費計算!G$1,0),0)","v":0},null,0,0,{"$f":"IF(AND($C62>=0,$C62<=入力!$P$36),AE$1,0)","v":0},null,null,null,null,null,0,0,-1492.6478999999997]
[null,76,53,null,{"$f":"IF(親1!D63<=833.3+42*親1!AS63,IF(AND(C63>=0,C63<=3),1.5*12,IF(AND(C63>3,C63<=15),1*12,0)),IF(AND(C63>=0,C63<=15),0.5*12,0))","v":0},null,null,null,null,0,null,null,{"$f":"IF(AND($C63>=0,$C63<=入力!$P$38),M$1,0)","v":0},{"$f":"IF(AND($C63>=0,$C63<=入力!$P$38),N$1,0)","v":0},{"$f":"IF(AND($C63>=0,$C63<=入力!$P$38),O$1,0)","v":0},{"$f":"IF(AND($C63>=0,$C63<=入力!$P$38),P$1,0)","v":0},{"$f":"IF(AND($C63>=0,$C63<=入力!$P$38),Q$1,0)","v":0},null,null,0,0,null,{"$f":"IF(AND($C63>=10,$C63<=入力!$P$38),W$1,0)","v":0},{"$f":"IFERROR(VLOOKUP($C63,学費計算!$C:$R,学費計算!D$1,0),0)","v":0},{"$f":"IFERROR(VLOOKUP($C63,学費計算!$C:$R,学費計算!E$1,0),0)","v":0},{"$f":"IFERROR(VLOOKUP($C63,学費計算!$C:$R,学費計算!F$1,0),0)","v":0},{"$f":"IFERROR(VLOOKUP($C63,学費計算!$C:$R,学費計算!G$1,0),0)","v":0},null,0,0,{"$f":"IF(AND($C63>=0,$C63<=入力!$P$36),AE$1,0)","v":0},null,null,null,null,null,0,0,-1492.6478999999997]
[null,77,54,null,{"$f":"IF(親1!D64<=833.3+42*親1!AS64,IF(AND(C64>=0,C64<=3),1.5*12,IF(AND(C64>3,C64<=15),1*12,0)),IF(AND(C64>=0,C64<=15),0.5*12,0))","v":0},null,null,null,null,0,null,null,{"$f":"IF(AND($C64>=0,$C64<=入力!$P$38),M$1,0)","v":0},{"$f":"IF(AND($C64>=0,$C64<=入力!$P$38),N$1,0)","v":0},{"$f":"IF(AND($C64>=0,$C64<=入力!$P$38),O$1,0)","v":0},{"$f":"IF(AND($C64>=0,$C64<=入力!$P$38),P$1,0)","v":0},{"$f":"IF(AND($C64>=0,$C64<=入力!$P$38),Q$1,0)","v":0},null,null,0,0,null,{"$f":"IF(AND($C64>=10,$C64<=入力!$P$38),W$1,0)","v":0},{"$f":"IFERROR(VLOOKUP($C64,学費計算!$C:$R,学費計算!D$1,0),0)","v":0},{"$f":"IFERROR(VLOOKUP($C64,学費計算!$C:$R,学費計算!E$1,0),0)","v":0},{"$f":"IFERROR(VLOOKUP($C64,学費計算!$C:$R,学費計算!F$1,0),0)","v":0},{"$f":"IFERROR(VLOOKUP($C64,学費計算!$C:$R,学費計算!G$1,0),0)","v":0},null,0,0,{"$f":"IF(AND($C64>=0,$C64<=入力!$P$36),AE$1,0)","v":0},null,null,null,null,null,0,0,-1492.6478999999997]
[null,78,55,null,{"$f":"IF(親1!D65<=833.3+42*親1!AS65,IF(AND(C65>=0,C65<=3),1.5*12,IF(AND(C65>3,C65<=15),1*12,0)),IF(AND(C65>=0,C65<=15),0.5*12,0))","v":0},null,null,null,null,0,null,null,{"$f":"IF(AND($C65>=0,$C65<=入力!$P$38),M$1,0)","v":0},{"$f":"IF(AND($C65>=0,$C65<=入力!$P$38),N$1,0)","v":0},{"$f":"IF(AND($C65>=0,$C65<=入力!$P$38),O$1,0)","v":0},{"$f":"IF(AND($C65>=0,$C65<=入力!$P$38),P$1,0)","v":0},{"$f":"IF(AND($C65>=0,$C65<=入力!$P$38),Q$1,0)","v":0},null,null,0,0,null,{"$f":"IF(AND($C65>=10,$C65<=入力!$P$38),W$1,0)","v":0},{"$f":"IFERROR(VLOOKUP($C65,学費計算!$C:$R,学費計算!D$1,0),0)","v":0},{"$f":"IFERROR(VLOOKUP($C65,学費計算!$C:$R,学費計算!E$1,0),0)","v":0},{"$f":"IFERROR(VLOOKUP($C65,学費計算!$C:$R,学費計算!F$1,0),0)","v":0},{"$f":"IFERROR(VLOOKUP($C65,学費計算!$C:$R,学費計算!G$1,0),0)","v":0},null,0,0,{"$f":"IF(AND($C65>=0,$C65<=入力!$P$36),AE$1,0)","v":0},null,null,null,null,null,0,0,-1492.6478999999997]
[null,79,56,null,{"$f":"IF(親1!D66<=833.3+42*親1!AS66,IF(AND(C66>=0,C66<=3),1.5*12,IF(AND(C66>3,C66<=15),1*12,0)),IF(AND(C66>=0,C66<=15),0.5*12,0))","v":0},null,null,null,null,0,null,null,{"$f":"IF(AND($C66>=0,$C66<=入力!$P$38),M$1,0)","v":0},{"$f":"IF(AND($C66>=0,$C66<=入力!$P$38),N$1,0)","v":0},{"$f":"IF(AND($C66>=0,$C66<=入力!$P$38),O$1,0)","v":0},{"$f":"IF(AND($C66>=0,$C66<=入力!$P$38),P$1,0)","v":0},{"$f":"IF(AND($C66>=0,$C66<=入力!$P$38),Q$1,0)","v":0},null,null,0,0,null,{"$f":"IF(AND($C66>=10,$C66<=入力!$P$38),W$1,0)","v":0},{"$f":"IFERROR(VLOOKUP($C66,学費計算!$C:$R,学費計算!D$1,0),0)","v":0},{"$f":"IFERROR(VLOOKUP($C66,学費計算!$C:$R,学費計算!E$1,0),0)","v":0},{"$f":"IFERROR(VLOOKUP($C66,学費計算!$C:$R,学費計算!F$1,0),0)","v":0},{"$f":"IFERROR(VLOOKUP($C66,学費計算!$C:$R,学費計算!G$1,0),0)","v":0},null,0,0,{"$f":"IF(AND($C66>=0,$C66<=入力!$P$36),AE$1,0)","v":0},null,null,null,null,null,0,0,-1492.6478999999997]
[null,80,57,null,{"$f":"IF(親1!D67<=833.3+42*親1!AS67,IF(AND(C67>=0,C67<=3),1.5*12,IF(AND(C67>3,C67<=15),1*12,0)),IF(AND(C67>=0,C67<=15),0.5*12,0))","v":0},null,null,null,null,0,null,null,{"$f":"IF(AND($C67>=0,$C67<=入力!$P$38),M$1,0)","v":0},{"$f":"IF(AND($C67>=0,$C67<=入力!$P$38),N$1,0)","v":0},{"$f":"IF(AND($C67>=0,$C67<=入力!$P$38),O$1,0)","v":0},{"$f":"IF(AND($C67>=0,$C67<=入力!$P$38),P$1,0)","v":0},{"$f":"IF(AND($C67>=0,$C67<=入力!$P$38),Q$1,0)","v":0},null,null,0,0,null,{"$f":"IF(AND($C67>=10,$C67<=入力!$P$38),W$1,0)","v":0},{"$f":"IFERROR(VLOOKUP($C67,学費計算!$C:$R,学費計算!D$1,0),0)","v":0},{"$f":"IFERROR(VLOOKUP($C67,学費計算!$C:$R,学費計算!E$1,0),0)","v":0},{"$f":"IFERROR(VLOOKUP($C67,学費計算!$C:$R,学費計算!F$1,0),0)","v":0},{"$f":"IFERROR(VLOOKUP($C67,学費計算!$C:$R,学費計算!G$1,0),0)","v":0},null,0,0,{"$f":"IF(AND($C67>=0,$C67<=入力!$P$36),AE$1,0)","v":0},null,null,null,null,null,0,0,-1492.6478999999997]
[null,81,58,null,{"$f":"IF(親1!D68<=833.3+42*親1!AS68,IF(AND(C68>=0,C68<=3),1.5*12,IF(AND(C68>3,C68<=15),1*12,0)),IF(AND(C68>=0,C68<=15),0.5*12,0))","v":0},null,null,null,null,0,null,null,{"$f":"IF(AND($C68>=0,$C68<=入力!$P$38),M$1,0)","v":0},{"$f":"IF(AND($C68>=0,$C68<=入力!$P$38),N$1,0)","v":0},{"$f":"IF(AND($C68>=0,$C68<=入力!$P$38),O$1,0)","v":0},{"$f":"IF(AND($C68>=0,$C68<=入力!$P$38),P$1,0)","v":0},{"$f":"IF(AND($C68>=0,$C68<=入力!$P$38),Q$1,0)","v":0},null,null,0,0,null,{"$f":"IF(AND($C68>=10,$C68<=入力!$P$38),W$1,0)","v":0},{"$f":"IFERROR(VLOOKUP($C68,学費計算!$C:$R,学費計算!D$1,0),0)","v":0},{"$f":"IFERROR(VLOOKUP($C68,学費計算!$C:$R,学費計算!E$1,0),0)","v":0},{"$f":"IFERROR(VLOOKUP($C68,学費計算!$C:$R,学費計算!F$1,0),0)","v":0},{"$f":"IFERROR(VLOOKUP($C68,学費計算!$C:$R,学費計算!G$1,0),0)","v":0},null,0,0,{"$f":"IF(AND($C68>=0,$C68<=入力!$P$36),AE$1,0)","v":0},null,null,null,null,null,0,0,-1492.6478999999997]
[null,82,59,null,{"$f":"IF(親1!D69<=833.3+42*親1!AS69,IF(AND(C69>=0,C69<=3),1.5*12,IF(AND(C69>3,C69<=15),1*12,0)),IF(AND(C69>=0,C69<=15),0.5*12,0))","v":0},null,null,null,null,0,null,null,{"$f":"IF(AND($C69>=0,$C69<=入力!$P$38),M$1,0)","v":0},{"$f":"IF(AND($C69>=0,$C69<=入力!$P$38),N$1,0)","v":0},{"$f":"IF(AND($C69>=0,$C69<=入力!$P$38),O$1,0)","v":0},{"$f":"IF(AND($C69>=0,$C69<=入力!$P$38),P$1,0)","v":0},{"$f":"IF(AND($C69>=0,$C69<=入力!$P$38),Q$1,0)","v":0},null,null,0,0,null,{"$f":"IF(AND($C69>=10,$C69<=入力!$P$38),W$1,0)","v":0},{"$f":"IFERROR(VLOOKUP($C69,学費計算!$C:$R,学費計算!D$1,0),0)","v":0},{"$f":"IFERROR(VLOOKUP($C69,学費計算!$C:$R,学費計算!E$1,0),0)","v":0},{"$f":"IFERROR(VLOOKUP($C69,学費計算!$C:$R,学費計算!F$1,0),0)","v":0},{"$f":"IFERROR(VLOOKUP($C69,学費計算!$C:$R,学費計算!G$1,0),0)","v":0},null,0,0,{"$f":"IF(AND($C69>=0,$C69<=入力!$P$36),AE$1,0)","v":0},null,null,null,null,null,0,0,-1492.6478999999997]
[null,83,60,null,{"$f":"IF(親1!D70<=833.3+42*親1!AS70,IF(AND(C70>=0,C70<=3),1.5*12,IF(AND(C70>3,C70<=15),1*12,0)),IF(AND(C70>=0,C70<=15),0.5*12,0))","v":0},null,null,null,null,0,null,null,{"$f":"IF(AND($C70>=0,$C70<=入力!$P$38),M$1,0)","v":0},{"$f":"IF(AND($C70>=0,$C70<=入力!$P$38),N$1,0)","v":0},{"$f":"IF(AND($C70>=0,$C70<=入力!$P$38),O$1,0)","v":0},{"$f":"IF(AND($C70>=0,$C70<=入力!$P$38),P$1,0)","v":0},{"$f":"IF(AND($C70>=0,$C70<=入力!$P$38),Q$1,0)","v":0},null,null,{"$f":"SUM(K70:S70)","v":0},{"$f":"J70-T70","v":0},null,{"$f":"IF(AND($C70>=10,$C70<=入力!$P$38),W$1,0)","v":0},{"$f":"IFERROR(VLOOKUP($C70,学費計算!$C:$R,学費計算!D$1,0),0)","v":0},{"$f":"IFERROR(VLOOKUP($C70,学費計算!$C:$R,学費計算!E$1,0),0)","v":0},{"$f":"IFERROR(VLOOKUP($C70,学費計算!$C:$R,学費計算!F$1,0),0)","v":0},{"$f":"IFERROR(VLOOKUP($C70,学費計算!$C:$R,学費計算!G$1,0),0)","v":0},null,{"$f":"SUM(V70:AB70)","v":0},{"$f":"U70-AC70","v":0},{"$f":"IF(AND($C70>=0,$C70<=入力!$P$36),AE$1,0)","v":0},null,null,null,null,null,0,{"$f":"AD70-AK70","v":0},{"$f":"AL70+AM69","v":-1492.6478999999997}]
[null,null,null,{"$f":"SUM(D6:D70)","v":0},216,0,null,0,0,216,0,0,455.40000000000015,151.79999999999993,37.949999999999982,30.360000000000007,18.974999999999991,null,{"$f":"SUM(S6:S70)","v":0},694.48500000000024,-478.4849999999999,0,31.199999999999996,72,144,538.96289999999999,0,0,786.16289999999992,-1264.6478999999999,228,0,0,0,0,0,228,{"$f":"SUM(AL5:AL70)","v":-1492.6478999999997}]
[]
[]
[null,null,null,null,null,null,null,null,null,null,null,null,null,null,null,null,null,null,null,null,null,null,null,null,null,{"$f":"SUMIF($C$6:$C$70,\">=18\",Z6:Z70)","v":253.96509999999995},{"$f":"SUMIF($C$6:$C$70,\">=18\",AA6:AA70)","v":0}]

{"sheet":"子2","index":6,"n_rows":74,"n_cols":39,"rows_kept":74,"cut":false,"hidden":false,"merged":[]}
[null,null,null,null,null,null,null,null,null,null,null,null,{"$f":"IF($C$30>0,入力!AD13*12*(1+入力!$AD$16),0)","v":19.8},{"$f":"IF($C$30>0,入力!AE13*12*(1+入力!$AD$16),0)","v":6.6000000000000005},{"$f":"IF($C$30>0,入力!AF13*12*(1+入力!$AD$16),0)","v":1.6500000000000001},{"$f":"IF($C$30>0,入力!AG13*12*(1+入力!$AD$16),0)","v":1.3200000000000003},{"$f":"IF($C$30>0,入力!AH13*12*(1+入力!$AD$16),0)","v":0.82500000000000007},null,null,null,null,null,{"$f":"IF($C$30>0,入力!AJ13*12,0)","v":2.4000000000000004},null,null,null,null,null,null,null,{"$f":"入力!P35*12","v":12}]
[null,null,null,null,null,null,null,null,null,"収入",null,null,null,null,null,null,null,null,null,null,"収支 小計",null,null,null,null,null,null,null,null,"収支 小計",null,null,null,null,null,null,null,"収支","収支累計"]
[null,null,null,null,null,null,null,null,null,null,null,null,null,null,null,null,null,null,null,"支出1  衣食住",null,null,null,null,null,null,null,null,"支出2  固定費",null,null,null,null,null,null,null,"支出3  衣食住勉"]
[null,"西暦","年齢","年収","手取り","時短等","退職金","年金",null,null,"住居","住居維持費\n(含むローン控除)","食費","服費","電気","ガス","水道","保険",null,null,null,"インターネット","携帯","塾・仕送り","習い事","学費","仕送り",null,null,null,"お小遣い","雑費","家具","車1","車2","車維持費","合計"]
[null,"貯金"]
[null,19,{"$f":"IF(入力!$Q$11=\"\",-100,入力!$Q$11)","v":-7},null,{"$f":"IF(親1!D6<=833.3+42*親1!AS6,IF(AND(C6>=0,C6<=3),1.5*12,IF(AND(C6>3,C6<=15),1*12,0)),IF(AND(C6>=0,C6<=15),0.5*12,0))","v":0},null,null,null,null,{"$f":"SUM(E6:I6)","v":0},null,null,{"$f":"IF(AND($C6>=0,$C6<=入力!$Q$38),M$1,0)","v":0},{"$f":"IF(AND($C6>=0,$C6<=入力!$Q$38),N$1,0)","v":0},{"$f":"IF(AND($C6>=0,$C6<=入力!$Q$38),O$1,0)","v":0},{"$f":"IF(AND($C6>=0,$C6<=入力!$Q$38),P$1,0)","v":0},{"$f":"IF(AND($C6>=0,$C6<=入力!$Q$38),Q$1,0)","v":0},null,null,{"$f":"SUM(K6:S6)","v":0},{"$f":"J6-T6","v":0},null,{"$f":"IF(AND($C6>=10,$C6<=入力!$Q$38),W$1,0)","v":0},{"$f":"IFERROR(VLOOKUP($C6,学費計算!$C:$R,学費計算!H$1,0),0)","v":0},{"$f":"IFERROR(VLOOKUP($C6,学費計算!$C:$R,学費計算!I$1,0),0)","v":0},{"$f":"IFERROR(VLOOKUP($C6,学費計算!$C:$R,学費計算!J$1,0),0)","v":0},{"$f":"IFERROR(VLOOKUP($C6,学費計算!$C:$R,学費計算!K$1,0),0)","v":0},null,{"$f":"SUM(V6:AB6)","v":0},{"$f":"U6-AC6","v":0},{"$f":"IF(AND($C6>=0,$C6<=入力!$Q$36),AE$1,0)","v":0},null,null,null,null,null,{"$f":"SUM(AE6:AJ6)","v":0},{"$f":"AD6-AK6","v":0},{"$f":"AL6+AM5","v":0}]
[null,{"$f":"B6+1","v":20},{"$f":"C6+1","v":-6},null,{"$f":"IF(親1!D7<=833.3+42*親1!AS7,IF(AND(C7>=0,C7<=3),1.5*12,IF(AND(C7>3,C7<=15),1*12,0)),IF(AND(C7>=0,C7<=15),0.5*12,0))","v":0},null,null,null,null,0,null,null,{"$f":"IF(AND($C7>=0,$C7<=入力!$Q$38),M$1,0)","v":0},{"$f":"IF(AND($C7>=0,$C7<=入力!$Q$38),N$1,0)","v":0},{"$f":"IF(AND($C7>=0,$C7<=入力!$Q$38),O$1,0)","v":0},{"$f":"IF(AND($C7>=0,$C7<=入力!$Q$38),P$1,0)","v":0},{"$f":"IF(AND($C7>=0,$C7<=入力!$Q$38),Q$1,0)","v":0},null,null,0,0,null,{"$f":"IF(AND($C7>=10,$C7<=入力!$Q$38),W$1,0)","v":0},{"$f":"IFERROR(VLOOKUP($C7,学費計算!$C:$R,学費計算!H$1,0),0)","v":0},{"$f":"IFERROR(VLOOKUP($C7,学費計算!$C:$R,学費計算!I$1,0),0)","v":0},{"$f":"IFERROR(VLOOKUP($C7,学費計算!$C:$R,学費計算!J$1,0),0)","v":0},{"$f":"IFERROR(VLOOKUP($C7,学費計算!$C:$R,学費計算!K$1,0),0)","v":0},null,0,0,{"$f":"IF(AND($C7>=0,$C7<=入力!$Q$38),AE$1,0)","v":0},null,null,null,null,null,{"$f":"SUM(AE7:AJ7)","v":0},0,0]
[null,{"$f":"B7+1","v":21},{"$f":"C7+1","v":-5},null,{"$f":"IF(親1!D8<=833.3+42*親1!AS8,IF(AND(C8>=0,C8<=3),1.5*12,IF(AND(C8>3,C8<=15),1*12,0)),IF(AND(C8>=0,C8<=15),0.5*12,0))","v":0},null,null,null,null,0,null,null,{"$f":"IF(AND($C8>=0,$C8<=入力!$Q$38),M$1,0)","v":0},{"$f":"IF(AND($C8>=0,$C8<=入力!$Q$38),N$1,0)","v":0},{"$f":"IF(AND($C8>=0,$C8<=入力!$Q$38),O$1,0)","v":0},{"$f":"IF(AND($C8>=0,$C8<=入力!$Q$38),P$1,0)","v":0},{"$f":"IF(AND($C8>=0,$C8<=入力!$Q$38),Q$1,0)","v":0},null,null,0,0,null,{"$f":"IF(AND($C8>=10,$C8<=入力!$Q$38),W$1,0)","v":0},{"$f":"IFERROR(VLOOKUP($C8,学費計算!$C:$R,学費計算!H$1,0),0)","v":0},{"$f":"IFERROR(VLOOKUP($C8,学費計算!$C:$R,学費計算!I$1,0),0)","v":0},{"$f":"IFERROR(VLOOKUP($C8,学費計算!$C:$R,学費計算!J$1,0),0)","v":0},{"$f":"IFERROR(VLOOKUP($C8,学費計算!$C:$R,学費計算!K$1,0),0)","v":0},null,0,0,{"$f":"IF(AND($C8>=0,$C8<=入力!$Q$38),AE$1,0)","v":0},null,null,null,null,null,0,0,0]
[null,22,-4,null,{"$f":"IF(親1!D9<=833.3+42*親1!AS9,IF(AND(C9>=0,C9<=3),1.5*12,IF(AND(C9>3,C9<=15),1*12,0)),IF(AND(C9>=0,C9<=15),0.5*12,0))","v":0},null,null,null,null,0,null,null,{"$f":"IF(AND($C9>=0,$C9<=入力!$Q$38),M$1,0)","v":0},{"$f":"IF(AND($C9>=0,$C9<=入力!$Q$38),N$1,0)","v":0},{"$f":"IF(AND($C9>=0,$C9<=入力!$Q$38),O$1,0)","v":0},{"$f":"IF(AND($C9>=0,$C9<=入力!$Q$38),P$1,0)","v":0},{"$f":"IF(AND($C9>=0,$C9<=入力!$Q$38),Q$1,0)","v":0},null,null,0,0,null,{"$f":"IF(AND($C9>=10,$C9<=入力!$Q$38),W$1,0)","v":0},{"$f":"IFERROR(VLOOKUP($C9,学費計算!$C:$R,学費計算!H$1,0),0)","v":0},{"$f":"IFERROR(VLOOKUP($C9,学費計算!$C:$R,学費計算!I$1,0),0)","v":0},{"$f":"IFERROR(VLOOKUP($C9,学費計算!$C:$R,学費計算!J$1,0),0)","v":0},{"$f":"IFERROR(VLOOKUP($C9,学費計算!$C:$R,学費計算!K$1,0),0)","v":0},null,0,0,{"$f":"IF(AND($C9>=0,$C9<=入力!$Q$38),AE$1,0)","v":0},null,null,null,null,null,0,0,0]
[null,23,-3,null,{"$f":"IF(親1!D10<=833.3+42*親1!AS10,IF(AND(C10>=0,C10<=3),1.5*12,IF(AND(C10>3,C10<=15),1*12,0)),IF(AND(C10>=0,C10<=15),0.5*12,0))","v":0},null,null,null,null,0,null,null,{"$f":"IF(AND($C10>=0,$C10<=入力!$Q$38),M$1,0)","v":0},{"$f":"IF(AND($C10>=0,$C10<=入力!$Q$38),N$1,0)","v":0},{"$f":"IF(AND($C10>=0,$C10<=入力!$Q$38),O$1,0)","v":0},{"$f":"IF(AND($C10>=0,$C10<=入力!$Q$38),P$1,0)","v":0},{"$f":"IF(AND($C10>=0,$C10<=入力!$Q$38),Q$1,0)","v":0},null,null,0,0,null,{"$f":"IF(AND($C10>=10,$C10<=入力!$Q$38),W$1,0)","v":0},{"$f":"IFERROR(VLOOKUP($C10,学費計算!$C:$R,学費計算!H$1,0),0)","v":0},{"$f":"IFERROR(VLOOKUP($C10,学費計算!$C:$R,学費計算!I$1,0),0)","v":0},{"$f":"IFERROR(VLOOKUP($C10,学費計算!$C:$R,学費計算!J$1,0),0)","v":0},{"$f":"IFERROR(VLOOKUP($C10,学費計算!$C:$R,学費計算!K$1,0),0)","v":0},null,0,0,{"$f":"IF(AND($C10>=0,$C10<=入力!$Q$38),AE$1,0)","v":0},null,null,null,null,null,0,0,0]
[null,24,-2,null,{"$f":"IF(親1!D11<=833.3+42*親1!AS11,IF(AND(C11>=0,C11<=3),1.5*12,IF(AND(C11>3,C11<=15),1*12,0)),IF(AND(C11>=0,C11<=15),0.5*12,0))","v":0},null,null,null,null,0,null,null,{"$f":"IF(AND($C11>=0,$C11<=入力!$Q$38),M$1,0)","v":0},{"$f":"IF(AND($C11>=0,$C11<=入力!$Q$38),N$1,0)","v":0},{"$f":"IF(AND($C11>=0,$C11<=入力!$Q$38),O$1,0)","v":0},{"$f":"IF(AND($C11>=0,$C11<=入力!$Q$38),P$1,0)","v":0},{"$f":"IF(AND($C11>=0,$C11<=入力!$Q$38),Q$1,0)","v":0},null,null,0,0,null,{"$f":"IF(AND($C11>=10,$C11<=入力!$Q$38),W$1,0)","v":0},{"$f":"IFERROR(VLOOKUP($C11,学費計算!$C:$R,学費計算!H$1,0),0)","v":0},{"$f":"IFERROR(VLOOKUP($C11,学費計算!$C:$R,学費計算!I$1,0),0)","v":0},{"$f":"IFERROR(VLOOKUP($C11,学費計算!$C:$R,学費計算!J$1,0),0)","v":0},{"$f":"IFERROR(VLOOKUP($C11,学費計算!$C:$R,学費計算!K$1,0),0)","v":0},null,0,0,{"$f":"IF(AND($C11>=0,$C11<=入力!$Q$38),AE$1,0)","v":0},null,null,null,null,null,0,0,0]
[null,25,-1,null,{"$f":"IF(親1!D12<=833.3+42*親1!AS12,IF(AND(C12>=0,C12<=3),1.5*12,IF(AND(C12>3,C12<=15),1*12,0)),IF(AND(C12>=0,C12<=15),0.5*12,0))","v":0},null,null,null,null,0,null,null,{"$f":"IF(AND($C12>=0,$C12<=入力!$Q$38),M$1,0)","v":0},{"$f":"IF(AND($C12>=0,$C12<=入力!$Q$38),N$1,0)","v":0},{"$f":"IF(AND($C12>=0,$C12<=入力!$Q$38),O$1,0)","v":0},{"$f":"IF(AND($C12>=0,$C12<=入力!$Q$38),P$1,0)","v":0},{"$f":"IF(AND($C12>=0,$C12<=入力!$Q$38),Q$1,0)","v":0},null,null,0,0,null,{"$f":"IF(AND($C12>=10,$C12<=入力!$Q$38),W$1,0)","v":0},{"$f":"IFERROR(VLOOKUP($C12,学費計算!$C:$R,学費計算!H$1,0),0)","v":0},{"$f":"IFERROR(VLOOKUP($C12,学費計算!$C:$R,学費計算!I$1,0),0)","v":0},{"$f":"IFERROR(VLOOKUP($C12,学費計算!$C:$R,学費計算!J$1,0),0)","v":0},{"$f":"IFERROR(VLOOKUP($C12,学費計算!$C:$R,学費計算!K$1,0),0)","v":0},null,0,0,{"$f":"IF(AND($C12>=0,$C12<=入力!$Q$38),AE$1,0)","v":0},null,null,null,null,null,0,0,0]
[null,26,0,null,{"$f":"IF(親1!D13<=833.3+42*親1!AS13,IF(AND(C13>=0,C13<=3),1.5*12,IF(AND(C13>3,C13<=15),1*12,0)),IF(AND(C13>=0,C13<=15),0.5*12,0))","v":18},null,null,null,null,18,null,null,{"$f":"IF(AND($C13>=0,$C13<=入力!$Q$38),M$1,0)","v":19.8},{"$f":"IF(AND($C13>=0,$C13<=入力!$Q$38),N$1,0)","v":6.6000000000000005},{"$f":"IF(AND($C13>=0,$C13<=入力!$Q$38),O$1,0)","v":1.6500000000000001},{"$f":"IF(AND($C13>=0,$C13<=入力!$Q$38),P$1,0)","v":1.3200000000000003},{"$f":"IF(AND($C13>=0,$C13<=入力!$Q$38),Q$1,0)","v":0.82500000000000007},null,null,30.195,-12.195,null,{"$f":"IF(AND($C13>=10,$C13<=入力!$Q$38),W$1,0)","v":0},{"$f":"IFERROR(VLOOKUP($C13,学費計算!$C:$R,学費計算!H$1,0),0)","v":0},{"$f":"IFERROR(VLOOKUP($C13,学費計算!$C:$R,学費計算!I$1,0),0)","v":0},{"$f":"IFERROR(VLOOKUP($C13,学費計算!$C:$R,学費計算!J$1,0),0)","v":18},{"$f":"IFERROR(VLOOKUP($C13,学費計算!$C:$R,学費計算!K$1,0),0)","v":0},null,18,-30.195,{"$f":"IF(AND($C13>=0,$C13<=入力!$Q$38),AE$1,0)","v":12},null,null,null,null,null,12,-42.195,-42.195]
[null,27,1,null,{"$f":"IF(親1!D14<=833.3+42*親1!AS14,IF(AND(C14>=0,C14<=3),1.5*12,IF(AND(C14>3,C14<=15),1*12,0)),IF(AND(C14>=0,C14<=15),0.5*12,0))","v":18},null,null,null,null,18,null,null,{"$f":"IF(AND($C14>=0,$C14<=入力!$Q$38),M$1,0)","v":19.8},{"$f":"IF(AND($C14>=0,$C14<=入力!$Q$38),N$1,0)","v":6.6000000000000005},{"$f":"IF(AND($C14>=0,$C14<=入力!$Q$38),O$1,0)","v":1.6500000000000001},{"$f":"IF(AND($C14>=0,$C14<=入力!$Q$38),P$1,0)","v":1.3200000000000003},{"$f":"IF(AND($C14>=0,$C14<=入力!$Q$38),Q$1,0)","v":0.82500000000000007},null,null,30.195,-12.195,null,{"$f":"IF(AND($C14>=10,$C14<=入力!$Q$38),W$1,0)","v":0},{"$f":"IFERROR(VLOOKUP($C14,学費計算!$C:$R,学費計算!H$1,0),0)","v":0},{"$f":"IFERROR(VLOOKUP($C14,学費計算!$C:$R,学費計算!I$1,0),0)","v":0},{"$f":"IFERROR(VLOOKUP($C14,学費計算!$C:$R,学費計算!J$1,0),0)","v":21},{"$f":"IFERROR(VLOOKUP($C14,学費計算!$C:$R,学費計算!K$1,0),0)","v":0},null,21,-33.195,{"$f":"IF(AND($C14>=0,$C14<=入力!$Q$38),AE$1,0)","v":12},null,null,null,null,null,12,-45.195,-87.39]
[null,28,2,null,{"$f":"IF(親1!D15<=833.3+42*親1!AS15,IF(AND(C15>=0,C15<=3),1.5*12,IF(AND(C15>3,C15<=15),1*12,0)),IF(AND(C15>=0,C15<=15),0.5*12,0))","v":18},null,null,null,null,18,null,null,{"$f":"IF(AND($C15>=0,$C15<=入力!$Q$38),M$1,0)","v":19.8},{"$f":"IF(AND($C15>=0,$C15<=入力!$Q$38),N$1,0)","v":6.6000000000000005},{"$f":"IF(AND($C15>=0,$C15<=入力!$Q$38),O$1,0)","v":1.6500000000000001},{"$f":"IF(AND($C15>=0,$C15<=入力!$Q$38),P$1,0)","v":1.3200000000000003},{"$f":"IF(AND($C15>=0,$C15<=入力!$Q$38),Q$1,0)","v":0.82500000000000007},null,null,30.195,-12.195,null,{"$f":"IF(AND($C15>=10,$C15<=入力!$Q$38),W$1,0)","v":0},{"$f":"IFERROR(VLOOKUP($C15,学費計算!$C:$R,学費計算!H$1,0),0)","v":0},{"$f":"IFERROR(VLOOKUP($C15,学費計算!$C:$R,学費計算!I$1,0),0)","v":0},{"$f":"IFERROR(VLOOKUP($C15,学費計算!$C:$R,学費計算!J$1,0),0)","v":21},{"$f":"IFERROR(VLOOKUP($C15,学費計算!$C:$R,学費計算!K$1,0),0)","v":0},null,21,-33.195,{"$f":"IF(AND($C15>=0,$C15<=入力!$Q$38),AE$1,0)","v":12},null,null,null,null,null,12,-45.195,-132.58500000000001]
[null,29,3,null,{"$f":"IF(親1!D16<=833.3+42*親1!AS16,IF(AND(C16>=0,C16<=3),1.5*12,IF(AND(C16>3,C16<=15),1*12,0)),IF(AND(C16>=0,C16<=15),0.5*12,0))","v":18},null,null,null,null,18,null,null,{"$f":"IF(AND($C16>=0,$C16<=入力!$Q$38),M$1,0)","v":19.8},{"$f":"IF(AND($C16>=0,$C16<=入力!$Q$38),N$1,0)","v":6.6000000000000005},{"$f":"IF(AND($C16>=0,$C16<=入力!$Q$38),O$1,0)","v":1.6500000000000001},{"$f":"IF(AND($C16>=0,$C16<=入力!$Q$38),P$1,0)","v":1.3200000000000003},{"$f":"IF(AND($C16>=0,$C16<=入力!$Q$38),Q$1,0)","v":0.82500000000000007},null,null,30.195,-12.195,null,{"$f":"IF(AND($C16>=10,$C16<=入力!$Q$38),W$1,0)","v":0},{"$f":"IFERROR(VLOOKUP($C16,学費計算!$C:$R,学費計算!H$1,0),0)","v":0},{"$f":"IFERROR(VLOOKUP($C16,学費計算!$C:$R,学費計算!I$1,0),0)","v":12},{"$f":"IFERROR(VLOOKUP($C16,学費計算!$C:$R,学費計算!J$1,0),0)","v":4.4733000000000001},{"$f":"IFERROR(VLOOKUP($C16,学費計算!$C:$R,学費計算!K$1,0),0)","v":0},null,16.473300000000002,-28.668300000000002,{"$f":"IF(AND($C16>=0,$C16<=入力!$Q$38),AE$1,0)","v":12},null,null,null,null,null,12,-40.668300000000002,-173.25330000000002]
[null,30,4,null,{"$f":"IF(親1!D17<=833.3+42*親1!AS17,IF(AND(C17>=0,C17<=3),1.5*12,IF(AND(C17>3,C17<=15),1*12,0)),IF(AND(C17>=0,C17<=15),0.5*12,0))","v":12},null,null,null,null,12,null,null,{"$f":"IF(AND($C17>=0,$C17<=入力!$Q$38),M$1,0)","v":19.8},{"$f":"IF(AND($C17>=0,$C17<=入力!$Q$38),N$1,0)","v":6.6000000000000005},{"$f":"IF(AND($C17>=0,$C17<=入力!$Q$38),O$1,0)","v":1.6500000000000001},{"$f":"IF(AND($C17>=0,$C17<=入力!$Q$38),P$1,0)","v":1.3200000000000003},{"$f":"IF(AND($C17>=0,$C17<=入力!$Q$38),Q$1,0)","v":0.82500000000000007},null,null,30.195,-18.195,null,{"$f":"IF(AND($C17>=10,$C17<=入力!$Q$38),W$1,0)","v":0},{"$f":"IFERROR(VLOOKUP($C17,学費計算!$C:$R,学費計算!H$1,0),0)","v":0},{"$f":"IFERROR(VLOOKUP($C17,学費計算!$C:$R,学費計算!I$1,0),0)","v":12},{"$f":"IFERROR(VLOOKUP($C17,学費計算!$C:$R,学費計算!J$1,0),0)","v":4.2769000000000004},{"$f":"IFERROR(VLOOKUP($C17,学費計算!$C:$R,学費計算!K$1,0),0)","v":0},null,16.276900000000001,-34.471900000000005,{"$f":"IF(AND($C17>=0,$C17<=入力!$Q$38),AE$1,0)","v":12},null,null,null,null,null,12,-46.471900000000005,-219.72520000000003]
[null,31,5,null,{"$f":"IF(親1!D18<=833.3+42*親1!AS18,IF(AND(C18>=0,C18<=3),1.5*12,IF(AND(C18>3,C18<=15),1*12,0)),IF(AND(C18>=0,C18<=15),0.5*12,0))","v":12},null,null,null,null,12,null,null,{"$f":"IF(AND($C18>=0,$C18<=入力!$Q$38),M$1,0)","v":19.8},{"$f":"IF(AND($C18>=0,$C18<=入力!$Q$38),N$1,0)","v":6.6000000000000005},{"$f":"IF(AND($C18>=0,$C18<=入力!$Q$38),O$1,0)","v":1.6500000000000001},{"$f":"IF(AND($C18>=0,$C18<=入力!$Q$38),P$1,0)","v":1.3200000000000003},{"$f":"IF(AND($C18>=0,$C18<=入力!$Q$38),Q$1,0)","v":0.82500000000000007},null,null,30.195,-18.195,null,{"$f":"IF(AND($C18>=10,$C18<=入力!$Q$38),W$1,0)","v":0},{"$f":"IFERROR(VLOOKUP($C18,学費計算!$C:$R,学費計算!H$1,0),0)","v":0},{"$f":"IFERROR(VLOOKUP($C18,学費計算!$C:$R,学費計算!I$1,0),0)","v":12},{"$f":"IFERROR(VLOOKUP($C18,学費計算!$C:$R,学費計算!J$1,0),0)","v":4.2496},{"$f":"IFERROR(VLOOKUP($C18,学費計算!$C:$R,学費計算!K$1,0),0)","v":0},null,16.249600000000001,-34.444600000000001,{"$f":"IF(AND($C18>=0,$C18<=入力!$Q$38),AE$1,0)","v":12},null,null,null,null,null,12,-46.444600000000001,-266.16980000000001]
[null,32,6,null,{"$f":"IF(親1!D19<=833.3+42*親1!AS19,IF(AND(C19>=0,C19<=3),1.5*12,IF(AND(C19>3,C19<=15),1*12,0)),IF(AND(C19>=0,C19<=15),0.5*12,0))","v":12},null,null,null,null,12,null,null,{"$f":"IF(AND($C19>=0,$C19<=入力!$Q$38),M$1,0)","v":19.8},{"$f":"IF(AND($C19>=0,$C19<=入力!$Q$38),N$1,0)","v":6.6000000000000005},{"$f":"IF(AND($C19>=0,$C19<=入力!$Q$38),O$1,0)","v":1.6500000000000001},{"$f":"IF(AND($C19>=0,$C19<=入力!$Q$38),P$1,0)","v":1.3200000000000003},{"$f":"IF(AND($C19>=0,$C19<=入力!$Q$38),Q$1,0)","v":0.82500000000000007},null,null,30.195,-18.195,null,{"$f":"IF(AND($C19>=10,$C19<=入力!$Q$38),W$1,0)","v":0},{"$f":"IFERROR(VLOOKUP($C19,学費計算!$C:$R,学費計算!H$1,0),0)","v":12},{"$f":"IFERROR(VLOOKUP($C19,学費計算!$C:$R,学費計算!I$1,0),0)","v":0},{"$f":"IFERROR(VLOOKUP($C19,学費計算!$C:$R,学費計算!J$1,0),0)","v":10.975300000000001},{"$f":"IFERROR(VLOOKUP($C19,学費計算!$C:$R,学費計算!K$1,0),0)","v":0},null,22.975300000000001,-41.170299999999997,{"$f":"IF(AND($C19>=0,$C19<=入力!$Q$38),AE$1,0)","v":12},null,null,null,null,null,12,-53.170299999999997,-319.34010000000001]
[null,33,7,null,{"$f":"IF(親1!D20<=833.3+42*親1!AS20,IF(AND(C20>=0,C20<=3),1.5*12,IF(AND(C20>3,C20<=15),1*12,0)),IF(AND(C20>=0,C20<=15),0.5*12,0))","v":12},null,null,null,null,12,null,null,{"$f":"IF(AND($C20>=0,$C20<=入力!$Q$38),M$1,0)","v":19.8},{"$f":"IF(AND($C20>=0,$C20<=入力!$Q$38),N$1,0)","v":6.6000000000000005},{"$f":"IF(AND($C20>=0,$C20<=入力!$Q$38),O$1,0)","v":1.6500000000000001},{"$f":"IF(AND($C20>=0,$C20<=入力!$Q$38),P$1,0)","v":1.3200000000000003},{"$f":"IF(AND($C20>=0,$C20<=入力!$Q$38),Q$1,0)","v":0.82500000000000007},null,null,30.195,-18.195,null,{"$f":"IF(AND($C20>=10,$C20<=入力!$Q$38),W$1,0)","v":0},{"$f":"IFERROR(VLOOKUP($C20,学費計算!$C:$R,学費計算!H$1,0),0)","v":12},{"$f":"IFERROR(VLOOKUP($C20,学費計算!$C:$R,学費計算!I$1,0),0)","v":0},{"$f":"IFERROR(VLOOKUP($C20,学費計算!$C:$R,学費計算!J$1,0),0)","v":3.6476999999999999},{"$f":"IFERROR(VLOOKUP($C20,学費計算!$C:$R,学費計算!K$1,0),0)","v":0},null,15.6477,-33.842700000000001,{"$f":"IF(AND($C20>=0,$C20<=入力!$Q$38),AE$1,0)","v":12},null,null,null,null,null,12,-45.842700000000001,-365.18279999999999]
[null,34,8,null,{"$f":"IF(親1!D21<=833.3+42*親1!AS21,IF(AND(C21>=0,C21<=3),1.5*12,IF(AND(C21>3,C21<=15),1*12,0)),IF(AND(C21>=0,C21<=15),0.5*12,0))","v":12},null,null,null,null,12,null,null,{"$f":"IF(AND($C21>=0,$C21<=入力!$Q$38),M$1,0)","v":19.8},{"$f":"IF(AND($C21>=0,$C21<=入力!$Q$38),N$1,0)","v":6.6000000000000005},{"$f":"IF(AND($C21>=0,$C21<=入力!$Q$38),O$1,0)","v":1.6500000000000001},{"$f":"IF(AND($C21>=0,$C21<=入力!$Q$38),P$1,0)","v":1.3200000000000003},{"$f":"IF(AND($C21>=0,$C21<=入力!$Q$38),Q$1,0)","v":0.82500000000000007},null,null,30.195,-18.195,null,{"$f":"IF(AND($C21>=10,$C21<=入力!$Q$38),W$1,0)","v":0},{"$f":"IFERROR(VLOOKUP($C21,学費計算!$C:$R,学費計算!H$1,0),0)","v":12},{"$f":"IFERROR(VLOOKUP($C21,学費計算!$C:$R,学費計算!I$1,0),0)","v":0},{"$f":"IFERROR(VLOOKUP($C21,学費計算!$C:$R,学費計算!J$1,0),0)","v":4.6673999999999998},{"$f":"IFERROR(VLOOKUP($C21,学費計算!$C:$R,学費計算!K$1,0),0)","v":0},null,16.667400000000001,-34.862400000000001,{"$f":"IF(AND($C21>=0,$C21<=入力!$Q$38),AE$1,0)","v":12},null,null,null,null,null,12,-46.862400000000001,-412.04519999999997]
[null,35,9,null,{"$f":"IF(親1!D22<=833.3+42*親1!AS22,IF(AND(C22>=0,C22<=3),1.5*12,IF(AND(C22>3,C22<=15),1*12,0)),IF(AND(C22>=0,C22<=15),0.5*12,0))","v":12},null,null,null,null,12,null,null,{"$f":"IF(AND($C22>=0,$C22<=入力!$Q$38),M$1,0)","v":19.8},{"$f":"IF(AND($C22>=0,$C22<=入力!$Q$38),N$1,0)","v":6.6000000000000005},{"$f":"IF(AND($C22>=0,$C22<=入力!$Q$38),O$1,0)","v":1.6500000000000001},{"$f":"IF(AND($C22>=0,$C22<=入力!$Q$38),P$1,0)","v":1.3200000000000003},{"$f":"IF(AND($C22>=0,$C22<=入力!$Q$38),Q$1,0)","v":0.82500000000000007},null,null,30.195,-18.195,null,{"$f":"IF(AND($C22>=10,$C22<=入力!$Q$38),W$1,0)","v":0},{"$f":"IFERROR(VLOOKUP($C22,学費計算!$C:$R,学費計算!H$1,0),0)","v":12},{"$f":"IFERROR(VLOOKUP($C22,学費計算!$C:$R,学費計算!I$1,0),0)","v":0},{"$f":"IFERROR(VLOOKUP($C22,学費計算!$C:$R,学費計算!J$1,0),0)","v":4.5660999999999996},{"$f":"IFERROR(VLOOKUP($C22,学費計算!$C:$R,学費計算!K$1,0),0)","v":0},null,16.566099999999999,-34.761099999999999,{"$f":"IF(AND($C22>=0,$C22<=入力!$Q$38),AE$1,0)","v":12},null,null,null,null,null,12,-46.761099999999999,-458.80629999999996]
[null,36,10,null,{"$f":"IF(親1!D23<=833.3+42*親1!AS23,IF(AND(C23>=0,C23<=3),1.5*12,IF(AND(C23>3,C23<=15),1*12,0)),IF(AND(C23>=0,C23<=15),0.5*12,0))","v":12},null,null,null,null,12,null,null,{"$f":"IF(AND($C23>=0,$C23<=入力!$Q$38),M$1,0)","v":19.8},{"$f":"IF(AND($C23>=0,$C23<=入力!$Q$38),N$1,0)","v":6.6000000000000005},{"$f":"IF(AND($C23>=0,$C23<=入力!$Q$38),O$1,0)","v":1.6500000000000001},{"$f":"IF(AND($C23>=0,$C23<=入力!$Q$38),P$1,0)","v":1.3200000000000003},{"$f":"IF(AND($C23>=0,$C23<=入力!$Q$38),Q$1,0)","v":0.82500000000000007},null,null,30.195,-18.195,null,{"$f":"IF(AND($C23>=10,$C23<=入力!$Q$38),W$1,0)","v":2.4000000000000004},{"$f":"IFERROR(VLOOKUP($C23,学費計算!$C:$R,学費計算!H$1,0),0)","v":12},{"$f":"IFERROR(VLOOKUP($C23,学費計算!$C:$R,学費計算!I$1,0),0)","v":0},{"$f":"IFERROR(VLOOKUP($C23,学費計算!$C:$R,学費計算!J$1,0),0)","v":5.6357999999999997},{"$f":"IFERROR(VLOOKUP($C23,学費計算!$C:$R,学費計算!K$1,0),0)","v":0},null,20.035800000000002,-38.230800000000002,{"$f":"IF(AND($C23>=0,$C23<=入力!$Q$38),AE$1,0)","v":12},null,null,null,null,null,12,-50.230800000000002,-509.03709999999995]
[null,37,11,null,{"$f":"IF(親1!D24<=833.3+42*親1!AS24,IF(AND(C24>=0,C24<=3),1.5*12,IF(AND(C24>3,C24<=15),1*12,0)),IF(AND(C24>=0,C24<=15),0.5*12,0))","v":12},null,null,null,null,12,null,null,{"$f":"IF(AND($C24>=0,$C24<=入力!$Q$38),M$1,0)","v":19.8},{"$f":"IF(AND($C24>=0,$C24<=入力!$Q$38),N$1,0)","v":6.6000000000000005},{"$f":"IF(AND($C24>=0,$C24<=入力!$Q$38),O$1,0)","v":1.6500000000000001},{"$f":"IF(AND($C24>=0,$C24<=入力!$Q$38),P$1,0)","v":1.3200000000000003},{"$f":"IF(AND($C24>=0,$C24<=入力!$Q$38),Q$1,0)","v":0.82500000000000007},null,null,30.195,-18.195,null,{"$f":"IF(AND($C24>=10,$C24<=入力!$Q$38),W$1,0)","v":2.4000000000000004},{"$f":"IFERROR(VLOOKUP($C24,学費計算!$C:$R,学費計算!H$1,0),0)","v":12},{"$f":"IFERROR(VLOOKUP($C24,学費計算!$C:$R,学費計算!I$1,0),0)","v":0},{"$f":"IFERROR(VLOOKUP($C24,学費計算!$C:$R,学費計算!J$1,0),0)","v":8.4511000000000003},{"$f":"IFERROR(VLOOKUP($C24,学費計算!$C:$R,学費計算!K$1,0),0)","v":0},null,22.851100000000002,-41.046100000000003,{"$f":"IF(AND($C24>=0,$C24<=入力!$Q$38),AE$1,0)","v":12},null,null,null,null,null,12,-53.046100000000003,-562.08319999999992]
[null,38,12,null,{"$f":"IF(親1!D25<=833.3+42*親1!AS25,IF(AND(C25>=0,C25<=3),1.5*12,IF(AND(C25>3,C25<=15),1*12,0)),IF(AND(C25>=0,C25<=15),0.5*12,0))","v":12},null,null,null,null,12,null,null,{"$f":"IF(AND($C25>=0,$C25<=入力!$Q$38),M$1,0)","v":19.8},{"$f":"IF(AND($C25>=0,$C25<=入力!$Q$38),N$1,0)","v":6.6000000000000005},{"$f":"IF(AND($C25>=0,$C25<=入力!$Q$38),O$1,0)","v":1.6500000000000001},{"$f":"IF(AND($C25>=0,$C25<=入力!$Q$38),P$1,0)","v":1.3200000000000003},{"$f":"IF(AND($C25>=0,$C25<=入力!$Q$38),Q$1,0)","v":0.82500000000000007},null,null,30.195,-18.195,null,{"$f":"IF(AND($C25>=10,$C25<=入力!$Q$38),W$1,0)","v":2.4000000000000004},{"$f":"IFERROR(VLOOKUP($C25,学費計算!$C:$R,学費計算!H$1,0),0)","v":0},{"$f":"IFERROR(VLOOKUP($C25,学費計算!$C:$R,学費計算!I$1,0),0)","v":12},{"$f":"IFERROR(VLOOKUP($C25,学費計算!$C:$R,学費計算!J$1,0),0)","v":19.459900000000001},{"$f":"IFERROR(VLOOKUP($C25,学費計算!$C:$R,学費計算!K$1,0),0)","v":0},null,33.859900000000003,-52.054900000000004,{"$f":"IF(AND($C25>=0,$C25<=入力!$Q$38),AE$1,0)","v":12},null,null,null,null,null,12,-64.054900000000004,-626.13809999999989]
[null,39,13,null,{"$f":"IF(親1!D26<=833.3+42*親1!AS26,IF(AND(C26>=0,C26<=3),1.5*12,IF(AND(C26>3,C26<=15),1*12,0)),IF(AND(C26>=0,C26<=15),0.5*12,0))","v":12},null,null,null,null,12,null,null,{"$f":"IF(AND($C26>=0,$C26<=入力!$Q$38),M$1,0)","v":19.8},{"$f":"IF(AND($C26>=0,$C26<=入力!$Q$38),N$1,0)","v":6.6000000000000005},{"$f":"IF(AND($C26>=0,$C26<=入力!$Q$38),O$1,0)","v":1.6500000000000001},{"$f":"IF(AND($C26>=0,$C26<=入力!$Q$38),P$1,0)","v":1.3200000000000003},{"$f":"IF(AND($C26>=0,$C26<=入力!$Q$38),Q$1,0)","v":0.82500000000000007},null,null,30.195,-18.195,null,{"$f":"IF(AND($C26>=10,$C26<=入力!$Q$38),W$1,0)","v":2.4000000000000004},{"$f":"IFERROR(VLOOKUP($C26,学費計算!$C:$R,学費計算!H$1,0),0)","v":0},{"$f":"IFERROR(VLOOKUP($C26,学費計算!$C:$R,学費計算!I$1,0),0)","v":12},{"$f":"IFERROR(VLOOKUP($C26,学費計算!$C:$R,学費計算!J$1,0),0)","v":10.5365},{"$f":"IFERROR(VLOOKUP($C26,学費計算!$C:$R,学費計算!K$1,0),0)","v":0},null,24.936500000000002,-43.131500000000003,{"$f":"IF(AND($C26>=0,$C26<=入力!$Q$38),AE$1,0)","v":12},null,null,null,null,null,12,-55.131500000000003,-681.26959999999985]
[null,40,14,null,{"$f":"IF(親1!D27<=833.3+42*親1!AS27,IF(AND(C27>=0,C27<=3),1.5*12,IF(AND(C27>3,C27<=15),1*12,0)),IF(AND(C27>=0,C27<=15),0.5*12,0))","v":12},null,null,null,null,12,null,null,{"$f":"IF(AND($C27>=0,$C27<=入力!$Q$38),M$1,0)","v":19.8},{"$f":"IF(AND($C27>=0,$C27<=入力!$Q$38),N$1,0)","v":6.6000000000000005},{"$f":"IF(AND($C27>=0,$C27<=入力!$Q$38),O$1,0)","v":1.6500000000000001},{"$f":"IF(AND($C27>=0,$C27<=入力!$Q$38),P$1,0)","v":1.3200000000000003},{"$f":"IF(AND($C27>=0,$C27<=入力!$Q$38),Q$1,0)","v":0.82500000000000007},null,null,30.195,-18.195,null,{"$f":"IF(AND($C27>=10,$C27<=入力!$Q$38),W$1,0)","v":2.4000000000000004},{"$f":"IFERROR(VLOOKUP($C27,学費計算!$C:$R,学費計算!H$1,0),0)","v":0},{"$f":"IFERROR(VLOOKUP($C27,学費計算!$C:$R,学費計算!I$1,0),0)","v":12},{"$f":"IFERROR(VLOOKUP($C27,学費計算!$C:$R,学費計算!J$1,0),0)","v":11.936},{"$f":"IFERROR(VLOOKUP($C27,学費計算!$C:$R,学費計算!K$1,0),0)","v":0},null,26.335999999999999,-44.530999999999999,{"$f":"IF(AND($C27>=0,$C27<=入力!$Q$38),AE$1,0)","v":12},null,null,null,null,null,12,-56.530999999999999,-737.8005999999998]
[null,41,15,null,{"$f":"IF(親1!D28<=833.3+42*親1!AS28,IF(AND(C28>=0,C28<=3),1.5*12,IF(AND(C28>3,C28<=15),1*12,0)),IF(AND(C28>=0,C28<=15),0.5*12,0))","v":12},null,null,null,null,12,null,null,{"$f":"IF(AND($C28>=0,$C28<=入力!$Q$38),M$1,0)","v":19.8},{"$f":"IF(AND($C28>=0,$C28<=入力!$Q$38),N$1,0)","v":6.6000000000000005},{"$f":"IF(AND($C28>=0,$C28<=入力!$Q$38),O$1,0)","v":1.6500000000000001},{"$f":"IF(AND($C28>=0,$C28<=入力!$Q$38),P$1,0)","v":1.3200000000000003},{"$f":"IF(AND($C28>=0,$C28<=入力!$Q$38),Q$1,0)","v":0.82500000000000007},null,null,30.195,-18.195,null,{"$f":"IF(AND($C28>=10,$C28<=入力!$Q$38),W$1,0)","v":2.4000000000000004},{"$f":"IFERROR(VLOOKUP($C28,学費計算!$C:$R,学費計算!H$1,0),0)","v":0},{"$f":"IFERROR(VLOOKUP($C28,学費計算!$C:$R,学費計算!I$1,0),0)","v":24},{"$f":"IFERROR(VLOOKUP($C28,学費計算!$C:$R,学費計算!J$1,0),0)","v":37.037399999999998},{"$f":"IFERROR(VLOOKUP($C28,学費計算!$C:$R,学費計算!K$1,0),0)","v":0},null,63.437399999999997,-81.63239999999999,{"$f":"IF(AND($C28>=0,$C28<=入力!$Q$38),AE$1,0)","v":12},null,null,null,null,null,12,-93.63239999999999,-831.43299999999977]
[null,42,16,null,{"$f":"IF(親1!D29<=833.3+42*親1!AS29,IF(AND(C29>=0,C29<=3),1.5*12,IF(AND(C29>3,C29<=15),1*12,0)),IF(AND(C29>=0,C29<=15),0.5*12,0))","v":0},null,null,null,null,0,null,null,{"$f":"IF(AND($C29>=0,$C29<=入力!$Q$38),M$1,0)","v":19.8},{"$f":"IF(AND($C29>=0,$C29<=入力!$Q$38),N$1,0)","v":6.6000000000000005},{"$f":"IF(AND($C29>=0,$C29<=入力!$Q$38),O$1,0)","v":1.6500000000000001},{"$f":"IF(AND($C29>=0,$C29<=入力!$Q$38),P$1,0)","v":1.3200000000000003},{"$f":"IF(AND($C29>=0,$C29<=入力!$Q$38),Q$1,0)","v":0.82500000000000007},null,null,30.195,-30.195,null,{"$f":"IF(AND($C29>=10,$C29<=入力!$Q$38),W$1,0)","v":2.4000000000000004},{"$f":"IFERROR(VLOOKUP($C29,学費計算!$C:$R,学費計算!H$1,0),0)","v":0},{"$f":"IFERROR(VLOOKUP($C29,学費計算!$C:$R,学費計算!I$1,0),0)","v":24},{"$f":"IFERROR(VLOOKUP($C29,学費計算!$C:$R,学費計算!J$1,0),0)","v":29.9848},{"$f":"IFERROR(VLOOKUP($C29,学費計算!$C:$R,学費計算!K$1,0),0)","v":0},null,56.384799999999998,-86.579800000000006,{"$f":"IF(AND($C29>=0,$C29<=入力!$Q$38),AE$1,0)","v":12},null,null,null,null,null,12,-98.579800000000006,-930.01279999999974]
[null,43,17,null,{"$f":"IF(親1!D30<=833.3+42*親1!AS30,IF(AND(C30>=0,C30<=3),1.5*12,IF(AND(C30>3,C30<=15),1*12,0)),IF(AND(C30>=0,C30<=15),0.5*12,0))","v":0},null,null,null,null,0,null,null,{"$f":"IF(AND($C30>=0,$C30<=入力!$Q$38),M$1,0)","v":19.8},{"$f":"IF(AND($C30>=0,$C30<=入力!$Q$38),N$1,0)","v":6.6000000000000005},{"$f":"IF(AND($C30>=0,$C30<=入力!$Q$38),O$1,0)","v":1.6500000000000001},{"$f":"IF(AND($C30>=0,$C30<=入力!$Q$38),P$1,0)","v":1.3200000000000003},{"$f":"IF(AND($C30>=0,$C30<=入力!$Q$38),Q$1,0)","v":0.82500000000000007},null,null,30.195,-30.195,null,{"$f":"IF(AND($C30>=10,$C30<=入力!$Q$38),W$1,0)","v":2.4000000000000004},{"$f":"IFERROR(VLOOKUP($C30,学費計算!$C:$R,学費計算!H$1,0),0)","v":0},{"$f":"IFERROR(VLOOKUP($C30,学費計算!$C:$R,学費計算!I$1,0),0)","v":24},{"$f":"IFERROR(VLOOKUP($C30,学費計算!$C:$R,学費計算!J$1,0),0)","v":17.100000000000001},{"$f":"IFERROR(VLOOKUP($C30,学費計算!$C:$R,学費計算!K$1,0),0)","v":0},null,43.5,-73.694999999999993,{"$f":"IF(AND($C30>=0,$C30<=入力!$Q$38),AE$1,0)","v":12},null,null,null,null,null,12,-85.694999999999993,-1015.7077999999997]
[null,44,18,null,{"$f":"IF(親1!D31<=833.3+42*親1!AS31,IF(AND(C31>=0,C31<=3),1.5*12,IF(AND(C31>3,C31<=15),1*12,0)),IF(AND(C31>=0,C31<=15),0.5*12,0))","v":0},null,null,null,null,0,null,null,{"$f":"IF(AND($C31>=0,$C31<=入力!$Q$38),M$1,0)","v":19.8},{"$f":"IF(AND($C31>=0,$C31<=入力!$Q$38),N$1,0)","v":6.6000000000000005},{"$f":"IF(AND($C31>=0,$C31<=入力!$Q$38),O$1,0)","v":1.6500000000000001},{"$f":"IF(AND($C31>=0,$C31<=入力!$Q$38),P$1,0)","v":1.3200000000000003},{"$f":"IF(AND($C31>=0,$C31<=入力!$Q$38),Q$1,0)","v":0.82500000000000007},null,null,30.195,-30.195,null,{"$f":"IF(AND($C31>=10,$C31<=入力!$Q$38),W$1,0)","v":2.4000000000000004},{"$f":"IFERROR(VLOOKUP($C31,学費計算!$C:$R,学費計算!H$1,0),0)","v":0},{"$f":"IFERROR(VLOOKUP($C31,学費計算!$C:$R,学費計算!I$1,0),0)","v":0},{"$f":"IFERROR(VLOOKUP($C31,学費計算!$C:$R,学費計算!J$1,0),0)","v":93.225099999999998},{"$f":"IFERROR(VLOOKUP($C31,学費計算!$C:$R,学費計算!K$1,0),0)","v":72},null,167.6251,-197.8201,{"$f":"IF(AND($C31>=0,$C31<=入力!$Q$38),AE$1,0)","v":12},null,null,null,null,null,12,-209.8201,-1225.5278999999996]
[null,45,19,null,{"$f":"IF(親1!D32<=833.3+42*親1!AS32,IF(AND(C32>=0,C32<=3),1.5*12,IF(AND(C32>3,C32<=15),1*12,0)),IF(AND(C32>=0,C32<=15),0.5*12,0))","v":0},null,null,null,null,0,null,null,{"$f":"IF(AND($C32>=0,$C32<=入力!$Q$38),M$1,0)","v":0},{"$f":"IF(AND($C32>=0,$C32<=入力!$Q$38),N$1,0)","v":0},{"$f":"IF(AND($C32>=0,$C32<=入力!$Q$38),O$1,0)","v":0},{"$f":"IF(AND($C32>=0,$C32<=入力!$Q$38),P$1,0)","v":0},{"$f":"IF(AND($C32>=0,$C32<=入力!$Q$38),Q$1,0)","v":0},null,null,0,0,null,{"$f":"IF(AND($C32>=10,$C32<=入力!$Q$38),W$1,0)","v":0},{"$f":"IFERROR(VLOOKUP($C32,学費計算!$C:$R,学費計算!H$1,0),0)","v":0},{"$f":"IFERROR(VLOOKUP($C32,学費計算!$C:$R,学費計算!I$1,0),0)","v":0},{"$f":"IFERROR(VLOOKUP($C32,学費計算!$C:$R,学費計算!J$1,0),0)","v":53.58},{"$f":"IFERROR(VLOOKUP($C32,学費計算!$C:$R,学費計算!K$1,0),0)","v":72},null,125.58,-125.58,{"$f":"IF(AND($C32>=0,$C32<=入力!$Q$38),AE$1,0)","v":0},null,null,null,null,null,0,-125.58,-1351.1078999999995]
[null,46,20,null,{"$f":"IF(親1!D33<=833.3+42*親1!AS33,IF(AND(C33>=0,C33<=3),1.5*12,IF(AND(C33>3,C33<=15),1*12,0)),IF(AND(C33>=0,C33<=15),0.5*12,0))","v":0},null,null,null,null,0,null,null,{"$f":"IF(AND($C33>=0,$C33<=入力!$Q$38),M$1,0)","v":0},{"$f":"IF(AND($C33>=0,$C33<=入力!$Q$38),N$1,0)","v":0},{"$f":"IF(AND($C33>=0,$C33<=入力!$Q$38),O$1,0)","v":0},{"$f":"IF(AND($C33>=0,$C33<=入力!$Q$38),P$1,0)","v":0},{"$f":"IF(AND($C33>=0,$C33<=入力!$Q$38),Q$1,0)","v":0},null,null,0,0,null,{"$f":"IF(AND($C33>=10,$C33<=入力!$Q$38),W$1,0)","v":0},{"$f":"IFERROR(VLOOKUP($C33,学費計算!$C:$R,学費計算!H$1,0),0)","v":0},{"$f":"IFERROR(VLOOKUP($C33,学費計算!$C:$R,学費計算!I$1,0),0)","v":0},{"$f":"IFERROR(VLOOKUP($C33,学費計算!$C:$R,学費計算!J$1,0),0)","v":53.58},{"$f":"IFERROR(VLOOKUP($C33,学費計算!$C:$R,学費計算!K$1,0),0)","v":72},null,125.58,-125.58,{"$f":"IF(AND($C33>=0,$C33<=入力!$Q$38),AE$1,0)","v":0},null,null,null,null,null,0,-125.58,-1476.6878999999994]
[null,47,21,null,{"$f":"IF(親1!D34<=833.3+42*親1!AS34,IF(AND(C34>=0,C34<=3),1.5*12,IF(AND(C34>3,C34<=15),1*12,0)),IF(AND(C34>=0,C34<=15),0.5*12,0))","v":0},null,null,null,null,0,null,null,{"$f":"IF(AND($C34>=0,$C34<=入力!$Q$38),M$1,0)","v":0},{"$f":"IF(AND($C34>=0,$C34<=入力!$Q$38),N$1,0)","v":0},{"$f":"IF(AND($C34>=0,$C34<=入力!$Q$38),O$1,0)","v":0},{"$f":"IF(AND($C34>=0,$C34<=入力!$Q$38),P$1,0)","v":0},{"$f":"IF(AND($C34>=0,$C34<=入力!$Q$38),Q$1,0)","v":0},null,null,0,0,null,{"$f":"IF(AND($C34>=10,$C34<=入力!$Q$38),W$1,0)","v":0},{"$f":"IFERROR(VLOOKUP($C34,学費計算!$C:$R,学費計算!H$1,0),0)","v":0},{"$f":"IFERROR(VLOOKUP($C34,学費計算!$C:$R,学費計算!I$1,0),0)","v":0},{"$f":"IFERROR(VLOOKUP($C34,学費計算!$C:$R,学費計算!J$1,0),0)","v":53.58},{"$f":"IFERROR(VLOOKUP($C34,学費計算!$C:$R,学費計算!K$1,0),0)","v":72},null,125.58,-125.58,{"$f":"IF(AND($C34>=0,$C34<=入力!$Q$38),AE$1,0)","v":0},null,null,null,null,null,0,-125.58,-1602.2678999999994]
[null,48,22,null,{"$f":"IF(親1!D35<=833.3+42*親1!AS35,IF(AND(C35>=0,C35<=3),1.5*12,IF(AND(C35>3,C35<=15),1*12,0)),IF(AND(C35>=0,C35<=15),0.5*12,0))","v":0},null,null,null,null,0,null,null,{"$f":"IF(AND($C35>=0,$C35<=入力!$Q$38),M$1,0)","v":0},{"$f":"IF(AND($C35>=0,$C35<=入力!$Q$38),N$1,0)","v":0},{"$f":"IF(AND($C35>=0,$C35<=入力!$Q$38),O$1,0)","v":0},{"$f":"IF(AND($C35>=0,$C35<=入力!$Q$38),P$1,0)","v":0},{"$f":"IF(AND($C35>=0,$C35<=入力!$Q$38),Q$1,0)","v":0},null,null,0,0,null,{"$f":"IF(AND($C35>=10,$C35<=入力!$Q$38),W$1,0)","v":0},{"$f":"IFERROR(VLOOKUP($C35,学費計算!$C:$R,学費計算!H$1,0),0)","v":0},{"$f":"IFERROR(VLOOKUP($C35,学費計算!$C:$R,学費計算!I$1,0),0)","v":0},{"$f":"IFERROR(VLOOKUP($C35,学費計算!$C:$R,学費計算!J$1,0),0)","v":93.225099999999998},{"$f":"IFERROR(VLOOKUP($C35,学費計算!$C:$R,学費計算!K$1,0),0)","v":72},null,165.2251,-165.2251,{"$f":"IF(AND($C35>=0,$C35<=入力!$Q$38),AE$1,0)","v":0},null,null,null,null,null,0,-165.2251,-1767.4929999999995]
[null,49,23,null,{"$f":"IF(親1!D36<=833.3+42*親1!AS36,IF(AND(C36>=0,C36<=3),1.5*12,IF(AND(C36>3,C36<=15),1*12,0)),IF(AND(C36>=0,C36<=15),0.5*12,0))","v":0},null,null,null,null,0,null,null,{"$f":"IF(AND($C36>=0,$C36<=入力!$Q$38),M$1,0)","v":0},{"$f":"IF(AND($C36>=0,$C36<=入力!$Q$38),N$1,0)","v":0},{"$f":"IF(AND($C36>=0,$C36<=入力!$Q$38),O$1,0)","v":0},{"$f":"IF(AND($C36>=0,$C36<=入力!$Q$38),P$1,0)","v":0},{"$f":"IF(AND($C36>=0,$C36<=入力!$Q$38),Q$1,0)","v":0},null,null,0,0,null,{"$f":"IF(AND($C36>=10,$C36<=入力!$Q$38),W$1,0)","v":0},{"$f":"IFERROR(VLOOKUP($C36,学費計算!$C:$R,学費計算!H$1,0),0)","v":0},{"$f":"IFERROR(VLOOKUP($C36,学費計算!$C:$R,学費計算!I$1,0),0)","v":0},{"$f":"IFERROR(VLOOKUP($C36,学費計算!$C:$R,学費計算!J$1,0),0)","v":53.58},{"$f":"IFERROR(VLOOKUP($C36,学費計算!$C:$R,学費計算!K$1,0),0)","v":72},null,125.58,-125.58,{"$f":"IF(AND($C36>=0,$C36<=入力!$Q$38),AE$1,0)","v":0},null,null,null,null,null,0,-125.58,-1893.0729999999994]
[null,50,24,null,{"$f":"IF(親1!D37<=833.3+42*親1!AS37,IF(AND(C37>=0,C37<=3),1.5*12,IF(AND(C37>3,C37<=15),1*12,0)),IF(AND(C37>=0,C37<=15),0.5*12,0))","v":0},null,null,null,null,0,null,null,{"$f":"IF(AND($C37>=0,$C37<=入力!$Q$38),M$1,0)","v":0},{"$f":"IF(AND($C37>=0,$C37<=入力!$Q$38),N$1,0)","v":0},{"$f":"IF(AND($C37>=0,$C37<=入力!$Q$38),O$1,0)","v":0},{"$f":"IF(AND($C37>=0,$C37<=入力!$Q$38),P$1,0)","v":0},{"$f":"IF(AND($C37>=0,$C37<=入力!$Q$38),Q$1,0)","v":0},null,null,0,0,null,{"$f":"IF(AND($C37>=10,$C37<=入力!$Q$38),W$1,0)","v":0},{"$f":"IFERROR(VLOOKUP($C37,学費計算!$C:$R,学費計算!H$1,0),0)","v":0},{"$f":"IFERROR(VLOOKUP($C37,学費計算!$C:$R,学費計算!I$1,0),0)","v":0},{"$f":"IFERROR(VLOOKUP($C37,学費計算!$C:$R,学費計算!J$1,0),0)","v":0},{"$f":"IFERROR(VLOOKUP($C37,学費計算!$C:$R,学費計算!K$1,0),0)","v":0},null,0,0,{"$f":"IF(AND($C37>=0,$C37<=入力!$Q$38),AE$1,0)","v":0},null,null,null,null,null,0,0,-1893.0729999999994]
[null,51,25,null,{"$f":"IF(親1!D38<=833.3+42*親1!AS38,IF(AND(C38>=0,C38<=3),1.5*12,IF(AND(C38>3,C38<=15),1*12,0)),IF(AND(C38>=0,C38<=15),0.5*12,0))","v":0},null,null,null,null,0,null,null,{"$f":"IF(AND($C38>=0,$C38<=入力!$Q$38),M$1,0)","v":0},{"$f":"IF(AND($C38>=0,$C38<=入力!$Q$38),N$1,0)","v":0},{"$f":"IF(AND($C38>=0,$C38<=入力!$Q$38),O$1,0)","v":0},{"$f":"IF(AND($C38>=0,$C38<=入力!$Q$38),P$1,0)","v":0},{"$f":"IF(AND($C38>=0,$C38<=入力!$Q$38),Q$1,0)","v":0},null,null,{"$f":"SUM(K38:S38)","v":0},{"$f":"J38-T38","v":0},null,{"$f":"IF(AND($C38>=10,$C38<=入力!$Q$38),W$1,0)","v":0},{"$f":"IFERROR(VLOOKUP($C38,学費計算!$C:$R,学費計算!H$1,0),0)","v":0},{"$f":"IFERROR(VLOOKUP($C38,学費計算!$C:$R,学費計算!I$1,0),0)","v":0},{"$f":"IFERROR(VLOOKUP($C38,学費計算!$C:$R,学費計算!J$1,0),0)","v":0},{"$f":"IFERROR(VLOOKUP($C38,学費計算!$C:$R,学費計算!K$1,0),0)","v":0},null,{"$f":"SUM(V38:AB38)","v":0},{"$f":"U38-AC38","v":0},{"$f":"IF(AND($C38>=0,$C38<=入力!$Q$38),AE$1,0)","v":0},null,null,null,null,null,0,0,{"$f":"AL38+AM37","v":-1893.0729999999994}]
[null,52,26,null,{"$f":"IF(親1!D39<=833.3+42*親1!AS39,IF(AND(C39>=0,C39<=3),1.5*12,IF(AND(C39>3,C39<=15),1*12,0)),IF(AND(C39>=0,C39<=15),0.5*12,0))","v":0},null,null,null,null,0,null,null,{"$f":"IF(AND($C39>=0,$C39<=入力!$Q$38),M$1,0)","v":0},{"$f":"IF(AND($C39>=0,$C39<=入力!$Q$38),N$1,0)","v":0},{"$f":"IF(AND($C39>=0,$C39<=入力!$Q$38),O$1,0)","v":0},{"$f":"IF(AND($C39>=0,$C39<=入力!$Q$38),P$1,0)","v":0},{"$f":"IF(AND($C39>=0,$C39<=入力!$Q$38),Q$1,0)","v":0},null,null,0,0,null,{"$f":"IF(AND($C39>=10,$C39<=入力!$Q$38),W$1,0)","v":0},{"$f":"IFERROR(VLOOKUP($C39,学費計算!$C:$R,学費計算!H$1,0),0)","v":0},{"$f":"IFERROR(VLOOKUP($C39,学費計算!$C:$R,学費計算!I$1,0),0)","v":0},{"$f":"IFERROR(VLOOKUP($C39,学費計算!$C:$R,学費計算!J$1,0),0)","v":0},{"$f":"IFERROR(VLOOKUP($C39,学費計算!$C:$R,学費計算!K$1,0),0)","v":0},null,0,0,{"$f":"IF(AND($C39>=0,$C39<=入力!$Q$38),AE$1,0)","v":0},null,null,null,null,null,0,0,-1893.0729999999994]
[null,{"$f":"B39+1","v":53},27,null,{"$f":"IF(親1!D40<=833.3+42*親1!AS40,IF(AND(C40>=0,C40<=3),1.5*12,IF(AND(C40>3,C40<=15),1*12,0)),IF(AND(C40>=0,C40<=15),0.5*12,0))","v":0},null,null,null,null,{"$f":"SUM(E40:I40)","v":0},null,null,{"$f":"IF(AND($C40>=0,$C40<=入力!$Q$38),M$1,0)","v":0},{"$f":"IF(AND($C40>=0,$C40<=入力!$Q$38),N$1,0)","v":0},{"$f":"IF(AND($C40>=0,$C40<=入力!$Q$38),O$1,0)","v":0},{"$f":"IF(AND($C40>=0,$C40<=入力!$Q$38),P$1,0)","v":0},{"$f":"IF(AND($C40>=0,$C40<=入力!$Q$38),Q$1,0)","v":0},null,null,0,0,null,{"$f":"IF(AND($C40>=10,$C40<=入力!$Q$38),W$1,0)","v":0},{"$f":"IFERROR(VLOOKUP($C40,学費計算!$C:$R,学費計算!H$1,0),0)","v":0},{"$f":"IFERROR(VLOOKUP($C40,学費計算!$C:$R,学費計算!I$1,0),0)","v":0},{"$f":"IFERROR(VLOOKUP($C40,学費計算!$C:$R,学費計算!J$1,0),0)","v":0},{"$f":"IFERROR(VLOOKUP($C40,学費計算!$C:$R,学費計算!K$1,0),0)","v":0},null,0,0,{"$f":"IF(AND($C40>=0,$C40<=入力!$Q$38),AE$1,0)","v":0},null,null,null,null,null,0,0,-1893.0729999999994]
[null,54,28,null,{"$f":"IF(親1!D41<=833.3+42*親1!AS41,IF(AND(C41>=0,C41<=3),1.5*12,IF(AND(C41>3,C41<=15),1*12,0)),IF(AND(C41>=0,C41<=15),0.5*12,0))","v":0},null,null,null,null,0,null,null,{"$f":"IF(AND($C41>=0,$C41<=入力!$Q$38),M$1,0)","v":0},{"$f":"IF(AND($C41>=0,$C41<=入力!$Q$38),N$1,0)","v":0},{"$f":"IF(AND($C41>=0,$C41<=入力!$Q$38),O$1,0)","v":0},{"$f":"IF(AND($C41>=0,$C41<=入力!$Q$38),P$1,0)","v":0},{"$f":"IF(AND($C41>=0,$C41<=入力!$Q$38),Q$1,0)","v":0},null,null,0,0,null,{"$f":"IF(AND($C41>=10,$C41<=入力!$Q$38),W$1,0)","v":0},{"$f":"IFERROR(VLOOKUP($C41,学費計算!$C:$R,学費計算!H$1,0),0)","v":0},{"$f":"IFERROR(VLOOKUP($C41,学費計算!$C:$R,学費計算!I$1,0),0)","v":0},{"$f":"IFERROR(VLOOKUP($C41,学費計算!$C:$R,学費計算!J$1,0),0)","v":0},{"$f":"IFERROR(VLOOKUP($C41,学費計算!$C:$R,学費計算!K$1,0),0)","v":0},null,0,0,{"$f":"IF(AND($C41>=0,$C41<=入力!$Q$38),AE$1,0)","v":0},null,null,null,null,null,0,0,-1893.0729999999994]
[null,55,29,null,{"$f":"IF(親1!D42<=833.3+42*親1!AS42,IF(AND(C42>=0,C42<=3),1.5*12,IF(AND(C42>3,C42<=15),1*12,0)),IF(AND(C42>=0,C42<=15),0.5*12,0))","v":0},null,null,null,null,0,null,null,{"$f":"IF(AND($C42>=0,$C42<=入力!$Q$38),M$1,0)","v":0},{"$f":"IF(AND($C42>=0,$C42<=入力!$Q$38),N$1,0)","v":0},{"$f":"IF(AND($C42>=0,$C42<=入力!$Q$38),O$1,0)","v":0},{"$f":"IF(AND($C42>=0,$C42<=入力!$Q$38),P$1,0)","v":0},{"$f":"IF(AND($C42>=0,$C42<=入力!$Q$38),Q$1,0)","v":0},null,null,0,0,null,{"$f":"IF(AND($C42>=10,$C42<=入力!$Q$38),W$1,0)","v":0},{"$f":"IFERROR(VLOOKUP($C42,学費計算!$C:$R,学費計算!H$1,0),0)","v":0},{"$f":"IFERROR(VLOOKUP($C42,学費計算!$C:$R,学費計算!I$1,0),0)","v":0},{"$f":"IFERROR(VLOOKUP($C42,学費計算!$C:$R,学費計算!J$1,0),0)","v":0},{"$f":"IFERROR(VLOOKUP($C42,学費計算!$C:$R,学費計算!K$1,0),0)","v":0},null,0,0,{"$f":"IF(AND($C42>=0,$C42<=入力!$Q$38),AE$1,0)","v":0},null,null,null,null,null,0,0,-1893.0729999999994]
[null,56,30,null,{"$f":"IF(親1!D43<=833.3+42*親1!AS43,IF(AND(C43>=0,C43<=3),1.5*12,IF(AND(C43>3,C43<=15),1*12,0)),IF(AND(C43>=0,C43<=15),0.5*12,0))","v":0},null,null,null,null,0,null,null,{"$f":"IF(AND($C43>=0,$C43<=入力!$Q$38),M$1,0)","v":0},{"$f":"IF(AND($C43>=0,$C43<=入力!$Q$38),N$1,0)","v":0},{"$f":"IF(AND($C43>=0,$C43<=入力!$Q$38),O$1,0)","v":0},{"$f":"IF(AND($C43>=0,$C43<=入力!$Q$38),P$1,0)","v":0},{"$f":"IF(AND($C43>=0,$C43<=入力!$Q$38),Q$1,0)","v":0},null,null,0,0,null,{"$f":"IF(AND($C43>=10,$C43<=入力!$Q$38),W$1,0)","v":0},{"$f":"IFERROR(VLOOKUP($C43,学費計算!$C:$R,学費計算!H$1,0),0)","v":0},{"$f":"IFERROR(VLOOKUP($C43,学費計算!$C:$R,学費計算!I$1,0),0)","v":0},{"$f":"IFERROR(VLOOKUP($C43,学費計算!$C:$R,学費計算!J$1,0),0)","v":0},{"$f":"IFERROR(VLOOKUP($C43,学費計算!$C:$R,学費計算!K$1,0),0)","v":0},null,0,0,{"$f":"IF(AND($C43>=0,$C43<=入力!$Q$38),AE$1,0)","v":0},null,null,null,null,null,0,0,-1893.0729999999994]
[null,57,31,null,{"$f":"IF(親1!D44<=833.3+42*親1!AS44,IF(AND(C44>=0,C44<=3),1.5*12,IF(AND(C44>3,C44<=15),1*12,0)),IF(AND(C44>=0,C44<=15),0.5*12,0))","v":0},null,null,null,null,0,null,null,{"$f":"IF(AND($C44>=0,$C44<=入力!$Q$38),M$1,0)","v":0},{"$f":"IF(AND($C44>=0,$C44<=入力!$Q$38),N$1,0)","v":0},{"$f":"IF(AND($C44>=0,$C44<=入力!$Q$38),O$1,0)","v":0},{"$f":"IF(AND($C44>=0,$C44<=入力!$Q$38),P$1,0)","v":0},{"$f":"IF(AND($C44>=0,$C44<=入力!$Q$38),Q$1,0)","v":0},null,null,0,0,null,{"$f":"IF(AND($C44>=10,$C44<=入力!$Q$38),W$1,0)","v":0},{"$f":"IFERROR(VLOOKUP($C44,学費計算!$C:$R,学費計算!H$1,0),0)","v":0},{"$f":"IFERROR(VLOOKUP($C44,学費計算!$C:$R,学費計算!I$1,0),0)","v":0},{"$f":"IFERROR(VLOOKUP($C44,学費計算!$C:$R,学費計算!J$1,0),0)","v":0},{"$f":"IFERROR(VLOOKUP($C44,学費計算!$C:$R,学費計算!K$1,0),0)","v":0},null,0,0,{"$f":"IF(AND($C44>=0,$C44<=入力!$Q$38),AE$1,0)","v":0},null,null,null,null,null,0,0,-1893.0729999999994]
[null,58,32,null,{"$f":"IF(親1!D45<=833.3+42*親1!AS45,IF(AND(C45>=0,C45<=3),1.5*12,IF(AND(C45>3,C45<=15),1*12,0)),IF(AND(C45>=0,C45<=15),0.5*12,0))","v":0},null,null,null,null,0,null,null,{"$f":"IF(AND($C45>=0,$C45<=入力!$Q$38),M$1,0)","v":0},{"$f":"IF(AND($C45>=0,$C45<=入力!$Q$38),N$1,0)","v":0},{"$f":"IF(AND($C45>=0,$C45<=入力!$Q$38),O$1,0)","v":0},{"$f":"IF(AND($C45>=0,$C45<=入力!$Q$38),P$1,0)","v":0},{"$f":"IF(AND($C45>=0,$C45<=入力!$Q$38),Q$1,0)","v":0},null,null,0,0,null,{"$f":"IF(AND($C45>=10,$C45<=入力!$Q$38),W$1,0)","v":0},{"$f":"IFERROR(VLOOKUP($C45,学費計算!$C:$R,学費計算!H$1,0),0)","v":0},{"$f":"IFERROR(VLOOKUP($C45,学費計算!$C:$R,学費計算!I$1,0),0)","v":0},{"$f":"IFERROR(VLOOKUP($C45,学費計算!$C:$R,学費計算!J$1,0),0)","v":0},{"$f":"IFERROR(VLOOKUP($C45,学費計算!$C:$R,学費計算!K$1,0),0)","v":0},null,0,0,{"$f":"IF(AND($C45>=0,$C45<=入力!$Q$38),AE$1,0)","v":0},null,null,null,null,null,0,0,-1893.0729999999994]
[null,59,33,null,{"$f":"IF(親1!D46<=833.3+42*親1!AS46,IF(AND(C46>=0,C46<=3),1.5*12,IF(AND(C46>3,C46<=15),1*12,0)),IF(AND(C46>=0,C46<=15),0.5*12,0))","v":0},null,null,null,null,0,null,null,{"$f":"IF(AND($C46>=0,$C46<=入力!$Q$38),M$1,0)","v":0},{"$f":"IF(AND($C46>=0,$C46<=入力!$Q$38),N$1,0)","v":0},{"$f":"IF(AND($C46>=0,$C46<=入力!$Q$38),O$1,0)","v":0},{"$f":"IF(AND($C46>=0,$C46<=入力!$Q$38),P$1,0)","v":0},{"$f":"IF(AND($C46>=0,$C46<=入力!$Q$38),Q$1,0)","v":0},null,null,0,0,null,{"$f":"IF(AND($C46>=10,$C46<=入力!$Q$38),W$1,0)","v":0},{"$f":"IFERROR(VLOOKUP($C46,学費計算!$C:$R,学費計算!H$1,0),0)","v":0},{"$f":"IFERROR(VLOOKUP($C46,学費計算!$C:$R,学費計算!I$1,0),0)","v":0},{"$f":"IFERROR(VLOOKUP($C46,学費計算!$C:$R,学費計算!J$1,0),0)","v":0},{"$f":"IFERROR(VLOOKUP($C46,学費計算!$C:$R,学費計算!K$1,0),0)","v":0},null,0,0,{"$f":"IF(AND($C46>=0,$C46<=入力!$Q$38),AE$1,0)","v":0},null,null,null,null,null,0,0,-1893.0729999999994]
[null,60,34,null,{"$f":"IF(親1!D47<=833.3+42*親1!AS47,IF(AND(C47>=0,C47<=3),1.5*12,IF(AND(C47>3,C47<=15),1*12,0)),IF(AND(C47>=0,C47<=15),0.5*12,0))","v":0},null,null,null,null,0,null,null,{"$f":"IF(AND($C47>=0,$C47<=入力!$Q$38),M$1,0)","v":0},{"$f":"IF(AND($C47>=0,$C47<=入力!$Q$38),N$1,0)","v":0},{"$f":"IF(AND($C47>=0,$C47<=入力!$Q$38),O$1,0)","v":0},{"$f":"IF(AND($C47>=0,$C47<=入力!$Q$38),P$1,0)","v":0},{"$f":"IF(AND($C47>=0,$C47<=入力!$Q$38),Q$1,0)","v":0},null,null,0,0,null,{"$f":"IF(AND($C47>=10,$C47<=入力!$Q$38),W$1,0)","v":0},{"$f":"IFERROR(VLOOKUP($C47,学費計算!$C:$R,学費計算!H$1,0),0)","v":0},{"$f":"IFERROR(VLOOKUP($C47,学費計算!$C:$R,学費計算!I$1,0),0)","v":0},{"$f":"IFERROR(VLOOKUP($C47,学費計算!$C:$R,学費計算!J$1,0),0)","v":0},{"$f":"IFERROR(VLOOKUP($C47,学費計算!$C:$R,学費計算!K$1,0),0)","v":0},null,0,0,{"$f":"IF(AND($C47>=0,$C47<=入力!$Q$38),AE$1,0)","v":0},null,null,null,null,null,0,0,-1893.0729999999994]
[null,61,35,null,{"$f":"IF(親1!D48<=833.3+42*親1!AS48,IF(AND(C48>=0,C48<=3),1.5*12,IF(AND(C48>3,C48<=15),1*12,0)),IF(AND(C48>=0,C48<=15),0.5*12,0))","v":0},null,null,null,null,0,null,null,{"$f":"IF(AND($C48>=0,$C48<=入力!$Q$38),M$1,0)","v":0},{"$f":"IF(AND($C48>=0,$C48<=入力!$Q$38),N$1,0)","v":0},{"$f":"IF(AND($C48>=0,$C48<=入力!$Q$38),O$1,0)","v":0},{"$f":"IF(AND($C48>=0,$C48<=入力!$Q$38),P$1,0)","v":0},{"$f":"IF(AND($C48>=0,$C48<=入力!$Q$38),Q$1,0)","v":0},null,null,0,0,null,{"$f":"IF(AND($C48>=10,$C48<=入力!$Q$38),W$1,0)","v":0},{"$f":"IFERROR(VLOOKUP($C48,学費計算!$C:$R,学費計算!H$1,0),0)","v":0},{"$f":"IFERROR(VLOOKUP($C48,学費計算!$C:$R,学費計算!I$1,0),0)","v":0},{"$f":"IFERROR(VLOOKUP($C48,学費計算!$C:$R,学費計算!J$1,0),0)","v":0},{"$f":"IFERROR(VLOOKUP($C48,学費計算!$C:$R,学費計算!K$1,0),0)","v":0},null,0,0,{"$f":"IF(AND($C48>=0,$C48<=入力!$Q$38),AE$1,0)","v":0},null,null,null,null,null,0,0,-1893.0729999999994]
[null,62,36,null,{"$f":"IF(親1!D49<=833.3+42*親1!AS49,IF(AND(C49>=0,C49<=3),1.5*12,IF(AND(C49>3,C49<=15),1*12,0)),IF(AND(C49>=0,C49<=15),0.5*12,0))","v":0},null,null,null,null,0,null,null,{"$f":"IF(AND($C49>=0,$C49<=入力!$Q$38),M$1,0)","v":0},{"$f":"IF(AND($C49>=0,$C49<=入力!$Q$38),N$1,0)","v":0},{"$f":"IF(AND($C49>=0,$C49<=入力!$Q$38),O$1,0)","v":0},{"$f":"IF(AND($C49>=0,$C49<=入力!$Q$38),P$1,0)","v":0},{"$f":"IF(AND($C49>=0,$C49<=入力!$Q$38),Q$1,0)","v":0},null,null,0,0,null,{"$f":"IF(AND($C49>=10,$C49<=入力!$Q$38),W$1,0)","v":0},{"$f":"IFERROR(VLOOKUP($C49,学費計算!$C:$R,学費計算!H$1,0),0)","v":0},{"$f":"IFERROR(VLOOKUP($C49,学費計算!$C:$R,学費計算!I$1,0),0)","v":0},{"$f":"IFERROR(VLOOKUP($C49,学費計算!$C:$R,学費計算!J$1,0),0)","v":0},{"$f":"IFERROR(VLOOKUP($C49,学費計算!$C:$R,学費計算!K$1,0),0)","v":0},null,0,0,{"$f":"IF(AND($C49>=0,$C49<=入力!$Q$38),AE$1,0)","v":0},null,null,null,null,null,0,0,-1893.0729999999994]
[null,63,37,null,{"$f":"IF(親1!D50<=833.3+42*親1!AS50,IF(AND(C50>=0,C50<=3),1.5*12,IF(AND(C50>3,C50<=15),1*12,0)),IF(AND(C50>=0,C50<=15),0.5*12,0))","v":0},null,null,null,null,0,null,null,{"$f":"IF(AND($C50>=0,$C50<=入力!$Q$38),M$1,0)","v":0},{"$f":"IF(AND($C50>=0,$C50<=入力!$Q$38),N$1,0)","v":0},{"$f":"IF(AND($C50>=0,$C50<=入力!$Q$38),O$1,0)","v":0},{"$f":"IF(AND($C50>=0,$C50<=入力!$Q$38),P$1,0)","v":0},{"$f":"IF(AND($C50>=0,$C50<=入力!$Q$38),Q$1,0)","v":0},null,null,0,0,null,{"$f":"IF(AND($C50>=10,$C50<=入力!$Q$38),W$1,0)","v":0},{"$f":"IFERROR(VLOOKUP($C50,学費計算!$C:$R,学費計算!H$1,0),0)","v":0},{"$f":"IFERROR(VLOOKUP($C50,学費計算!$C:$R,学費計算!I$1,0),0)","v":0},{"$f":"IFERROR(VLOOKUP($C50,学費計算!$C:$R,学費計算!J$1,0),0)","v":0},{"$f":"IFERROR(VLOOKUP($C50,学費計算!$C:$R,学費計算!K$1,0),0)","v":0},null,0,0,{"$f":"IF(AND($C50>=0,$C50<=入力!$Q$38),AE$1,0)","v":0},null,null,null,null,null,0,0,-1893.0729999999994]
[null,64,38,null,{"$f":"IF(親1!D51<=833.3+42*親1!AS51,IF(AND(C51>=0,C51<=3),1.5*12,IF(AND(C51>3,C51<=15),1*12,0)),IF(AND(C51>=0,C51<=15),0.5*12,0))","v":0},null,null,null,null,0,null,null,{"$f":"IF(AND($C51>=0,$C51<=入力!$Q$38),M$1,0)","v":0},{"$f":"IF(AND($C51>=0,$C51<=入力!$Q$38),N$1,0)","v":0},{"$f":"IF(AND($C51>=0,$C51<=入力!$Q$38),O$1,0)","v":0},{"$f":"IF(AND($C51>=0,$C51<=入力!$Q$38),P$1,0)","v":0},{"$f":"IF(AND($C51>=0,$C51<=入力!$Q$38),Q$1,0)","v":0},null,null,0,0,null,{"$f":"IF(AND($C51>=10,$C51<=入力!$Q$38),W$1,0)","v":0},{"$f":"IFERROR(VLOOKUP($C51,学費計算!$C:$R,学費計算!H$1,0),0)","v":0},{"$f":"IFERROR(VLOOKUP($C51,学費計算!$C:$R,学費計算!I$1,0),0)","v":0},{"$f":"IFERROR(VLOOKUP($C51,学費計算!$C:$R,学費計算!J$1,0),0)","v":0},{"$f":"IFERROR(VLOOKUP($C51,学費計算!$C:$R,学費計算!K$1,0),0)","v":0},null,0,0,{"$f":"IF(AND($C51>=0,$C51<=入力!$Q$38),AE$1,0)","v":0},null,null,null,null,null,0,0,-1893.0729999999994]
[null,65,39,null,{"$f":"IF(親1!D52<=833.3+42*親1!AS52,IF(AND(C52>=0,C52<=3),1.5*12,IF(AND(C52>3,C52<=15),1*12,0)),IF(AND(C52>=0,C52<=15),0.5*12,0))","v":0},null,null,null,null,0,null,null,{"$f":"IF(AND($C52>=0,$C52<=入力!$Q$38),M$1,0)","v":0},{"$f":"IF(AND($C52>=0,$C52<=入力!$Q$38),N$1,0)","v":0},{"$f":"IF(AND($C52>=0,$C52<=入力!$Q$38),O$1,0)","v":0},{"$f":"IF(AND($C52>=0,$C52<=入力!$Q$38),P$1,0)","v":0},{"$f":"IF(AND($C52>=0,$C52<=入力!$Q$38),Q$1,0)","v":0},null,null,0,0,null,{"$f":"IF(AND($C52>=10,$C52<=入力!$Q$38),W$1,0)","v":0},{"$f":"IFERROR(VLOOKUP($C52,学費計算!$C:$R,学費計算!H$1,0),0)","v":0},{"$f":"IFERROR(VLOOKUP($C52,学費計算!$C:$R,学費計算!I$1,0),0)","v":0},{"$f":"IFERROR(VLOOKUP($C52,学費計算!$C:$R,学費計算!J$1,0),0)","v":0},{"$f":"IFERROR(VLOOKUP($C52,学費計算!$C:$R,学費計算!K$1,0),0)","v":0},null,0,0,{"$f":"IF(AND($C52>=0,$C52<=入力!$Q$38),AE$1,0)","v":0},null,null,null,null,null,0,0,-1893.0729999999994]
[null,66,40,null,{"$f":"IF(親1!D53<=833.3+42*親1!AS53,IF(AND(C53>=0,C53<=3),1.5*12,IF(AND(C53>3,C53<=15),1*12,0)),IF(AND(C53>=0,C53<=15),0.5*12,0))","v":0},null,null,null,null,0,null,null,{"$f":"IF(AND($C53>=0,$C53<=入力!$Q$38),M$1,0)","v":0},{"$f":"IF(AND($C53>=0,$C53<=入力!$Q$38),N$1,0)","v":0},{"$f":"IF(AND($C53>=0,$C53<=入力!$Q$38),O$1,0)","v":0},{"$f":"IF(AND($C53>=0,$C53<=入力!$Q$38),P$1,0)","v":0},{"$f":"IF(AND($C53>=0,$C53<=入力!$Q$38),Q$1,0)","v":0},null,null,0,0,null,{"$f":"IF(AND($C53>=10,$C53<=入力!$Q$38),W$1,0)","v":0},{"$f":"IFERROR(VLOOKUP($C53,学費計算!$C:$R,学費計算!H$1,0),0)","v":0},{"$f":"IFERROR(VLOOKUP($C53,学費計算!$C:$R,学費計算!I$1,0),0)","v":0},{"$f":"IFERROR(VLOOKUP($C53,学費計算!$C:$R,学費計算!J$1,0),0)","v":0},{"$f":"IFERROR(VLOOKUP($C53,学費計算!$C:$R,学費計算!K$1,0),0)","v":0},null,0,0,{"$f":"IF(AND($C53>=0,$C53<=入力!$Q$38),AE$1,0)","v":0},null,null,null,null,null,0,0,-1893.0729999999994]
[null,67,41,null,{"$f":"IF(親1!D54<=833.3+42*親1!AS54,IF(AND(C54>=0,C54<=3),1.5*12,IF(AND(C54>3,C54<=15),1*12,0)),IF(AND(C54>=0,C54<=15),0.5*12,0))","v":0},null,null,null,null,0,null,null,{"$f":"IF(AND($C54>=0,$C54<=入力!$Q$38),M$1,0)","v":0},{"$f":"IF(AND($C54>=0,$C54<=入力!$Q$38),N$1,0)","v":0},{"$f":"IF(AND($C54>=0,$C54<=入力!$Q$38),O$1,0)","v":0},{"$f":"IF(AND($C54>=0,$C54<=入力!$Q$38),P$1,0)","v":0},{"$f":"IF(AND($C54>=0,$C54<=入力!$Q$38),Q$1,0)","v":0},null,null,0,0,null,{"$f":"IF(AND($C54>=10,$C54<=入力!$Q$38),W$1,0)","v":0},{"$f":"IFERROR(VLOOKUP($C54,学費計算!$C:$R,学費計算!H$1,0),0)","v":0},{"$f":"IFERROR(VLOOKUP($C54,学費計算!$C:$R,学費計算!I$1,0),0)","v":0},{"$f":"IFERROR(VLOOKUP($C54,学費計算!$C:$R,学費計算!J$1,0),0)","v":0},{"$f":"IFERROR(VLOOKUP($C54,学費計算!$C:$R,学費計算!K$1,0),0)","v":0},null,0,0,{"$f":"IF(AND($C54>=0,$C54<=入力!$Q$38),AE$1,0)","v":0},null,null,null,null,null,0,0,-1893.0729999999994]
[null,68,42,null,{"$f":"IF(親1!D55<=833.3+42*親1!AS55,IF(AND(C55>=0,C55<=3),1.5*12,IF(AND(C55>3,C55<=15),1*12,0)),IF(AND(C55>=0,C55<=15),0.5*12,0))","v":0},null,null,null,null,0,null,null,{"$f":"IF(AND($C55>=0,$C55<=入力!$Q$38),M$1,0)","v":0},{"$f":"IF(AND($C55>=0,$C55<=入力!$Q$38),N$1,0)","v":0},{"$f":"IF(AND($C55>=0,$C55<=入力!$Q$38),O$1,0)","v":0},{"$f":"IF(AND($C55>=0,$C55<=入力!$Q$38),P$1,0)","v":0},{"$f":"IF(AND($C55>=0,$C55<=入力!$Q$38),Q$1,0)","v":0},null,null,0,0,null,{"$f":"IF(AND($C55>=10,$C55<=入力!$Q$38),W$1,0)","v":0},{"$f":"IFERROR(VLOOKUP($C55,学費計算!$C:$R,学費計算!H$1,0),0)","v":0},{"$f":"IFERROR(VLOOKUP($C55,学費計算!$C:$R,学費計算!I$1,0),0)","v":0},{"$f":"IFERROR(VLOOKUP($C55,学費計算!$C:$R,学費計算!J$1,0),0)","v":0},{"$f":"IFERROR(VLOOKUP($C55,学費計算!$C:$R,学費計算!K$1,0),0)","v":0},null,0,0,{"$f":"IF(AND($C55>=0,$C55<=入力!$Q$38),AE$1,0)","v":0},null,null,null,null,null,0,0,-1893.0729999999994]
[null,69,43,null,{"$f":"IF(親1!D56<=833.3+42*親1!AS56,IF(AND(C56>=0,C56<=3),1.5*12,IF(AND(C56>3,C56<=15),1*12,0)),IF(AND(C56>=0,C56<=15),0.5*12,0))","v":0},null,null,null,null,0,null,null,{"$f":"IF(AND($C56>=0,$C56<=入力!$Q$38),M$1,0)","v":0},{"$f":"IF(AND($C56>=0,$C56<=入力!$Q$38),N$1,0)","v":0},{"$f":"IF(AND($C56>=0,$C56<=入力!$Q$38),O$1,0)","v":0},{"$f":"IF(AND($C56>=0,$C56<=入力!$Q$38),P$1,0)","v":0},{"$f":"IF(AND($C56>=0,$C56<=入力!$Q$38),Q$1,0)","v":0},null,null,0,0,null,{"$f":"IF(AND($C56>=10,$C56<=入力!$Q$38),W$1,0)","v":0},{"$f":"IFERROR(VLOOKUP($C56,学費計算!$C:$R,学費計算!H$1,0),0)","v":0},{"$f":"IFERROR(VLOOKUP($C56,学費計算!$C:$R,学費計算!I$1,0),0)","v":0},{"$f":"IFERROR(VLOOKUP($C56,学費計算!$C:$R,学費計算!J$1,0),0)","v":0},{"$f":"IFERROR(VLOOKUP($C56,学費計算!$C:$R,学費計算!K$1,0),0)","v":0},null,0,0,{"$f":"IF(AND($C56>=0,$C56<=入力!$Q$38),AE$1,0)","v":0},null,null,null,null,null,0,0,-1893.0729999999994]
[null,70,44,null,{"$f":"IF(親1!D57<=833.3+42*親1!AS57,IF(AND(C57>=0,C57<=3),1.5*12,IF(AND(C57>3,C57<=15),1*12,0)),IF(AND(C57>=0,C57<=15),0.5*12,0))","v":0},null,null,null,null,0,null,null,{"$f":"IF(AND($C57>=0,$C57<=入力!$Q$38),M$1,0)","v":0},{"$f":"IF(AND($C57>=0,$C57<=入力!$Q$38),N$1,0)","v":0},{"$f":"IF(AND($C57>=0,$C57<=入力!$Q$38),O$1,0)","v":0},{"$f":"IF(AND($C57>=0,$C57<=入力!$Q$38),P$1,0)","v":0},{"$f":"IF(AND($C57>=0,$C57<=入力!$Q$38),Q$1,0)","v":0},null,null,0,0,null,{"$f":"IF(AND($C57>=10,$C57<=入力!$Q$38),W$1,0)","v":0},{"$f":"IFERROR(VLOOKUP($C57,学費計算!$C:$R,学費計算!H$1,0),0)","v":0},{"$f":"IFERROR(VLOOKUP($C57,学費計算!$C:$R,学費計算!I$1,0),0)","v":0},{"$f":"IFERROR(VLOOKUP($C57,学費計算!$C:$R,学費計算!J$1,0),0)","v":0},{"$f":"IFERROR(VLOOKUP($C57,学費計算!$C:$R,学費計算!K$1,0),0)","v":0},null,0,0,{"$f":"IF(AND($C57>=0,$C57<=入力!$Q$38),AE$1,0)","v":0},null,null,null,null,null,0,0,-1893.0729999999994]
[null,71,45,null,{"$f":"IF(親1!D58<=833.3+42*親1!AS58,IF(AND(C58>=0,C58<=3),1.5*12,IF(AND(C58>3,C58<=15),1*12,0)),IF(AND(C58>=0,C58<=15),0.5*12,0))","v":0},null,null,null,null,0,null,null,{"$f":"IF(AND($C58>=0,$C58<=入力!$Q$38),M$1,0)","v":0},{"$f":"IF(AND($C58>=0,$C58<=入力!$Q$38),N$1,0)","v":0},{"$f":"IF(AND($C58>=0,$C58<=入力!$Q$38),O$1,0)","v":0},{"$f":"IF(AND($C58>=0,$C58<=入力!$Q$38),P$1,0)","v":0},{"$f":"IF(AND($C58>=0,$C58<=入力!$Q$38),Q$1,0)","v":0},null,null,0,0,null,{"$f":"IF(AND($C58>=10,$C58<=入力!$Q$38),W$1,0)","v":0},{"$f":"IFERROR(VLOOKUP($C58,学費計算!$C:$R,学費計算!H$1,0),0)","v":0},{"$f":"IFERROR(VLOOKUP($C58,学費計算!$C:$R,学費計算!I$1,0),0)","v":0},{"$f":"IFERROR(VLOOKUP($C58,学費計算!$C:$R,学費計算!J$1,0),0)","v":0},{"$f":"IFERROR(VLOOKUP($C58,学費計算!$C:$R,学費計算!K$1,0),0)","v":0},null,0,0,{"$f":"IF(AND($C58>=0,$C58<=入力!$Q$38),AE$1,0)","v":0},null,null,null,null,null,0,0,-1893.0729999999994]
[null,72,46,null,{"$f":"IF(親1!D59<=833.3+42*親1!AS59,IF(AND(C59>=0,C59<=3),1.5*12,IF(AND(C59>3,C59<=15),1*12,0)),IF(AND(C59>=0,C59<=15),0.5*12,0))","v":0},null,null,null,null,0,null,null,{"$f":"IF(AND($C59>=0,$C59<=入力!$Q$38),M$1,0)","v":0},{"$f":"IF(AND($C59>=0,$C59<=入力!$Q$38),N$1,0)","v":0},{"$f":"IF(AND($C59>=0,$C59<=入力!$Q$38),O$1,0)","v":0},{"$f":"IF(AND($C59>=0,$C59<=入力!$Q$38),P$1,0)","v":0},{"$f":"IF(AND($C59>=0,$C59<=入力!$Q$38),Q$1,0)","v":0},null,null,0,0,null,{"$f":"IF(AND($C59>=10,$C59<=入力!$Q$38),W$1,0)","v":0},{"$f":"IFERROR(VLOOKUP($C59,学費計算!$C:$R,学費計算!H$1,0),0)","v":0},{"$f":"IFERROR(VLOOKUP($C59,学費計算!$C:$R,学費計算!I$1,0),0)","v":0},{"$f":"IFERROR(VLOOKUP($C59,学費計算!$C:$R,学費計算!J$1,0),0)","v":0},{"$f":"IFERROR(VLOOKUP($C59,学費計算!$C:$R,学費計算!K$1,0),0)","v":0},null,0,0,{"$f":"IF(AND($C59>=0,$C59<=入力!$Q$38),AE$1,0)","v":0},null,null,null,null,null,0,0,-1893.0729999999994]
[null,73,47,null,{"$f":"IF(親1!D60<=833.3+42*親1!AS60,IF(AND(C60>=0,C60<=3),1.5*12,IF(AND(C60>3,C60<=15),1*12,0)),IF(AND(C60>=0,C60<=15),0.5*12,0))","v":0},null,null,null,null,0,null,null,{"$f":"IF(AND($C60>=0,$C60<=入力!$Q$38),M$1,0)","v":0},{"$f":"IF(AND($C60>=0,$C60<=入力!$Q$38),N$1,0)","v":0},{"$f":"IF(AND($C60>=0,$C60<=入力!$Q$38),O$1,0)","v":0},{"$f":"IF(AND($C60>=0,$C60<=入力!$Q$38),P$1,0)","v":0},{"$f":"IF(AND($C60>=0,$C60<=入力!$Q$38),Q$1,0)","v":0},null,null,0,0,null,{"$f":"IF(AND($C60>=10,$C60<=入力!$Q$38),W$1,0)","v":0},{"$f":"IFERROR(VLOOKUP($C60,学費計算!$C:$R,学費計算!H$1,0),0)","v":0},{"$f":"IFERROR(VLOOKUP($C60,学費計算!$C:$R,学費計算!I$1,0),0)","v":0},{"$f":"IFERROR(VLOOKUP($C60,学費計算!$C:$R,学費計算!J$1,0),0)","v":0},{"$f":"IFERROR(VLOOKUP($C60,学費計算!$C:$R,学費計算!K$1,0),0)","v":0},null,0,0,{"$f":"IF(AND($C60>=0,$C60<=入力!$Q$38),AE$1,0)","v":0},null,null,null,null,null,0,0,-1893.0729999999994]
[null,74,48,null,{"$f":"IF(親1!D61<=833.3+42*親1!AS61,IF(AND(C61>=0,C61<=3),1.5*12,IF(AND(C61>3,C61<=15),1*12,0)),IF(AND(C61>=0,C61<=15),0.5*12,0))","v":0},null,null,null,null,0,null,null,{"$f":"IF(AND($C61>=0,$C61<=入力!$Q$38),M$1,0)","v":0},{"$f":"IF(AND($C61>=0,$C61<=入力!$Q$38),N$1,0)","v":0},{"$f":"IF(AND($C61>=0,$C61<=入力!$Q$38),O$1,0)","v":0},{"$f":"IF(AND($C61>=0,$C61<=入力!$Q$38),P$1,0)","v":0},{"$f":"IF(AND($C61>=0,$C61<=入力!$Q$38),Q$1,0)","v":0},null,null,0,0,null,{"$f":"IF(AND($C61>=10,$C61<=入力!$Q$38),W$1,0)","v":0},{"$f":"IFERROR(VLOOKUP($C61,学費計算!$C:$R,学費計算!H$1,0),0)","v":0},{"$f":"IFERROR(VLOOKUP($C61,学費計算!$C:$R,学費計算!I$1,0),0)","v":0},{"$f":"IFERROR(VLOOKUP($C61,学費計算!$C:$R,学費計算!J$1,0),0)","v":0},{"$f":"IFERROR(VLOOKUP($C61,学費計算!$C:$R,学費計算!K$1,0),0)","v":0},null,0,0,{"$f":"IF(AND($C61>=0,$C61<=入力!$Q$38),AE$1,0)","v":0},null,null,null,null,null,0,0,-1893.0729999999994]
[null,75,49,null,{"$f":"IF(親1!D62<=833.3+42*親1!AS62,IF(AND(C62>=0,C62<=3),1.5*12,IF(AND(C62>3,C62<=15),1*12,0)),IF(AND(C62>=0,C62<=15),0.5*12,0))","v":0},null,null,null,null,0,null,null,{"$f":"IF(AND($C62>=0,$C62<=入力!$Q$38),M$1,0)","v":0},{"$f":"IF(AND($C62>=0,$C62<=入力!$Q$38),N$1,0)","v":0},{"$f":"IF(AND($C62>=0,$C62<=入力!$Q$38),O$1,0)","v":0},{"$f":"IF(AND($C62>=0,$C62<=入力!$Q$38),P$1,0)","v":0},{"$f":"IF(AND($C62>=0,$C62<=入力!$Q$38),Q$1,0)","v":0},null,null,0,0,null,{"$f":"IF(AND($C62>=10,$C62<=入力!$Q$38),W$1,0)","v":0},{"$f":"IFERROR(VLOOKUP($C62,学費計算!$C:$R,学費計算!H$1,0),0)","v":0},{"$f":"IFERROR(VLOOKUP($C62,学費計算!$C:$R,学費計算!I$1,0),0)","v":0},{"$f":"IFERROR(VLOOKUP($C62,学費計算!$C:$R,学費計算!J$1,0),0)","v":0},{"$f":"IFERROR(VLOOKUP($C62,学費計算!$C:$R,学費計算!K$1,0),0)","v":0},null,0,0,{"$f":"IF(AND($C62>=0,$C62<=入力!$Q$38),AE$1,0)","v":0},null,null,null,null,null,0,0,-1893.0729999999994]
[null,76,50,null,{"$f":"IF(親1!D63<=833.3+42*親1!AS63,IF(AND(C63>=0,C63<=3),1.5*12,IF(AND(C63>3,C63<=15),1*12,0)),IF(AND(C63>=0,C63<=15),0.5*12,0))","v":0},null,null,null,null,0,null,null,{"$f":"IF(AND($C63>=0,$C63<=入力!$Q$38),M$1,0)","v":0},{"$f":"IF(AND($C63>=0,$C63<=入力!$Q$38),N$1,0)","v":0},{"$f":"IF(AND($C63>=0,$C63<=入力!$Q$38),O$1,0)","v":0},{"$f":"IF(AND($C63>=0,$C63<=入力!$Q$38),P$1,0)","v":0},{"$f":"IF(AND($C63>=0,$C63<=入力!$Q$38),Q$1,0)","v":0},null,null,0,0,null,{"$f":"IF(AND($C63>=10,$C63<=入力!$Q$38),W$1,0)","v":0},{"$f":"IFERROR(VLOOKUP($C63,学費計算!$C:$R,学費計算!H$1,0),0)","v":0},{"$f":"IFERROR(VLOOKUP($C63,学費計算!$C:$R,学費計算!I$1,0),0)","v":0},{"$f":"IFERROR(VLOOKUP($C63,学費計算!$C:$R,学費計算!J$1,0),0)","v":0},{"$f":"IFERROR(VLOOKUP($C63,学費計算!$C:$R,学費計算!K$1,0),0)","v":0},null,0,0,{"$f":"IF(AND($C63>=0,$C63<=入力!$Q$38),AE$1,0)","v":0},null,null,null,null,null,0,0,-1893.0729999999994]
[null,77,51,null,{"$f":"IF(親1!D64<=833.3+42*親1!AS64,IF(AND(C64>=0,C64<=3),1.5*12,IF(AND(C64>3,C64<=15),1*12,0)),IF(AND(C64>=0,C64<=15),0.5*12,0))","v":0},null,null,null,null,0,null,null,{"$f":"IF(AND($C64>=0,$C64<=入力!$Q$38),M$1,0)","v":0},{"$f":"IF(AND($C64>=0,$C64<=入力!$Q$38),N$1,0)","v":0},{"$f":"IF(AND($C64>=0,$C64<=入力!$Q$38),O$1,0)","v":0},{"$f":"IF(AND($C64>=0,$C64<=入力!$Q$38),P$1,0)","v":0},{"$f":"IF(AND($C64>=0,$C64<=入力!$Q$38),Q$1,0)","v":0},null,null,0,0,null,{"$f":"IF(AND($C64>=10,$C64<=入力!$Q$38),W$1,0)","v":0},{"$f":"IFERROR(VLOOKUP($C64,学費計算!$C:$R,学費計算!H$1,0),0)","v":0},{"$f":"IFERROR(VLOOKUP($C64,学費計算!$C:$R,学費計算!I$1,0),0)","v":0},{"$f":"IFERROR(VLOOKUP($C64,学費計算!$C:$R,学費計算!J$1,0),0)","v":0},{"$f":"IFERROR(VLOOKUP($C64,学費計算!$C:$R,学費計算!K$1,0),0)","v":0},null,0,0,{"$f":"IF(AND($C64>=0,$C64<=入力!$Q$38),AE$1,0)","v":0},null,null,null,null,null,0,0,-1893.0729999999994]
[null,78,52,null,{"$f":"IF(親1!D65<=833.3+42*親1!AS65,IF(AND(C65>=0,C65<=3),1.5*12,IF(AND(C65>3,C65<=15),1*12,0)),IF(AND(C65>=0,C65<=15),0.5*12,0))","v":0},null,null,null,null,0,null,null,{"$f":"IF(AND($C65>=0,$C65<=入力!$Q$38),M$1,0)","v":0},{"$f":"IF(AND($C65>=0,$C65<=入力!$Q$38),N$1,0)","v":0},{"$f":"IF(AND($C65>=0,$C65<=入力!$Q$38),O$1,0)","v":0},{"$f":"IF(AND($C65>=0,$C65<=入力!$Q$38),P$1,0)","v":0},{"$f":"IF(AND($C65>=0,$C65<=入力!$Q$38),Q$1,0)","v":0},null,null,0,0,null,{"$f":"IF(AND($C65>=10,$C65<=入力!$Q$38),W$1,0)","v":0},{"$f":"IFERROR(VLOOKUP($C65,学費計算!$C:$R,学費計算!H$1,0),0)","v":0},{"$f":"IFERROR(VLOOKUP($C65,学費計算!$C:$R,学費計算!I$1,0),0)","v":0},{"$f":"IFERROR(VLOOKUP($C65,学費計算!$C:$R,学費計算!J$1,0),0)","v":0},{"$f":"IFERROR(VLOOKUP($C65,学費計算!$C:$R,学費計算!K$1,0),0)","v":0},null,0,0,{"$f":"IF(AND($C65>=0,$C65<=入力!$Q$38),AE$1,0)","v":0},null,null,null,null,null,0,0,-1893.0729999999994]
[null,79,53,null,{"$f":"IF(親1!D66<=833.3+42*親1!AS66,IF(AND(C66>=0,C66<=3),1.5*12,IF(AND(C66>3,C66<=15),1*12,0)),IF(AND(C66>=0,C66<=15),0.5*12,0))","v":0},null,null,null,null,0,null,null,{"$f":"IF(AND($C66>=0,$C66<=入力!$Q$38),M$1,0)","v":0},{"$f":"IF(AND($C66>=0,$C66<=入力!$Q$38),N$1,0)","v":0},{"$f":"IF(AND($C66>=0,$C66<=入力!$Q$38),O$1,0)","v":0},{"$f":"IF(AND($C66>=0,$C66<=入力!$Q$38),P$1,0)","v":0},{"$f":"IF(AND($C66>=0,$C66<=入力!$Q$38),Q$1,0)","v":0},null,null,0,0,null,{"$f":"IF(AND($C66>=10,$C66<=入力!$Q$38),W$1,0)","v":0},{"$f":"IFERROR(VLOOKUP($C66,学費計算!$C:$R,学費計算!H$1,0),0)","v":0},{"$f":"IFERROR(VLOOKUP($C66,学費計算!$C:$R,学費計算!I$1,0),0)","v":0},{"$f":"IFERROR(VLOOKUP($C66,学費計算!$C:$R,学費計算!J$1,0),0)","v":0},{"$f":"IFERROR(VLOOKUP($C66,学費計算!$C:$R,学費計算!K$1,0),0)","v":0},null,0,0,{"$f":"IF(AND($C66>=0,$C66<=入力!$Q$38),AE$1,0)","v":0},null,null,null,null,null,0,0,-1893.0729999999994]
[null,80,54,null,{"$f":"IF(親1!D67<=833.3+42*親1!AS67,IF(AND(C67>=0,C67<=3),1.5*12,IF(AND(C67>3,C67<=15),1*12,0)),IF(AND(C67>=0,C67<=15),0.5*12,0))","v":0},null,null,null,null,0,null,null,{"$f":"IF(AND($C67>=0,$C67<=入力!$Q$38),M$1,0)","v":0},{"$f":"IF(AND($C67>=0,$C67<=入力!$Q$38),N$1,0)","v":0},{"$f":"IF(AND($C67>=0,$C67<=入力!$Q$38),O$1,0)","v":0},{"$f":"IF(AND($C67>=0,$C67<=入力!$Q$38),P$1,0)","v":0},{"$f":"IF(AND($C67>=0,$C67<=入力!$Q$38),Q$1,0)","v":0},null,null,0,0,null,{"$f":"IF(AND($C67>=10,$C67<=入力!$Q$38),W$1,0)","v":0},{"$f":"IFERROR(VLOOKUP($C67,学費計算!$C:$R,学費計算!H$1,0),0)","v":0},{"$f":"IFERROR(VLOOKUP($C67,学費計算!$C:$R,学費計算!I$1,0),0)","v":0},{"$f":"IFERROR(VLOOKUP($C67,学費計算!$C:$R,学費計算!J$1,0),0)","v":0},{"$f":"IFERROR(VLOOKUP($C67,学費計算!$C:$R,学費計算!K$1,0),0)","v":0},null,0,0,{"$f":"IF(AND($C67>=0,$C67<=入力!$Q$38),AE$1,0)","v":0},null,null,null,null,null,0,0,-1893.0729999999994]
[null,81,55,null,{"$f":"IF(親1!D68<=833.3+42*親1!AS68,IF(AND(C68>=0,C68<=3),1.5*12,IF(AND(C68>3,C68<=15),1*12,0)),IF(AND(C68>=0,C68<=15),0.5*12,0))","v":0},null,null,null,null,0,null,null,{"$f":"IF(AND($C68>=0,$C68<=入力!$Q$38),M$1,0)","v":0},{"$f":"IF(AND($C68>=0,$C68<=入力!$Q$38),N$1,0)","v":0},{"$f":"IF(AND($C68>=0,$C68<=入力!$Q$38),O$1,0)","v":0},{"$f":"IF(AND($C68>=0,$C68<=入力!$Q$38),P$1,0)","v":0},{"$f":"IF(AND($C68>=0,$C68<=入力!$Q$38),Q$1,0)","v":0},null,null,0,0,null,{"$f":"IF(AND($C68>=10,$C68<=入力!$Q$38),W$1,0)","v":0},{"$f":"IFERROR(VLOOKUP($C68,学費計算!$C:$R,学費計算!H$1,0),0)","v":0},{"$f":"IFERROR(VLOOKUP($C68,学費計算!$C:$R,学費計算!I$1,0),0)","v":0},{"$f":"IFERROR(VLOOKUP($C68,学費計算!$C:$R,学費計算!J$1,0),0)","v":0},{"$f":"IFERROR(VLOOKUP($C68,学費計算!$C:$R,学費計算!K$1,0),0)","v":0},null,0,0,{"$f":"IF(AND($C68>=0,$C68<=入力!$Q$38),AE$1,0)","v":0},null,null,null,null,null,0,0,-1893.0729999999994]
[null,82,56,null,{"$f":"IF(親1!D69<=833.3+42*親1!AS69,IF(AND(C69>=0,C69<=3),1.5*12,IF(AND(C69>3,C69<=15),1*12,0)),IF(AND(C69>=0,C69<=15),0.5*12,0))","v":0},null,null,null,null,0,null,null,{"$f":"IF(AND($C69>=0,$C69<=入力!$Q$38),M$1,0)","v":0},{"$f":"IF(AND($C69>=0,$C69<=入力!$Q$38),N$1,0)","v":0},{"$f":"IF(AND($C69>=0,$C69<=入力!$Q$38),O$1,0)","v":0},{"$f":"IF(AND($C69>=0,$C69<=入力!$Q$38),P$1,0)","v":0},{"$f":"IF(AND($C69>=0,$C69<=入力!$Q$38),Q$1,0)","v":0},null,null,0,0,null,{"$f":"IF(AND($C69>=10,$C69<=入力!$Q$38),W$1,0)","v":0},{"$f":"IFERROR(VLOOKUP($C69,学費計算!$C:$R,学費計算!H$1,0),0)","v":0},{"$f":"IFERROR(VLOOKUP($C69,学費計算!$C:$R,学費計算!I$1,0),0)","v":0},{"$f":"IFERROR(VLOOKUP($C69,学費計算!$C:$R,学費計算!J$1,0),0)","v":0},{"$f":"IFERROR(VLOOKUP($C69,学費計算!$C:$R,学費計算!K$1,0),0)","v":0},null,0,0,{"$f":"IF(AND($C69>=0,$C69<=入力!$Q$38),AE$1,0)","v":0},null,null,null,null,null,0,0,-1893.0729999999994]
[null,83,57,null,{"$f":"IF(親1!D70<=833.3+42*親1!AS70,IF(AND(C70>=0,C70<=3),1.5*12,IF(AND(C70>3,C70<=15),1*12,0)),IF(AND(C70>=0,C70<=15),0.5*12,0))","v":0},null,null,null,null,0,null,null,{"$f":"IF(AND($C70>=0,$C70<=入力!$Q$38),M$1,0)","v":0},{"$f":"IF(AND($C70>=0,$C70<=入力!$Q$38),N$1,0)","v":0},{"$f":"IF(AND($C70>=0,$C70<=入力!$Q$38),O$1,0)","v":0},{"$f":"IF(AND($C70>=0,$C70<=入力!$Q$38),P$1,0)","v":0},{"$f":"IF(AND($C70>=0,$C70<=入力!$Q$38),Q$1,0)","v":0},null,null,{"$f":"SUM(K70:S70)","v":0},{"$f":"J70-T70","v":0},null,{"$f":"IF(AND($C70>=10,$C70<=入力!$Q$38),W$1,0)","v":0},{"$f":"IFERROR(VLOOKUP($C70,学費計算!$C:$R,学費計算!H$1,0),0)","v":0},{"$f":"IFERROR(VLOOKUP($C70,学費計算!$C:$R,学費計算!I$1,0),0)","v":0},{"$f":"IFERROR(VLOOKUP($C70,学費計算!$C:$R,学費計算!J$1,0),0)","v":0},{"$f":"IFERROR(VLOOKUP($C70,学費計算!$C:$R,学費計算!K$1,0),0)","v":0},null,{"$f":"SUM(V70:AB70)","v":0},{"$f":"U70-AC70","v":0},{"$f":"IF(AND($C70>=0,$C70<=入力!$Q$38),AE$1,0)","v":0},null,null,null,null,null,0,{"$f":"AD70-AK70","v":0},{"$f":"AL70+AM69","v":-1893.0729999999994}]
[null,null,null,{"$f":"SUM(D6:D70)","v":0},216,0,null,0,0,216,0,0,376.2000000000001,125.39999999999995,31.349999999999987,25.080000000000005,15.674999999999994,null,{"$f":"SUM(S6:S70)","v":0},573.70500000000004,-357.70499999999993,0,21.6,72,144,637.76799999999992,432,0,1307.3679999999999,-1665.0729999999999,228,0,0,0,0,0,228,{"$f":"SUM(AL5:AL70)","v":-1893.0729999999994}]
[]
[]
[null,null,null,null,null,null,null,null,null,null,null,null,null,null,null,null,null,null,null,null,null,null,null,null,null,{"$f":"SUMIF($C$6:$C$70,\">=18\",Z6:Z70)","v":400.77019999999993},{"$f":"SUMIF($C$6:$C$70,\">=18\",AA6:AA70)","v":432}]

{"sheet":"子3","index":7,"n_rows":74,"n_cols":39,"rows_kept":74,"cut":false,"hidden":false,"merged":[]}
[null,null,null,null,null,null,null,null,null,null,null,null,{"$f":"IF($C$30>0,入力!AD13*12*(1+入力!$AD$16),0)","v":0},{"$f":"IF($C$30>0,入力!AE13*12*(1+入力!$AD$16),0)","v":0},{"$f":"IF($C$30>0,入力!AF13*12*(1+入力!$AD$16),0)","v":0},{"$f":"IF($C$30>0,入力!AG13*12*(1+入力!$AD$16),0)","v":0},{"$f":"IF($C$30>0,入力!AH13*12*(1+入力!$AD$16),0)","v":0},null,null,null,null,null,{"$f":"IF($C$30>0,入力!AJ13*12,0)","v":0},null,null,null,null,null,null,null,{"$f":"入力!P35*12","v":12}]
[null,null,null,null,null,null,null,null,null,"収入",null,null,null,null,null,null,null,null,null,null,"収支 小計",null,null,null,null,null,null,null,null,"収支 小計",null,null,null,null,null,null,null,"収支","収支累計"]
[null,null,null,null,null,null,null,null,null,null,null,null,null,null,null,null,null,null,null,"支出1  衣食住",null,null,null,null,null,null,null,null,"支出2  固定費",null,null,null,null,null,null,null,"支出3  衣食住勉"]
[null,"西暦","年齢","年収","手取り","時短等","退職金","年金",null,null,"住居","住居維持費\n(含むローン控除)","食費","服費","電気","ガス","水道","保険",null,null,null,"インターネット","携帯","塾・仕送り","習い事","学費","仕送り",null,null,null,"お小遣い","雑費","家具","車1","車2","車維持費","合計"]
[null,"貯金"]
[null,19,{"$f":"IF(入力!$R$11=\"\",-100,入力!$R$11)","v":-100},null,{"$f":"IF(親1!D6<=833.3+42*親1!AS6,IF(AND(C6>=0,C6<=3),1.5*12,IF(AND(C6>3,C6<=15),1*12,0)),IF(AND(C6>=0,C6<=15),0.5*12,0))","v":0},null,null,null,null,{"$f":"SUM(E6:I6)","v":0},null,null,{"$f":"IF(AND($C6>=0,$C6<=入力!$R$38),M$1,0)","v":0},{"$f":"IF(AND($C6>=0,$C6<=入力!$R$38),N$1,0)","v":0},{"$f":"IF(AND($C6>=0,$C6<=入力!$R$38),O$1,0)","v":0},{"$f":"IF(AND($C6>=0,$C6<=入力!$R$38),P$1,0)","v":0},{"$f":"IF(AND($C6>=0,$C6<=入力!$R$38),Q$1,0)","v":0},null,null,{"$f":"SUM(K6:S6)","v":0},{"$f":"J6-T6","v":0},null,{"$f":"IF(AND($C6>=10,$C6<=入力!$R$38),W$1,0)","v":0},{"$f":"IFERROR(VLOOKUP($C6,学費計算!$C:$R,学費計算!H$1,0),0)","v":0},{"$f":"IFERROR(VLOOKUP($C6,学費計算!$C:$R,学費計算!I$1,0),0)","v":0},{"$f":"IFERROR(VLOOKUP($C6,学費計算!$C:$R,学費計算!J$1,0),0)","v":0},{"$f":"IFERROR(VLOOKUP($C6,学費計算!$C:$R,学費計算!K$1,0),0)","v":0},null,{"$f":"SUM(V6:AB6)","v":0},{"$f":"U6-AC6","v":0},{"$f":"IF(AND($C6>=0,$C6<=入力!$R$36),AE$1,0)","v":0},null,null,null,null,null,{"$f":"SUM(AE6:AJ6)","v":0},{"$f":"AD6-AK6","v":0},{"$f":"AL6+AM5","v":0}]
[null,{"$f":"B6+1","v":20},{"$f":"C6+1","v":-99},null,{"$f":"IF(親1!D7<=833.3+42*親1!AS7,IF(AND(C7>=0,C7<=3),1.5*12,IF(AND(C7>3,C7<=15),1*12,0)),IF(AND(C7>=0,C7<=15),0.5*12,0))","v":0},null,null,null,null,0,null,null,{"$f":"IF(AND($C7>=0,$C7<=入力!$R$38),M$1,0)","v":0},{"$f":"IF(AND($C7>=0,$C7<=入力!$R$38),N$1,0)","v":0},{"$f":"IF(AND($C7>=0,$C7<=入力!$R$38),O$1,0)","v":0},{"$f":"IF(AND($C7>=0,$C7<=入力!$R$38),P$1,0)","v":0},{"$f":"IF(AND($C7>=0,$C7<=入力!$R$38),Q$1,0)","v":0},null,null,0,0,null,{"$f":"IF(AND($C7>=10,$C7<=入力!$R$38),W$1,0)","v":0},{"$f":"IFERROR(VLOOKUP($C7,学費計算!$C:$R,学費計算!H$1,0),0)","v":0},{"$f":"IFERROR(VLOOKUP($C7,学費計算!$C:$R,学費計算!I$1,0),0)","v":0},{"$f":"IFERROR(VLOOKUP($C7,学費計算!$C:$R,学費計算!J$1,0),0)","v":0},{"$f":"IFERROR(VLOOKUP($C7,学費計算!$C:$R,学費計算!K$1,0),0)","v":0},null,0,0,{"$f":"IF(AND($C7>=0,$C7<=入力!$R$36),AE$1,0)","v":0},null,null,null,null,null,{"$f":"SUM(AE7:AJ7)","v":0},0,0]
[null,{"$f":"B7+1","v":21},{"$f":"C7+1","v":-98},null,{"$f":"IF(親1!D8<=833.3+42*親1!AS8,IF(AND(C8>=0,C8<=3),1.5*12,IF(AND(C8>3,C8<=15),1*12,0)),IF(AND(C8>=0,C8<=15),0.5*12,0))","v":0},null,null,null,null,0,null,null,{"$f":"IF(AND($C8>=0,$C8<=入力!$R$38),M$1,0)","v":0},{"$f":"IF(AND($C8>=0,$C8<=入力!$R$38),N$1,0)","v":0},{"$f":"IF(AND($C8>=0,$C8<=入力!$R$38),O$1,0)","v":0},{"$f":"IF(AND($C8>=0,$C8<=入力!$R$38),P$1,0)","v":0},{"$f":"IF(AND($C8>=0,$C8<=入力!$R$38),Q$1,0)","v":0},null,null,0,0,null,{"$f":"IF(AND($C8>=10,$C8<=入力!$R$38),W$1,0)","v":0},{"$f":"IFERROR(VLOOKUP($C8,学費計算!$C:$R,学費計算!H$1,0),0)","v":0},{"$f":"IFERROR(VLOOKUP($C8,学費計算!$C:$R,学費計算!I$1,0),0)","v":0},{"$f":"IFERROR(VLOOKUP($C8,学費計算!$C:$R,学費計算!J$1,0),0)","v":0},{"$f":"IFERROR(VLOOKUP($C8,学費計算!$C:$R,学費計算!K$1,0),0)","v":0},null,0,0,{"$f":"IF(AND($C8>=0,$C8<=入力!$R$36),AE$1,0)","v":0},null,null,null,null,null,0,0,0]
[null,22,-97,null,{"$f":"IF(親1!D9<=833.3+42*親1!AS9,IF(AND(C9>=0,C9<=3),1.5*12,IF(AND(C9>3,C9<=15),1*12,0)),IF(AND(C9>=0,C9<=15),0.5*12,0))","v":0},null,null,null,null,0,null,null,{"$f":"IF(AND($C9>=0,$C9<=入力!$R$38),M$1,0)","v":0},{"$f":"IF(AND($C9>=0,$C9<=入力!$R$38),N$1,0)","v":0},{"$f":"IF(AND($C9>=0,$C9<=入力!$R$38),O$1,0)","v":0},{"$f":"IF(AND($C9>=0,$C9<=入力!$R$38),P$1,0)","v":0},{"$f":"IF(AND($C9>=0,$C9<=入力!$R$38),Q$1,0)","v":0},null,null,0,0,null,{"$f":"IF(AND($C9>=10,$C9<=入力!$R$38),W$1,0)","v":0},{"$f":"IFERROR(VLOOKUP($C9,学費計算!$C:$R,学費計算!H$1,0),0)","v":0},{"$f":"IFERROR(VLOOKUP($C9,学費計算!$C:$R,学費計算!I$1,0),0)","v":0},{"$f":"IFERROR(VLOOKUP($C9,学費計算!$C:$R,学費計算!J$1,0),0)","v":0},{"$f":"IFERROR(VLOOKUP($C9,学費計算!$C:$R,学費計算!K$1,0),0)","v":0},null,0,0,{"$f":"IF(AND($C9>=0,$C9<=入力!$R$36),AE$1,0)","v":0},null,null,null,null,null,0,0,0]
[null,23,-96,null,{"$f":"IF(親1!D10<=833.3+42*親1!AS10,IF(AND(C10>=0,C10<=3),1.5*12,IF(AND(C10>3,C10<=15),1*12,0)),IF(AND(C10>=0,C10<=15),0.5*12,0))","v":0},null,null,null,null,0,null,null,{"$f":"IF(AND($C10>=0,$C10<=入力!$R$38),M$1,0)","v":0},{"$f":"IF(AND($C10>=0,$C10<=入力!$R$38),N$1,0)","v":0},{"$f":"IF(AND($C10>=0,$C10<=入力!$R$38),O$1,0)","v":0},{"$f":"IF(AND($C10>=0,$C10<=入力!$R$38),P$1,0)","v":0},{"$f":"IF(AND($C10>=0,$C10<=入力!$R$38),Q$1,0)","v":0},null,null,0,0,null,{"$f":"IF(AND($C10>=10,$C10<=入力!$R$38),W$1,0)","v":0},{"$f":"IFERROR(VLOOKUP($C10,学費計算!$C:$R,学費計算!H$1,0),0)","v":0},{"$f":"IFERROR(VLOOKUP($C10,学費計算!$C:$R,学費計算!I$1,0),0)","v":0},{"$f":"IFERROR(VLOOKUP($C10,学費計算!$C:$R,学費計算!J$1,0),0)","v":0},{"$f":"IFERROR(VLOOKUP($C10,学費計算!$C:$R,学費計算!K$1,0),0)","v":0},null,0,0,{"$f":"IF(AND($C10>=0,$C10<=入力!$R$36),AE$1,0)","v":0},null,null,null,null,null,0,0,0]
[null,24,-95,null,{"$f":"IF(親1!D11<=833.3+42*親1!AS11,IF(AND(C11>=0,C11<=3),1.5*12,IF(AND(C11>3,C11<=15),1*12,0)),IF(AND(C11>=0,C11<=15),0.5*12,0))","v":0},null,null,null,null,0,null,null,{"$f":"IF(AND($C11>=0,$C11<=入力!$R$38),M$1,0)","v":0},{"$f":"IF(AND($C11>=0,$C11<=入力!$R$38),N$1,0)","v":0},{"$f":"IF(AND($C11>=0,$C11<=入力!$R$38),O$1,0)","v":0},{"$f":"IF(AND($C11>=0,$C11<=入力!$R$38),P$1,0)","v":0},{"$f":"IF(AND($C11>=0,$C11<=入力!$R$38),Q$1,0)","v":0},null,null,0,0,null,{"$f":"IF(AND($C11>=10,$C11<=入力!$R$38),W$1,0)","v":0},{"$f":"IFERROR(VLOOKUP($C11,学費計算!$C:$R,学費計算!H$1,0),0)","v":0},{"$f":"IFERROR(VLOOKUP($C11,学費計算!$C:$R,学費計算!I$1,0),0)","v":0},{"$f":"IFERROR(VLOOKUP($C11,学費計算!$C:$R,学費計算!J$1,0),0)","v":0},{"$f":"IFERROR(VLOOKUP($C11,学費計算!$C:$R,学費計算!K$1,0),0)","v":0},null,0,0,{"$f":"IF(AND($C11>=0,$C11<=入力!$R$36),AE$1,0)","v":0},null,null,null,null,null,0,0,0]
[null,25,-94,null,{"$f":"IF(親1!D12<=833.3+42*親1!AS12,IF(AND(C12>=0,C12<=3),1.5*12,IF(AND(C12>3,C12<=15),1*12,0)),IF(AND(C12>=0,C12<=15),0.5*12,0))","v":0},null,null,null,null,0,null,null,{"$f":"IF(AND($C12>=0,$C12<=入力!$R$38),M$1,0)","v":0},{"$f":"IF(AND($C12>=0,$C12<=入力!$R$38),N$1,0)","v":0},{"$f":"IF(AND($C12>=0,$C12<=入力!$R$38),O$1,0)","v":0},{"$f":"IF(AND($C12>=0,$C12<=入力!$R$38),P$1,0)","v":0},{"$f":"IF(AND($C12>=0,$C12<=入力!$R$38),Q$1,0)","v":0},null,null,0,0,null,{"$f":"IF(AND($C12>=10,$C12<=入力!$R$38),W$1,0)","v":0},{"$f":"IFERROR(VLOOKUP($C12,学費計算!$C:$R,学費計算!H$1,0),0)","v":0},{"$f":"IFERROR(VLOOKUP($C12,学費計算!$C:$R,学費計算!I$1,0),0)","v":0},{"$f":"IFERROR(VLOOKUP($C12,学費計算!$C:$R,学費計算!J$1,0),0)","v":0},{"$f":"IFERROR(VLOOKUP($C12,学費計算!$C:$R,学費計算!K$1,0),0)","v":0},null,0,0,{"$f":"IF(AND($C12>=0,$C12<=入力!$R$36),AE$1,0)","v":0},null,null,null,null,null,0,0,0]
[null,26,-93,null,{"$f":"IF(親1!D13<=833.3+42*親1!AS13,IF(AND(C13>=0,C13<=3),1.5*12,IF(AND(C13>3,C13<=15),1*12,0)),IF(AND(C13>=0,C13<=15),0.5*12,0))","v":0},null,null,null,null,0,null,null,{"$f":"IF(AND($C13>=0,$C13<=入力!$R$38),M$1,0)","v":0},{"$f":"IF(AND($C13>=0,$C13<=入力!$R$38),N$1,0)","v":0},{"$f":"IF(AND($C13>=0,$C13<=入力!$R$38),O$1,0)","v":0},{"$f":"IF(AND($C13>=0,$C13<=入力!$R$38),P$1,0)","v":0},{"$f":"IF(AND($C13>=0,$C13<=入力!$R$38),Q$1,0)","v":0},null,null,0,0,null,{"$f":"IF(AND($C13>=10,$C13<=入力!$R$38),W$1,0)","v":0},{"$f":"IFERROR(VLOOKUP($C13,学費計算!$C:$R,学費計算!H$1,0),0)","v":0},{"$f":"IFERROR(VLOOKUP($C13,学費計算!$C:$R,学費計算!I$1,0),0)","v":0},{"$f":"IFERROR(VLOOKUP($C13,学費計算!$C:$R,学費計算!J$1,0),0)","v":0},{"$f":"IFERROR(VLOOKUP($C13,学費計算!$C:$R,学費計算!K$1,0),0)","v":0},null,0,0,{"$f":"IF(AND($C13>=0,$C13<=入力!$R$36),AE$1,0)","v":0},null,null,null,null,null,0,0,0]
[null,27,-92,null,{"$f":"IF(親1!D14<=833.3+42*親1!AS14,IF(AND(C14>=0,C14<=3),1.5*12,IF(AND(C14>3,C14<=15),1*12,0)),IF(AND(C14>=0,C14<=15),0.5*12,0))","v":0},null,null,null,null,0,null,null,{"$f":"IF(AND($C14>=0,$C14<=入力!$R$38),M$1,0)","v":0},{"$f":"IF(AND($C14>=0,$C14<=入力!$R$38),N$1,0)","v":0},{"$f":"IF(AND($C14>=0,$C14<=入力!$R$38),O$1,0)","v":0},{"$f":"IF(AND($C14>=0,$C14<=入力!$R$38),P$1,0)","v":0},{"$f":"IF(AND($C14>=0,$C14<=入力!$R$38),Q$1,0)","v":0},null,null,0,0,null,{"$f":"IF(AND($C14>=10,$C14<=入力!$R$38),W$1,0)","v":0},{"$f":"IFERROR(VLOOKUP($C14,学費計算!$C:$R,学費計算!H$1,0),0)","v":0},{"$f":"IFERROR(VLOOKUP($C14,学費計算!$C:$R,学費計算!I$1,0),0)","v":0},{"$f":"IFERROR(VLOOKUP($C14,学費計算!$C:$R,学費計算!J$1,0),0)","v":0},{"$f":"IFERROR(VLOOKUP($C14,学費計算!$C:$R,学費計算!K$1,0),0)","v":0},null,0,0,{"$f":"IF(AND($C14>=0,$C14<=入力!$R$36),AE$1,0)","v":0},null,null,null,null,null,0,0,0]
[null,28,-91,null,{"$f":"IF(親1!D15<=833.3+42*親1!AS15,IF(AND(C15>=0,C15<=3),1.5*12,IF(AND(C15>3,C15<=15),1*12,0)),IF(AND(C15>=0,C15<=15),0.5*12,0))","v":0},null,null,null,null,0,null,null,{"$f":"IF(AND($C15>=0,$C15<=入力!$R$38),M$1,0)","v":0},{"$f":"IF(AND($C15>=0,$C15<=入力!$R$38),N$1,0)","v":0},{"$f":"IF(AND($C15>=0,$C15<=入力!$R$38),O$1,0)","v":0},{"$f":"IF(AND($C15>=0,$C15<=入力!$R$38),P$1,0)","v":0},{"$f":"IF(AND($C15>=0,$C15<=入力!$R$38),Q$1,0)","v":0},null,null,0,0,null,{"$f":"IF(AND($C15>=10,$C15<=入力!$R$38),W$1,0)","v":0},{"$f":"IFERROR(VLOOKUP($C15,学費計算!$C:$R,学費計算!H$1,0),0)","v":0},{"$f":"IFERROR(VLOOKUP($C15,学費計算!$C:$R,学費計算!I$1,0),0)","v":0},{"$f":"IFERROR(VLOOKUP($C15,学費計算!$C:$R,学費計算!J$1,0),0)","v":0},{"$f":"IFERROR(VLOOKUP($C15,学費計算!$C:$R,学費計算!K$1,0),0)","v":0},null,0,0,{"$f":"IF(AND($C15>=0,$C15<=入力!$R$36),AE$1,0)","v":0},null,null,null,null,null,0,0,0]
[null,29,-90,null,{"$f":"IF(親1!D16<=833.3+42*親1!AS16,IF(AND(C16>=0,C16<=3),1.5*12,IF(AND(C16>3,C16<=15),1*12,0)),IF(AND(C16>=0,C16<=15),0.5*12,0))","v":0},null,null,null,null,0,null,null,{"$f":"IF(AND($C16>=0,$C16<=入力!$R$38),M$1,0)","v":0},{"$f":"IF(AND($C16>=0,$C16<=入力!$R$38),N$1,0)","v":0},{"$f":"IF(AND($C16>=0,$C16<=入力!$R$38),O$1,0)","v":0},{"$f":"IF(AND($C16>=0,$C16<=入力!$R$38),P$1,0)","v":0},{"$f":"IF(AND($C16>=0,$C16<=入力!$R$38),Q$1,0)","v":0},null,null,0,0,null,{"$f":"IF(AND($C16>=10,$C16<=入力!$R$38),W$1,0)","v":0},{"$f":"IFERROR(VLOOKUP($C16,学費計算!$C:$R,学費計算!H$1,0),0)","v":0},{"$f":"IFERROR(VLOOKUP($C16,学費計算!$C:$R,学費計算!I$1,0),0)","v":0},{"$f":"IFERROR(VLOOKUP($C16,学費計算!$C:$R,学費計算!J$1,0),0)","v":0},{"$f":"IFERROR(VLOOKUP($C16,学費計算!$C:$R,学費計算!K$1,0),0)","v":0},null,0,0,{"$f":"IF(AND($C16>=0,$C16<=入力!$R$36),AE$1,0)","v":0},null,null,null,null,null,0,0,0]
[null,30,-89,null,{"$f":"IF(親1!D17<=833.3+42*親1!AS17,IF(AND(C17>=0,C17<=3),1.5*12,IF(AND(C17>3,C17<=15),1*12,0)),IF(AND(C17>=0,C17<=15),0.5*12,0))","v":0},null,null,null,null,0,null,null,{"$f":"IF(AND($C17>=0,$C17<=入力!$R$38),M$1,0)","v":0},{"$f":"IF(AND($C17>=0,$C17<=入力!$R$38),N$1,0)","v":0},{"$f":"IF(AND($C17>=0,$C17<=入力!$R$38),O$1,0)","v":0},{"$f":"IF(AND($C17>=0,$C17<=入力!$R$38),P$1,0)","v":0},{"$f":"IF(AND($C17>=0,$C17<=入力!$R$38),Q$1,0)","v":0},null,null,0,0,null,{"$f":"IF(AND($C17>=10,$C17<=入力!$R$38),W$1,0)","v":0},{"$f":"IFERROR(VLOOKUP($C17,学費計算!$C:$R,学費計算!H$1,0),0)","v":0},{"$f":"IFERROR(VLOOKUP($C17,学費計算!$C:$R,学費計算!I$1,0),0)","v":0},{"$f":"IFERROR(VLOOKUP($C17,学費計算!$C:$R,学費計算!J$1,0),0)","v":0},{"$f":"IFERROR(VLOOKUP($C17,学費計算!$C:$R,学費計算!K$1,0),0)","v":0},null,0,0,{"$f":"IF(AND($C17>=0,$C17<=入力!$R$36),AE$1,0)","v":0},null,null,null,null,null,0,0,0]
[null,31,-88,null,{"$f":"IF(親1!D18<=833.3+42*親1!AS18,IF(AND(C18>=0,C18<=3),1.5*12,IF(AND(C18>3,C18<=15),1*12,0)),IF(AND(C18>=0,C18<=15),0.5*12,0))","v":0},null,null,null,null,0,null,null,{"$f":"IF(AND($C18>=0,$C18<=入力!$R$38),M$1,0)","v":0},{"$f":"IF(AND($C18>=0,$C18<=入力!$R$38),N$1,0)","v":0},{"$f":"IF(AND($C18>=0,$C18<=入力!$R$38),O$1,0)","v":0},{"$f":"IF(AND($C18>=0,$C18<=入力!$R$38),P$1,0)","v":0},{"$f":"IF(AND($C18>=0,$C18<=入力!$R$38),Q$1,0)","v":0},null,null,0,0,null,{"$f":"IF(AND($C18>=10,$C18<=入力!$R$38),W$1,0)","v":0},{"$f":"IFERROR(VLOOKUP($C18,学費計算!$C:$R,学費計算!H$1,0),0)","v":0},{"$f":"IFERROR(VLOOKUP($C18,学費計算!$C:$R,学費計算!I$1,0),0)","v":0},{"$f":"IFERROR(VLOOKUP($C18,学費計算!$C:$R,学費計算!J$1,0),0)","v":0},{"$f":"IFERROR(VLOOKUP($C18,学費計算!$C:$R,学費計算!K$1,0),0)","v":0},null,0,0,{"$f":"IF(AND($C18>=0,$C18<=入力!$R$36),AE$1,0)","v":0},null,null,null,null,null,0,0,0]
[null,32,-87,null,{"$f":"IF(親1!D19<=833.3+42*親1!AS19,IF(AND(C19>=0,C19<=3),1.5*12,IF(AND(C19>3,C19<=15),1*12,0)),IF(AND(C19>=0,C19<=15),0.5*12,0))","v":0},null,null,null,null,0,null,null,{"$f":"IF(AND($C19>=0,$C19<=入力!$R$38),M$1,0)","v":0},{"$f":"IF(AND($C19>=0,$C19<=入力!$R$38),N$1,0)","v":0},{"$f":"IF(AND($C19>=0,$C19<=入力!$R$38),O$1,0)","v":0},{"$f":"IF(AND($C19>=0,$C19<=入力!$R$38),P$1,0)","v":0},{"$f":"IF(AND($C19>=0,$C19<=入力!$R$38),Q$1,0)","v":0},null,null,0,0,null,{"$f":"IF(AND($C19>=10,$C19<=入力!$R$38),W$1,0)","v":0},{"$f":"IFERROR(VLOOKUP($C19,学費計算!$C:$R,学費計算!H$1,0),0)","v":0},{"$f":"IFERROR(VLOOKUP($C19,学費計算!$C:$R,学費計算!I$1,0),0)","v":0},{"$f":"IFERROR(VLOOKUP($C19,学費計算!$C:$R,学費計算!J$1,0),0)","v":0},{"$f":"IFERROR(VLOOKUP($C19,学費計算!$C:$R,学費計算!K$1,0),0)","v":0},null,0,0,{"$f":"IF(AND($C19>=0,$C19<=入力!$R$36),AE$1,0)","v":0},null,null,null,null,null,0,0,0]
[null,33,-86,null,{"$f":"IF(親1!D20<=833.3+42*親1!AS20,IF(AND(C20>=0,C20<=3),1.5*12,IF(AND(C20>3,C20<=15),1*12,0)),IF(AND(C20>=0,C20<=15),0.5*12,0))","v":0},null,null,null,null,0,null,null,{"$f":"IF(AND($C20>=0,$C20<=入力!$R$38),M$1,0)","v":0},{"$f":"IF(AND($C20>=0,$C20<=入力!$R$38),N$1,0)","v":0},{"$f":"IF(AND($C20>=0,$C20<=入力!$R$38),O$1,0)","v":0},{"$f":"IF(AND($C20>=0,$C20<=入力!$R$38),P$1,0)","v":0},{"$f":"IF(AND($C20>=0,$C20<=入力!$R$38),Q$1,0)","v":0},null,null,0,0,null,{"$f":"IF(AND($C20>=10,$C20<=入力!$R$38),W$1,0)","v":0},{"$f":"IFERROR(VLOOKUP($C20,学費計算!$C:$R,学費計算!H$1,0),0)","v":0},{"$f":"IFERROR(VLOOKUP($C20,学費計算!$C:$R,学費計算!I$1,0),0)","v":0},{"$f":"IFERROR(VLOOKUP($C20,学費計算!$C:$R,学費計算!J$1,0),0)","v":0},{"$f":"IFERROR(VLOOKUP($C20,学費計算!$C:$R,学費計算!K$1,0),0)","v":0},null,0,0,{"$f":"IF(AND($C20>=0,$C20<=入力!$R$36),AE$1,0)","v":0},null,null,null,null,null,0,0,0]
[null,34,-85,null,{"$f":"IF(親1!D21<=833.3+42*親1!AS21,IF(AND(C21>=0,C21<=3),1.5*12,IF(AND(C21>3,C21<=15),1*12,0)),IF(AND(C21>=0,C21<=15),0.5*12,0))","v":0},null,null,null,null,0,null,null,{"$f":"IF(AND($C21>=0,$C21<=入力!$R$38),M$1,0)","v":0},{"$f":"IF(AND($C21>=0,$C21<=入力!$R$38),N$1,0)","v":0},{"$f":"IF(AND($C21>=0,$C21<=入力!$R$38),O$1,0)","v":0},{"$f":"IF(AND($C21>=0,$C21<=入力!$R$38),P$1,0)","v":0},{"$f":"IF(AND($C21>=0,$C21<=入力!$R$38),Q$1,0)","v":0},null,null,0,0,null,{"$f":"IF(AND($C21>=10,$C21<=入力!$R$38),W$1,0)","v":0},{"$f":"IFERROR(VLOOKUP($C21,学費計算!$C:$R,学費計算!H$1,0),0)","v":0},{"$f":"IFERROR(VLOOKUP($C21,学費計算!$C:$R,学費計算!I$1,0),0)","v":0},{"$f":"IFERROR(VLOOKUP($C21,学費計算!$C:$R,学費計算!J$1,0),0)","v":0},{"$f":"IFERROR(VLOOKUP($C21,学費計算!$C:$R,学費計算!K$1,0),0)","v":0},null,0,0,{"$f":"IF(AND($C21>=0,$C21<=入力!$R$36),AE$1,0)","v":0},null,null,null,null,null,0,0,0]
[null,35,-84,null,{"$f":"IF(親1!D22<=833.3+42*親1!AS22,IF(AND(C22>=0,C22<=3),1.5*12,IF(AND(C22>3,C22<=15),1*12,0)),IF(AND(C22>=0,C22<=15),0.5*12,0))","v":0},null,null,null,null,0,null,null,{"$f":"IF(AND($C22>=0,$C22<=入力!$R$38),M$1,0)","v":0},{"$f":"IF(AND($C22>=0,$C22<=入力!$R$38),N$1,0)","v":0},{"$f":"IF(AND($C22>=0,$C22<=入力!$R$38),O$1,0)","v":0},{"$f":"IF(AND($C22>=0,$C22<=入力!$R$38),P$1,0)","v":0},{"$f":"IF(AND($C22>=0,$C22<=入力!$R$38),Q$1,0)","v":0},null,null,0,0,null,{"$f":"IF(AND($C22>=10,$C22<=入力!$R$38),W$1,0)","v":0},{"$f":"IFERROR(VLOOKUP($C22,学費計算!$C:$R,学費計算!H$1,0),0)","v":0},{"$f":"IFERROR(VLOOKUP($C22,学費計算!$C:$R,学費計算!I$1,0),0)","v":0},{"$f":"IFERROR(VLOOKUP($C22,学費計算!$C:$R,学費計算!J$1,0),0)","v":0},{"$f":"IFERROR(VLOOKUP($C22,学費計算!$C:$R,学費計算!K$1,0),0)","v":0},null,0,0,{"$f":"IF(AND($C22>=0,$C22<=入力!$R$36),AE$1,0)","v":0},null,null,null,null,null,0,0,0]
[null,36,-83,null,{"$f":"IF(親1!D23<=833.3+42*親1!AS23,IF(AND(C23>=0,C23<=3),1.5*12,IF(AND(C23>3,C23<=15),1*12,0)),IF(AND(C23>=0,C23<=15),0.5*12,0))","v":0},null,null,null,null,0,null,null,{"$f":"IF(AND($C23>=0,$C23<=入力!$R$38),M$1,0)","v":0},{"$f":"IF(AND($C23>=0,$C23<=入力!$R$38),N$1,0)","v":0},{"$f":"IF(AND($C23>=0,$C23<=入力!$R$38),O$1,0)","v":0},{"$f":"IF(AND($C23>=0,$C23<=入力!$R$38),P$1,0)","v":0},{"$f":"IF(AND($C23>=0,$C23<=入力!$R$38),Q$1,0)","v":0},null,null,0,0,null,{"$f":"IF(AND($C23>=10,$C23<=入力!$R$38),W$1,0)","v":0},{"$f":"IFERROR(VLOOKUP($C23,学費計算!$C:$R,学費計算!H$1,0),0)","v":0},{"$f":"IFERROR(VLOOKUP($C23,学費計算!$C:$R,学費計算!I$1,0),0)","v":0},{"$f":"IFERROR(VLOOKUP($C23,学費計算!$C:$R,学費計算!J$1,0),0)","v":0},{"$f":"IFERROR(VLOOKUP($C23,学費計算!$C:$R,学費計算!K$1,0),0)","v":0},null,0,0,{"$f":"IF(AND($C23>=0,$C23<=入力!$R$36),AE$1,0)","v":0},null,null,null,null,null,0,0,0]
[null,37,-82,null,{"$f":"IF(親1!D24<=833.3+42*親1!AS24,IF(AND(C24>=0,C24<=3),1.5*12,IF(AND(C24>3,C24<=15),1*12,0)),IF(AND(C24>=0,C24<=15),0.5*12,0))","v":0},null,null,null,null,0,null,null,{"$f":"IF(AND($C24>=0,$C24<=入力!$R$38),M$1,0)","v":0},{"$f":"IF(AND($C24>=0,$C24<=入力!$R$38),N$1,0)","v":0},{"$f":"IF(AND($C24>=0,$C24<=入力!$R$38),O$1,0)","v":0},{"$f":"IF(AND($C24>=0,$C24<=入力!$R$38),P$1,0)","v":0},{"$f":"IF(AND($C24>=0,$C24<=入力!$R$38),Q$1,0)","v":0},null,null,0,0,null,{"$f":"IF(AND($C24>=10,$C24<=入力!$R$38),W$1,0)","v":0},{"$f":"IFERROR(VLOOKUP($C24,学費計算!$C:$R,学費計算!H$1,0),0)","v":0},{"$f":"IFERROR(VLOOKUP($C24,学費計算!$C:$R,学費計算!I$1,0),0)","v":0},{"$f":"IFERROR(VLOOKUP($C24,学費計算!$C:$R,学費計算!J$1,0),0)","v":0},{"$f":"IFERROR(VLOOKUP($C24,学費計算!$C:$R,学費計算!K$1,0),0)","v":0},null,0,0,{"$f":"IF(AND($C24>=0,$C24<=入力!$R$36),AE$1,0)","v":0},null,null,null,null,null,0,0,0]
[null,38,-81,null,{"$f":"IF(親1!D25<=833.3+42*親1!AS25,IF(AND(C25>=0,C25<=3),1.5*12,IF(AND(C25>3,C25<=15),1*12,0)),IF(AND(C25>=0,C25<=15),0.5*12,0))","v":0},null,null,null,null,0,null,null,{"$f":"IF(AND($C25>=0,$C25<=入力!$R$38),M$1,0)","v":0},{"$f":"IF(AND($C25>=0,$C25<=入力!$R$38),N$1,0)","v":0},{"$f":"IF(AND($C25>=0,$C25<=入力!$R$38),O$1,0)","v":0},{"$f":"IF(AND($C25>=0,$C25<=入力!$R$38),P$1,0)","v":0},{"$f":"IF(AND($C25>=0,$C25<=入力!$R$38),Q$1,0)","v":0},null,null,0,0,null,{"$f":"IF(AND($C25>=10,$C25<=入力!$R$38),W$1,0)","v":0},{"$f":"IFERROR(VLOOKUP($C25,学費計算!$C:$R,学費計算!H$1,0),0)","v":0},{"$f":"IFERROR(VLOOKUP($C25,学費計算!$C:$R,学費計算!I$1,0),0)","v":0},{"$f":"IFERROR(VLOOKUP($C25,学費計算!$C:$R,学費計算!J$1,0),0)","v":0},{"$f":"IFERROR(VLOOKUP($C25,学費計算!$C:$R,学費計算!K$1,0),0)","v":0},null,0,0,{"$f":"IF(AND($C25>=0,$C25<=入力!$R$36),AE$1,0)","v":0},null,null,null,null,null,0,0,0]
[null,39,-80,null,{"$f":"IF(親1!D26<=833.3+42*親1!AS26,IF(AND(C26>=0,C26<=3),1.5*12,IF(AND(C26>3,C26<=15),1*12,0)),IF(AND(C26>=0,C26<=15),0.5*12,0))","v":0},null,null,null,null,0,null,null,{"$f":"IF(AND($C26>=0,$C26<=入力!$R$38),M$1,0)","v":0},{"$f":"IF(AND($C26>=0,$C26<=入力!$R$38),N$1,0)","v":0},{"$f":"IF(AND($C26>=0,$C26<=入力!$R$38),O$1,0)","v":0},{"$f":"IF(AND($C26>=0,$C26<=入力!$R$38),P$1,0)","v":0},{"$f":"IF(AND($C26>=0,$C26<=入力!$R$38),Q$1,0)","v":0},null,null,0,0,null,{"$f":"IF(AND($C26>=10,$C26<=入力!$R$38),W$1,0)","v":0},{"$f":"IFERROR(VLOOKUP($C26,学費計算!$C:$R,学費計算!H$1,0),0)","v":0},{"$f":"IFERROR(VLOOKUP($C26,学費計算!$C:$R,学費計算!I$1,0),0)","v":0},{"$f":"IFERROR(VLOOKUP($C26,学費計算!$C:$R,学費計算!J$1,0),0)","v":0},{"$f":"IFERROR(VLOOKUP($C26,学費計算!$C:$R,学費計算!K$1,0),0)","v":0},null,0,0,{"$f":"IF(AND($C26>=0,$C26<=入力!$R$36),AE$1,0)","v":0},null,null,null,null,null,0,0,0]
[null,40,-79,null,{"$f":"IF(親1!D27<=833.3+42*親1!AS27,IF(AND(C27>=0,C27<=3),1.5*12,IF(AND(C27>3,C27<=15),1*12,0)),IF(AND(C27>=0,C27<=15),0.5*12,0))","v":0},null,null,null,null,0,null,null,{"$f":"IF(AND($C27>=0,$C27<=入力!$R$38),M$1,0)","v":0},{"$f":"IF(AND($C27>=0,$C27<=入力!$R$38),N$1,0)","v":0},{"$f":"IF(AND($C27>=0,$C27<=入力!$R$38),O$1,0)","v":0},{"$f":"IF(AND($C27>=0,$C27<=入力!$R$38),P$1,0)","v":0},{"$f":"IF(AND($C27>=0,$C27<=入力!$R$38),Q$1,0)","v":0},null,null,0,0,null,{"$f":"IF(AND($C27>=10,$C27<=入力!$R$38),W$1,0)","v":0},{"$f":"IFERROR(VLOOKUP($C27,学費計算!$C:$R,学費計算!H$1,0),0)","v":0},{"$f":"IFERROR(VLOOKUP($C27,学費計算!$C:$R,学費計算!I$1,0),0)","v":0},{"$f":"IFERROR(VLOOKUP($C27,学費計算!$C:$R,学費計算!J$1,0),0)","v":0},{"$f":"IFERROR(VLOOKUP($C27,学費計算!$C:$R,学費計算!K$1,0),0)","v":0},null,0,0,{"$f":"IF(AND($C27>=0,$C27<=入力!$R$36),AE$1,0)","v":0},null,null,null,null,null,0,0,0]
[null,41,-78,null,{"$f":"IF(親1!D28<=833.3+42*親1!AS28,IF(AND(C28>=0,C28<=3),1.5*12,IF(AND(C28>3,C28<=15),1*12,0)),IF(AND(C28>=0,C28<=15),0.5*12,0))","v":0},null,null,null,null,0,null,null,{"$f":"IF(AND($C28>=0,$C28<=入力!$R$38),M$1,0)","v":0},{"$f":"IF(AND($C28>=0,$C28<=入力!$R$38),N$1,0)","v":0},{"$f":"IF(AND($C28>=0,$C28<=入力!$R$38),O$1,0)","v":0},{"$f":"IF(AND($C28>=0,$C28<=入力!$R$38),P$1,0)","v":0},{"$f":"IF(AND($C28>=0,$C28<=入力!$R$38),Q$1,0)","v":0},null,null,0,0,null,{"$f":"IF(AND($C28>=10,$C28<=入力!$R$38),W$1,0)","v":0},{"$f":"IFERROR(VLOOKUP($C28,学費計算!$C:$R,学費計算!H$1,0),0)","v":0},{"$f":"IFERROR(VLOOKUP($C28,学費計算!$C:$R,学費計算!I$1,0),0)","v":0},{"$f":"IFERROR(VLOOKUP($C28,学費計算!$C:$R,学費計算!J$1,0),0)","v":0},{"$f":"IFERROR(VLOOKUP($C28,学費計算!$C:$R,学費計算!K$1,0),0)","v":0},null,0,0,{"$f":"IF(AND($C28>=0,$C28<=入力!$R$36),AE$1,0)","v":0},null,null,null,null,null,0,0,0]
[null,42,-77,null,{"$f":"IF(親1!D29<=833.3+42*親1!AS29,IF(AND(C29>=0,C29<=3),1.5*12,IF(AND(C29>3,C29<=15),1*12,0)),IF(AND(C29>=0,C29<=15),0.5*12,0))","v":0},null,null,null,null,0,null,null,{"$f":"IF(AND($C29>=0,$C29<=入力!$R$38),M$1,0)","v":0},{"$f":"IF(AND($C29>=0,$C29<=入力!$R$38),N$1,0)","v":0},{"$f":"IF(AND($C29>=0,$C29<=入力!$R$38),O$1,0)","v":0},{"$f":"IF(AND($C29>=0,$C29<=入力!$R$38),P$1,0)","v":0},{"$f":"IF(AND($C29>=0,$C29<=入力!$R$38),Q$1,0)","v":0},null,null,0,0,null,{"$f":"IF(AND($C29>=10,$C29<=入力!$R$38),W$1,0)","v":0},{"$f":"IFERROR(VLOOKUP($C29,学費計算!$C:$R,学費計算!H$1,0),0)","v":0},{"$f":"IFERROR(VLOOKUP($C29,学費計算!$C:$R,学費計算!I$1,0),0)","v":0},{"$f":"IFERROR(VLOOKUP($C29,学費計算!$C:$R,学費計算!J$1,0),0)","v":0},{"$f":"IFERROR(VLOOKUP($C29,学費計算!$C:$R,学費計算!K$1,0),0)","v":0},null,0,0,{"$f":"IF(AND($C29>=0,$C29<=入力!$R$36),AE$1,0)","v":0},null,null,null,null,null,0,0,0]
[null,43,-76,null,{"$f":"IF(親1!D30<=833.3+42*親1!AS30,IF(AND(C30>=0,C30<=3),1.5*12,IF(AND(C30>3,C30<=15),1*12,0)),IF(AND(C30>=0,C30<=15),0.5*12,0))","v":0},null,null,null,null,0,null,null,{"$f":"IF(AND($C30>=0,$C30<=入力!$R$38),M$1,0)","v":0},{"$f":"IF(AND($C30>=0,$C30<=入力!$R$38),N$1,0)","v":0},{"$f":"IF(AND($C30>=0,$C30<=入力!$R$38),O$1,0)","v":0},{"$f":"IF(AND($C30>=0,$C30<=入力!$R$38),P$1,0)","v":0},{"$f":"IF(AND($C30>=0,$C30<=入力!$R$38),Q$1,0)","v":0},null,null,0,0,null,{"$f":"IF(AND($C30>=10,$C30<=入力!$R$38),W$1,0)","v":0},{"$f":"IFERROR(VLOOKUP($C30,学費計算!$C:$R,学費計算!H$1,0),0)","v":0},{"$f":"IFERROR(VLOOKUP($C30,学費計算!$C:$R,学費計算!I$1,0),0)","v":0},{"$f":"IFERROR(VLOOKUP($C30,学費計算!$C:$R,学費計算!J$1,0),0)","v":0},{"$f":"IFERROR(VLOOKUP($C30,学費計算!$C:$R,学費計算!K$1,0),0)","v":0},null,0,0,{"$f":"IF(AND($C30>=0,$C30<=入力!$R$36),AE$1,0)","v":0},null,null,null,null,null,0,0,0]
[null,44,-75,null,{"$f":"IF(親1!D31<=833.3+42*親1!AS31,IF(AND(C31>=0,C31<=3),1.5*12,IF(AND(C31>3,C31<=15),1*12,0)),IF(AND(C31>=0,C31<=15),0.5*12,0))","v":0},null,null,null,null,0,null,null,{"$f":"IF(AND($C31>=0,$C31<=入力!$R$38),M$1,0)","v":0},{"$f":"IF(AND($C31>=0,$C31<=入力!$R$38),N$1,0)","v":0},{"$f":"IF(AND($C31>=0,$C31<=入力!$R$38),O$1,0)","v":0},{"$f":"IF(AND($C31>=0,$C31<=入力!$R$38),P$1,0)","v":0},{"$f":"IF(AND($C31>=0,$C31<=入力!$R$38),Q$1,0)","v":0},null,null,0,0,null,{"$f":"IF(AND($C31>=10,$C31<=入力!$R$38),W$1,0)","v":0},{"$f":"IFERROR(VLOOKUP($C31,学費計算!$C:$R,学費計算!H$1,0),0)","v":0},{"$f":"IFERROR(VLOOKUP($C31,学費計算!$C:$R,学費計算!I$1,0),0)","v":0},{"$f":"IFERROR(VLOOKUP($C31,学費計算!$C:$R,学費計算!J$1,0),0)","v":0},{"$f":"IFERROR(VLOOKUP($C31,学費計算!$C:$R,学費計算!K$1,0),0)","v":0},null,0,0,{"$f":"IF(AND($C31>=0,$C31<=入力!$R$36),AE$1,0)","v":0},null,null,null,null,null,0,0,0]
[null,45,-74,null,{"$f":"IF(親1!D32<=833.3+42*親1!AS32,IF(AND(C32>=0,C32<=3),1.5*12,IF(AND(C32>3,C32<=15),1*12,0)),IF(AND(C32>=0,C32<=15),0.5*12,0))","v":0},null,null,null,null,0,null,null,{"$f":"IF(AND($C32>=0,$C32<=入力!$R$38),M$1,0)","v":0},{"$f":"IF(AND($C32>=0,$C32<=入力!$R$38),N$1,0)","v":0},{"$f":"IF(AND($C32>=0,$C32<=入力!$R$38),O$1,0)","v":0},{"$f":"IF(AND($C32>=0,$C32<=入力!$R$38),P$1,0)","v":0},{"$f":"IF(AND($C32>=0,$C32<=入力!$R$38),Q$1,0)","v":0},null,null,0,0,null,{"$f":"IF(AND($C32>=10,$C32<=入力!$R$38),W$1,0)","v":0},{"$f":"IFERROR(VLOOKUP($C32,学費計算!$C:$R,学費計算!H$1,0),0)","v":0},{"$f":"IFERROR(VLOOKUP($C32,学費計算!$C:$R,学費計算!I$1,0),0)","v":0},{"$f":"IFERROR(VLOOKUP($C32,学費計算!$C:$R,学費計算!J$1,0),0)","v":0},{"$f":"IFERROR(VLOOKUP($C32,学費計算!$C:$R,学費計算!K$1,0),0)","v":0},null,0,0,{"$f":"IF(AND($C32>=0,$C32<=入力!$R$36),AE$1,0)","v":0},null,null,null,null,null,0,0,0]
[null,46,-73,null,{"$f":"IF(親1!D33<=833.3+42*親1!AS33,IF(AND(C33>=0,C33<=3),1.5*12,IF(AND(C33>3,C33<=15),1*12,0)),IF(AND(C33>=0,C33<=15),0.5*12,0))","v":0},null,null,null,null,0,null,null,{"$f":"IF(AND($C33>=0,$C33<=入力!$R$38),M$1,0)","v":0},{"$f":"IF(AND($C33>=0,$C33<=入力!$R$38),N$1,0)","v":0},{"$f":"IF(AND($C33>=0,$C33<=入力!$R$38),O$1,0)","v":0},{"$f":"IF(AND($C33>=0,$C33<=入力!$R$38),P$1,0)","v":0},{"$f":"IF(AND($C33>=0,$C33<=入力!$R$38),Q$1,0)","v":0},null,null,0,0,null,{"$f":"IF(AND($C33>=10,$C33<=入力!$R$38),W$1,0)","v":0},{"$f":"IFERROR(VLOOKUP($C33,学費計算!$C:$R,学費計算!H$1,0),0)","v":0},{"$f":"IFERROR(VLOOKUP($C33,学費計算!$C:$R,学費計算!I$1,0),0)","v":0},{"$f":"IFERROR(VLOOKUP($C33,学費計算!$C:$R,学費計算!J$1,0),0)","v":0},{"$f":"IFERROR(VLOOKUP($C33,学費計算!$C:$R,学費計算!K$1,0),0)","v":0},null,0,0,{"$f":"IF(AND($C33>=0,$C33<=入力!$R$36),AE$1,0)","v":0},null,null,null,null,null,0,0,0]
[null,47,-72,null,{"$f":"IF(親1!D34<=833.3+42*親1!AS34,IF(AND(C34>=0,C34<=3),1.5*12,IF(AND(C34>3,C34<=15),1*12,0)),IF(AND(C34>=0,C34<=15),0.5*12,0))","v":0},null,null,null,null,0,null,null,{"$f":"IF(AND($C34>=0,$C34<=入力!$R$38),M$1,0)","v":0},{"$f":"IF(AND($C34>=0,$C34<=入力!$R$38),N$1,0)","v":0},{"$f":"IF(AND($C34>=0,$C34<=入力!$R$38),O$1,0)","v":0},{"$f":"IF(AND($C34>=0,$C34<=入力!$R$38),P$1,0)","v":0},{"$f":"IF(AND($C34>=0,$C34<=入力!$R$38),Q$1,0)","v":0},null,null,0,0,null,{"$f":"IF(AND($C34>=10,$C34<=入力!$R$38),W$1,0)","v":0},{"$f":"IFERROR(VLOOKUP($C34,学費計算!$C:$R,学費計算!H$1,0),0)","v":0},{"$f":"IFERROR(VLOOKUP($C34,学費計算!$C:$R,学費計算!I$1,0),0)","v":0},{"$f":"IFERROR(VLOOKUP($C34,学費計算!$C:$R,学費計算!J$1,0),0)","v":0},{"$f":"IFERROR(VLOOKUP($C34,学費計算!$C:$R,学費計算!K$1,0),0)","v":0},null,0,0,{"$f":"IF(AND($C34>=0,$C34<=入力!$R$36),AE$1,0)","v":0},null,null,null,null,null,0,0,0]
[null,48,-71,null,{"$f":"IF(親1!D35<=833.3+42*親1!AS35,IF(AND(C35>=0,C35<=3),1.5*12,IF(AND(C35>3,C35<=15),1*12,0)),IF(AND(C35>=0,C35<=15),0.5*12,0))","v":0},null,null,null,null,0,null,null,{"$f":"IF(AND($C35>=0,$C35<=入力!$R$38),M$1,0)","v":0},{"$f":"IF(AND($C35>=0,$C35<=入力!$R$38),N$1,0)","v":0},{"$f":"IF(AND($C35>=0,$C35<=入力!$R$38),O$1,0)","v":0},{"$f":"IF(AND($C35>=0,$C35<=入力!$R$38),P$1,0)","v":0},{"$f":"IF(AND($C35>=0,$C35<=入力!$R$38),Q$1,0)","v":0},null,null,0,0,null,{"$f":"IF(AND($C35>=10,$C35<=入力!$R$38),W$1,0)","v":0},{"$f":"IFERROR(VLOOKUP($C35,学費計算!$C:$R,学費計算!H$1,0),0)","v":0},{"$f":"IFERROR(VLOOKUP($C35,学費計算!$C:$R,学費計算!I$1,0),0)","v":0},{"$f":"IFERROR(VLOOKUP($C35,学費計算!$C:$R,学費計算!J$1,0),0)","v":0},{"$f":"IFERROR(VLOOKUP($C35,学費計算!$C:$R,学費計算!K$1,0),0)","v":0},null,0,0,{"$f":"IF(AND($C35>=0,$C35<=入力!$R$36),AE$1,0)","v":0},null,null,null,null,null,0,0,0]
[null,49,-70,null,{"$f":"IF(親1!D36<=833.3+42*親1!AS36,IF(AND(C36>=0,C36<=3),1.5*12,IF(AND(C36>3,C36<=15),1*12,0)),IF(AND(C36>=0,C36<=15),0.5*12,0))","v":0},null,null,null,null,0,null,null,{"$f":"IF(AND($C36>=0,$C36<=入力!$R$38),M$1,0)","v":0},{"$f":"IF(AND($C36>=0,$C36<=入力!$R$38),N$1,0)","v":0},{"$f":"IF(AND($C36>=0,$C36<=入力!$R$38),O$1,0)","v":0},{"$f":"IF(AND($C36>=0,$C36<=入力!$R$38),P$1,0)","v":0},{"$f":"IF(AND($C36>=0,$C36<=入力!$R$38),Q$1,0)","v":0},null,null,0,0,null,{"$f":"IF(AND($C36>=10,$C36<=入力!$R$38),W$1,0)","v":0},{"$f":"IFERROR(VLOOKUP($C36,学費計算!$C:$R,学費計算!H$1,0),0)","v":0},{"$f":"IFERROR(VLOOKUP($C36,学費計算!$C:$R,学費計算!I$1,0),0)","v":0},{"$f":"IFERROR(VLOOKUP($C36,学費計算!$C:$R,学費計算!J$1,0),0)","v":0},{"$f":"IFERROR(VLOOKUP($C36,学費計算!$C:$R,学費計算!K$1,0),0)","v":0},null,0,0,{"$f":"IF(AND($C36>=0,$C36<=入力!$R$36),AE$1,0)","v":0},null,null,null,null,null,0,0,0]
[null,50,-69,null,{"$f":"IF(親1!D37<=833.3+42*親1!AS37,IF(AND(C37>=0,C37<=3),1.5*12,IF(AND(C37>3,C37<=15),1*12,0)),IF(AND(C37>=0,C37<=15),0.5*12,0))","v":0},null,null,null,null,0,null,null,{"$f":"IF(AND($C37>=0,$C37<=入力!$R$38),M$1,0)","v":0},{"$f":"IF(AND($C37>=0,$C37<=入力!$R$38),N$1,0)","v":0},{"$f":"IF(AND($C37>=0,$C37<=入力!$R$38),O$1,0)","v":0},{"$f":"IF(AND($C37>=0,$C37<=入力!$R$38),P$1,0)","v":0},{"$f":"IF(AND($C37>=0,$C37<=入力!$R$38),Q$1,0)","v":0},null,null,0,0,null,{"$f":"IF(AND($C37>=10,$C37<=入力!$R$38),W$1,0)","v":0},{"$f":"IFERROR(VLOOKUP($C37,学費計算!$C:$R,学費計算!H$1,0),0)","v":0},{"$f":"IFERROR(VLOOKUP($C37,学費計算!$C:$R,学費計算!I$1,0),0)","v":0},{"$f":"IFERROR(VLOOKUP($C37,学費計算!$C:$R,学費計算!J$1,0),0)","v":0},{"$f":"IFERROR(VLOOKUP($C37,学費計算!$C:$R,学費計算!K$1,0),0)","v":0},null,0,0,{"$f":"IF(AND($C37>=0,$C37<=入力!$R$36),AE$1,0)","v":0},null,null,null,null,null,0,0,0]
[null,51,-68,null,{"$f":"IF(親1!D38<=833.3+42*親1!AS38,IF(AND(C38>=0,C38<=3),1.5*12,IF(AND(C38>3,C38<=15),1*12,0)),IF(AND(C38>=0,C38<=15),0.5*12,0))","v":0},null,null,null,null,0,null,null,{"$f":"IF(AND($C38>=0,$C38<=入力!$R$38),M$1,0)","v":0},{"$f":"IF(AND($C38>=0,$C38<=入力!$R$38),N$1,0)","v":0},{"$f":"IF(AND($C38>=0,$C38<=入力!$R$38),O$1,0)","v":0},{"$f":"IF(AND($C38>=0,$C38<=入力!$R$38),P$1,0)","v":0},{"$f":"IF(AND($C38>=0,$C38<=入力!$R$38),Q$1,0)","v":0},null,null,{"$f":"SUM(K38:S38)","v":0},0,null,{"$f":"IF(AND($C38>=10,$C38<=入力!$R$38),W$1,0)","v":0},{"$f":"IFERROR(VLOOKUP($C38,学費計算!$C:$R,学費計算!H$1,0),0)","v":0},{"$f":"IFERROR(VLOOKUP($C38,学費計算!$C:$R,学費計算!I$1,0),0)","v":0},{"$f":"IFERROR(VLOOKUP($C38,学費計算!$C:$R,学費計算!J$1,0),0)","v":0},{"$f":"IFERROR(VLOOKUP($C38,学費計算!$C:$R,学費計算!K$1,0),0)","v":0},null,0,0,{"$f":"IF(AND($C38>=0,$C38<=入力!$R$36),AE$1,0)","v":0},null,null,null,null,null,0,0,{"$f":"AL38+AM37","v":0}]
[null,52,-67,null,{"$f":"IF(親1!D39<=833.3+42*親1!AS39,IF(AND(C39>=0,C39<=3),1.5*12,IF(AND(C39>3,C39<=15),1*12,0)),IF(AND(C39>=0,C39<=15),0.5*12,0))","v":0},null,null,null,null,0,null,null,{"$f":"IF(AND($C39>=0,$C39<=入力!$R$38),M$1,0)","v":0},{"$f":"IF(AND($C39>=0,$C39<=入力!$R$38),N$1,0)","v":0},{"$f":"IF(AND($C39>=0,$C39<=入力!$R$38),O$1,0)","v":0},{"$f":"IF(AND($C39>=0,$C39<=入力!$R$38),P$1,0)","v":0},{"$f":"IF(AND($C39>=0,$C39<=入力!$R$38),Q$1,0)","v":0},null,null,0,0,null,{"$f":"IF(AND($C39>=10,$C39<=入力!$R$38),W$1,0)","v":0},{"$f":"IFERROR(VLOOKUP($C39,学費計算!$C:$R,学費計算!H$1,0),0)","v":0},{"$f":"IFERROR(VLOOKUP($C39,学費計算!$C:$R,学費計算!I$1,0),0)","v":0},{"$f":"IFERROR(VLOOKUP($C39,学費計算!$C:$R,学費計算!J$1,0),0)","v":0},{"$f":"IFERROR(VLOOKUP($C39,学費計算!$C:$R,学費計算!K$1,0),0)","v":0},null,0,0,{"$f":"IF(AND($C39>=0,$C39<=入力!$R$36),AE$1,0)","v":0},null,null,null,null,null,0,0,0]
[null,{"$f":"B39+1","v":53},-66,null,{"$f":"IF(親1!D40<=833.3+42*親1!AS40,IF(AND(C40>=0,C40<=3),1.5*12,IF(AND(C40>3,C40<=15),1*12,0)),IF(AND(C40>=0,C40<=15),0.5*12,0))","v":0},null,null,null,null,{"$f":"SUM(E40:I40)","v":0},null,null,{"$f":"IF(AND($C40>=0,$C40<=入力!$R$38),M$1,0)","v":0},{"$f":"IF(AND($C40>=0,$C40<=入力!$R$38),N$1,0)","v":0},{"$f":"IF(AND($C40>=0,$C40<=入力!$R$38),O$1,0)","v":0},{"$f":"IF(AND($C40>=0,$C40<=入力!$R$38),P$1,0)","v":0},{"$f":"IF(AND($C40>=0,$C40<=入力!$R$38),Q$1,0)","v":0},null,null,0,0,null,{"$f":"IF(AND($C40>=10,$C40<=入力!$R$38),W$1,0)","v":0},{"$f":"IFERROR(VLOOKUP($C40,学費計算!$C:$R,学費計算!H$1,0),0)","v":0},{"$f":"IFERROR(VLOOKUP($C40,学費計算!$C:$R,学費計算!I$1,0),0)","v":0},{"$f":"IFERROR(VLOOKUP($C40,学費計算!$C:$R,学費計算!J$1,0),0)","v":0},{"$f":"IFERROR(VLOOKUP($C40,学費計算!$C:$R,学費計算!K$1,0),0)","v":0},null,0,0,{"$f":"IF(AND($C40>=0,$C40<=入力!$R$36),AE$1,0)","v":0},null,null,null,null,null,0,0,0]
[null,54,-65,null,{"$f":"IF(親1!D41<=833.3+42*親1!AS41,IF(AND(C41>=0,C41<=3),1.5*12,IF(AND(C41>3,C41<=15),1*12,0)),IF(AND(C41>=0,C41<=15),0.5*12,0))","v":0},null,null,null,null,0,null,null,{"$f":"IF(AND($C41>=0,$C41<=入力!$R$38),M$1,0)","v":0},{"$f":"IF(AND($C41>=0,$C41<=入力!$R$38),N$1,0)","v":0},{"$f":"IF(AND($C41>=0,$C41<=入力!$R$38),O$1,0)","v":0},{"$f":"IF(AND($C41>=0,$C41<=入力!$R$38),P$1,0)","v":0},{"$f":"IF(AND($C41>=0,$C41<=入力!$R$38),Q$1,0)","v":0},null,null,0,0,null,{"$f":"IF(AND($C41>=10,$C41<=入力!$R$38),W$1,0)","v":0},{"$f":"IFERROR(VLOOKUP($C41,学費計算!$C:$R,学費計算!H$1,0),0)","v":0},{"$f":"IFERROR(VLOOKUP($C41,学費計算!$C:$R,学費計算!I$1,0),0)","v":0},{"$f":"IFERROR(VLOOKUP($C41,学費計算!$C:$R,学費計算!J$1,0),0)","v":0},{"$f":"IFERROR(VLOOKUP($C41,学費計算!$C:$R,学費計算!K$1,0),0)","v":0},null,0,0,{"$f":"IF(AND($C41>=0,$C41<=入力!$R$36),AE$1,0)","v":0},null,null,null,null,null,0,0,0]
[null,55,-64,null,{"$f":"IF(親1!D42<=833.3+42*親1!AS42,IF(AND(C42>=0,C42<=3),1.5*12,IF(AND(C42>3,C42<=15),1*12,0)),IF(AND(C42>=0,C42<=15),0.5*12,0))","v":0},null,null,null,null,0,null,null,{"$f":"IF(AND($C42>=0,$C42<=入力!$R$38),M$1,0)","v":0},{"$f":"IF(AND($C42>=0,$C42<=入力!$R$38),N$1,0)","v":0},{"$f":"IF(AND($C42>=0,$C42<=入力!$R$38),O$1,0)","v":0},{"$f":"IF(AND($C42>=0,$C42<=入力!$R$38),P$1,0)","v":0},{"$f":"IF(AND($C42>=0,$C42<=入力!$R$38),Q$1,0)","v":0},null,null,0,0,null,{"$f":"IF(AND($C42>=10,$C42<=入力!$R$38),W$1,0)","v":0},{"$f":"IFERROR(VLOOKUP($C42,学費計算!$C:$R,学費計算!H$1,0),0)","v":0},{"$f":"IFERROR(VLOOKUP($C42,学費計算!$C:$R,学費計算!I$1,0),0)","v":0},{"$f":"IFERROR(VLOOKUP($C42,学費計算!$C:$R,学費計算!J$1,0),0)","v":0},{"$f":"IFERROR(VLOOKUP($C42,学費計算!$C:$R,学費計算!K$1,0),0)","v":0},null,0,0,{"$f":"IF(AND($C42>=0,$C42<=入力!$R$36),AE$1,0)","v":0},null,null,null,null,null,0,0,0]
[null,56,-63,null,{"$f":"IF(親1!D43<=833.3+42*親1!AS43,IF(AND(C43>=0,C43<=3),1.5*12,IF(AND(C43>3,C43<=15),1*12,0)),IF(AND(C43>=0,C43<=15),0.5*12,0))","v":0},null,null,null,null,0,null,null,{"$f":"IF(AND($C43>=0,$C43<=入力!$R$38),M$1,0)","v":0},{"$f":"IF(AND($C43>=0,$C43<=入力!$R$38),N$1,0)","v":0},{"$f":"IF(AND($C43>=0,$C43<=入力!$R$38),O$1,0)","v":0},{"$f":"IF(AND($C43>=0,$C43<=入力!$R$38),P$1,0)","v":0},{"$f":"IF(AND($C43>=0,$C43<=入力!$R$38),Q$1,0)","v":0},null,null,0,0,null,{"$f":"IF(AND($C43>=10,$C43<=入力!$R$38),W$1,0)","v":0},{"$f":"IFERROR(VLOOKUP($C43,学費計算!$C:$R,学費計算!H$1,0),0)","v":0},{"$f":"IFERROR(VLOOKUP($C43,学費計算!$C:$R,学費計算!I$1,0),0)","v":0},{"$f":"IFERROR(VLOOKUP($C43,学費計算!$C:$R,学費計算!J$1,0),0)","v":0},{"$f":"IFERROR(VLOOKUP($C43,学費計算!$C:$R,学費計算!K$1,0),0)","v":0},null,0,0,{"$f":"IF(AND($C43>=0,$C43<=入力!$R$36),AE$1,0)","v":0},null,null,null,null,null,0,0,0]
[null,57,-62,null,{"$f":"IF(親1!D44<=833.3+42*親1!AS44,IF(AND(C44>=0,C44<=3),1.5*12,IF(AND(C44>3,C44<=15),1*12,0)),IF(AND(C44>=0,C44<=15),0.5*12,0))","v":0},null,null,null,null,0,null,null,{"$f":"IF(AND($C44>=0,$C44<=入力!$R$38),M$1,0)","v":0},{"$f":"IF(AND($C44>=0,$C44<=入力!$R$38),N$1,0)","v":0},{"$f":"IF(AND($C44>=0,$C44<=入力!$R$38),O$1,0)","v":0},{"$f":"IF(AND($C44>=0,$C44<=入力!$R$38),P$1,0)","v":0},{"$f":"IF(AND($C44>=0,$C44<=入力!$R$38),Q$1,0)","v":0},null,null,0,0,null,{"$f":"IF(AND($C44>=10,$C44<=入力!$R$38),W$1,0)","v":0},{"$f":"IFERROR(VLOOKUP($C44,学費計算!$C:$R,学費計算!H$1,0),0)","v":0},{"$f":"IFERROR(VLOOKUP($C44,学費計算!$C:$R,学費計算!I$1,0),0)","v":0},{"$f":"IFERROR(VLOOKUP($C44,学費計算!$C:$R,学費計算!J$1,0),0)","v":0},{"$f":"IFERROR(VLOOKUP($C44,学費計算!$C:$R,学費計算!K$1,0),0)","v":0},null,0,0,{"$f":"IF(AND($C44>=0,$C44<=入力!$R$36),AE$1,0)","v":0},null,null,null,null,null,0,0,0]
[null,58,-61,null,{"$f":"IF(親1!D45<=833.3+42*親1!AS45,IF(AND(C45>=0,C45<=3),1.5*12,IF(AND(C45>3,C45<=15),1*12,0)),IF(AND(C45>=0,C45<=15),0.5*12,0))","v":0},null,null,null,null,0,null,null,{"$f":"IF(AND($C45>=0,$C45<=入力!$R$38),M$1,0)","v":0},{"$f":"IF(AND($C45>=0,$C45<=入力!$R$38),N$1,0)","v":0},{"$f":"IF(AND($C45>=0,$C45<=入力!$R$38),O$1,0)","v":0},{"$f":"IF(AND($C45>=0,$C45<=入力!$R$38),P$1,0)","v":0},{"$f":"IF(AND($C45>=0,$C45<=入力!$R$38),Q$1,0)","v":0},null,null,0,0,null,{"$f":"IF(AND($C45>=10,$C45<=入力!$R$38),W$1,0)","v":0},{"$f":"IFERROR(VLOOKUP($C45,学費計算!$C:$R,学費計算!H$1,0),0)","v":0},{"$f":"IFERROR(VLOOKUP($C45,学費計算!$C:$R,学費計算!I$1,0),0)","v":0},{"$f":"IFERROR(VLOOKUP($C45,学費計算!$C:$R,学費計算!J$1,0),0)","v":0},{"$f":"IFERROR(VLOOKUP($C45,学費計算!$C:$R,学費計算!K$1,0),0)","v":0},null,0,0,{"$f":"IF(AND($C45>=0,$C45<=入力!$R$36),AE$1,0)","v":0},null,null,null,null,null,0,0,0]
[null,59,-60,null,{"$f":"IF(親1!D46<=833.3+42*親1!AS46,IF(AND(C46>=0,C46<=3),1.5*12,IF(AND(C46>3,C46<=15),1*12,0)),IF(AND(C46>=0,C46<=15),0.5*12,0))","v":0},null,null,null,null,0,null,null,{"$f":"IF(AND($C46>=0,$C46<=入力!$R$38),M$1,0)","v":0},{"$f":"IF(AND($C46>=0,$C46<=入力!$R$38),N$1,0)","v":0},{"$f":"IF(AND($C46>=0,$C46<=入力!$R$38),O$1,0)","v":0},{"$f":"IF(AND($C46>=0,$C46<=入力!$R$38),P$1,0)","v":0},{"$f":"IF(AND($C46>=0,$C46<=入力!$R$38),Q$1,0)","v":0},null,null,0,0,null,{"$f":"IF(AND($C46>=10,$C46<=入力!$R$38),W$1,0)","v":0},{"$f":"IFERROR(VLOOKUP($C46,学費計算!$C:$R,学費計算!H$1,0),0)","v":0},{"$f":"IFERROR(VLOOKUP($C46,学費計算!$C:$R,学費計算!I$1,0),0)","v":0},{"$f":"IFERROR(VLOOKUP($C46,学費計算!$C:$R,学費計算!J$1,0),0)","v":0},{"$f":"IFERROR(VLOOKUP($C46,学費計算!$C:$R,学費計算!K$1,0),0)","v":0},null,0,0,{"$f":"IF(AND($C46>=0,$C46<=入力!$R$36),AE$1,0)","v":0},null,null,null,null,null,0,0,0]
[null,60,-59,null,{"$f":"IF(親1!D47<=833.3+42*親1!AS47,IF(AND(C47>=0,C47<=3),1.5*12,IF(AND(C47>3,C47<=15),1*12,0)),IF(AND(C47>=0,C47<=15),0.5*12,0))","v":0},null,null,null,null,0,null,null,{"$f":"IF(AND($C47>=0,$C47<=入力!$R$38),M$1,0)","v":0},{"$f":"IF(AND($C47>=0,$C47<=入力!$R$38),N$1,0)","v":0},{"$f":"IF(AND($C47>=0,$C47<=入力!$R$38),O$1,0)","v":0},{"$f":"IF(AND($C47>=0,$C47<=入力!$R$38),P$1,0)","v":0},{"$f":"IF(AND($C47>=0,$C47<=入力!$R$38),Q$1,0)","v":0},null,null,0,0,null,{"$f":"IF(AND($C47>=10,$C47<=入力!$R$38),W$1,0)","v":0},{"$f":"IFERROR(VLOOKUP($C47,学費計算!$C:$R,学費計算!H$1,0),0)","v":0},{"$f":"IFERROR(VLOOKUP($C47,学費計算!$C:$R,学費計算!I$1,0),0)","v":0},{"$f":"IFERROR(VLOOKUP($C47,学費計算!$C:$R,学費計算!J$1,0),0)","v":0},{"$f":"IFERROR(VLOOKUP($C47,学費計算!$C:$R,学費計算!K$1,0),0)","v":0},null,0,0,{"$f":"IF(AND($C47>=0,$C47<=入力!$R$36),AE$1,0)","v":0},null,null,null,null,null,0,0,0]
[null,61,-58,null,{"$f":"IF(親1!D48<=833.3+42*親1!AS48,IF(AND(C48>=0,C48<=3),1.5*12,IF(AND(C48>3,C48<=15),1*12,0)),IF(AND(C48>=0,C48<=15),0.5*12,0))","v":0},null,null,null,null,0,null,null,{"$f":"IF(AND($C48>=0,$C48<=入力!$R$38),M$1,0)","v":0},{"$f":"IF(AND($C48>=0,$C48<=入力!$R$38),N$1,0)","v":0},{"$f":"IF(AND($C48>=0,$C48<=入力!$R$38),O$1,0)","v":0},{"$f":"IF(AND($C48>=0,$C48<=入力!$R$38),P$1,0)","v":0},{"$f":"IF(AND($C48>=0,$C48<=入力!$R$38),Q$1,0)","v":0},null,null,0,0,null,{"$f":"IF(AND($C48>=10,$C48<=入力!$R$38),W$1,0)","v":0},{"$f":"IFERROR(VLOOKUP($C48,学費計算!$C:$R,学費計算!H$1,0),0)","v":0},{"$f":"IFERROR(VLOOKUP($C48,学費計算!$C:$R,学費計算!I$1,0),0)","v":0},{"$f":"IFERROR(VLOOKUP($C48,学費計算!$C:$R,学費計算!J$1,0),0)","v":0},{"$f":"IFERROR(VLOOKUP($C48,学費計算!$C:$R,学費計算!K$1,0),0)","v":0},null,0,0,{"$f":"IF(AND($C48>=0,$C48<=入力!$R$36),AE$1,0)","v":0},null,null,null,null,null,0,0,0]
[null,62,-57,null,{"$f":"IF(親1!D49<=833.3+42*親1!AS49,IF(AND(C49>=0,C49<=3),1.5*12,IF(AND(C49>3,C49<=15),1*12,0)),IF(AND(C49>=0,C49<=15),0.5*12,0))","v":0},null,null,null,null,0,null,null,{"$f":"IF(AND($C49>=0,$C49<=入力!$R$38),M$1,0)","v":0},{"$f":"IF(AND($C49>=0,$C49<=入力!$R$38),N$1,0)","v":0},{"$f":"IF(AND($C49>=0,$C49<=入力!$R$38),O$1,0)","v":0},{"$f":"IF(AND($C49>=0,$C49<=入力!$R$38),P$1,0)","v":0},{"$f":"IF(AND($C49>=0,$C49<=入力!$R$38),Q$1,0)","v":0},null,null,0,0,null,{"$f":"IF(AND($C49>=10,$C49<=入力!$R$38),W$1,0)","v":0},{"$f":"IFERROR(VLOOKUP($C49,学費計算!$C:$R,学費計算!H$1,0),0)","v":0},{"$f":"IFERROR(VLOOKUP($C49,学費計算!$C:$R,学費計算!I$1,0),0)","v":0},{"$f":"IFERROR(VLOOKUP($C49,学費計算!$C:$R,学費計算!J$1,0),0)","v":0},{"$f":"IFERROR(VLOOKUP($C49,学費計算!$C:$R,学費計算!K$1,0),0)","v":0},null,0,0,{"$f":"IF(AND($C49>=0,$C49<=入力!$R$36),AE$1,0)","v":0},null,null,null,null,null,0,0,0]
[null,63,-56,null,{"$f":"IF(親1!D50<=833.3+42*親1!AS50,IF(AND(C50>=0,C50<=3),1.5*12,IF(AND(C50>3,C50<=15),1*12,0)),IF(AND(C50>=0,C50<=15),0.5*12,0))","v":0},null,null,null,null,0,null,null,{"$f":"IF(AND($C50>=0,$C50<=入力!$R$38),M$1,0)","v":0},{"$f":"IF(AND($C50>=0,$C50<=入力!$R$38),N$1,0)","v":0},{"$f":"IF(AND($C50>=0,$C50<=入力!$R$38),O$1,0)","v":0},{"$f":"IF(AND($C50>=0,$C50<=入力!$R$38),P$1,0)","v":0},{"$f":"IF(AND($C50>=0,$C50<=入力!$R$38),Q$1,0)","v":0},null,null,0,0,null,{"$f":"IF(AND($C50>=10,$C50<=入力!$R$38),W$1,0)","v":0},{"$f":"IFERROR(VLOOKUP($C50,学費計算!$C:$R,学費計算!H$1,0),0)","v":0},{"$f":"IFERROR(VLOOKUP($C50,学費計算!$C:$R,学費計算!I$1,0),0)","v":0},{"$f":"IFERROR(VLOOKUP($C50,学費計算!$C:$R,学費計算!J$1,0),0)","v":0},{"$f":"IFERROR(VLOOKUP($C50,学費計算!$C:$R,学費計算!K$1,0),0)","v":0},null,0,0,{"$f":"IF(AND($C50>=0,$C50<=入力!$R$36),AE$1,0)","v":0},null,null,null,null,null,0,0,0]
[null,64,-55,null,{"$f":"IF(親1!D51<=833.3+42*親1!AS51,IF(AND(C51>=0,C51<=3),1.5*12,IF(AND(C51>3,C51<=15),1*12,0)),IF(AND(C51>=0,C51<=15),0.5*12,0))","v":0},null,null,null,null,0,null,null,{"$f":"IF(AND($C51>=0,$C51<=入力!$R$38),M$1,0)","v":0},{"$f":"IF(AND($C51>=0,$C51<=入力!$R$38),N$1,0)","v":0},{"$f":"IF(AND($C51>=0,$C51<=入力!$R$38),O$1,0)","v":0},{"$f":"IF(AND($C51>=0,$C51<=入力!$R$38),P$1,0)","v":0},{"$f":"IF(AND($C51>=0,$C51<=入力!$R$38),Q$1,0)","v":0},null,null,0,0,null,{"$f":"IF(AND($C51>=10,$C51<=入力!$R$38),W$1,0)","v":0},{"$f":"IFERROR(VLOOKUP($C51,学費計算!$C:$R,学費計算!H$1,0),0)","v":0},{"$f":"IFERROR(VLOOKUP($C51,学費計算!$C:$R,学費計算!I$1,0),0)","v":0},{"$f":"IFERROR(VLOOKUP($C51,学費計算!$C:$R,学費計算!J$1,0),0)","v":0},{"$f":"IFERROR(VLOOKUP($C51,学費計算!$C:$R,学費計算!K$1,0),0)","v":0},null,0,0,{"$f":"IF(AND($C51>=0,$C51<=入力!$R$36),AE$1,0)","v":0},null,null,null,null,null,0,0,0]
[null,65,-54,null,{"$f":"IF(親1!D52<=833.3+42*親1!AS52,IF(AND(C52>=0,C52<=3),1.5*12,IF(AND(C52>3,C52<=15),1*12,0)),IF(AND(C52>=0,C52<=15),0.5*12,0))","v":0},null,null,null,null,0,null,null,{"$f":"IF(AND($C52>=0,$C52<=入力!$R$38),M$1,0)","v":0},{"$f":"IF(AND($C52>=0,$C52<=入力!$R$38),N$1,0)","v":0},{"$f":"IF(AND($C52>=0,$C52<=入力!$R$38),O$1,0)","v":0},{"$f":"IF(AND($C52>=0,$C52<=入力!$R$38),P$1,0)","v":0},{"$f":"IF(AND($C52>=0,$C52<=入力!$R$38),Q$1,0)","v":0},null,null,0,0,null,{"$f":"IF(AND($C52>=10,$C52<=入力!$R$38),W$1,0)","v":0},{"$f":"IFERROR(VLOOKUP($C52,学費計算!$C:$R,学費計算!H$1,0),0)","v":0},{"$f":"IFERROR(VLOOKUP($C52,学費計算!$C:$R,学費計算!I$1,0),0)","v":0},{"$f":"IFERROR(VLOOKUP($C52,学費計算!$C:$R,学費計算!J$1,0),0)","v":0},{"$f":"IFERROR(VLOOKUP($C52,学費計算!$C:$R,学費計算!K$1,0),0)","v":0},null,0,0,{"$f":"IF(AND($C52>=0,$C52<=入力!$R$36),AE$1,0)","v":0},null,null,null,null,null,0,0,0]
[null,66,-53,null,{"$f":"IF(親1!D53<=833.3+42*親1!AS53,IF(AND(C53>=0,C53<=3),1.5*12,IF(AND(C53>3,C53<=15),1*12,0)),IF(AND(C53>=0,C53<=15),0.5*12,0))","v":0},null,null,null,null,0,null,null,{"$f":"IF(AND($C53>=0,$C53<=入力!$R$38),M$1,0)","v":0},{"$f":"IF(AND($C53>=0,$C53<=入力!$R$38),N$1,0)","v":0},{"$f":"IF(AND($C53>=0,$C53<=入力!$R$38),O$1,0)","v":0},{"$f":"IF(AND($C53>=0,$C53<=入力!$R$38),P$1,0)","v":0},{"$f":"IF(AND($C53>=0,$C53<=入力!$R$38),Q$1,0)","v":0},null,null,0,0,null,{"$f":"IF(AND($C53>=10,$C53<=入力!$R$38),W$1,0)","v":0},{"$f":"IFERROR(VLOOKUP($C53,学費計算!$C:$R,学費計算!H$1,0),0)","v":0},{"$f":"IFERROR(VLOOKUP($C53,学費計算!$C:$R,学費計算!I$1,0),0)","v":0},{"$f":"IFERROR(VLOOKUP($C53,学費計算!$C:$R,学費計算!J$1,0),0)","v":0},{"$f":"IFERROR(VLOOKUP($C53,学費計算!$C:$R,学費計算!K$1,0),0)","v":0},null,0,0,{"$f":"IF(AND($C53>=0,$C53<=入力!$R$36),AE$1,0)","v":0},null,null,null,null,null,0,0,0]
[null,67,-52,null,{"$f":"IF(親1!D54<=833.3+42*親1!AS54,IF(AND(C54>=0,C54<=3),1.5*12,IF(AND(C54>3,C54<=15),1*12,0)),IF(AND(C54>=0,C54<=15),0.5*12,0))","v":0},null,null,null,null,0,null,null,{"$f":"IF(AND($C54>=0,$C54<=入力!$R$38),M$1,0)","v":0},{"$f":"IF(AND($C54>=0,$C54<=入力!$R$38),N$1,0)","v":0},{"$f":"IF(AND($C54>=0,$C54<=入力!$R$38),O$1,0)","v":0},{"$f":"IF(AND($C54>=0,$C54<=入力!$R$38),P$1,0)","v":0},{"$f":"IF(AND($C54>=0,$C54<=入力!$R$38),Q$1,0)","v":0},null,null,0,0,null,{"$f":"IF(AND($C54>=10,$C54<=入力!$R$38),W$1,0)","v":0},{"$f":"IFERROR(VLOOKUP($C54,学費計算!$C:$R,学費計算!H$1,0),0)","v":0},{"$f":"IFERROR(VLOOKUP($C54,学費計算!$C:$R,学費計算!I$1,0),0)","v":0},{"$f":"IFERROR(VLOOKUP($C54,学費計算!$C:$R,学費計算!J$1,0),0)","v":0},{"$f":"IFERROR(VLOOKUP($C54,学費計算!$C:$R,学費計算!K$1,0),0)","v":0},null,0,0,{"$f":"IF(AND($C54>=0,$C54<=入力!$R$36),AE$1,0)","v":0},null,null,null,null,null,0,0,0]
[null,68,-51,null,{"$f":"IF(親1!D55<=833.3+42*親1!AS55,IF(AND(C55>=0,C55<=3),1.5*12,IF(AND(C55>3,C55<=15),1*12,0)),IF(AND(C55>=0,C55<=15),0.5*12,0))","v":0},null,null,null,null,0,null,null,{"$f":"IF(AND($C55>=0,$C55<=入力!$R$38),M$1,0)","v":0},{"$f":"IF(AND($C55>=0,$C55<=入力!$R$38),N$1,0)","v":0},{"$f":"IF(AND($C55>=0,$C55<=入力!$R$38),O$1,0)","v":0},{"$f":"IF(AND($C55>=0,$C55<=入力!$R$38),P$1,0)","v":0},{"$f":"IF(AND($C55>=0,$C55<=入力!$R$38),Q$1,0)","v":0},null,null,0,0,null,{"$f":"IF(AND($C55>=10,$C55<=入力!$R$38),W$1,0)","v":0},{"$f":"IFERROR(VLOOKUP($C55,学費計算!$C:$R,学費計算!H$1,0),0)","v":0},{"$f":"IFERROR(VLOOKUP($C55,学費計算!$C:$R,学費計算!I$1,0),0)","v":0},{"$f":"IFERROR(VLOOKUP($C55,学費計算!$C:$R,学費計算!J$1,0),0)","v":0},{"$f":"IFERROR(VLOOKUP($C55,学費計算!$C:$R,学費計算!K$1,0),0)","v":0},null,0,0,{"$f":"IF(AND($C55>=0,$C55<=入力!$R$36),AE$1,0)","v":0},null,null,null,null,null,0,0,0]
[null,69,-50,null,{"$f":"IF(親1!D56<=833.3+42*親1!AS56,IF(AND(C56>=0,C56<=3),1.5*12,IF(AND(C56>3,C56<=15),1*12,0)),IF(AND(C56>=0,C56<=15),0.5*12,0))","v":0},null,null,null,null,0,null,null,{"$f":"IF(AND($C56>=0,$C56<=入力!$R$38),M$1,0)","v":0},{"$f":"IF(AND($C56>=0,$C56<=入力!$R$38),N$1,0)","v":0},{"$f":"IF(AND($C56>=0,$C56<=入力!$R$38),O$1,0)","v":0},{"$f":"IF(AND($C56>=0,$C56<=入力!$R$38),P$1,0)","v":0},{"$f":"IF(AND($C56>=0,$C56<=入力!$R$38),Q$1,0)","v":0},null,null,0,0,null,{"$f":"IF(AND($C56>=10,$C56<=入力!$R$38),W$1,0)","v":0},{"$f":"IFERROR(VLOOKUP($C56,学費計算!$C:$R,学費計算!H$1,0),0)","v":0},{"$f":"IFERROR(VLOOKUP($C56,学費計算!$C:$R,学費計算!I$1,0),0)","v":0},{"$f":"IFERROR(VLOOKUP($C56,学費計算!$C:$R,学費計算!J$1,0),0)","v":0},{"$f":"IFERROR(VLOOKUP($C56,学費計算!$C:$R,学費計算!K$1,0),0)","v":0},null,0,0,{"$f":"IF(AND($C56>=0,$C56<=入力!$R$36),AE$1,0)","v":0},null,null,null,null,null,0,0,0]
[null,70,-49,null,{"$f":"IF(親1!D57<=833.3+42*親1!AS57,IF(AND(C57>=0,C57<=3),1.5*12,IF(AND(C57>3,C57<=15),1*12,0)),IF(AND(C57>=0,C57<=15),0.5*12,0))","v":0},null,null,null,null,0,null,null,{"$f":"IF(AND($C57>=0,$C57<=入力!$R$38),M$1,0)","v":0},{"$f":"IF(AND($C57>=0,$C57<=入力!$R$38),N$1,0)","v":0},{"$f":"IF(AND($C57>=0,$C57<=入力!$R$38),O$1,0)","v":0},{"$f":"IF(AND($C57>=0,$C57<=入力!$R$38),P$1,0)","v":0},{"$f":"IF(AND($C57>=0,$C57<=入力!$R$38),Q$1,0)","v":0},null,null,0,0,null,{"$f":"IF(AND($C57>=10,$C57<=入力!$R$38),W$1,0)","v":0},{"$f":"IFERROR(VLOOKUP($C57,学費計算!$C:$R,学費計算!H$1,0),0)","v":0},{"$f":"IFERROR(VLOOKUP($C57,学費計算!$C:$R,学費計算!I$1,0),0)","v":0},{"$f":"IFERROR(VLOOKUP($C57,学費計算!$C:$R,学費計算!J$1,0),0)","v":0},{"$f":"IFERROR(VLOOKUP($C57,学費計算!$C:$R,学費計算!K$1,0),0)","v":0},null,0,0,{"$f":"IF(AND($C57>=0,$C57<=入力!$R$36),AE$1,0)","v":0},null,null,null,null,null,0,0,0]
[null,71,-48,null,{"$f":"IF(親1!D58<=833.3+42*親1!AS58,IF(AND(C58>=0,C58<=3),1.5*12,IF(AND(C58>3,C58<=15),1*12,0)),IF(AND(C58>=0,C58<=15),0.5*12,0))","v":0},null,null,null,null,0,null,null,{"$f":"IF(AND($C58>=0,$C58<=入力!$R$38),M$1,0)","v":0},{"$f":"IF(AND($C58>=0,$C58<=入力!$R$38),N$1,0)","v":0},{"$f":"IF(AND($C58>=0,$C58<=入力!$R$38),O$1,0)","v":0},{"$f":"IF(AND($C58>=0,$C58<=入力!$R$38),P$1,0)","v":0},{"$f":"IF(AND($C58>=0,$C58<=入力!$R$38),Q$1,0)","v":0},null,null,0,0,null,{"$f":"IF(AND($C58>=10,$C58<=入力!$R$38),W$1,0)","v":0},{"$f":"IFERROR(VLOOKUP($C58,学費計算!$C:$R,学費計算!H$1,0),0)","v":0},{"$f":"IFERROR(VLOOKUP($C58,学費計算!$C:$R,学費計算!I$1,0),0)","v":0},{"$f":"IFERROR(VLOOKUP($C58,学費計算!$C:$R,学費計算!J$1,0),0)","v":0},{"$f":"IFERROR(VLOOKUP($C58,学費計算!$C:$R,学費計算!K$1,0),0)","v":0},null,0,0,{"$f":"IF(AND($C58>=0,$C58<=入力!$R$36),AE$1,0)","v":0},null,null,null,null,null,0,0,0]
[null,72,-47,null,{"$f":"IF(親1!D59<=833.3+42*親1!AS59,IF(AND(C59>=0,C59<=3),1.5*12,IF(AND(C59>3,C59<=15),1*12,0)),IF(AND(C59>=0,C59<=15),0.5*12,0))","v":0},null,null,null,null,0,null,null,{"$f":"IF(AND($C59>=0,$C59<=入力!$R$38),M$1,0)","v":0},{"$f":"IF(AND($C59>=0,$C59<=入力!$R$38),N$1,0)","v":0},{"$f":"IF(AND($C59>=0,$C59<=入力!$R$38),O$1,0)","v":0},{"$f":"IF(AND($C59>=0,$C59<=入力!$R$38),P$1,0)","v":0},{"$f":"IF(AND($C59>=0,$C59<=入力!$R$38),Q$1,0)","v":0},null,null,0,0,null,{"$f":"IF(AND($C59>=10,$C59<=入力!$R$38),W$1,0)","v":0},{"$f":"IFERROR(VLOOKUP($C59,学費計算!$C:$R,学費計算!H$1,0),0)","v":0},{"$f":"IFERROR(VLOOKUP($C59,学費計算!$C:$R,学費計算!I$1,0),0)","v":0},{"$f":"IFERROR(VLOOKUP($C59,学費計算!$C:$R,学費計算!J$1,0),0)","v":0},{"$f":"IFERROR(VLOOKUP($C59,学費計算!$C:$R,学費計算!K$1,0),0)","v":0},null,0,0,{"$f":"IF(AND($C59>=0,$C59<=入力!$R$36),AE$1,0)","v":0},null,null,null,null,null,0,0,0]
[null,73,-46,null,{"$f":"IF(親1!D60<=833.3+42*親1!AS60,IF(AND(C60>=0,C60<=3),1.5*12,IF(AND(C60>3,C60<=15),1*12,0)),IF(AND(C60>=0,C60<=15),0.5*12,0))","v":0},null,null,null,null,0,null,null,{"$f":"IF(AND($C60>=0,$C60<=入力!$R$38),M$1,0)","v":0},{"$f":"IF(AND($C60>=0,$C60<=入力!$R$38),N$1,0)","v":0},{"$f":"IF(AND($C60>=0,$C60<=入力!$R$38),O$1,0)","v":0},{"$f":"IF(AND($C60>=0,$C60<=入力!$R$38),P$1,0)","v":0},{"$f":"IF(AND($C60>=0,$C60<=入力!$R$38),Q$1,0)","v":0},null,null,0,0,null,{"$f":"IF(AND($C60>=10,$C60<=入力!$R$38),W$1,0)","v":0},{"$f":"IFERROR(VLOOKUP($C60,学費計算!$C:$R,学費計算!H$1,0),0)","v":0},{"$f":"IFERROR(VLOOKUP($C60,学費計算!$C:$R,学費計算!I$1,0),0)","v":0},{"$f":"IFERROR(VLOOKUP($C60,学費計算!$C:$R,学費計算!J$1,0),0)","v":0},{"$f":"IFERROR(VLOOKUP($C60,学費計算!$C:$R,学費計算!K$1,0),0)","v":0},null,0,0,{"$f":"IF(AND($C60>=0,$C60<=入力!$R$36),AE$1,0)","v":0},null,null,null,null,null,0,0,0]
[null,74,-45,null,{"$f":"IF(親1!D61<=833.3+42*親1!AS61,IF(AND(C61>=0,C61<=3),1.5*12,IF(AND(C61>3,C61<=15),1*12,0)),IF(AND(C61>=0,C61<=15),0.5*12,0))","v":0},null,null,null,null,0,null,null,{"$f":"IF(AND($C61>=0,$C61<=入力!$R$38),M$1,0)","v":0},{"$f":"IF(AND($C61>=0,$C61<=入力!$R$38),N$1,0)","v":0},{"$f":"IF(AND($C61>=0,$C61<=入力!$R$38),O$1,0)","v":0},{"$f":"IF(AND($C61>=0,$C61<=入力!$R$38),P$1,0)","v":0},{"$f":"IF(AND($C61>=0,$C61<=入力!$R$38),Q$1,0)","v":0},null,null,0,0,null,{"$f":"IF(AND($C61>=10,$C61<=入力!$R$38),W$1,0)","v":0},{"$f":"IFERROR(VLOOKUP($C61,学費計算!$C:$R,学費計算!H$1,0),0)","v":0},{"$f":"IFERROR(VLOOKUP($C61,学費計算!$C:$R,学費計算!I$1,0),0)","v":0},{"$f":"IFERROR(VLOOKUP($C61,学費計算!$C:$R,学費計算!J$1,0),0)","v":0},{"$f":"IFERROR(VLOOKUP($C61,学費計算!$C:$R,学費計算!K$1,0),0)","v":0},null,0,0,{"$f":"IF(AND($C61>=0,$C61<=入力!$R$36),AE$1,0)","v":0},null,null,null,null,null,0,0,0]
[null,75,-44,null,{"$f":"IF(親1!D62<=833.3+42*親1!AS62,IF(AND(C62>=0,C62<=3),1.5*12,IF(AND(C62>3,C62<=15),1*12,0)),IF(AND(C62>=0,C62<=15),0.5*12,0))","v":0},null,null,null,null,0,null,null,{"$f":"IF(AND($C62>=0,$C62<=入力!$R$38),M$1,0)","v":0},{"$f":"IF(AND($C62>=0,$C62<=入力!$R$38),N$1,0)","v":0},{"$f":"IF(AND($C62>=0,$C62<=入力!$R$38),O$1,0)","v":0},{"$f":"IF(AND($C62>=0,$C62<=入力!$R$38),P$1,0)","v":0},{"$f":"IF(AND($C62>=0,$C62<=入力!$R$38),Q$1,0)","v":0},null,null,0,0,null,{"$f":"IF(AND($C62>=10,$C62<=入力!$R$38),W$1,0)","v":0},{"$f":"IFERROR(VLOOKUP($C62,学費計算!$C:$R,学費計算!H$1,0),0)","v":0},{"$f":"IFERROR(VLOOKUP($C62,学費計算!$C:$R,学費計算!I$1,0),0)","v":0},{"$f":"IFERROR(VLOOKUP($C62,学費計算!$C:$R,学費計算!J$1,0),0)","v":0},{"$f":"IFERROR(VLOOKUP($C62,学費計算!$C:$R,学費計算!K$1,0),0)","v":0},null,0,0,{"$f":"IF(AND($C62>=0,$C62<=入力!$R$36),AE$1,0)","v":0},null,null,null,null,null,0,0,0]
[null,76,-43,null,{"$f":"IF(親1!D63<=833.3+42*親1!AS63,IF(AND(C63>=0,C63<=3),1.5*12,IF(AND(C63>3,C63<=15),1*12,0)),IF(AND(C63>=0,C63<=15),0.5*12,0))","v":0},null,null,null,null,0,null,null,{"$f":"IF(AND($C63>=0,$C63<=入力!$R$38),M$1,0)","v":0},{"$f":"IF(AND($C63>=0,$C63<=入力!$R$38),N$1,0)","v":0},{"$f":"IF(AND($C63>=0,$C63<=入力!$R$38),O$1,0)","v":0},{"$f":"IF(AND($C63>=0,$C63<=入力!$R$38),P$1,0)","v":0},{"$f":"IF(AND($C63>=0,$C63<=入力!$R$38),Q$1,0)","v":0},null,null,0,0,null,{"$f":"IF(AND($C63>=10,$C63<=入力!$R$38),W$1,0)","v":0},{"$f":"IFERROR(VLOOKUP($C63,学費計算!$C:$R,学費計算!H$1,0),0)","v":0},{"$f":"IFERROR(VLOOKUP($C63,学費計算!$C:$R,学費計算!I$1,0),0)","v":0},{"$f":"IFERROR(VLOOKUP($C63,学費計算!$C:$R,学費計算!J$1,0),0)","v":0},{"$f":"IFERROR(VLOOKUP($C63,学費計算!$C:$R,学費計算!K$1,0),0)","v":0},null,0,0,{"$f":"IF(AND($C63>=0,$C63<=入力!$R$36),AE$1,0)","v":0},null,null,null,null,null,0,0,0]
[null,77,-42,null,{"$f":"IF(親1!D64<=833.3+42*親1!AS64,IF(AND(C64>=0,C64<=3),1.5*12,IF(AND(C64>3,C64<=15),1*12,0)),IF(AND(C64>=0,C64<=15),0.5*12,0))","v":0},null,null,null,null,0,null,null,{"$f":"IF(AND($C64>=0,$C64<=入力!$R$38),M$1,0)","v":0},{"$f":"IF(AND($C64>=0,$C64<=入力!$R$38),N$1,0)","v":0},{"$f":"IF(AND($C64>=0,$C64<=入力!$R$38),O$1,0)","v":0},{"$f":"IF(AND($C64>=0,$C64<=入力!$R$38),P$1,0)","v":0},{"$f":"IF(AND($C64>=0,$C64<=入力!$R$38),Q$1,0)","v":0},null,null,0,0,null,{"$f":"IF(AND($C64>=10,$C64<=入力!$R$38),W$1,0)","v":0},{"$f":"IFERROR(VLOOKUP($C64,学費計算!$C:$R,学費計算!H$1,0),0)","v":0},{"$f":"IFERROR(VLOOKUP($C64,学費計算!$C:$R,学費計算!I$1,0),0)","v":0},{"$f":"IFERROR(VLOOKUP($C64,学費計算!$C:$R,学費計算!J$1,0),0)","v":0},{"$f":"IFERROR(VLOOKUP($C64,学費計算!$C:$R,学費計算!K$1,0),0)","v":0},null,0,0,{"$f":"IF(AND($C64>=0,$C64<=入力!$R$36),AE$1,0)","v":0},null,null,null,null,null,0,0,0]
[null,78,-41,null,{"$f":"IF(親1!D65<=833.3+42*親1!AS65,IF(AND(C65>=0,C65<=3),1.5*12,IF(AND(C65>3,C65<=15),1*12,0)),IF(AND(C65>=0,C65<=15),0.5*12,0))","v":0},null,null,null,null,0,null,null,{"$f":"IF(AND($C65>=0,$C65<=入力!$R$38),M$1,0)","v":0},{"$f":"IF(AND($C65>=0,$C65<=入力!$R$38),N$1,0)","v":0},{"$f":"IF(AND($C65>=0,$C65<=入力!$R$38),O$1,0)","v":0},{"$f":"IF(AND($C65>=0,$C65<=入力!$R$38),P$1,0)","v":0},{"$f":"IF(AND($C65>=0,$C65<=入力!$R$38),Q$1,0)","v":0},null,null,0,0,null,{"$f":"IF(AND($C65>=10,$C65<=入力!$R$38),W$1,0)","v":0},{"$f":"IFERROR(VLOOKUP($C65,学費計算!$C:$R,学費計算!H$1,0),0)","v":0},{"$f":"IFERROR(VLOOKUP($C65,学費計算!$C:$R,学費計算!I$1,0),0)","v":0},{"$f":"IFERROR(VLOOKUP($C65,学費計算!$C:$R,学費計算!J$1,0),0)","v":0},{"$f":"IFERROR(VLOOKUP($C65,学費計算!$C:$R,学費計算!K$1,0),0)","v":0},null,0,0,{"$f":"IF(AND($C65>=0,$C65<=入力!$R$36),AE$1,0)","v":0},null,null,null,null,null,0,0,0]
[null,79,-40,null,{"$f":"IF(親1!D66<=833.3+42*親1!AS66,IF(AND(C66>=0,C66<=3),1.5*12,IF(AND(C66>3,C66<=15),1*12,0)),IF(AND(C66>=0,C66<=15),0.5*12,0))","v":0},null,null,null,null,0,null,null,{"$f":"IF(AND($C66>=0,$C66<=入力!$R$38),M$1,0)","v":0},{"$f":"IF(AND($C66>=0,$C66<=入力!$R$38),N$1,0)","v":0},{"$f":"IF(AND($C66>=0,$C66<=入力!$R$38),O$1,0)","v":0},{"$f":"IF(AND($C66>=0,$C66<=入力!$R$38),P$1,0)","v":0},{"$f":"IF(AND($C66>=0,$C66<=入力!$R$38),Q$1,0)","v":0},null,null,0,0,null,{"$f":"IF(AND($C66>=10,$C66<=入力!$R$38),W$1,0)","v":0},{"$f":"IFERROR(VLOOKUP($C66,学費計算!$C:$R,学費計算!H$1,0),0)","v":0},{"$f":"IFERROR(VLOOKUP($C66,学費計算!$C:$R,学費計算!I$1,0),0)","v":0},{"$f":"IFERROR(VLOOKUP($C66,学費計算!$C:$R,学費計算!J$1,0),0)","v":0},{"$f":"IFERROR(VLOOKUP($C66,学費計算!$C:$R,学費計算!K$1,0),0)","v":0},null,0,0,{"$f":"IF(AND($C66>=0,$C66<=入力!$R$36),AE$1,0)","v":0},null,null,null,null,null,0,0,0]
[null,80,-39,null,{"$f":"IF(親1!D67<=833.3+42*親1!AS67,IF(AND(C67>=0,C67<=3),1.5*12,IF(AND(C67>3,C67<=15),1*12,0)),IF(AND(C67>=0,C67<=15),0.5*12,0))","v":0},null,null,null,null,0,null,null,{"$f":"IF(AND($C67>=0,$C67<=入力!$R$38),M$1,0)","v":0},{"$f":"IF(AND($C67>=0,$C67<=入力!$R$38),N$1,0)","v":0},{"$f":"IF(AND($C67>=0,$C67<=入力!$R$38),O$1,0)","v":0},{"$f":"IF(AND($C67>=0,$C67<=入力!$R$38),P$1,0)","v":0},{"$f":"IF(AND($C67>=0,$C67<=入力!$R$38),Q$1,0)","v":0},null,null,0,0,null,{"$f":"IF(AND($C67>=10,$C67<=入力!$R$38),W$1,0)","v":0},{"$f":"IFERROR(VLOOKUP($C67,学費計算!$C:$R,学費計算!H$1,0),0)","v":0},{"$f":"IFERROR(VLOOKUP($C67,学費計算!$C:$R,学費計算!I$1,0),0)","v":0},{"$f":"IFERROR(VLOOKUP($C67,学費計算!$C:$R,学費計算!J$1,0),0)","v":0},{"$f":"IFERROR(VLOOKUP($C67,学費計算!$C:$R,学費計算!K$1,0),0)","v":0},null,0,0,{"$f":"IF(AND($C67>=0,$C67<=入力!$R$36),AE$1,0)","v":0},null,null,null,null,null,0,0,0]
[null,81,-38,null,{"$f":"IF(親1!D68<=833.3+42*親1!AS68,IF(AND(C68>=0,C68<=3),1.5*12,IF(AND(C68>3,C68<=15),1*12,0)),IF(AND(C68>=0,C68<=15),0.5*12,0))","v":0},null,null,null,null,0,null,null,{"$f":"IF(AND($C68>=0,$C68<=入力!$R$38),M$1,0)","v":0},{"$f":"IF(AND($C68>=0,$C68<=入力!$R$38),N$1,0)","v":0},{"$f":"IF(AND($C68>=0,$C68<=入力!$R$38),O$1,0)","v":0},{"$f":"IF(AND($C68>=0,$C68<=入力!$R$38),P$1,0)","v":0},{"$f":"IF(AND($C68>=0,$C68<=入力!$R$38),Q$1,0)","v":0},null,null,0,0,null,{"$f":"IF(AND($C68>=10,$C68<=入力!$R$38),W$1,0)","v":0},{"$f":"IFERROR(VLOOKUP($C68,学費計算!$C:$R,学費計算!H$1,0),0)","v":0},{"$f":"IFERROR(VLOOKUP($C68,学費計算!$C:$R,学費計算!I$1,0),0)","v":0},{"$f":"IFERROR(VLOOKUP($C68,学費計算!$C:$R,学費計算!J$1,0),0)","v":0},{"$f":"IFERROR(VLOOKUP($C68,学費計算!$C:$R,学費計算!K$1,0),0)","v":0},null,0,0,{"$f":"IF(AND($C68>=0,$C68<=入力!$R$36),AE$1,0)","v":0},null,null,null,null,null,0,0,0]
[null,82,-37,null,{"$f":"IF(親1!D69<=833.3+42*親1!AS69,IF(AND(C69>=0,C69<=3),1.5*12,IF(AND(C69>3,C69<=15),1*12,0)),IF(AND(C69>=0,C69<=15),0.5*12,0))","v":0},null,null,null,null,0,null,null,{"$f":"IF(AND($C69>=0,$C69<=入力!$R$38),M$1,0)","v":0},{"$f":"IF(AND($C69>=0,$C69<=入力!$R$38),N$1,0)","v":0},{"$f":"IF(AND($C69>=0,$C69<=入力!$R$38),O$1,0)","v":0},{"$f":"IF(AND($C69>=0,$C69<=入力!$R$38),P$1,0)","v":0},{"$f":"IF(AND($C69>=0,$C69<=入力!$R$38),Q$1,0)","v":0},null,null,0,0,null,{"$f":"IF(AND($C69>=10,$C69<=入力!$R$38),W$1,0)","v":0},{"$f":"IFERROR(VLOOKUP($C69,学費計算!$C:$R,学費計算!H$1,0),0)","v":0},{"$f":"IFERROR(VLOOKUP($C69,学費計算!$C:$R,学費計算!I$1,0),0)","v":0},{"$f":"IFERROR(VLOOKUP($C69,学費計算!$C:$R,学費計算!J$1,0),0)","v":0},{"$f":"IFERROR(VLOOKUP($C69,学費計算!$C:$R,学費計算!K$1,0),0)","v":0},null,0,0,{"$f":"IF(AND($C69>=0,$C69<=入力!$R$36),AE$1,0)","v":0},null,null,null,null,null,0,0,0]
[null,83,-36,null,{"$f":"IF(親1!D70<=833.3+42*親1!AS70,IF(AND(C70>=0,C70<=3),1.5*12,IF(AND(C70>3,C70<=15),1*12,0)),IF(AND(C70>=0,C70<=15),0.5*12,0))","v":0},null,null,null,null,0,null,null,{"$f":"IF(AND($C70>=0,$C70<=入力!$R$38),M$1,0)","v":0},{"$f":"IF(AND($C70>=0,$C70<=入力!$R$38),N$1,0)","v":0},{"$f":"IF(AND($C70>=0,$C70<=入力!$R$38),O$1,0)","v":0},{"$f":"IF(AND($C70>=0,$C70<=入力!$R$38),P$1,0)","v":0},{"$f":"IF(AND($C70>=0,$C70<=入力!$R$38),Q$1,0)","v":0},null,null,0,{"$f":"J70-T70","v":0},null,{"$f":"IF(AND($C70>=10,$C70<=入力!$R$38),W$1,0)","v":0},{"$f":"IFERROR(VLOOKUP($C70,学費計算!$C:$R,学費計算!H$1,0),0)","v":0},{"$f":"IFERROR(VLOOKUP($C70,学費計算!$C:$R,学費計算!I$1,0),0)","v":0},{"$f":"IFERROR(VLOOKUP($C70,学費計算!$C:$R,学費計算!J$1,0),0)","v":0},{"$f":"IFERROR(VLOOKUP($C70,学費計算!$C:$R,学費計算!K$1,0),0)","v":0},null,{"$f":"SUM(V70:AB70)","v":0},{"$f":"U70-AC70","v":0},{"$f":"IF(AND($C70>=0,$C70<=入力!$R$36),AE$1,0)","v":0},null,null,null,null,null,0,{"$f":"AD70-AK70","v":0},{"$f":"AL70+AM69","v":0}]
[null,null,null,{"$f":"SUM(D6:D70)","v":0},0,0,null,0,0,0,0,0,0,0,0,0,0,null,{"$f":"SUM(S6:S70)","v":0},0,0,0,0,0,0,0,0,0,0,0,0,0,0,0,0,0,0,{"$f":"SUM(AL5:AL70)","v":0}]
[]
[]
[null,null,null,null,null,null,null,null,null,null,null,null,null,null,null,null,null,null,null,null,null,null,null,null,null,{"$f":"SUMIF($C$6:$C$70,\">=18\",Z6:Z70)","v":0},{"$f":"SUMIF($C$6:$C$70,\">=18\",AA6:AA70)","v":0}]

{"sheet":"子4","index":8,"n_rows":74,"n_cols":39,"rows_kept":74,"cut":false,"hidden":false,"merged":[]}
[null,null,null,null,null,null,null,null,null,null,null,null,{"$f":"IF($C$30>0,入力!AD13*12*(1+入力!$AD$16),0)","v":0},{"$f":"IF($C$30>0,入力!AE13*12*(1+入力!$AD$16),0)","v":0},{"$f":"IF($C$30>0,入力!AF13*12*(1+入力!$AD$16),0)","v":0},{"$f":"IF($C$30>0,入力!AG13*12*(1+入力!$AD$16),0)","v":0},{"$f":"IF($C$30>0,入力!AH13*12*(1+入力!$AD$16),0)","v":0},null,null,null,null,null,{"$f":"IF($C$30>0,入力!AJ13*12,0)","v":0},null,null,null,null,null,null,null,{"$f":"入力!P35*12","v":12}]
[null,null,null,null,null,null,null,null,null,"収入",null,null,null,null,null,null,null,null,null,null,"収支 小計",null,null,null,null,null,null,null,null,"収支 小計",null,null,null,null,null,null,null,"収支","収支累計"]
[null,null,null,null,null,null,null,null,null,null,null,null,null,null,null,null,null,null,null,"支出1  衣食住",null,null,null,null,null,null,null,null,"支出2  固定費",null,null,null,null,null,null,null,"支出3  衣食住勉"]
[null,"西暦","年齢","年収","手取り","時短等","退職金","年金",null,null,"住居","住居維持費\n(含むローン控除)","食費","服費","電気","ガス","水道","保険",null,null,null,"インターネット","携帯","塾","習い事","学費","仕送り",null,null,null,"お小遣い","雑費","家具","車1","車2","車維持費","合計"]
[null,"貯金"]
[null,19,{"$f":"IF(入力!$S$11=\"\",-100,入力!$S$11)","v":-100},null,{"$f":"IF(親1!D6<=833.3+42*親1!AS6,IF(AND(C6>=0,C6<=3),1.5*12,IF(AND(C6>3,C6<=15),1*12,0)),IF(AND(C6>=0,C6<=15),0.5*12,0))","v":0},null,null,null,null,{"$f":"SUM(E6:I6)","v":0},null,null,{"$f":"IF(AND($C6>=0,$C6<=入力!$S$38),M$1,0)","v":0},{"$f":"IF(AND($C6>=0,$C6<=入力!$S$38),N$1,0)","v":0},{"$f":"IF(AND($C6>=0,$C6<=入力!$S$38),O$1,0)","v":0},{"$f":"IF(AND($C6>=0,$C6<=入力!$S$38),P$1,0)","v":0},{"$f":"IF(AND($C6>=0,$C6<=入力!$S$38),Q$1,0)","v":0},null,null,{"$f":"SUM(K6:S6)","v":0},{"$f":"J6-T6","v":0},null,{"$f":"IF(AND($C6>=10,$C6<=入力!$S$38),W$1,0)","v":0},{"$f":"IFERROR(VLOOKUP($C6,学費計算!$C:$R,学費計算!H$1,0),0)","v":0},{"$f":"IFERROR(VLOOKUP($C6,学費計算!$C:$R,学費計算!I$1,0),0)","v":0},{"$f":"IFERROR(VLOOKUP($C6,学費計算!$C:$R,学費計算!J$1,0),0)","v":0},{"$f":"IFERROR(VLOOKUP($C6,学費計算!$C:$R,学費計算!K$1,0),0)","v":0},null,{"$f":"SUM(V6:AB6)","v":0},{"$f":"U6-AC6","v":0},{"$f":"IF(AND($C6>=0,$C6<=入力!$S$36),AE$1,0)","v":0},null,null,null,null,null,{"$f":"SUM(AE6:AJ6)","v":0},{"$f":"AD6-AK6","v":0},{"$f":"AL6+AM5","v":0}]
[null,{"$f":"B6+1","v":20},{"$f":"C6+1","v":-99},null,{"$f":"IF(親1!D7<=833.3+42*親1!AS7,IF(AND(C7>=0,C7<=3),1.5*12,IF(AND(C7>3,C7<=15),1*12,0)),IF(AND(C7>=0,C7<=15),0.5*12,0))","v":0},null,null,null,null,0,null,null,{"$f":"IF(AND($C7>=0,$C7<=入力!$S$38),M$1,0)","v":0},{"$f":"IF(AND($C7>=0,$C7<=入力!$S$38),N$1,0)","v":0},{"$f":"IF(AND($C7>=0,$C7<=入力!$S$38),O$1,0)","v":0},{"$f":"IF(AND($C7>=0,$C7<=入力!$S$38),P$1,0)","v":0},{"$f":"IF(AND($C7>=0,$C7<=入力!$S$38),Q$1,0)","v":0},null,null,0,0,null,{"$f":"IF(AND($C7>=10,$C7<=入力!$S$38),W$1,0)","v":0},{"$f":"IFERROR(VLOOKUP($C7,学費計算!$C:$R,学費計算!H$1,0),0)","v":0},{"$f":"IFERROR(VLOOKUP($C7,学費計算!$C:$R,学費計算!I$1,0),0)","v":0},{"$f":"IFERROR(VLOOKUP($C7,学費計算!$C:$R,学費計算!J$1,0),0)","v":0},{"$f":"IFERROR(VLOOKUP($C7,学費計算!$C:$R,学費計算!K$1,0),0)","v":0},null,0,0,{"$f":"IF(AND($C7>=0,$C7<=入力!$S$36),AE$1,0)","v":0},null,null,null,null,null,{"$f":"SUM(AE7:AJ7)","v":0},0,0]
[null,21,-98,null,{"$f":"IF(親1!D8<=833.3+42*親1!AS8,IF(AND(C8>=0,C8<=3),1.5*12,IF(AND(C8>3,C8<=15),1*12,0)),IF(AND(C8>=0,C8<=15),0.5*12,0))","v":0},null,null,null,null,0,null,null,{"$f":"IF(AND($C8>=0,$C8<=入力!$S$38),M$1,0)","v":0},{"$f":"IF(AND($C8>=0,$C8<=入力!$S$38),N$1,0)","v":0},{"$f":"IF(AND($C8>=0,$C8<=入力!$S$38),O$1,0)","v":0},{"$f":"IF(AND($C8>=0,$C8<=入力!$S$38),P$1,0)","v":0},{"$f":"IF(AND($C8>=0,$C8<=入力!$S$38),Q$1,0)","v":0},null,null,0,0,null,{"$f":"IF(AND($C8>=10,$C8<=入力!$S$38),W$1,0)","v":0},{"$f":"IFERROR(VLOOKUP($C8,学費計算!$C:$R,学費計算!H$1,0),0)","v":0},{"$f":"IFERROR(VLOOKUP($C8,学費計算!$C:$R,学費計算!I$1,0),0)","v":0},{"$f":"IFERROR(VLOOKUP($C8,学費計算!$C:$R,学費計算!J$1,0),0)","v":0},{"$f":"IFERROR(VLOOKUP($C8,学費計算!$C:$R,学費計算!K$1,0),0)","v":0},null,0,0,{"$f":"IF(AND($C8>=0,$C8<=入力!$S$36),AE$1,0)","v":0},null,null,null,null,null,0,0,0]
[null,22,-97,null,{"$f":"IF(親1!D9<=833.3+42*親1!AS9,IF(AND(C9>=0,C9<=3),1.5*12,IF(AND(C9>3,C9<=15),1*12,0)),IF(AND(C9>=0,C9<=15),0.5*12,0))","v":0},null,null,null,null,0,null,null,{"$f":"IF(AND($C9>=0,$C9<=入力!$S$38),M$1,0)","v":0},{"$f":"IF(AND($C9>=0,$C9<=入力!$S$38),N$1,0)","v":0},{"$f":"IF(AND($C9>=0,$C9<=入力!$S$38),O$1,0)","v":0},{"$f":"IF(AND($C9>=0,$C9<=入力!$S$38),P$1,0)","v":0},{"$f":"IF(AND($C9>=0,$C9<=入力!$S$38),Q$1,0)","v":0},null,null,0,0,null,{"$f":"IF(AND($C9>=10,$C9<=入力!$S$38),W$1,0)","v":0},{"$f":"IFERROR(VLOOKUP($C9,学費計算!$C:$R,学費計算!H$1,0),0)","v":0},{"$f":"IFERROR(VLOOKUP($C9,学費計算!$C:$R,学費計算!I$1,0),0)","v":0},{"$f":"IFERROR(VLOOKUP($C9,学費計算!$C:$R,学費計算!J$1,0),0)","v":0},{"$f":"IFERROR(VLOOKUP($C9,学費計算!$C:$R,学費計算!K$1,0),0)","v":0},null,0,0,{"$f":"IF(AND($C9>=0,$C9<=入力!$S$36),AE$1,0)","v":0},null,null,null,null,null,0,0,0]
[null,23,-96,null,{"$f":"IF(親1!D10<=833.3+42*親1!AS10,IF(AND(C10>=0,C10<=3),1.5*12,IF(AND(C10>3,C10<=15),1*12,0)),IF(AND(C10>=0,C10<=15),0.5*12,0))","v":0},null,null,null,null,0,null,null,{"$f":"IF(AND($C10>=0,$C10<=入力!$S$38),M$1,0)","v":0},{"$f":"IF(AND($C10>=0,$C10<=入力!$S$38),N$1,0)","v":0},{"$f":"IF(AND($C10>=0,$C10<=入力!$S$38),O$1,0)","v":0},{"$f":"IF(AND($C10>=0,$C10<=入力!$S$38),P$1,0)","v":0},{"$f":"IF(AND($C10>=0,$C10<=入力!$S$38),Q$1,0)","v":0},null,null,0,0,null,{"$f":"IF(AND($C10>=10,$C10<=入力!$S$38),W$1,0)","v":0},{"$f":"IFERROR(VLOOKUP($C10,学費計算!$C:$R,学費計算!H$1,0),0)","v":0},{"$f":"IFERROR(VLOOKUP($C10,学費計算!$C:$R,学費計算!I$1,0),0)","v":0},{"$f":"IFERROR(VLOOKUP($C10,学費計算!$C:$R,学費計算!J$1,0),0)","v":0},{"$f":"IFERROR(VLOOKUP($C10,学費計算!$C:$R,学費計算!K$1,0),0)","v":0},null,0,0,{"$f":"IF(AND($C10>=0,$C10<=入力!$S$36),AE$1,0)","v":0},null,null,null,null,null,0,0,0]
[null,24,-95,null,{"$f":"IF(親1!D11<=833.3+42*親1!AS11,IF(AND(C11>=0,C11<=3),1.5*12,IF(AND(C11>3,C11<=15),1*12,0)),IF(AND(C11>=0,C11<=15),0.5*12,0))","v":0},null,null,null,null,0,null,null,{"$f":"IF(AND($C11>=0,$C11<=入力!$S$38),M$1,0)","v":0},{"$f":"IF(AND($C11>=0,$C11<=入力!$S$38),N$1,0)","v":0},{"$f":"IF(AND($C11>=0,$C11<=入力!$S$38),O$1,0)","v":0},{"$f":"IF(AND($C11>=0,$C11<=入力!$S$38),P$1,0)","v":0},{"$f":"IF(AND($C11>=0,$C11<=入力!$S$38),Q$1,0)","v":0},null,null,0,0,null,{"$f":"IF(AND($C11>=10,$C11<=入力!$S$38),W$1,0)","v":0},{"$f":"IFERROR(VLOOKUP($C11,学費計算!$C:$R,学費計算!H$1,0),0)","v":0},{"$f":"IFERROR(VLOOKUP($C11,学費計算!$C:$R,学費計算!I$1,0),0)","v":0},{"$f":"IFERROR(VLOOKUP($C11,学費計算!$C:$R,学費計算!J$1,0),0)","v":0},{"$f":"IFERROR(VLOOKUP($C11,学費計算!$C:$R,学費計算!K$1,0),0)","v":0},null,0,0,{"$f":"IF(AND($C11>=0,$C11<=入力!$S$36),AE$1,0)","v":0},null,null,null,null,null,0,0,0]
[null,25,-94,null,{"$f":"IF(親1!D12<=833.3+42*親1!AS12,IF(AND(C12>=0,C12<=3),1.5*12,IF(AND(C12>3,C12<=15),1*12,0)),IF(AND(C12>=0,C12<=15),0.5*12,0))","v":0},null,null,null,null,0,null,null,{"$f":"IF(AND($C12>=0,$C12<=入力!$S$38),M$1,0)","v":0},{"$f":"IF(AND($C12>=0,$C12<=入力!$S$38),N$1,0)","v":0},{"$f":"IF(AND($C12>=0,$C12<=入力!$S$38),O$1,0)","v":0},{"$f":"IF(AND($C12>=0,$C12<=入力!$S$38),P$1,0)","v":0},{"$f":"IF(AND($C12>=0,$C12<=入力!$S$38),Q$1,0)","v":0},null,null,0,0,null,{"$f":"IF(AND($C12>=10,$C12<=入力!$S$38),W$1,0)","v":0},{"$f":"IFERROR(VLOOKUP($C12,学費計算!$C:$R,学費計算!H$1,0),0)","v":0},{"$f":"IFERROR(VLOOKUP($C12,学費計算!$C:$R,学費計算!I$1,0),0)","v":0},{"$f":"IFERROR(VLOOKUP($C12,学費計算!$C:$R,学費計算!J$1,0),0)","v":0},{"$f":"IFERROR(VLOOKUP($C12,学費計算!$C:$R,学費計算!K$1,0),0)","v":0},null,0,0,{"$f":"IF(AND($C12>=0,$C12<=入力!$S$36),AE$1,0)","v":0},null,null,null,null,null,0,0,0]
[null,26,-93,null,{"$f":"IF(親1!D13<=833.3+42*親1!AS13,IF(AND(C13>=0,C13<=3),1.5*12,IF(AND(C13>3,C13<=15),1*12,0)),IF(AND(C13>=0,C13<=15),0.5*12,0))","v":0},null,null,null,null,0,null,null,{"$f":"IF(AND($C13>=0,$C13<=入力!$S$38),M$1,0)","v":0},{"$f":"IF(AND($C13>=0,$C13<=入力!$S$38),N$1,0)","v":0},{"$f":"IF(AND($C13>=0,$C13<=入力!$S$38),O$1,0)","v":0},{"$f":"IF(AND($C13>=0,$C13<=入力!$S$38),P$1,0)","v":0},{"$f":"IF(AND($C13>=0,$C13<=入力!$S$38),Q$1,0)","v":0},null,null,0,0,null,{"$f":"IF(AND($C13>=10,$C13<=入力!$S$38),W$1,0)","v":0},{"$f":"IFERROR(VLOOKUP($C13,学費計算!$C:$R,学費計算!H$1,0),0)","v":0},{"$f":"IFERROR(VLOOKUP($C13,学費計算!$C:$R,学費計算!I$1,0),0)","v":0},{"$f":"IFERROR(VLOOKUP($C13,学費計算!$C:$R,学費計算!J$1,0),0)","v":0},{"$f":"IFERROR(VLOOKUP($C13,学費計算!$C:$R,学費計算!K$1,0),0)","v":0},null,0,0,{"$f":"IF(AND($C13>=0,$C13<=入力!$S$36),AE$1,0)","v":0},null,null,null,null,null,0,0,0]
[null,27,-92,null,{"$f":"IF(親1!D14<=833.3+42*親1!AS14,IF(AND(C14>=0,C14<=3),1.5*12,IF(AND(C14>3,C14<=15),1*12,0)),IF(AND(C14>=0,C14<=15),0.5*12,0))","v":0},null,null,null,null,0,null,null,{"$f":"IF(AND($C14>=0,$C14<=入力!$S$38),M$1,0)","v":0},{"$f":"IF(AND($C14>=0,$C14<=入力!$S$38),N$1,0)","v":0},{"$f":"IF(AND($C14>=0,$C14<=入力!$S$38),O$1,0)","v":0},{"$f":"IF(AND($C14>=0,$C14<=入力!$S$38),P$1,0)","v":0},{"$f":"IF(AND($C14>=0,$C14<=入力!$S$38),Q$1,0)","v":0},null,null,0,0,null,{"$f":"IF(AND($C14>=10,$C14<=入力!$S$38),W$1,0)","v":0},{"$f":"IFERROR(VLOOKUP($C14,学費計算!$C:$R,学費計算!H$1,0),0)","v":0},{"$f":"IFERROR(VLOOKUP($C14,学費計算!$C:$R,学費計算!I$1,0),0)","v":0},{"$f":"IFERROR(VLOOKUP($C14,学費計算!$C:$R,学費計算!J$1,0),0)","v":0},{"$f":"IFERROR(VLOOKUP($C14,学費計算!$C:$R,学費計算!K$1,0),0)","v":0},null,0,0,{"$f":"IF(AND($C14>=0,$C14<=入力!$S$36),AE$1,0)","v":0},null,null,null,null,null,0,0,0]
[null,28,-91,null,{"$f":"IF(親1!D15<=833.3+42*親1!AS15,IF(AND(C15>=0,C15<=3),1.5*12,IF(AND(C15>3,C15<=15),1*12,0)),IF(AND(C15>=0,C15<=15),0.5*12,0))","v":0},null,null,null,null,0,null,null,{"$f":"IF(AND($C15>=0,$C15<=入力!$S$38),M$1,0)","v":0},{"$f":"IF(AND($C15>=0,$C15<=入力!$S$38),N$1,0)","v":0},{"$f":"IF(AND($C15>=0,$C15<=入力!$S$38),O$1,0)","v":0},{"$f":"IF(AND($C15>=0,$C15<=入力!$S$38),P$1,0)","v":0},{"$f":"IF(AND($C15>=0,$C15<=入力!$S$38),Q$1,0)","v":0},null,null,0,0,null,{"$f":"IF(AND($C15>=10,$C15<=入力!$S$38),W$1,0)","v":0},{"$f":"IFERROR(VLOOKUP($C15,学費計算!$C:$R,学費計算!H$1,0),0)","v":0},{"$f":"IFERROR(VLOOKUP($C15,学費計算!$C:$R,学費計算!I$1,0),0)","v":0},{"$f":"IFERROR(VLOOKUP($C15,学費計算!$C:$R,学費計算!J$1,0),0)","v":0},{"$f":"IFERROR(VLOOKUP($C15,学費計算!$C:$R,学費計算!K$1,0),0)","v":0},null,0,0,{"$f":"IF(AND($C15>=0,$C15<=入力!$S$36),AE$1,0)","v":0},null,null,null,null,null,0,0,0]
[null,29,-90,null,{"$f":"IF(親1!D16<=833.3+42*親1!AS16,IF(AND(C16>=0,C16<=3),1.5*12,IF(AND(C16>3,C16<=15),1*12,0)),IF(AND(C16>=0,C16<=15),0.5*12,0))","v":0},null,null,null,null,0,null,null,{"$f":"IF(AND($C16>=0,$C16<=入力!$S$38),M$1,0)","v":0},{"$f":"IF(AND($C16>=0,$C16<=入力!$S$38),N$1,0)","v":0},{"$f":"IF(AND($C16>=0,$C16<=入力!$S$38),O$1,0)","v":0},{"$f":"IF(AND($C16>=0,$C16<=入力!$S$38),P$1,0)","v":0},{"$f":"IF(AND($C16>=0,$C16<=入力!$S$38),Q$1,0)","v":0},null,null,0,0,null,{"$f":"IF(AND($C16>=10,$C16<=入力!$S$38),W$1,0)","v":0},{"$f":"IFERROR(VLOOKUP($C16,学費計算!$C:$R,学費計算!H$1,0),0)","v":0},{"$f":"IFERROR(VLOOKUP($C16,学費計算!$C:$R,学費計算!I$1,0),0)","v":0},{"$f":"IFERROR(VLOOKUP($C16,学費計算!$C:$R,学費計算!J$1,0),0)","v":0},{"$f":"IFERROR(VLOOKUP($C16,学費計算!$C:$R,学費計算!K$1,0),0)","v":0},null,0,0,{"$f":"IF(AND($C16>=0,$C16<=入力!$S$36),AE$1,0)","v":0},null,null,null,null,null,0,0,0]
[null,30,-89,null,{"$f":"IF(親1!D17<=833.3+42*親1!AS17,IF(AND(C17>=0,C17<=3),1.5*12,IF(AND(C17>3,C17<=15),1*12,0)),IF(AND(C17>=0,C17<=15),0.5*12,0))","v":0},null,null,null,null,0,null,null,{"$f":"IF(AND($C17>=0,$C17<=入力!$S$38),M$1,0)","v":0},{"$f":"IF(AND($C17>=0,$C17<=入力!$S$38),N$1,0)","v":0},{"$f":"IF(AND($C17>=0,$C17<=入力!$S$38),O$1,0)","v":0},{"$f":"IF(AND($C17>=0,$C17<=入力!$S$38),P$1,0)","v":0},{"$f":"IF(AND($C17>=0,$C17<=入力!$S$38),Q$1,0)","v":0},null,null,0,0,null,{"$f":"IF(AND($C17>=10,$C17<=入力!$S$38),W$1,0)","v":0},{"$f":"IFERROR(VLOOKUP($C17,学費計算!$C:$R,学費計算!H$1,0),0)","v":0},{"$f":"IFERROR(VLOOKUP($C17,学費計算!$C:$R,学費計算!I$1,0),0)","v":0},{"$f":"IFERROR(VLOOKUP($C17,学費計算!$C:$R,学費計算!J$1,0),0)","v":0},{"$f":"IFERROR(VLOOKUP($C17,学費計算!$C:$R,学費計算!K$1,0),0)","v":0},null,0,0,{"$f":"IF(AND($C17>=0,$C17<=入力!$S$36),AE$1,0)","v":0},null,null,null,null,null,0,0,0]
[null,31,-88,null,{"$f":"IF(親1!D18<=833.3+42*親1!AS18,IF(AND(C18>=0,C18<=3),1.5*12,IF(AND(C18>3,C18<=15),1*12,0)),IF(AND(C18>=0,C18<=15),0.5*12,0))","v":0},null,null,null,null,0,null,null,{"$f":"IF(AND($C18>=0,$C18<=入力!$S$38),M$1,0)","v":0},{"$f":"IF(AND($C18>=0,$C18<=入力!$S$38),N$1,0)","v":0},{"$f":"IF(AND($C18>=0,$C18<=入力!$S$38),O$1,0)","v":0},{"$f":"IF(AND($C18>=0,$C18<=入力!$S$38),P$1,0)","v":0},{"$f":"IF(AND($C18>=0,$C18<=入力!$S$38),Q$1,0)","v":0},null,null,0,0,null,{"$f":"IF(AND($C18>=10,$C18<=入力!$S$38),W$1,0)","v":0},{"$f":"IFERROR(VLOOKUP($C18,学費計算!$C:$R,学費計算!H$1,0),0)","v":0},{"$f":"IFERROR(VLOOKUP($C18,学費計算!$C:$R,学費計算!I$1,0),0)","v":0},{"$f":"IFERROR(VLOOKUP($C18,学費計算!$C:$R,学費計算!J$1,0),0)","v":0},{"$f":"IFERROR(VLOOKUP($C18,学費計算!$C:$R,学費計算!K$1,0),0)","v":0},null,0,0,{"$f":"IF(AND($C18>=0,$C18<=入力!$S$36),AE$1,0)","v":0},null,null,null,null,null,0,0,0]
[null,32,-87,null,{"$f":"IF(親1!D19<=833.3+42*親1!AS19,IF(AND(C19>=0,C19<=3),1.5*12,IF(AND(C19>3,C19<=15),1*12,0)),IF(AND(C19>=0,C19<=15),0.5*12,0))","v":0},null,null,null,null,0,null,null,{"$f":"IF(AND($C19>=0,$C19<=入力!$S$38),M$1,0)","v":0},{"$f":"IF(AND($C19>=0,$C19<=入力!$S$38),N$1,0)","v":0},{"$f":"IF(AND($C19>=0,$C19<=入力!$S$38),O$1,0)","v":0},{"$f":"IF(AND($C19>=0,$C19<=入力!$S$38),P$1,0)","v":0},{"$f":"IF(AND($C19>=0,$C19<=入力!$S$38),Q$1,0)","v":0},null,null,0,0,null,{"$f":"IF(AND($C19>=10,$C19<=入力!$S$38),W$1,0)","v":0},{"$f":"IFERROR(VLOOKUP($C19,学費計算!$C:$R,学費計算!H$1,0),0)","v":0},{"$f":"IFERROR(VLOOKUP($C19,学費計算!$C:$R,学費計算!I$1,0),0)","v":0},{"$f":"IFERROR(VLOOKUP($C19,学費計算!$C:$R,学費計算!J$1,0),0)","v":0},{"$f":"IFERROR(VLOOKUP($C19,学費計算!$C:$R,学費計算!K$1,0),0)","v":0},null,0,0,{"$f":"IF(AND($C19>=0,$C19<=入力!$S$36),AE$1,0)","v":0},null,null,null,null,null,0,0,0]
[null,33,-86,null,{"$f":"IF(親1!D20<=833.3+42*親1!AS20,IF(AND(C20>=0,C20<=3),1.5*12,IF(AND(C20>3,C20<=15),1*12,0)),IF(AND(C20>=0,C20<=15),0.5*12,0))","v":0},null,null,null,null,0,null,null,{"$f":"IF(AND($C20>=0,$C20<=入力!$S$38),M$1,0)","v":0},{"$f":"IF(AND($C20>=0,$C20<=入力!$S$38),N$1,0)","v":0},{"$f":"IF(AND($C20>=0,$C20<=入力!$S$38),O$1,0)","v":0},{"$f":"IF(AND($C20>=0,$C20<=入力!$S$38),P$1,0)","v":0},{"$f":"IF(AND($C20>=0,$C20<=入力!$S$38),Q$1,0)","v":0},null,null,0,0,null,{"$f":"IF(AND($C20>=10,$C20<=入力!$S$38),W$1,0)","v":0},{"$f":"IFERROR(VLOOKUP($C20,学費計算!$C:$R,学費計算!H$1,0),0)","v":0},{"$f":"IFERROR(VLOOKUP($C20,学費計算!$C:$R,学費計算!I$1,0),0)","v":0},{"$f":"IFERROR(VLOOKUP($C20,学費計算!$C:$R,学費計算!J$1,0),0)","v":0},{"$f":"IFERROR(VLOOKUP($C20,学費計算!$C:$R,学費計算!K$1,0),0)","v":0},null,0,0,{"$f":"IF(AND($C20>=0,$C20<=入力!$S$36),AE$1,0)","v":0},null,null,null,null,null,0,0,0]
[null,34,-85,null,{"$f":"IF(親1!D21<=833.3+42*親1!AS21,IF(AND(C21>=0,C21<=3),1.5*12,IF(AND(C21>3,C21<=15),1*12,0)),IF(AND(C21>=0,C21<=15),0.5*12,0))","v":0},null,null,null,null,0,null,null,{"$f":"IF(AND($C21>=0,$C21<=入力!$S$38),M$1,0)","v":0},{"$f":"IF(AND($C21>=0,$C21<=入力!$S$38),N$1,0)","v":0},{"$f":"IF(AND($C21>=0,$C21<=入力!$S$38),O$1,0)","v":0},{"$f":"IF(AND($C21>=0,$C21<=入力!$S$38),P$1,0)","v":0},{"$f":"IF(AND($C21>=0,$C21<=入力!$S$38),Q$1,0)","v":0},null,null,0,0,null,{"$f":"IF(AND($C21>=10,$C21<=入力!$S$38),W$1,0)","v":0},{"$f":"IFERROR(VLOOKUP($C21,学費計算!$C:$R,学費計算!H$1,0),0)","v":0},{"$f":"IFERROR(VLOOKUP($C21,学費計算!$C:$R,学費計算!I$1,0),0)","v":0},{"$f":"IFERROR(VLOOKUP($C21,学費計算!$C:$R,学費計算!J$1,0),0)","v":0},{"$f":"IFERROR(VLOOKUP($C21,学費計算!$C:$R,学費計算!K$1,0),0)","v":0},null,0,0,{"$f":"IF(AND($C21>=0,$C21<=入力!$S$36),AE$1,0)","v":0},null,null,null,null,null,0,0,0]
[null,35,-84,null,{"$f":"IF(親1!D22<=833.3+42*親1!AS22,IF(AND(C22>=0,C22<=3),1.5*12,IF(AND(C22>3,C22<=15),1*12,0)),IF(AND(C22>=0,C22<=15),0.5*12,0))","v":0},null,null,null,null,0,null,null,{"$f":"IF(AND($C22>=0,$C22<=入力!$S$38),M$1,0)","v":0},{"$f":"IF(AND($C22>=0,$C22<=入力!$S$38),N$1,0)","v":0},{"$f":"IF(AND($C22>=0,$C22<=入力!$S$38),O$1,0)","v":0},{"$f":"IF(AND($C22>=0,$C22<=入力!$S$38),P$1,0)","v":0},{"$f":"IF(AND($C22>=0,$C22<=入力!$S$38),Q$1,0)","v":0},null,null,0,0,null,{"$f":"IF(AND($C22>=10,$C22<=入力!$S$38),W$1,0)","v":0},{"$f":"IFERROR(VLOOKUP($C22,学費計算!$C:$R,学費計算!H$1,0),0)","v":0},{"$f":"IFERROR(VLOOKUP($C22,学費計算!$C:$R,学費計算!I$1,0),0)","v":0},{"$f":"IFERROR(VLOOKUP($C22,学費計算!$C:$R,学費計算!J$1,0),0)","v":0},{"$f":"IFERROR(VLOOKUP($C22,学費計算!$C:$R,学費計算!K$1,0),0)","v":0},null,0,0,{"$f":"IF(AND($C22>=0,$C22<=入力!$S$36),AE$1,0)","v":0},null,null,null,null,null,0,0,0]
[null,36,-83,null,{"$f":"IF(親1!D23<=833.3+42*親1!AS23,IF(AND(C23>=0,C23<=3),1.5*12,IF(AND(C23>3,C23<=15),1*12,0)),IF(AND(C23>=0,C23<=15),0.5*12,0))","v":0},null,null,null,null,0,null,null,{"$f":"IF(AND($C23>=0,$C23<=入力!$S$38),M$1,0)","v":0},{"$f":"IF(AND($C23>=0,$C23<=入力!$S$38),N$1,0)","v":0},{"$f":"IF(AND($C23>=0,$C23<=入力!$S$38),O$1,0)","v":0},{"$f":"IF(AND($C23>=0,$C23<=入力!$S$38),P$1,0)","v":0},{"$f":"IF(AND($C23>=0,$C23<=入力!$S$38),Q$1,0)","v":0},null,null,0,0,null,{"$f":"IF(AND($C23>=10,$C23<=入力!$S$38),W$1,0)","v":0},{"$f":"IFERROR(VLOOKUP($C23,学費計算!$C:$R,学費計算!H$1,0),0)","v":0},{"$f":"IFERROR(VLOOKUP($C23,学費計算!$C:$R,学費計算!I$1,0),0)","v":0},{"$f":"IFERROR(VLOOKUP($C23,学費計算!$C:$R,学費計算!J$1,0),0)","v":0},{"$f":"IFERROR(VLOOKUP($C23,学費計算!$C:$R,学費計算!K$1,0),0)","v":0},null,0,0,{"$f":"IF(AND($C23>=0,$C23<=入力!$S$36),AE$1,0)","v":0},null,null,null,null,null,0,0,0]
[null,37,-82,null,{"$f":"IF(親1!D24<=833.3+42*親1!AS24,IF(AND(C24>=0,C24<=3),1.5*12,IF(AND(C24>3,C24<=15),1*12,0)),IF(AND(C24>=0,C24<=15),0.5*12,0))","v":0},null,null,null,null,0,null,null,{"$f":"IF(AND($C24>=0,$C24<=入力!$S$38),M$1,0)","v":0},{"$f":"IF(AND($C24>=0,$C24<=入力!$S$38),N$1,0)","v":0},{"$f":"IF(AND($C24>=0,$C24<=入力!$S$38),O$1,0)","v":0},{"$f":"IF(AND($C24>=0,$C24<=入力!$S$38),P$1,0)","v":0},{"$f":"IF(AND($C24>=0,$C24<=入力!$S$38),Q$1,0)","v":0},null,null,0,0,null,{"$f":"IF(AND($C24>=10,$C24<=入力!$S$38),W$1,0)","v":0},{"$f":"IFERROR(VLOOKUP($C24,学費計算!$C:$R,学費計算!H$1,0),0)","v":0},{"$f":"IFERROR(VLOOKUP($C24,学費計算!$C:$R,学費計算!I$1,0),0)","v":0},{"$f":"IFERROR(VLOOKUP($C24,学費計算!$C:$R,学費計算!J$1,0),0)","v":0},{"$f":"IFERROR(VLOOKUP($C24,学費計算!$C:$R,学費計算!K$1,0),0)","v":0},null,0,0,{"$f":"IF(AND($C24>=0,$C24<=入力!$S$36),AE$1,0)","v":0},null,null,null,null,null,0,0,0]
[null,38,-81,null,{"$f":"IF(親1!D25<=833.3+42*親1!AS25,IF(AND(C25>=0,C25<=3),1.5*12,IF(AND(C25>3,C25<=15),1*12,0)),IF(AND(C25>=0,C25<=15),0.5*12,0))","v":0},null,null,null,null,0,null,null,{"$f":"IF(AND($C25>=0,$C25<=入力!$S$38),M$1,0)","v":0},{"$f":"IF(AND($C25>=0,$C25<=入力!$S$38),N$1,0)","v":0},{"$f":"IF(AND($C25>=0,$C25<=入力!$S$38),O$1,0)","v":0},{"$f":"IF(AND($C25>=0,$C25<=入力!$S$38),P$1,0)","v":0},{"$f":"IF(AND($C25>=0,$C25<=入力!$S$38),Q$1,0)","v":0},null,null,0,0,null,{"$f":"IF(AND($C25>=10,$C25<=入力!$S$38),W$1,0)","v":0},{"$f":"IFERROR(VLOOKUP($C25,学費計算!$C:$R,学費計算!H$1,0),0)","v":0},{"$f":"IFERROR(VLOOKUP($C25,学費計算!$C:$R,学費計算!I$1,0),0)","v":0},{"$f":"IFERROR(VLOOKUP($C25,学費計算!$C:$R,学費計算!J$1,0),0)","v":0},{"$f":"IFERROR(VLOOKUP($C25,学費計算!$C:$R,学費計算!K$1,0),0)","v":0},null,0,0,{"$f":"IF(AND($C25>=0,$C25<=入力!$S$36),AE$1,0)","v":0},null,null,null,null,null,0,0,0]
[null,39,-80,null,{"$f":"IF(親1!D26<=833.3+42*親1!AS26,IF(AND(C26>=0,C26<=3),1.5*12,IF(AND(C26>3,C26<=15),1*12,0)),IF(AND(C26>=0,C26<=15),0.5*12,0))","v":0},null,null,null,null,0,null,null,{"$f":"IF(AND($C26>=0,$C26<=入力!$S$38),M$1,0)","v":0},{"$f":"IF(AND($C26>=0,$C26<=入力!$S$38),N$1,0)","v":0},{"$f":"IF(AND($C26>=0,$C26<=入力!$S$38),O$1,0)","v":0},{"$f":"IF(AND($C26>=0,$C26<=入力!$S$38),P$1,0)","v":0},{"$f":"IF(AND($C26>=0,$C26<=入力!$S$38),Q$1,0)","v":0},null,null,0,0,null,{"$f":"IF(AND($C26>=10,$C26<=入力!$S$38),W$1,0)","v":0},{"$f":"IFERROR(VLOOKUP($C26,学費計算!$C:$R,学費計算!H$1,0),0)","v":0},{"$f":"IFERROR(VLOOKUP($C26,学費計算!$C:$R,学費計算!I$1,0),0)","v":0},{"$f":"IFERROR(VLOOKUP($C26,学費計算!$C:$R,学費計算!J$1,0),0)","v":0},{"$f":"IFERROR(VLOOKUP($C26,学費計算!$C:$R,学費計算!K$1,0),0)","v":0},null,0,0,{"$f":"IF(AND($C26>=0,$C26<=入力!$S$36),AE$1,0)","v":0},null,null,null,null,null,0,0,0]
[null,40,-79,null,{"$f":"IF(親1!D27<=833.3+42*親1!AS27,IF(AND(C27>=0,C27<=3),1.5*12,IF(AND(C27>3,C27<=15),1*12,0)),IF(AND(C27>=0,C27<=15),0.5*12,0))","v":0},null,null,null,null,0,null,null,{"$f":"IF(AND($C27>=0,$C27<=入力!$S$38),M$1,0)","v":0},{"$f":"IF(AND($C27>=0,$C27<=入力!$S$38),N$1,0)","v":0},{"$f":"IF(AND($C27>=0,$C27<=入力!$S$38),O$1,0)","v":0},{"$f":"IF(AND($C27>=0,$C27<=入力!$S$38),P$1,0)","v":0},{"$f":"IF(AND($C27>=0,$C27<=入力!$S$38),Q$1,0)","v":0},null,null,0,0,null,{"$f":"IF(AND($C27>=10,$C27<=入力!$S$38),W$1,0)","v":0},{"$f":"IFERROR(VLOOKUP($C27,学費計算!$C:$R,学費計算!H$1,0),0)","v":0},{"$f":"IFERROR(VLOOKUP($C27,学費計算!$C:$R,学費計算!I$1,0),0)","v":0},{"$f":"IFERROR(VLOOKUP($C27,学費計算!$C:$R,学費計算!J$1,0),0)","v":0},{"$f":"IFERROR(VLOOKUP($C27,学費計算!$C:$R,学費計算!K$1,0),0)","v":0},null,0,0,{"$f":"IF(AND($C27>=0,$C27<=入力!$S$36),AE$1,0)","v":0},null,null,null,null,null,0,0,0]
[null,41,-78,null,{"$f":"IF(親1!D28<=833.3+42*親1!AS28,IF(AND(C28>=0,C28<=3),1.5*12,IF(AND(C28>3,C28<=15),1*12,0)),IF(AND(C28>=0,C28<=15),0.5*12,0))","v":0},null,null,null,null,0,null,null,{"$f":"IF(AND($C28>=0,$C28<=入力!$S$38),M$1,0)","v":0},{"$f":"IF(AND($C28>=0,$C28<=入力!$S$38),N$1,0)","v":0},{"$f":"IF(AND($C28>=0,$C28<=入力!$S$38),O$1,0)","v":0},{"$f":"IF(AND($C28>=0,$C28<=入力!$S$38),P$1,0)","v":0},{"$f":"IF(AND($C28>=0,$C28<=入力!$S$38),Q$1,0)","v":0},null,null,0,0,null,{"$f":"IF(AND($C28>=10,$C28<=入力!$S$38),W$1,0)","v":0},{"$f":"IFERROR(VLOOKUP($C28,学費計算!$C:$R,学費計算!H$1,0),0)","v":0},{"$f":"IFERROR(VLOOKUP($C28,学費計算!$C:$R,学費計算!I$1,0),0)","v":0},{"$f":"IFERROR(VLOOKUP($C28,学費計算!$C:$R,学費計算!J$1,0),0)","v":0},{"$f":"IFERROR(VLOOKUP($C28,学費計算!$C:$R,学費計算!K$1,0),0)","v":0},null,0,0,{"$f":"IF(AND($C28>=0,$C28<=入力!$S$36),AE$1,0)","v":0},null,null,null,null,null,0,0,0]
[null,42,-77,null,{"$f":"IF(親1!D29<=833.3+42*親1!AS29,IF(AND(C29>=0,C29<=3),1.5*12,IF(AND(C29>3,C29<=15),1*12,0)),IF(AND(C29>=0,C29<=15),0.5*12,0))","v":0},null,null,null,null,0,null,null,{"$f":"IF(AND($C29>=0,$C29<=入力!$S$38),M$1,0)","v":0},{"$f":"IF(AND($C29>=0,$C29<=入力!$S$38),N$1,0)","v":0},{"$f":"IF(AND($C29>=0,$C29<=入力!$S$38),O$1,0)","v":0},{"$f":"IF(AND($C29>=0,$C29<=入力!$S$38),P$1,0)","v":0},{"$f":"IF(AND($C29>=0,$C29<=入力!$S$38),Q$1,0)","v":0},null,null,0,0,null,{"$f":"IF(AND($C29>=10,$C29<=入力!$S$38),W$1,0)","v":0},{"$f":"IFERROR(VLOOKUP($C29,学費計算!$C:$R,学費計算!H$1,0),0)","v":0},{"$f":"IFERROR(VLOOKUP($C29,学費計算!$C:$R,学費計算!I$1,0),0)","v":0},{"$f":"IFERROR(VLOOKUP($C29,学費計算!$C:$R,学費計算!J$1,0),0)","v":0},{"$f":"IFERROR(VLOOKUP($C29,学費計算!$C:$R,学費計算!K$1,0),0)","v":0},null,0,0,{"$f":"IF(AND($C29>=0,$C29<=入力!$S$36),AE$1,0)","v":0},null,null,null,null,null,0,0,0]
[null,43,-76,null,{"$f":"IF(親1!D30<=833.3+42*親1!AS30,IF(AND(C30>=0,C30<=3),1.5*12,IF(AND(C30>3,C30<=15),1*12,0)),IF(AND(C30>=0,C30<=15),0.5*12,0))","v":0},null,null,null,null,0,null,null,{"$f":"IF(AND($C30>=0,$C30<=入力!$S$38),M$1,0)","v":0},{"$f":"IF(AND($C30>=0,$C30<=入力!$S$38),N$1,0)","v":0},{"$f":"IF(AND($C30>=0,$C30<=入力!$S$38),O$1,0)","v":0},{"$f":"IF(AND($C30>=0,$C30<=入力!$S$38),P$1,0)","v":0},{"$f":"IF(AND($C30>=0,$C30<=入力!$S$38),Q$1,0)","v":0},null,null,0,0,null,{"$f":"IF(AND($C30>=10,$C30<=入力!$S$38),W$1,0)","v":0},{"$f":"IFERROR(VLOOKUP($C30,学費計算!$C:$R,学費計算!H$1,0),0)","v":0},{"$f":"IFERROR(VLOOKUP($C30,学費計算!$C:$R,学費計算!I$1,0),0)","v":0},{"$f":"IFERROR(VLOOKUP($C30,学費計算!$C:$R,学費計算!J$1,0),0)","v":0},{"$f":"IFERROR(VLOOKUP($C30,学費計算!$C:$R,学費計算!K$1,0),0)","v":0},null,0,0,{"$f":"IF(AND($C30>=0,$C30<=入力!$S$36),AE$1,0)","v":0},null,null,null,null,null,0,0,0]
[null,44,-75,null,{"$f":"IF(親1!D31<=833.3+42*親1!AS31,IF(AND(C31>=0,C31<=3),1.5*12,IF(AND(C31>3,C31<=15),1*12,0)),IF(AND(C31>=0,C31<=15),0.5*12,0))","v":0},null,null,null,null,0,null,null,{"$f":"IF(AND($C31>=0,$C31<=入力!$S$38),M$1,0)","v":0},{"$f":"IF(AND($C31>=0,$C31<=入力!$S$38),N$1,0)","v":0},{"$f":"IF(AND($C31>=0,$C31<=入力!$S$38),O$1,0)","v":0},{"$f":"IF(AND($C31>=0,$C31<=入力!$S$38),P$1,0)","v":0},{"$f":"IF(AND($C31>=0,$C31<=入力!$S$38),Q$1,0)","v":0},null,null,0,0,null,{"$f":"IF(AND($C31>=10,$C31<=入力!$S$38),W$1,0)","v":0},{"$f":"IFERROR(VLOOKUP($C31,学費計算!$C:$R,学費計算!H$1,0),0)","v":0},{"$f":"IFERROR(VLOOKUP($C31,学費計算!$C:$R,学費計算!I$1,0),0)","v":0},{"$f":"IFERROR(VLOOKUP($C31,学費計算!$C:$R,学費計算!J$1,0),0)","v":0},{"$f":"IFERROR(VLOOKUP($C31,学費計算!$C:$R,学費計算!K$1,0),0)","v":0},null,0,0,{"$f":"IF(AND($C31>=0,$C31<=入力!$S$36),AE$1,0)","v":0},null,null,null,null,null,0,0,0]
[null,45,-74,null,{"$f":"IF(親1!D32<=833.3+42*親1!AS32,IF(AND(C32>=0,C32<=3),1.5*12,IF(AND(C32>3,C32<=15),1*12,0)),IF(AND(C32>=0,C32<=15),0.5*12,0))","v":0},null,null,null,null,0,null,null,{"$f":"IF(AND($C32>=0,$C32<=入力!$S$38),M$1,0)","v":0},{"$f":"IF(AND($C32>=0,$C32<=入力!$S$38),N$1,0)","v":0},{"$f":"IF(AND($C32>=0,$C32<=入力!$S$38),O$1,0)","v":0},{"$f":"IF(AND($C32>=0,$C32<=入力!$S$38),P$1,0)","v":0},{"$f":"IF(AND($C32>=0,$C32<=入力!$S$38),Q$1,0)","v":0},null,null,0,0,null,{"$f":"IF(AND($C32>=10,$C32<=入力!$S$38),W$1,0)","v":0},{"$f":"IFERROR(VLOOKUP($C32,学費計算!$C:$R,学費計算!H$1,0),0)","v":0},{"$f":"IFERROR(VLOOKUP($C32,学費計算!$C:$R,学費計算!I$1,0),0)","v":0},{"$f":"IFERROR(VLOOKUP($C32,学費計算!$C:$R,学費計算!J$1,0),0)","v":0},{"$f":"IFERROR(VLOOKUP($C32,学費計算!$C:$R,学費計算!K$1,0),0)","v":0},null,0,0,{"$f":"IF(AND($C32>=0,$C32<=入力!$S$36),AE$1,0)","v":0},null,null,null,null,null,0,0,0]
[null,46,-73,null,{"$f":"IF(親1!D33<=833.3+42*親1!AS33,IF(AND(C33>=0,C33<=3),1.5*12,IF(AND(C33>3,C33<=15),1*12,0)),IF(AND(C33>=0,C33<=15),0.5*12,0))","v":0},null,null,null,null,0,null,null,{"$f":"IF(AND($C33>=0,$C33<=入力!$S$38),M$1,0)","v":0},{"$f":"IF(AND($C33>=0,$C33<=入力!$S$38),N$1,0)","v":0},{"$f":"IF(AND($C33>=0,$C33<=入力!$S$38),O$1,0)","v":0},{"$f":"IF(AND($C33>=0,$C33<=入力!$S$38),P$1,0)","v":0},{"$f":"IF(AND($C33>=0,$C33<=入力!$S$38),Q$1,0)","v":0},null,null,0,0,null,{"$f":"IF(AND($C33>=10,$C33<=入力!$S$38),W$1,0)","v":0},{"$f":"IFERROR(VLOOKUP($C33,学費計算!$C:$R,学費計算!H$1,0),0)","v":0},{"$f":"IFERROR(VLOOKUP($C33,学費計算!$C:$R,学費計算!I$1,0),0)","v":0},{"$f":"IFERROR(VLOOKUP($C33,学費計算!$C:$R,学費計算!J$1,0),0)","v":0},{"$f":"IFERROR(VLOOKUP($C33,学費計算!$C:$R,学費計算!K$1,0),0)","v":0},null,0,0,{"$f":"IF(AND($C33>=0,$C33<=入力!$S$36),AE$1,0)","v":0},null,null,null,null,null,0,0,0]
[null,47,-72,null,{"$f":"IF(親1!D34<=833.3+42*親1!AS34,IF(AND(C34>=0,C34<=3),1.5*12,IF(AND(C34>3,C34<=15),1*12,0)),IF(AND(C34>=0,C34<=15),0.5*12,0))","v":0},null,null,null,null,0,null,null,{"$f":"IF(AND($C34>=0,$C34<=入力!$S$38),M$1,0)","v":0},{"$f":"IF(AND($C34>=0,$C34<=入力!$S$38),N$1,0)","v":0},{"$f":"IF(AND($C34>=0,$C34<=入力!$S$38),O$1,0)","v":0},{"$f":"IF(AND($C34>=0,$C34<=入力!$S$38),P$1,0)","v":0},{"$f":"IF(AND($C34>=0,$C34<=入力!$S$38),Q$1,0)","v":0},null,null,0,0,null,{"$f":"IF(AND($C34>=10,$C34<=入力!$S$38),W$1,0)","v":0},{"$f":"IFERROR(VLOOKUP($C34,学費計算!$C:$R,学費計算!H$1,0),0)","v":0},{"$f":"IFERROR(VLOOKUP($C34,学費計算!$C:$R,学費計算!I$1,0),0)","v":0},{"$f":"IFERROR(VLOOKUP($C34,学費計算!$C:$R,学費計算!J$1,0),0)","v":0},{"$f":"IFERROR(VLOOKUP($C34,学費計算!$C:$R,学費計算!K$1,0),0)","v":0},null,0,0,{"$f":"IF(AND($C34>=0,$C34<=入力!$S$36),AE$1,0)","v":0},null,null,null,null,null,0,0,0]
[null,48,-71,null,{"$f":"IF(親1!D35<=833.3+42*親1!AS35,IF(AND(C35>=0,C35<=3),1.5*12,IF(AND(C35>3,C35<=15),1*12,0)),IF(AND(C35>=0,C35<=15),0.5*12,0))","v":0},null,null,null,null,0,null,null,{"$f":"IF(AND($C35>=0,$C35<=入力!$S$38),M$1,0)","v":0},{"$f":"IF(AND($C35>=0,$C35<=入力!$S$38),N$1,0)","v":0},{"$f":"IF(AND($C35>=0,$C35<=入力!$S$38),O$1,0)","v":0},{"$f":"IF(AND($C35>=0,$C35<=入力!$S$38),P$1,0)","v":0},{"$f":"IF(AND($C35>=0,$C35<=入力!$S$38),Q$1,0)","v":0},null,null,0,0,null,{"$f":"IF(AND($C35>=10,$C35<=入力!$S$38),W$1,0)","v":0},{"$f":"IFERROR(VLOOKUP($C35,学費計算!$C:$R,学費計算!H$1,0),0)","v":0},{"$f":"IFERROR(VLOOKUP($C35,学費計算!$C:$R,学費計算!I$1,0),0)","v":0},{"$f":"IFERROR(VLOOKUP($C35,学費計算!$C:$R,学費計算!J$1,0),0)","v":0},{"$f":"IFERROR(VLOOKUP($C35,学費計算!$C:$R,学費計算!K$1,0),0)","v":0},null,0,0,{"$f":"IF(AND($C35>=0,$C35<=入力!$S$36),AE$1,0)","v":0},null,null,null,null,null,0,0,0]
[null,49,-70,null,{"$f":"IF(親1!D36<=833.3+42*親1!AS36,IF(AND(C36>=0,C36<=3),1.5*12,IF(AND(C36>3,C36<=15),1*12,0)),IF(AND(C36>=0,C36<=15),0.5*12,0))","v":0},null,null,null,null,0,null,null,{"$f":"IF(AND($C36>=0,$C36<=入力!$S$38),M$1,0)","v":0},{"$f":"IF(AND($C36>=0,$C36<=入力!$S$38),N$1,0)","v":0},{"$f":"IF(AND($C36>=0,$C36<=入力!$S$38),O$1,0)","v":0},{"$f":"IF(AND($C36>=0,$C36<=入力!$S$38),P$1,0)","v":0},{"$f":"IF(AND($C36>=0,$C36<=入力!$S$38),Q$1,0)","v":0},null,null,0,0,null,{"$f":"IF(AND($C36>=10,$C36<=入力!$S$38),W$1,0)","v":0},{"$f":"IFERROR(VLOOKUP($C36,学費計算!$C:$R,学費計算!H$1,0),0)","v":0},{"$f":"IFERROR(VLOOKUP($C36,学費計算!$C:$R,学費計算!I$1,0),0)","v":0},{"$f":"IFERROR(VLOOKUP($C36,学費計算!$C:$R,学費計算!J$1,0),0)","v":0},{"$f":"IFERROR(VLOOKUP($C36,学費計算!$C:$R,学費計算!K$1,0),0)","v":0},null,0,0,{"$f":"IF(AND($C36>=0,$C36<=入力!$S$36),AE$1,0)","v":0},null,null,null,null,null,0,0,0]
[null,50,-69,null,{"$f":"IF(親1!D37<=833.3+42*親1!AS37,IF(AND(C37>=0,C37<=3),1.5*12,IF(AND(C37>3,C37<=15),1*12,0)),IF(AND(C37>=0,C37<=15),0.5*12,0))","v":0},null,null,null,null,0,null,null,{"$f":"IF(AND($C37>=0,$C37<=入力!$S$38),M$1,0)","v":0},{"$f":"IF(AND($C37>=0,$C37<=入力!$S$38),N$1,0)","v":0},{"$f":"IF(AND($C37>=0,$C37<=入力!$S$38),O$1,0)","v":0},{"$f":"IF(AND($C37>=0,$C37<=入力!$S$38),P$1,0)","v":0},{"$f":"IF(AND($C37>=0,$C37<=入力!$S$38),Q$1,0)","v":0},null,null,0,0,null,{"$f":"IF(AND($C37>=10,$C37<=入力!$S$38),W$1,0)","v":0},{"$f":"IFERROR(VLOOKUP($C37,学費計算!$C:$R,学費計算!H$1,0),0)","v":0},{"$f":"IFERROR(VLOOKUP($C37,学費計算!$C:$R,学費計算!I$1,0),0)","v":0},{"$f":"IFERROR(VLOOKUP($C37,学費計算!$C:$R,学費計算!J$1,0),0)","v":0},{"$f":"IFERROR(VLOOKUP($C37,学費計算!$C:$R,学費計算!K$1,0),0)","v":0},null,0,0,{"$f":"IF(AND($C37>=0,$C37<=入力!$S$36),AE$1,0)","v":0},null,null,null,null,null,0,0,0]
[null,51,-68,null,{"$f":"IF(親1!D38<=833.3+42*親1!AS38,IF(AND(C38>=0,C38<=3),1.5*12,IF(AND(C38>3,C38<=15),1*12,0)),IF(AND(C38>=0,C38<=15),0.5*12,0))","v":0},null,null,null,null,0,null,null,{"$f":"IF(AND($C38>=0,$C38<=入力!$S$38),M$1,0)","v":0},{"$f":"IF(AND($C38>=0,$C38<=入力!$S$38),N$1,0)","v":0},{"$f":"IF(AND($C38>=0,$C38<=入力!$S$38),O$1,0)","v":0},{"$f":"IF(AND($C38>=0,$C38<=入力!$S$38),P$1,0)","v":0},{"$f":"IF(AND($C38>=0,$C38<=入力!$S$38),Q$1,0)","v":0},null,null,{"$f":"SUM(K38:S38)","v":0},0,null,{"$f":"IF(AND($C38>=10,$C38<=入力!$S$38),W$1,0)","v":0},{"$f":"IFERROR(VLOOKUP($C38,学費計算!$C:$R,学費計算!H$1,0),0)","v":0},{"$f":"IFERROR(VLOOKUP($C38,学費計算!$C:$R,学費計算!I$1,0),0)","v":0},{"$f":"IFERROR(VLOOKUP($C38,学費計算!$C:$R,学費計算!J$1,0),0)","v":0},{"$f":"IFERROR(VLOOKUP($C38,学費計算!$C:$R,学費計算!K$1,0),0)","v":0},null,0,0,{"$f":"IF(AND($C38>=0,$C38<=入力!$S$36),AE$1,0)","v":0},null,null,null,null,null,0,0,{"$f":"AL38+AM37","v":0}]
[null,{"$f":"B38+1","v":52},{"$f":"C38+1","v":-67},null,{"$f":"IF(親1!D39<=833.3+42*親1!AS39,IF(AND(C39>=0,C39<=3),1.5*12,IF(AND(C39>3,C39<=15),1*12,0)),IF(AND(C39>=0,C39<=15),0.5*12,0))","v":0},null,null,null,null,0,null,null,{"$f":"IF(AND($C39>=0,$C39<=入力!$S$38),M$1,0)","v":0},{"$f":"IF(AND($C39>=0,$C39<=入力!$S$38),N$1,0)","v":0},{"$f":"IF(AND($C39>=0,$C39<=入力!$S$38),O$1,0)","v":0},{"$f":"IF(AND($C39>=0,$C39<=入力!$S$38),P$1,0)","v":0},{"$f":"IF(AND($C39>=0,$C39<=入力!$S$38),Q$1,0)","v":0},null,null,0,0,null,{"$f":"IF(AND($C39>=10,$C39<=入力!$S$38),W$1,0)","v":0},{"$f":"IFERROR(VLOOKUP($C39,学費計算!$C:$R,学費計算!H$1,0),0)","v":0},{"$f":"IFERROR(VLOOKUP($C39,学費計算!$C:$R,学費計算!I$1,0),0)","v":0},{"$f":"IFERROR(VLOOKUP($C39,学費計算!$C:$R,学費計算!J$1,0),0)","v":0},{"$f":"IFERROR(VLOOKUP($C39,学費計算!$C:$R,学費計算!K$1,0),0)","v":0},null,0,0,{"$f":"IF(AND($C39>=0,$C39<=入力!$S$36),AE$1,0)","v":0},null,null,null,null,null,0,0,0]
[null,53,-66,null,{"$f":"IF(親1!D40<=833.3+42*親1!AS40,IF(AND(C40>=0,C40<=3),1.5*12,IF(AND(C40>3,C40<=15),1*12,0)),IF(AND(C40>=0,C40<=15),0.5*12,0))","v":0},null,null,null,null,{"$f":"SUM(E40:I40)","v":0},null,null,{"$f":"IF(AND($C40>=0,$C40<=入力!$S$38),M$1,0)","v":0},{"$f":"IF(AND($C40>=0,$C40<=入力!$S$38),N$1,0)","v":0},{"$f":"IF(AND($C40>=0,$C40<=入力!$S$38),O$1,0)","v":0},{"$f":"IF(AND($C40>=0,$C40<=入力!$S$38),P$1,0)","v":0},{"$f":"IF(AND($C40>=0,$C40<=入力!$S$38),Q$1,0)","v":0},null,null,0,0,null,{"$f":"IF(AND($C40>=10,$C40<=入力!$S$38),W$1,0)","v":0},{"$f":"IFERROR(VLOOKUP($C40,学費計算!$C:$R,学費計算!H$1,0),0)","v":0},{"$f":"IFERROR(VLOOKUP($C40,学費計算!$C:$R,学費計算!I$1,0),0)","v":0},{"$f":"IFERROR(VLOOKUP($C40,学費計算!$C:$R,学費計算!J$1,0),0)","v":0},{"$f":"IFERROR(VLOOKUP($C40,学費計算!$C:$R,学費計算!K$1,0),0)","v":0},null,0,0,{"$f":"IF(AND($C40>=0,$C40<=入力!$S$36),AE$1,0)","v":0},null,null,null,null,null,0,0,0]
[null,54,-65,null,{"$f":"IF(親1!D41<=833.3+42*親1!AS41,IF(AND(C41>=0,C41<=3),1.5*12,IF(AND(C41>3,C41<=15),1*12,0)),IF(AND(C41>=0,C41<=15),0.5*12,0))","v":0},null,null,null,null,0,null,null,{"$f":"IF(AND($C41>=0,$C41<=入力!$S$38),M$1,0)","v":0},{"$f":"IF(AND($C41>=0,$C41<=入力!$S$38),N$1,0)","v":0},{"$f":"IF(AND($C41>=0,$C41<=入力!$S$38),O$1,0)","v":0},{"$f":"IF(AND($C41>=0,$C41<=入力!$S$38),P$1,0)","v":0},{"$f":"IF(AND($C41>=0,$C41<=入力!$S$38),Q$1,0)","v":0},null,null,0,0,null,{"$f":"IF(AND($C41>=10,$C41<=入力!$S$38),W$1,0)","v":0},{"$f":"IFERROR(VLOOKUP($C41,学費計算!$C:$R,学費計算!H$1,0),0)","v":0},{"$f":"IFERROR(VLOOKUP($C41,学費計算!$C:$R,学費計算!I$1,0),0)","v":0},{"$f":"IFERROR(VLOOKUP($C41,学費計算!$C:$R,学費計算!J$1,0),0)","v":0},{"$f":"IFERROR(VLOOKUP($C41,学費計算!$C:$R,学費計算!K$1,0),0)","v":0},null,0,0,{"$f":"IF(AND($C41>=0,$C41<=入力!$S$36),AE$1,0)","v":0},null,null,null,null,null,0,0,0]
[null,55,-64,null,{"$f":"IF(親1!D42<=833.3+42*親1!AS42,IF(AND(C42>=0,C42<=3),1.5*12,IF(AND(C42>3,C42<=15),1*12,0)),IF(AND(C42>=0,C42<=15),0.5*12,0))","v":0},null,null,null,null,0,null,null,{"$f":"IF(AND($C42>=0,$C42<=入力!$S$38),M$1,0)","v":0},{"$f":"IF(AND($C42>=0,$C42<=入力!$S$38),N$1,0)","v":0},{"$f":"IF(AND($C42>=0,$C42<=入力!$S$38),O$1,0)","v":0},{"$f":"IF(AND($C42>=0,$C42<=入力!$S$38),P$1,0)","v":0},{"$f":"IF(AND($C42>=0,$C42<=入力!$S$38),Q$1,0)","v":0},null,null,0,0,null,{"$f":"IF(AND($C42>=10,$C42<=入力!$S$38),W$1,0)","v":0},{"$f":"IFERROR(VLOOKUP($C42,学費計算!$C:$R,学費計算!H$1,0),0)","v":0},{"$f":"IFERROR(VLOOKUP($C42,学費計算!$C:$R,学費計算!I$1,0),0)","v":0},{"$f":"IFERROR(VLOOKUP($C42,学費計算!$C:$R,学費計算!J$1,0),0)","v":0},{"$f":"IFERROR(VLOOKUP($C42,学費計算!$C:$R,学費計算!K$1,0),0)","v":0},null,0,0,{"$f":"IF(AND($C42>=0,$C42<=入力!$S$36),AE$1,0)","v":0},null,null,null,null,null,0,0,0]
[null,56,-63,null,{"$f":"IF(親1!D43<=833.3+42*親1!AS43,IF(AND(C43>=0,C43<=3),1.5*12,IF(AND(C43>3,C43<=15),1*12,0)),IF(AND(C43>=0,C43<=15),0.5*12,0))","v":0},null,null,null,null,0,null,null,{"$f":"IF(AND($C43>=0,$C43<=入力!$S$38),M$1,0)","v":0},{"$f":"IF(AND($C43>=0,$C43<=入力!$S$38),N$1,0)","v":0},{"$f":"IF(AND($C43>=0,$C43<=入力!$S$38),O$1,0)","v":0},{"$f":"IF(AND($C43>=0,$C43<=入力!$S$38),P$1,0)","v":0},{"$f":"IF(AND($C43>=0,$C43<=入力!$S$38),Q$1,0)","v":0},null,null,0,0,null,{"$f":"IF(AND($C43>=10,$C43<=入力!$S$38),W$1,0)","v":0},{"$f":"IFERROR(VLOOKUP($C43,学費計算!$C:$R,学費計算!H$1,0),0)","v":0},{"$f":"IFERROR(VLOOKUP($C43,学費計算!$C:$R,学費計算!I$1,0),0)","v":0},{"$f":"IFERROR(VLOOKUP($C43,学費計算!$C:$R,学費計算!J$1,0),0)","v":0},{"$f":"IFERROR(VLOOKUP($C43,学費計算!$C:$R,学費計算!K$1,0),0)","v":0},null,0,0,{"$f":"IF(AND($C43>=0,$C43<=入力!$S$36),AE$1,0)","v":0},null,null,null,null,null,0,0,0]
[null,57,-62,null,{"$f":"IF(親1!D44<=833.3+42*親1!AS44,IF(AND(C44>=0,C44<=3),1.5*12,IF(AND(C44>3,C44<=15),1*12,0)),IF(AND(C44>=0,C44<=15),0.5*12,0))","v":0},null,null,null,null,0,null,null,{"$f":"IF(AND($C44>=0,$C44<=入力!$S$38),M$1,0)","v":0},{"$f":"IF(AND($C44>=0,$C44<=入力!$S$38),N$1,0)","v":0},{"$f":"IF(AND($C44>=0,$C44<=入力!$S$38),O$1,0)","v":0},{"$f":"IF(AND($C44>=0,$C44<=入力!$S$38),P$1,0)","v":0},{"$f":"IF(AND($C44>=0,$C44<=入力!$S$38),Q$1,0)","v":0},null,null,0,0,null,{"$f":"IF(AND($C44>=10,$C44<=入力!$S$38),W$1,0)","v":0},{"$f":"IFERROR(VLOOKUP($C44,学費計算!$C:$R,学費計算!H$1,0),0)","v":0},{"$f":"IFERROR(VLOOKUP($C44,学費計算!$C:$R,学費計算!I$1,0),0)","v":0},{"$f":"IFERROR(VLOOKUP($C44,学費計算!$C:$R,学費計算!J$1,0),0)","v":0},{"$f":"IFERROR(VLOOKUP($C44,学費計算!$C:$R,学費計算!K$1,0),0)","v":0},null,0,0,{"$f":"IF(AND($C44>=0,$C44<=入力!$S$36),AE$1,0)","v":0},null,null,null,null,null,0,0,0]
[null,58,-61,null,{"$f":"IF(親1!D45<=833.3+42*親1!AS45,IF(AND(C45>=0,C45<=3),1.5*12,IF(AND(C45>3,C45<=15),1*12,0)),IF(AND(C45>=0,C45<=15),0.5*12,0))","v":0},null,null,null,null,0,null,null,{"$f":"IF(AND($C45>=0,$C45<=入力!$S$38),M$1,0)","v":0},{"$f":"IF(AND($C45>=0,$C45<=入力!$S$38),N$1,0)","v":0},{"$f":"IF(AND($C45>=0,$C45<=入力!$S$38),O$1,0)","v":0},{"$f":"IF(AND($C45>=0,$C45<=入力!$S$38),P$1,0)","v":0},{"$f":"IF(AND($C45>=0,$C45<=入力!$S$38),Q$1,0)","v":0},null,null,0,0,null,{"$f":"IF(AND($C45>=10,$C45<=入力!$S$38),W$1,0)","v":0},{"$f":"IFERROR(VLOOKUP($C45,学費計算!$C:$R,学費計算!H$1,0),0)","v":0},{"$f":"IFERROR(VLOOKUP($C45,学費計算!$C:$R,学費計算!I$1,0),0)","v":0},{"$f":"IFERROR(VLOOKUP($C45,学費計算!$C:$R,学費計算!J$1,0),0)","v":0},{"$f":"IFERROR(VLOOKUP($C45,学費計算!$C:$R,学費計算!K$1,0),0)","v":0},null,0,0,{"$f":"IF(AND($C45>=0,$C45<=入力!$S$36),AE$1,0)","v":0},null,null,null,null,null,0,0,0]
[null,59,-60,null,{"$f":"IF(親1!D46<=833.3+42*親1!AS46,IF(AND(C46>=0,C46<=3),1.5*12,IF(AND(C46>3,C46<=15),1*12,0)),IF(AND(C46>=0,C46<=15),0.5*12,0))","v":0},null,null,null,null,0,null,null,{"$f":"IF(AND($C46>=0,$C46<=入力!$S$38),M$1,0)","v":0},{"$f":"IF(AND($C46>=0,$C46<=入力!$S$38),N$1,0)","v":0},{"$f":"IF(AND($C46>=0,$C46<=入力!$S$38),O$1,0)","v":0},{"$f":"IF(AND($C46>=0,$C46<=入力!$S$38),P$1,0)","v":0},{"$f":"IF(AND($C46>=0,$C46<=入力!$S$38),Q$1,0)","v":0},null,null,0,0,null,{"$f":"IF(AND($C46>=10,$C46<=入力!$S$38),W$1,0)","v":0},{"$f":"IFERROR(VLOOKUP($C46,学費計算!$C:$R,学費計算!H$1,0),0)","v":0},{"$f":"IFERROR(VLOOKUP($C46,学費計算!$C:$R,学費計算!I$1,0),0)","v":0},{"$f":"IFERROR(VLOOKUP($C46,学費計算!$C:$R,学費計算!J$1,0),0)","v":0},{"$f":"IFERROR(VLOOKUP($C46,学費計算!$C:$R,学費計算!K$1,0),0)","v":0},null,0,0,{"$f":"IF(AND($C46>=0,$C46<=入力!$S$36),AE$1,0)","v":0},null,null,null,null,null,0,0,0]
[null,60,-59,null,{"$f":"IF(親1!D47<=833.3+42*親1!AS47,IF(AND(C47>=0,C47<=3),1.5*12,IF(AND(C47>3,C47<=15),1*12,0)),IF(AND(C47>=0,C47<=15),0.5*12,0))","v":0},null,null,null,null,0,null,null,{"$f":"IF(AND($C47>=0,$C47<=入力!$S$38),M$1,0)","v":0},{"$f":"IF(AND($C47>=0,$C47<=入力!$S$38),N$1,0)","v":0},{"$f":"IF(AND($C47>=0,$C47<=入力!$S$38),O$1,0)","v":0},{"$f":"IF(AND($C47>=0,$C47<=入力!$S$38),P$1,0)","v":0},{"$f":"IF(AND($C47>=0,$C47<=入力!$S$38),Q$1,0)","v":0},null,null,0,0,null,{"$f":"IF(AND($C47>=10,$C47<=入力!$S$38),W$1,0)","v":0},{"$f":"IFERROR(VLOOKUP($C47,学費計算!$C:$R,学費計算!H$1,0),0)","v":0},{"$f":"IFERROR(VLOOKUP($C47,学費計算!$C:$R,学費計算!I$1,0),0)","v":0},{"$f":"IFERROR(VLOOKUP($C47,学費計算!$C:$R,学費計算!J$1,0),0)","v":0},{"$f":"IFERROR(VLOOKUP($C47,学費計算!$C:$R,学費計算!K$1,0),0)","v":0},null,0,0,{"$f":"IF(AND($C47>=0,$C47<=入力!$S$36),AE$1,0)","v":0},null,null,null,null,null,0,0,0]
[null,61,-58,null,{"$f":"IF(親1!D48<=833.3+42*親1!AS48,IF(AND(C48>=0,C48<=3),1.5*12,IF(AND(C48>3,C48<=15),1*12,0)),IF(AND(C48>=0,C48<=15),0.5*12,0))","v":0},null,null,null,null,0,null,null,{"$f":"IF(AND($C48>=0,$C48<=入力!$S$38),M$1,0)","v":0},{"$f":"IF(AND($C48>=0,$C48<=入力!$S$38),N$1,0)","v":0},{"$f":"IF(AND($C48>=0,$C48<=入力!$S$38),O$1,0)","v":0},{"$f":"IF(AND($C48>=0,$C48<=入力!$S$38),P$1,0)","v":0},{"$f":"IF(AND($C48>=0,$C48<=入力!$S$38),Q$1,0)","v":0},null,null,0,0,null,{"$f":"IF(AND($C48>=10,$C48<=入力!$S$38),W$1,0)","v":0},{"$f":"IFERROR(VLOOKUP($C48,学費計算!$C:$R,学費計算!H$1,0),0)","v":0},{"$f":"IFERROR(VLOOKUP($C48,学費計算!$C:$R,学費計算!I$1,0),0)","v":0},{"$f":"IFERROR(VLOOKUP($C48,学費計算!$C:$R,学費計算!J$1,0),0)","v":0},{"$f":"IFERROR(VLOOKUP($C48,学費計算!$C:$R,学費計算!K$1,0),0)","v":0},null,0,0,{"$f":"IF(AND($C48>=0,$C48<=入力!$S$36),AE$1,0)","v":0},null,null,null,null,null,0,0,0]
[null,62,-57,null,{"$f":"IF(親1!D49<=833.3+42*親1!AS49,IF(AND(C49>=0,C49<=3),1.5*12,IF(AND(C49>3,C49<=15),1*12,0)),IF(AND(C49>=0,C49<=15),0.5*12,0))","v":0},null,null,null,null,0,null,null,{"$f":"IF(AND($C49>=0,$C49<=入力!$S$38),M$1,0)","v":0},{"$f":"IF(AND($C49>=0,$C49<=入力!$S$38),N$1,0)","v":0},{"$f":"IF(AND($C49>=0,$C49<=入力!$S$38),O$1,0)","v":0},{"$f":"IF(AND($C49>=0,$C49<=入力!$S$38),P$1,0)","v":0},{"$f":"IF(AND($C49>=0,$C49<=入力!$S$38),Q$1,0)","v":0},null,null,0,0,null,{"$f":"IF(AND($C49>=10,$C49<=入力!$S$38),W$1,0)","v":0},{"$f":"IFERROR(VLOOKUP($C49,学費計算!$C:$R,学費計算!H$1,0),0)","v":0},{"$f":"IFERROR(VLOOKUP($C49,学費計算!$C:$R,学費計算!I$1,0),0)","v":0},{"$f":"IFERROR(VLOOKUP($C49,学費計算!$C:$R,学費計算!J$1,0),0)","v":0},{"$f":"IFERROR(VLOOKUP($C49,学費計算!$C:$R,学費計算!K$1,0),0)","v":0},null,0,0,{"$f":"IF(AND($C49>=0,$C49<=入力!$S$36),AE$1,0)","v":0},null,null,null,null,null,0,0,0]
[null,63,-56,null,{"$f":"IF(親1!D50<=833.3+42*親1!AS50,IF(AND(C50>=0,C50<=3),1.5*12,IF(AND(C50>3,C50<=15),1*12,0)),IF(AND(C50>=0,C50<=15),0.5*12,0))","v":0},null,null,null,null,0,null,null,{"$f":"IF(AND($C50>=0,$C50<=入力!$S$38),M$1,0)","v":0},{"$f":"IF(AND($C50>=0,$C50<=入力!$S$38),N$1,0)","v":0},{"$f":"IF(AND($C50>=0,$C50<=入力!$S$38),O$1,0)","v":0},{"$f":"IF(AND($C50>=0,$C50<=入力!$S$38),P$1,0)","v":0},{"$f":"IF(AND($C50>=0,$C50<=入力!$S$38),Q$1,0)","v":0},null,null,0,0,null,{"$f":"IF(AND($C50>=10,$C50<=入力!$S$38),W$1,0)","v":0},{"$f":"IFERROR(VLOOKUP($C50,学費計算!$C:$R,学費計算!H$1,0),0)","v":0},{"$f":"IFERROR(VLOOKUP($C50,学費計算!$C:$R,学費計算!I$1,0),0)","v":0},{"$f":"IFERROR(VLOOKUP($C50,学費計算!$C:$R,学費計算!J$1,0),0)","v":0},{"$f":"IFERROR(VLOOKUP($C50,学費計算!$C:$R,学費計算!K$1,0),0)","v":0},null,0,0,{"$f":"IF(AND($C50>=0,$C50<=入力!$S$36),AE$1,0)","v":0},null,null,null,null,null,0,0,0]
[null,64,-55,null,{"$f":"IF(親1!D51<=833.3+42*親1!AS51,IF(AND(C51>=0,C51<=3),1.5*12,IF(AND(C51>3,C51<=15),1*12,0)),IF(AND(C51>=0,C51<=15),0.5*12,0))","v":0},null,null,null,null,0,null,null,{"$f":"IF(AND($C51>=0,$C51<=入力!$S$38),M$1,0)","v":0},{"$f":"IF(AND($C51>=0,$C51<=入力!$S$38),N$1,0)","v":0},{"$f":"IF(AND($C51>=0,$C51<=入力!$S$38),O$1,0)","v":0},{"$f":"IF(AND($C51>=0,$C51<=入力!$S$38),P$1,0)","v":0},{"$f":"IF(AND($C51>=0,$C51<=入力!$S$38),Q$1,0)","v":0},null,null,0,0,null,{"$f":"IF(AND($C51>=10,$C51<=入力!$S$38),W$1,0)","v":0},{"$f":"IFERROR(VLOOKUP($C51,学費計算!$C:$R,学費計算!H$1,0),0)","v":0},{"$f":"IFERROR(VLOOKUP($C51,学費計算!$C:$R,学費計算!I$1,0),0)","v":0},{"$f":"IFERROR(VLOOKUP($C51,学費計算!$C:$R,学費計算!J$1,0),0)","v":0},{"$f":"IFERROR(VLOOKUP($C51,学費計算!$C:$R,学費計算!K$1,0),0)","v":0},null,0,0,{"$f":"IF(AND($C51>=0,$C51<=入力!$S$36),AE$1,0)","v":0},null,null,null,null,null,0,0,0]
[null,65,-54,null,{"$f":"IF(親1!D52<=833.3+42*親1!AS52,IF(AND(C52>=0,C52<=3),1.5*12,IF(AND(C52>3,C52<=15),1*12,0)),IF(AND(C52>=0,C52<=15),0.5*12,0))","v":0},null,null,null,null,0,null,null,{"$f":"IF(AND($C52>=0,$C52<=入力!$S$38),M$1,0)","v":0},{"$f":"IF(AND($C52>=0,$C52<=入力!$S$38),N$1,0)","v":0},{"$f":"IF(AND($C52>=0,$C52<=入力!$S$38),O$1,0)","v":0},{"$f":"IF(AND($C52>=0,$C52<=入力!$S$38),P$1,0)","v":0},{"$f":"IF(AND($C52>=0,$C52<=入力!$S$38),Q$1,0)","v":0},null,null,0,0,null,{"$f":"IF(AND($C52>=10,$C52<=入力!$S$38),W$1,0)","v":0},{"$f":"IFERROR(VLOOKUP($C52,学費計算!$C:$R,学費計算!H$1,0),0)","v":0},{"$f":"IFERROR(VLOOKUP($C52,学費計算!$C:$R,学費計算!I$1,0),0)","v":0},{"$f":"IFERROR(VLOOKUP($C52,学費計算!$C:$R,学費計算!J$1,0),0)","v":0},{"$f":"IFERROR(VLOOKUP($C52,学費計算!$C:$R,学費計算!K$1,0),0)","v":0},null,0,0,{"$f":"IF(AND($C52>=0,$C52<=入力!$S$36),AE$1,0)","v":0},null,null,null,null,null,0,0,0]
[null,66,-53,null,{"$f":"IF(親1!D53<=833.3+42*親1!AS53,IF(AND(C53>=0,C53<=3),1.5*12,IF(AND(C53>3,C53<=15),1*12,0)),IF(AND(C53>=0,C53<=15),0.5*12,0))","v":0},null,null,null,null,0,null,null,{"$f":"IF(AND($C53>=0,$C53<=入力!$S$38),M$1,0)","v":0},{"$f":"IF(AND($C53>=0,$C53<=入力!$S$38),N$1,0)","v":0},{"$f":"IF(AND($C53>=0,$C53<=入力!$S$38),O$1,0)","v":0},{"$f":"IF(AND($C53>=0,$C53<=入力!$S$38),P$1,0)","v":0},{"$f":"IF(AND($C53>=0,$C53<=入力!$S$38),Q$1,0)","v":0},null,null,0,0,null,{"$f":"IF(AND($C53>=10,$C53<=入力!$S$38),W$1,0)","v":0},{"$f":"IFERROR(VLOOKUP($C53,学費計算!$C:$R,学費計算!H$1,0),0)","v":0},{"$f":"IFERROR(VLOOKUP($C53,学費計算!$C:$R,学費計算!I$1,0),0)","v":0},{"$f":"IFERROR(VLOOKUP($C53,学費計算!$C:$R,学費計算!J$1,0),0)","v":0},{"$f":"IFERROR(VLOOKUP($C53,学費計算!$C:$R,学費計算!K$1,0),0)","v":0},null,0,0,{"$f":"IF(AND($C53>=0,$C53<=入力!$S$36),AE$1,0)","v":0},null,null,null,null,null,0,0,0]
[null,67,-52,null,{"$f":"IF(親1!D54<=833.3+42*親1!AS54,IF(AND(C54>=0,C54<=3),1.5*12,IF(AND(C54>3,C54<=15),1*12,0)),IF(AND(C54>=0,C54<=15),0.5*12,0))","v":0},null,null,null,null,0,null,null,{"$f":"IF(AND($C54>=0,$C54<=入力!$S$38),M$1,0)","v":0},{"$f":"IF(AND($C54>=0,$C54<=入力!$S$38),N$1,0)","v":0},{"$f":"IF(AND($C54>=0,$C54<=入力!$S$38),O$1,0)","v":0},{"$f":"IF(AND($C54>=0,$C54<=入力!$S$38),P$1,0)","v":0},{"$f":"IF(AND($C54>=0,$C54<=入力!$S$38),Q$1,0)","v":0},null,null,0,0,null,{"$f":"IF(AND($C54>=10,$C54<=入力!$S$38),W$1,0)","v":0},{"$f":"IFERROR(VLOOKUP($C54,学費計算!$C:$R,学費計算!H$1,0),0)","v":0},{"$f":"IFERROR(VLOOKUP($C54,学費計算!$C:$R,学費計算!I$1,0),0)","v":0},{"$f":"IFERROR(VLOOKUP($C54,学費計算!$C:$R,学費計算!J$1,0),0)","v":0},{"$f":"IFERROR(VLOOKUP($C54,学費計算!$C:$R,学費計算!K$1,0),0)","v":0},null,0,0,{"$f":"IF(AND($C54>=0,$C54<=入力!$S$36),AE$1,0)","v":0},null,null,null,null,null,0,0,0]
[null,68,-51,null,{"$f":"IF(親1!D55<=833.3+42*親1!AS55,IF(AND(C55>=0,C55<=3),1.5*12,IF(AND(C55>3,C55<=15),1*12,0)),IF(AND(C55>=0,C55<=15),0.5*12,0))","v":0},null,null,null,null,0,null,null,{"$f":"IF(AND($C55>=0,$C55<=入力!$S$38),M$1,0)","v":0},{"$f":"IF(AND($C55>=0,$C55<=入力!$S$38),N$1,0)","v":0},{"$f":"IF(AND($C55>=0,$C55<=入力!$S$38),O$1,0)","v":0},{"$f":"IF(AND($C55>=0,$C55<=入力!$S$38),P$1,0)","v":0},{"$f":"IF(AND($C55>=0,$C55<=入力!$S$38),Q$1,0)","v":0},null,null,0,0,null,{"$f":"IF(AND($C55>=10,$C55<=入力!$S$38),W$1,0)","v":0},{"$f":"IFERROR(VLOOKUP($C55,学費計算!$C:$R,学費計算!H$1,0),0)","v":0},{"$f":"IFERROR(VLOOKUP($C55,学費計算!$C:$R,学費計算!I$1,0),0)","v":0},{"$f":"IFERROR(VLOOKUP($C55,学費計算!$C:$R,学費計算!J$1,0),0)","v":0},{"$f":"IFERROR(VLOOKUP($C55,学費計算!$C:$R,学費計算!K$1,0),0)","v":0},null,0,0,{"$f":"IF(AND($C55>=0,$C55<=入力!$S$36),AE$1,0)","v":0},null,null,null,null,null,0,0,0]
[null,69,-50,null,{"$f":"IF(親1!D56<=833.3+42*親1!AS56,IF(AND(C56>=0,C56<=3),1.5*12,IF(AND(C56>3,C56<=15),1*12,0)),IF(AND(C56>=0,C56<=15),0.5*12,0))","v":0},null,null,null,null,0,null,null,{"$f":"IF(AND($C56>=0,$C56<=入力!$S$38),M$1,0)","v":0},{"$f":"IF(AND($C56>=0,$C56<=入力!$S$38),N$1,0)","v":0},{"$f":"IF(AND($C56>=0,$C56<=入力!$S$38),O$1,0)","v":0},{"$f":"IF(AND($C56>=0,$C56<=入力!$S$38),P$1,0)","v":0},{"$f":"IF(AND($C56>=0,$C56<=入力!$S$38),Q$1,0)","v":0},null,null,0,0,null,{"$f":"IF(AND($C56>=10,$C56<=入力!$S$38),W$1,0)","v":0},{"$f":"IFERROR(VLOOKUP($C56,学費計算!$C:$R,学費計算!H$1,0),0)","v":0},{"$f":"IFERROR(VLOOKUP($C56,学費計算!$C:$R,学費計算!I$1,0),0)","v":0},{"$f":"IFERROR(VLOOKUP($C56,学費計算!$C:$R,学費計算!J$1,0),0)","v":0},{"$f":"IFERROR(VLOOKUP($C56,学費計算!$C:$R,学費計算!K$1,0),0)","v":0},null,0,0,{"$f":"IF(AND($C56>=0,$C56<=入力!$S$36),AE$1,0)","v":0},null,null,null,null,null,0,0,0]
[null,70,-49,null,{"$f":"IF(親1!D57<=833.3+42*親1!AS57,IF(AND(C57>=0,C57<=3),1.5*12,IF(AND(C57>3,C57<=15),1*12,0)),IF(AND(C57>=0,C57<=15),0.5*12,0))","v":0},null,null,null,null,0,null,null,{"$f":"IF(AND($C57>=0,$C57<=入力!$S$38),M$1,0)","v":0},{"$f":"IF(AND($C57>=0,$C57<=入力!$S$38),N$1,0)","v":0},{"$f":"IF(AND($C57>=0,$C57<=入力!$S$38),O$1,0)","v":0},{"$f":"IF(AND($C57>=0,$C57<=入力!$S$38),P$1,0)","v":0},{"$f":"IF(AND($C57>=0,$C57<=入力!$S$38),Q$1,0)","v":0},null,null,0,0,null,{"$f":"IF(AND($C57>=10,$C57<=入力!$S$38),W$1,0)","v":0},{"$f":"IFERROR(VLOOKUP($C57,学費計算!$C:$R,学費計算!H$1,0),0)","v":0},{"$f":"IFERROR(VLOOKUP($C57,学費計算!$C:$R,学費計算!I$1,0),0)","v":0},{"$f":"IFERROR(VLOOKUP($C57,学費計算!$C:$R,学費計算!J$1,0),0)","v":0},{"$f":"IFERROR(VLOOKUP($C57,学費計算!$C:$R,学費計算!K$1,0),0)","v":0},null,0,0,{"$f":"IF(AND($C57>=0,$C57<=入力!$S$36),AE$1,0)","v":0},null,null,null,null,null,0,0,0]
[null,71,-48,null,{"$f":"IF(親1!D58<=833.3+42*親1!AS58,IF(AND(C58>=0,C58<=3),1.5*12,IF(AND(C58>3,C58<=15),1*12,0)),IF(AND(C58>=0,C58<=15),0.5*12,0))","v":0},null,null,null,null,0,null,null,{"$f":"IF(AND($C58>=0,$C58<=入力!$S$38),M$1,0)","v":0},{"$f":"IF(AND($C58>=0,$C58<=入力!$S$38),N$1,0)","v":0},{"$f":"IF(AND($C58>=0,$C58<=入力!$S$38),O$1,0)","v":0},{"$f":"IF(AND($C58>=0,$C58<=入力!$S$38),P$1,0)","v":0},{"$f":"IF(AND($C58>=0,$C58<=入力!$S$38),Q$1,0)","v":0},null,null,0,0,null,{"$f":"IF(AND($C58>=10,$C58<=入力!$S$38),W$1,0)","v":0},{"$f":"IFERROR(VLOOKUP($C58,学費計算!$C:$R,学費計算!H$1,0),0)","v":0},{"$f":"IFERROR(VLOOKUP($C58,学費計算!$C:$R,学費計算!I$1,0),0)","v":0},{"$f":"IFERROR(VLOOKUP($C58,学費計算!$C:$R,学費計算!J$1,0),0)","v":0},{"$f":"IFERROR(VLOOKUP($C58,学費計算!$C:$R,学費計算!K$1,0),0)","v":0},null,0,0,{"$f":"IF(AND($C58>=0,$C58<=入力!$S$36),AE$1,0)","v":0},null,null,null,null,null,0,0,0]
[null,72,-47,null,{"$f":"IF(親1!D59<=833.3+42*親1!AS59,IF(AND(C59>=0,C59<=3),1.5*12,IF(AND(C59>3,C59<=15),1*12,0)),IF(AND(C59>=0,C59<=15),0.5*12,0))","v":0},null,null,null,null,0,null,null,{"$f":"IF(AND($C59>=0,$C59<=入力!$S$38),M$1,0)","v":0},{"$f":"IF(AND($C59>=0,$C59<=入力!$S$38),N$1,0)","v":0},{"$f":"IF(AND($C59>=0,$C59<=入力!$S$38),O$1,0)","v":0},{"$f":"IF(AND($C59>=0,$C59<=入力!$S$38),P$1,0)","v":0},{"$f":"IF(AND($C59>=0,$C59<=入力!$S$38),Q$1,0)","v":0},null,null,0,0,null,{"$f":"IF(AND($C59>=10,$C59<=入力!$S$38),W$1,0)","v":0},{"$f":"IFERROR(VLOOKUP($C59,学費計算!$C:$R,学費計算!H$1,0),0)","v":0},{"$f":"IFERROR(VLOOKUP($C59,学費計算!$C:$R,学費計算!I$1,0),0)","v":0},{"$f":"IFERROR(VLOOKUP($C59,学費計算!$C:$R,学費計算!J$1,0),0)","v":0},{"$f":"IFERROR(VLOOKUP($C59,学費計算!$C:$R,学費計算!K$1,0),0)","v":0},null,0,0,{"$f":"IF(AND($C59>=0,$C59<=入力!$S$36),AE$1,0)","v":0},null,null,null,null,null,0,0,0]
[null,73,-46,null,{"$f":"IF(親1!D60<=833.3+42*親1!AS60,IF(AND(C60>=0,C60<=3),1.5*12,IF(AND(C60>3,C60<=15),1*12,0)),IF(AND(C60>=0,C60<=15),0.5*12,0))","v":0},null,null,null,null,0,null,null,{"$f":"IF(AND($C60>=0,$C60<=入力!$S$38),M$1,0)","v":0},{"$f":"IF(AND($C60>=0,$C60<=入力!$S$38),N$1,0)","v":0},{"$f":"IF(AND($C60>=0,$C60<=入力!$S$38),O$1,0)","v":0},{"$f":"IF(AND($C60>=0,$C60<=入力!$S$38),P$1,0)","v":0},{"$f":"IF(AND($C60>=0,$C60<=入力!$S$38),Q$1,0)","v":0},null,null,0,0,null,{"$f":"IF(AND($C60>=10,$C60<=入力!$S$38),W$1,0)","v":0},{"$f":"IFERROR(VLOOKUP($C60,学費計算!$C:$R,学費計算!H$1,0),0)","v":0},{"$f":"IFERROR(VLOOKUP($C60,学費計算!$C:$R,学費計算!I$1,0),0)","v":0},{"$f":"IFERROR(VLOOKUP($C60,学費計算!$C:$R,学費計算!J$1,0),0)","v":0},{"$f":"IFERROR(VLOOKUP($C60,学費計算!$C:$R,学費計算!K$1,0),0)","v":0},null,0,0,{"$f":"IF(AND($C60>=0,$C60<=入力!$S$36),AE$1,0)","v":0},null,null,null,null,null,0,0,0]
[null,74,-45,null,{"$f":"IF(親1!D61<=833.3+42*親1!AS61,IF(AND(C61>=0,C61<=3),1.5*12,IF(AND(C61>3,C61<=15),1*12,0)),IF(AND(C61>=0,C61<=15),0.5*12,0))","v":0},null,null,null,null,0,null,null,{"$f":"IF(AND($C61>=0,$C61<=入力!$S$38),M$1,0)","v":0},{"$f":"IF(AND($C61>=0,$C61<=入力!$S$38),N$1,0)","v":0},{"$f":"IF(AND($C61>=0,$C61<=入力!$S$38),O$1,0)","v":0},{"$f":"IF(AND($C61>=0,$C61<=入力!$S$38),P$1,0)","v":0},{"$f":"IF(AND($C61>=0,$C61<=入力!$S$38),Q$1,0)","v":0},null,null,0,0,null,{"$f":"IF(AND($C61>=10,$C61<=入力!$S$38),W$1,0)","v":0},{"$f":"IFERROR(VLOOKUP($C61,学費計算!$C:$R,学費計算!H$1,0),0)","v":0},{"$f":"IFERROR(VLOOKUP($C61,学費計算!$C:$R,学費計算!I$1,0),0)","v":0},{"$f":"IFERROR(VLOOKUP($C61,学費計算!$C:$R,学費計算!J$1,0),0)","v":0},{"$f":"IFERROR(VLOOKUP($C61,学費計算!$C:$R,学費計算!K$1,0),0)","v":0},null,0,0,{"$f":"IF(AND($C61>=0,$C61<=入力!$S$36),AE$1,0)","v":0},null,null,null,null,null,0,0,0]
[null,75,-44,null,{"$f":"IF(親1!D62<=833.3+42*親1!AS62,IF(AND(C62>=0,C62<=3),1.5*12,IF(AND(C62>3,C62<=15),1*12,0)),IF(AND(C62>=0,C62<=15),0.5*12,0))","v":0},null,null,null,null,0,null,null,{"$f":"IF(AND($C62>=0,$C62<=入力!$S$38),M$1,0)","v":0},{"$f":"IF(AND($C62>=0,$C62<=入力!$S$38),N$1,0)","v":0},{"$f":"IF(AND($C62>=0,$C62<=入力!$S$38),O$1,0)","v":0},{"$f":"IF(AND($C62>=0,$C62<=入力!$S$38),P$1,0)","v":0},{"$f":"IF(AND($C62>=0,$C62<=入力!$S$38),Q$1,0)","v":0},null,null,0,0,null,{"$f":"IF(AND($C62>=10,$C62<=入力!$S$38),W$1,0)","v":0},{"$f":"IFERROR(VLOOKUP($C62,学費計算!$C:$R,学費計算!H$1,0),0)","v":0},{"$f":"IFERROR(VLOOKUP($C62,学費計算!$C:$R,学費計算!I$1,0),0)","v":0},{"$f":"IFERROR(VLOOKUP($C62,学費計算!$C:$R,学費計算!J$1,0),0)","v":0},{"$f":"IFERROR(VLOOKUP($C62,学費計算!$C:$R,学費計算!K$1,0),0)","v":0},null,0,0,{"$f":"IF(AND($C62>=0,$C62<=入力!$S$36),AE$1,0)","v":0},null,null,null,null,null,0,0,0]
[null,76,-43,null,{"$f":"IF(親1!D63<=833.3+42*親1!AS63,IF(AND(C63>=0,C63<=3),1.5*12,IF(AND(C63>3,C63<=15),1*12,0)),IF(AND(C63>=0,C63<=15),0.5*12,0))","v":0},null,null,null,null,0,null,null,{"$f":"IF(AND($C63>=0,$C63<=入力!$S$38),M$1,0)","v":0},{"$f":"IF(AND($C63>=0,$C63<=入力!$S$38),N$1,0)","v":0},{"$f":"IF(AND($C63>=0,$C63<=入力!$S$38),O$1,0)","v":0},{"$f":"IF(AND($C63>=0,$C63<=入力!$S$38),P$1,0)","v":0},{"$f":"IF(AND($C63>=0,$C63<=入力!$S$38),Q$1,0)","v":0},null,null,0,0,null,{"$f":"IF(AND($C63>=10,$C63<=入力!$S$38),W$1,0)","v":0},{"$f":"IFERROR(VLOOKUP($C63,学費計算!$C:$R,学費計算!H$1,0),0)","v":0},{"$f":"IFERROR(VLOOKUP($C63,学費計算!$C:$R,学費計算!I$1,0),0)","v":0},{"$f":"IFERROR(VLOOKUP($C63,学費計算!$C:$R,学費計算!J$1,0),0)","v":0},{"$f":"IFERROR(VLOOKUP($C63,学費計算!$C:$R,学費計算!K$1,0),0)","v":0},null,0,0,{"$f":"IF(AND($C63>=0,$C63<=入力!$S$36),AE$1,0)","v":0},null,null,null,null,null,0,0,0]
[null,77,-42,null,{"$f":"IF(親1!D64<=833.3+42*親1!AS64,IF(AND(C64>=0,C64<=3),1.5*12,IF(AND(C64>3,C64<=15),1*12,0)),IF(AND(C64>=0,C64<=15),0.5*12,0))","v":0},null,null,null,null,0,null,null,{"$f":"IF(AND($C64>=0,$C64<=入力!$S$38),M$1,0)","v":0},{"$f":"IF(AND($C64>=0,$C64<=入力!$S$38),N$1,0)","v":0},{"$f":"IF(AND($C64>=0,$C64<=入力!$S$38),O$1,0)","v":0},{"$f":"IF(AND($C64>=0,$C64<=入力!$S$38),P$1,0)","v":0},{"$f":"IF(AND($C64>=0,$C64<=入力!$S$38),Q$1,0)","v":0},null,null,0,0,null,{"$f":"IF(AND($C64>=10,$C64<=入力!$S$38),W$1,0)","v":0},{"$f":"IFERROR(VLOOKUP($C64,学費計算!$C:$R,学費計算!H$1,0),0)","v":0},{"$f":"IFERROR(VLOOKUP($C64,学費計算!$C:$R,学費計算!I$1,0),0)","v":0},{"$f":"IFERROR(VLOOKUP($C64,学費計算!$C:$R,学費計算!J$1,0),0)","v":0},{"$f":"IFERROR(VLOOKUP($C64,学費計算!$C:$R,学費計算!K$1,0),0)","v":0},null,0,0,{"$f":"IF(AND($C64>=0,$C64<=入力!$S$36),AE$1,0)","v":0},null,null,null,null,null,0,0,0]
[null,78,-41,null,{"$f":"IF(親1!D65<=833.3+42*親1!AS65,IF(AND(C65>=0,C65<=3),1.5*12,IF(AND(C65>3,C65<=15),1*12,0)),IF(AND(C65>=0,C65<=15),0.5*12,0))","v":0},null,null,null,null,0,null,null,{"$f":"IF(AND($C65>=0,$C65<=入力!$S$38),M$1,0)","v":0},{"$f":"IF(AND($C65>=0,$C65<=入力!$S$38),N$1,0)","v":0},{"$f":"IF(AND($C65>=0,$C65<=入力!$S$38),O$1,0)","v":0},{"$f":"IF(AND($C65>=0,$C65<=入力!$S$38),P$1,0)","v":0},{"$f":"IF(AND($C65>=0,$C65<=入力!$S$38),Q$1,0)","v":0},null,null,0,0,null,{"$f":"IF(AND($C65>=10,$C65<=入力!$S$38),W$1,0)","v":0},{"$f":"IFERROR(VLOOKUP($C65,学費計算!$C:$R,学費計算!H$1,0),0)","v":0},{"$f":"IFERROR(VLOOKUP($C65,学費計算!$C:$R,学費計算!I$1,0),0)","v":0},{"$f":"IFERROR(VLOOKUP($C65,学費計算!$C:$R,学費計算!J$1,0),0)","v":0},{"$f":"IFERROR(VLOOKUP($C65,学費計算!$C:$R,学費計算!K$1,0),0)","v":0},null,0,0,{"$f":"IF(AND($C65>=0,$C65<=入力!$S$36),AE$1,0)","v":0},null,null,null,null,null,0,0,0]
[null,79,-40,null,{"$f":"IF(親1!D66<=833.3+42*親1!AS66,IF(AND(C66>=0,C66<=3),1.5*12,IF(AND(C66>3,C66<=15),1*12,0)),IF(AND(C66>=0,C66<=15),0.5*12,0))","v":0},null,null,null,null,0,null,null,{"$f":"IF(AND($C66>=0,$C66<=入力!$S$38),M$1,0)","v":0},{"$f":"IF(AND($C66>=0,$C66<=入力!$S$38),N$1,0)","v":0},{"$f":"IF(AND($C66>=0,$C66<=入力!$S$38),O$1,0)","v":0},{"$f":"IF(AND($C66>=0,$C66<=入力!$S$38),P$1,0)","v":0},{"$f":"IF(AND($C66>=0,$C66<=入力!$S$38),Q$1,0)","v":0},null,null,0,0,null,{"$f":"IF(AND($C66>=10,$C66<=入力!$S$38),W$1,0)","v":0},{"$f":"IFERROR(VLOOKUP($C66,学費計算!$C:$R,学費計算!H$1,0),0)","v":0},{"$f":"IFERROR(VLOOKUP($C66,学費計算!$C:$R,学費計算!I$1,0),0)","v":0},{"$f":"IFERROR(VLOOKUP($C66,学費計算!$C:$R,学費計算!J$1,0),0)","v":0},{"$f":"IFERROR(VLOOKUP($C66,学費計算!$C:$R,学費計算!K$1,0),0)","v":0},null,0,0,{"$f":"IF(AND($C66>=0,$C66<=入力!$S$36),AE$1,0)","v":0},null,null,null,null,null,0,0,0]
[null,80,-39,null,{"$f":"IF(親1!D67<=833.3+42*親1!AS67,IF(AND(C67>=0,C67<=3),1.5*12,IF(AND(C67>3,C67<=15),1*12,0)),IF(AND(C67>=0,C67<=15),0.5*12,0))","v":0},null,null,null,null,0,null,null,{"$f":"IF(AND($C67>=0,$C67<=入力!$S$38),M$1,0)","v":0},{"$f":"IF(AND($C67>=0,$C67<=入力!$S$38),N$1,0)","v":0},{"$f":"IF(AND($C67>=0,$C67<=入力!$S$38),O$1,0)","v":0},{"$f":"IF(AND($C67>=0,$C67<=入力!$S$38),P$1,0)","v":0},{"$f":"IF(AND($C67>=0,$C67<=入力!$S$38),Q$1,0)","v":0},null,null,0,0,null,{"$f":"IF(AND($C67>=10,$C67<=入力!$S$38),W$1,0)","v":0},{"$f":"IFERROR(VLOOKUP($C67,学費計算!$C:$R,学費計算!H$1,0),0)","v":0},{"$f":"IFERROR(VLOOKUP($C67,学費計算!$C:$R,学費計算!I$1,0),0)","v":0},{"$f":"IFERROR(VLOOKUP($C67,学費計算!$C:$R,学費計算!J$1,0),0)","v":0},{"$f":"IFERROR(VLOOKUP($C67,学費計算!$C:$R,学費計算!K$1,0),0)","v":0},null,0,0,{"$f":"IF(AND($C67>=0,$C67<=入力!$S$36),AE$1,0)","v":0},null,null,null,null,null,0,0,0]
[null,81,-38,null,{"$f":"IF(親1!D68<=833.3+42*親1!AS68,IF(AND(C68>=0,C68<=3),1.5*12,IF(AND(C68>3,C68<=15),1*12,0)),IF(AND(C68>=0,C68<=15),0.5*12,0))","v":0},null,null,null,null,0,null,null,{"$f":"IF(AND($C68>=0,$C68<=入力!$S$38),M$1,0)","v":0},{"$f":"IF(AND($C68>=0,$C68<=入力!$S$38),N$1,0)","v":0},{"$f":"IF(AND($C68>=0,$C68<=入力!$S$38),O$1,0)","v":0},{"$f":"IF(AND($C68>=0,$C68<=入力!$S$38),P$1,0)","v":0},{"$f":"IF(AND($C68>=0,$C68<=入力!$S$38),Q$1,0)","v":0},null,null,0,0,null,{"$f":"IF(AND($C68>=10,$C68<=入力!$S$38),W$1,0)","v":0},{"$f":"IFERROR(VLOOKUP($C68,学費計算!$C:$R,学費計算!H$1,0),0)","v":0},{"$f":"IFERROR(VLOOKUP($C68,学費計算!$C:$R,学費計算!I$1,0),0)","v":0},{"$f":"IFERROR(VLOOKUP($C68,学費計算!$C:$R,学費計算!J$1,0),0)","v":0},{"$f":"IFERROR(VLOOKUP($C68,学費計算!$C:$R,学費計算!K$1,0),0)","v":0},null,0,0,{"$f":"IF(AND($C68>=0,$C68<=入力!$S$36),AE$1,0)","v":0},null,null,null,null,null,0,0,0]
[null,82,-37,null,{"$f":"IF(親1!D69<=833.3+42*親1!AS69,IF(AND(C69>=0,C69<=3),1.5*12,IF(AND(C69>3,C69<=15),1*12,0)),IF(AND(C69>=0,C69<=15),0.5*12,0))","v":0},null,null,null,null,0,null,null,{"$f":"IF(AND($C69>=0,$C69<=入力!$S$38),M$1,0)","v":0},{"$f":"IF(AND($C69>=0,$C69<=入力!$S$38),N$1,0)","v":0},{"$f":"IF(AND($C69>=0,$C69<=入力!$S$38),O$1,0)","v":0},{"$f":"IF(AND($C69>=0,$C69<=入力!$S$38),P$1,0)","v":0},{"$f":"IF(AND($C69>=0,$C69<=入力!$S$38),Q$1,0)","v":0},null,null,0,0,null,{"$f":"IF(AND($C69>=10,$C69<=入力!$S$38),W$1,0)","v":0},{"$f":"IFERROR(VLOOKUP($C69,学費計算!$C:$R,学費計算!H$1,0),0)","v":0},{"$f":"IFERROR(VLOOKUP($C69,学費計算!$C:$R,学費計算!I$1,0),0)","v":0},{"$f":"IFERROR(VLOOKUP($C69,学費計算!$C:$R,学費計算!J$1,0),0)","v":0},{"$f":"IFERROR(VLOOKUP($C69,学費計算!$C:$R,学費計算!K$1,0),0)","v":0},null,0,0,{"$f":"IF(AND($C69>=0,$C69<=入力!$S$36),AE$1,0)","v":0},null,null,null,null,null,0,0,0]
[null,83,-36,null,{"$f":"IF(親1!D70<=833.3+42*親1!AS70,IF(AND(C70>=0,C70<=3),1.5*12,IF(AND(C70>3,C70<=15),1*12,0)),IF(AND(C70>=0,C70<=15),0.5*12,0))","v":0},null,null,null,null,0,null,null,{"$f":"IF(AND($C70>=0,$C70<=入力!$S$38),M$1,0)","v":0},{"$f":"IF(AND($C70>=0,$C70<=入力!$S$38),N$1,0)","v":0},{"$f":"IF(AND($C70>=0,$C70<=入力!$S$38),O$1,0)","v":0},{"$f":"IF(AND($C70>=0,$C70<=入力!$S$38),P$1,0)","v":0},{"$f":"IF(AND($C70>=0,$C70<=入力!$S$38),Q$1,0)","v":0},null,null,0,{"$f":"J70-T70","v":0},null,{"$f":"IF(AND($C70>=10,$C70<=入力!$S$38),W$1,0)","v":0},{"$f":"IFERROR(VLOOKUP($C70,学費計算!$C:$R,学費計算!H$1,0),0)","v":0},{"$f":"IFERROR(VLOOKUP($C70,学費計算!$C:$R,学費計算!I$1,0),0)","v":0},{"$f":"IFERROR(VLOOKUP($C70,学費計算!$C:$R,学費計算!J$1,0),0)","v":0},{"$f":"IFERROR(VLOOKUP($C70,学費計算!$C:$R,学費計算!K$1,0),0)","v":0},null,{"$f":"SUM(V70:AB70)","v":0},{"$f":"U70-AC70","v":0},{"$f":"IF(AND($C70>=0,$C70<=入力!$S$36),AE$1,0)","v":0},null,null,null,null,null,0,{"$f":"AD70-AK70","v":0},{"$f":"AL70+AM69","v":0}]
[null,null,null,{"$f":"SUM(D6:D70)","v":0},0,0,null,0,0,0,0,0,0,0,0,0,0,null,{"$f":"SUM(S6:S70)","v":0},0,0,0,0,0,0,0,0,0,0,0,0,0,0,0,0,0,0,{"$f":"SUM(AL5:AL70)","v":0}]
[]
[]
[null,null,null,null,null,null,null,null,null,null,null,null,null,null,null,null,null,null,null,null,null,null,null,null,null,{"$f":"SUMIF($C$6:$C$70,\">=18\",Z6:Z70)","v":0},{"$f":"SUMIF($C$6:$C$70,\">=18\",AA6:AA70)","v":0}]

{"sheet":"住居","index":9,"n_rows":71,"n_cols":39,"rows_kept":71,"cut":false,"hidden":false,"merged":[]}
[]
[null,null,null,null,null,null,null,null,null,"収入",null,null,null,null,null,null,null,null,null,null,"収支 小計",null,null,null,null,null,null,null,null,"収支 小計",null,null,null,null,null,null,null,"収支","収支累計"]
[null,null,null,null,null,null,null,null,null,null,null,null,null,null,null,null,null,null,null,"支出1  衣食住",null,null,null,null,null,null,null,null,"支出2  固定費",null,null,null,null,null,null,null,"支出3  衣食住勉"]
[null,"西暦","年齢","年収","手取り","時短等","退職金","年金",null,null,"住居","住居維持費\n(含むローン控除)","食費","服費","電気","ガス","水道","保険",null,null,null,"インターネット","携帯","塾・仕送り","習い事","学費",null,null,null,null,"お小遣い","リフォーム","家具","車1","車2","車維持費","合計"]
[null,"貯金"]
[null,{"$f":"親1!C6","v":24},{"$f":"-入力!$W$19","v":-10},null,null,null,null,null,null,{"$f":"SUM(E6:I6)","v":0},{"$f":"IF($C6=0,入力!$W$27,0)+IF(AND($C6>=0,$C6<=入力!$W$29-1),入力!$W$35,0)+IF($C6<0,VLOOKUP(親1!$C6,入力!$W$11:$Z$16,4,1),0)","v":96},{"$f":"住居計算!D13","v":0},null,null,null,null,null,null,null,{"$f":"SUM(K6:S6)","v":96},{"$f":"J6-T6","v":-96},null,null,null,null,null,null,null,{"$f":"SUM(V6:AB6)","v":0},{"$f":"U6-AC6","v":-96},{"$f":"AE$1","v":0},{"$f":"IF(C6<0,0,\nIF(MOD(C6,MAX(入力!$AI$29,1))=入力!$AI$29-1,入力!$AH$29,0)\n+IF(MOD(C6,MAX(入力!$AI$30,1))=入力!$AI$30-1,入力!$AH$30,0)\n+IF(MOD(C6,MAX(入力!$AI$31,1))=入力!$AI$31-1,入力!$AH$31,0)\n+IF(MOD(C6,MAX(入力!$AI$32,1))=入力!$AI$32-1,入力!$AH$32,0)\n+IF(MOD(C6,MAX(入力!$AI$33,1))=入力!$AI$33-1,入力!$AH$33,0)\n+IF(MOD(C6,MAX(入力!$AI$34,1))=入力!$AI$34-1,入力!$AH$34,0)\n+IF(MOD(C6,MAX(入力!$AI$35,1))=入力!$AI$35-1,入力!$AH$35,0)\n+IF(MOD(C6,MAX(入力!$AI$36,1))=入力!$AI$36-1,入力!$AH$36,0)\n+IF(MOD(C6,MAX(入力!$AI$37,1))=入力!$AI$37-1,入力!$AH$37,0)\n+IF(MOD(C6,MAX(入力!$AI$38,1))=入力!$AI$38-1,入力!$AH$38,0)\n)","v":0},null,null,null,null,{"$f":"SUM(AE6:AJ6)","v":0},{"$f":"AD6-AK6","v":-96},{"$f":"AL6+AM5","v":-96}]
[null,{"$f":"B6+1","v":25},-9,null,null,null,null,null,null,0,{"$f":"IF($C7=0,入力!$W$27,0)+IF(AND($C7>=0,$C7<=入力!$W$29-1),入力!$W$35,0)+IF($C7<0,VLOOKUP(親1!$C7,入力!$W$11:$Z$16,4,1),0)","v":96},{"$f":"住居計算!D14","v":0},null,null,null,null,null,null,null,96,-96,null,null,null,null,null,null,null,0,-96,{"$f":"AE$1","v":0},{"$f":"IF(C7<0,0,\nIF(MOD(C7,MAX(入力!$AI$29,1))=入力!$AI$29-1,入力!$AH$29,0)\n+IF(MOD(C7,MAX(入力!$AI$30,1))=入力!$AI$30-1,入力!$AH$30,0)\n+IF(MOD(C7,MAX(入力!$AI$31,1))=入力!$AI$31-1,入力!$AH$31,0)\n+IF(MOD(C7,MAX(入力!$AI$32,1))=入力!$AI$32-1,入力!$AH$32,0)\n+IF(MOD(C7,MAX(入力!$AI$33,1))=入力!$AI$33-1,入力!$AH$33,0)\n+IF(MOD(C7,MAX(入力!$AI$34,1))=入力!$AI$34-1,入力!$AH$34,0)\n+IF(MOD(C7,MAX(入力!$AI$35,1))=入力!$AI$35-1,入力!$AH$35,0)\n+IF(MOD(C7,MAX(入力!$AI$36,1))=入力!$AI$36-1,入力!$AH$36,0)\n+IF(MOD(C7,MAX(入力!$AI$37,1))=入力!$AI$37-1,入力!$AH$37,0)\n+IF(MOD(C7,MAX(入力!$AI$38,1))=入力!$AI$38-1,入力!$AH$38,0)\n)","v":0},null,null,null,null,{"$f":"SUM(AE7:AJ7)","v":0},-96,-192]
[null,26,-8,null,null,null,null,null,null,0,{"$f":"IF($C8=0,入力!$W$27,0)+IF(AND($C8>=0,$C8<=入力!$W$29-1),入力!$W$35,0)+IF($C8<0,VLOOKUP(親1!$C8,入力!$W$11:$Z$16,4,1),0)","v":96},{"$f":"住居計算!D15","v":0},null,null,null,null,null,null,null,96,-96,null,null,null,null,null,null,null,0,-96,0,{"$f":"IF(C8<0,0,\nIF(MOD(C8,MAX(入力!$AI$29,1))=入力!$AI$29-1,入力!$AH$29,0)\n+IF(MOD(C8,MAX(入力!$AI$30,1))=入力!$AI$30-1,入力!$AH$30,0)\n+IF(MOD(C8,MAX(入力!$AI$31,1))=入力!$AI$31-1,入力!$AH$31,0)\n+IF(MOD(C8,MAX(入力!$AI$32,1))=入力!$AI$32-1,入力!$AH$32,0)\n+IF(MOD(C8,MAX(入力!$AI$33,1))=入力!$AI$33-1,入力!$AH$33,0)\n+IF(MOD(C8,MAX(入力!$AI$34,1))=入力!$AI$34-1,入力!$AH$34,0)\n+IF(MOD(C8,MAX(入力!$AI$35,1))=入力!$AI$35-1,入力!$AH$35,0)\n+IF(MOD(C8,MAX(入力!$AI$36,1))=入力!$AI$36-1,入力!$AH$36,0)\n+IF(MOD(C8,MAX(入力!$AI$37,1))=入力!$AI$37-1,入力!$AH$37,0)\n+IF(MOD(C8,MAX(入力!$AI$38,1))=入力!$AI$38-1,入力!$AH$38,0)\n)","v":0},null,null,null,null,0,-96,-288]
[null,27,-7,null,null,null,null,null,null,0,{"$f":"IF($C9=0,入力!$W$27,0)+IF(AND($C9>=0,$C9<=入力!$W$29-1),入力!$W$35,0)+IF($C9<0,VLOOKUP(親1!$C9,入力!$W$11:$Z$16,4,1),0)","v":96},{"$f":"住居計算!D16","v":0},null,null,null,null,null,null,null,96,-96,null,null,null,null,null,null,null,0,-96,0,{"$f":"IF(C9<0,0,\nIF(MOD(C9,MAX(入力!$AI$29,1))=入力!$AI$29-1,入力!$AH$29,0)\n+IF(MOD(C9,MAX(入力!$AI$30,1))=入力!$AI$30-1,入力!$AH$30,0)\n+IF(MOD(C9,MAX(入力!$AI$31,1))=入力!$AI$31-1,入力!$AH$31,0)\n+IF(MOD(C9,MAX(入力!$AI$32,1))=入力!$AI$32-1,入力!$AH$32,0)\n+IF(MOD(C9,MAX(入力!$AI$33,1))=入力!$AI$33-1,入力!$AH$33,0)\n+IF(MOD(C9,MAX(入力!$AI$34,1))=入力!$AI$34-1,入力!$AH$34,0)\n+IF(MOD(C9,MAX(入力!$AI$35,1))=入力!$AI$35-1,入力!$AH$35,0)\n+IF(MOD(C9,MAX(入力!$AI$36,1))=入力!$AI$36-1,入力!$AH$36,0)\n+IF(MOD(C9,MAX(入力!$AI$37,1))=入力!$AI$37-1,入力!$AH$37,0)\n+IF(MOD(C9,MAX(入力!$AI$38,1))=入力!$AI$38-1,入力!$AH$38,0)\n)","v":0},null,null,null,null,0,-96,-384]
[null,28,-6,null,null,null,null,null,null,0,{"$f":"IF($C10=0,入力!$W$27,0)+IF(AND($C10>=0,$C10<=入力!$W$29-1),入力!$W$35,0)+IF($C10<0,VLOOKUP(親1!$C10,入力!$W$11:$Z$16,4,1),0)","v":96},{"$f":"住居計算!D17","v":0},null,null,null,null,null,null,null,96,-96,null,null,null,null,null,null,null,0,-96,0,{"$f":"IF(C10<0,0,\nIF(MOD(C10,MAX(入力!$AI$29,1))=入力!$AI$29-1,入力!$AH$29,0)\n+IF(MOD(C10,MAX(入力!$AI$30,1))=入力!$AI$30-1,入力!$AH$30,0)\n+IF(MOD(C10,MAX(入力!$AI$31,1))=入力!$AI$31-1,入力!$AH$31,0)\n+IF(MOD(C10,MAX(入力!$AI$32,1))=入力!$AI$32-1,入力!$AH$32,0)\n+IF(MOD(C10,MAX(入力!$AI$33,1))=入力!$AI$33-1,入力!$AH$33,0)\n+IF(MOD(C10,MAX(入力!$AI$34,1))=入力!$AI$34-1,入力!$AH$34,0)\n+IF(MOD(C10,MAX(入力!$AI$35,1))=入力!$AI$35-1,入力!$AH$35,0)\n+IF(MOD(C10,MAX(入力!$AI$36,1))=入力!$AI$36-1,入力!$AH$36,0)\n+IF(MOD(C10,MAX(入力!$AI$37,1))=入力!$AI$37-1,入力!$AH$37,0)\n+IF(MOD(C10,MAX(入力!$AI$38,1))=入力!$AI$38-1,入力!$AH$38,0)\n)","v":0},null,null,null,null,0,-96,-480]
[null,29,-5,null,null,null,null,null,null,0,{"$f":"IF($C11=0,入力!$W$27,0)+IF(AND($C11>=0,$C11<=入力!$W$29-1),入力!$W$35,0)+IF($C11<0,VLOOKUP(親1!$C11,入力!$W$11:$Z$16,4,1),0)","v":96},{"$f":"住居計算!D18","v":0},null,null,null,null,null,null,null,96,-96,null,null,null,null,null,null,null,0,-96,0,{"$f":"IF(C11<0,0,\nIF(MOD(C11,MAX(入力!$AI$29,1))=入力!$AI$29-1,入力!$AH$29,0)\n+IF(MOD(C11,MAX(入力!$AI$30,1))=入力!$AI$30-1,入力!$AH$30,0)\n+IF(MOD(C11,MAX(入力!$AI$31,1))=入力!$AI$31-1,入力!$AH$31,0)\n+IF(MOD(C11,MAX(入力!$AI$32,1))=入力!$AI$32-1,入力!$AH$32,0)\n+IF(MOD(C11,MAX(入力!$AI$33,1))=入力!$AI$33-1,入力!$AH$33,0)\n+IF(MOD(C11,MAX(入力!$AI$34,1))=入力!$AI$34-1,入力!$AH$34,0)\n+IF(MOD(C11,MAX(入力!$AI$35,1))=入力!$AI$35-1,入力!$AH$35,0)\n+IF(MOD(C11,MAX(入力!$AI$36,1))=入力!$AI$36-1,入力!$AH$36,0)\n+IF(MOD(C11,MAX(入力!$AI$37,1))=入力!$AI$37-1,入力!$AH$37,0)\n+IF(MOD(C11,MAX(入力!$AI$38,1))=入力!$AI$38-1,入力!$AH$38,0)\n)","v":0},null,null,null,null,0,-96,-576]
[null,30,-4,null,null,null,null,null,null,0,{"$f":"IF($C12=0,入力!$W$27,0)+IF(AND($C12>=0,$C12<=入力!$W$29-1),入力!$W$35,0)+IF($C12<0,VLOOKUP(親1!$C12,入力!$W$11:$Z$16,4,1),0)","v":96},{"$f":"住居計算!D19","v":0},null,null,null,null,null,null,null,96,-96,null,null,null,null,null,null,null,0,-96,0,{"$f":"IF(C12<0,0,\nIF(MOD(C12,MAX(入力!$AI$29,1))=入力!$AI$29-1,入力!$AH$29,0)\n+IF(MOD(C12,MAX(入力!$AI$30,1))=入力!$AI$30-1,入力!$AH$30,0)\n+IF(MOD(C12,MAX(入力!$AI$31,1))=入力!$AI$31-1,入力!$AH$31,0)\n+IF(MOD(C12,MAX(入力!$AI$32,1))=入力!$AI$32-1,入力!$AH$32,0)\n+IF(MOD(C12,MAX(入力!$AI$33,1))=入力!$AI$33-1,入力!$AH$33,0)\n+IF(MOD(C12,MAX(入力!$AI$34,1))=入力!$AI$34-1,入力!$AH$34,0)\n+IF(MOD(C12,MAX(入力!$AI$35,1))=入力!$AI$35-1,入力!$AH$35,0)\n+IF(MOD(C12,MAX(入力!$AI$36,1))=入力!$AI$36-1,入力!$AH$36,0)\n+IF(MOD(C12,MAX(入力!$AI$37,1))=入力!$AI$37-1,入力!$AH$37,0)\n+IF(MOD(C12,MAX(入力!$AI$38,1))=入力!$AI$38-1,入力!$AH$38,0)\n)","v":0},null,null,null,null,0,-96,-672]
[null,31,-3,null,null,null,null,null,null,0,{"$f":"IF($C13=0,入力!$W$27,0)+IF(AND($C13>=0,$C13<=入力!$W$29-1),入力!$W$35,0)+IF($C13<0,VLOOKUP(親1!$C13,入力!$W$11:$Z$16,4,1),0)","v":120},{"$f":"住居計算!D20","v":0},null,null,null,null,null,null,null,120,-120,null,null,null,null,null,null,null,0,-120,0,{"$f":"IF(C13<0,0,\nIF(MOD(C13,MAX(入力!$AI$29,1))=入力!$AI$29-1,入力!$AH$29,0)\n+IF(MOD(C13,MAX(入力!$AI$30,1))=入力!$AI$30-1,入力!$AH$30,0)\n+IF(MOD(C13,MAX(入力!$AI$31,1))=入力!$AI$31-1,入力!$AH$31,0)\n+IF(MOD(C13,MAX(入力!$AI$32,1))=入力!$AI$32-1,入力!$AH$32,0)\n+IF(MOD(C13,MAX(入力!$AI$33,1))=入力!$AI$33-1,入力!$AH$33,0)\n+IF(MOD(C13,MAX(入力!$AI$34,1))=入力!$AI$34-1,入力!$AH$34,0)\n+IF(MOD(C13,MAX(入力!$AI$35,1))=入力!$AI$35-1,入力!$AH$35,0)\n+IF(MOD(C13,MAX(入力!$AI$36,1))=入力!$AI$36-1,入力!$AH$36,0)\n+IF(MOD(C13,MAX(入力!$AI$37,1))=入力!$AI$37-1,入力!$AH$37,0)\n+IF(MOD(C13,MAX(入力!$AI$38,1))=入力!$AI$38-1,入力!$AH$38,0)\n)","v":0},null,null,null,null,0,-120,-792]
[null,32,-2,null,null,null,null,null,null,0,{"$f":"IF($C14=0,入力!$W$27,0)+IF(AND($C14>=0,$C14<=入力!$W$29-1),入力!$W$35,0)+IF($C14<0,VLOOKUP(親1!$C14,入力!$W$11:$Z$16,4,1),0)","v":120},{"$f":"住居計算!D21","v":0},null,null,null,null,null,null,null,120,-120,null,null,null,null,null,null,null,0,-120,0,{"$f":"IF(C14<0,0,\nIF(MOD(C14,MAX(入力!$AI$29,1))=入力!$AI$29-1,入力!$AH$29,0)\n+IF(MOD(C14,MAX(入力!$AI$30,1))=入力!$AI$30-1,入力!$AH$30,0)\n+IF(MOD(C14,MAX(入力!$AI$31,1))=入力!$AI$31-1,入力!$AH$31,0)\n+IF(MOD(C14,MAX(入力!$AI$32,1))=入力!$AI$32-1,入力!$AH$32,0)\n+IF(MOD(C14,MAX(入力!$AI$33,1))=入力!$AI$33-1,入力!$AH$33,0)\n+IF(MOD(C14,MAX(入力!$AI$34,1))=入力!$AI$34-1,入力!$AH$34,0)\n+IF(MOD(C14,MAX(入力!$AI$35,1))=入力!$AI$35-1,入力!$AH$35,0)\n+IF(MOD(C14,MAX(入力!$AI$36,1))=入力!$AI$36-1,入力!$AH$36,0)\n+IF(MOD(C14,MAX(入力!$AI$37,1))=入力!$AI$37-1,入力!$AH$37,0)\n+IF(MOD(C14,MAX(入力!$AI$38,1))=入力!$AI$38-1,入力!$AH$38,0)\n)","v":0},null,null,null,null,0,-120,-912]
[null,33,-1,null,null,null,null,null,null,0,{"$f":"IF($C15=0,入力!$W$27,0)+IF(AND($C15>=0,$C15<=入力!$W$29-1),入力!$W$35,0)+IF($C15<0,VLOOKUP(親1!$C15,入力!$W$11:$Z$16,4,1),0)","v":120},{"$f":"住居計算!D22","v":0},null,null,null,null,null,null,null,120,-120,null,null,null,null,null,null,null,0,-120,0,{"$f":"IF(C15<0,0,\nIF(MOD(C15,MAX(入力!$AI$29,1))=入力!$AI$29-1,入力!$AH$29,0)\n+IF(MOD(C15,MAX(入力!$AI$30,1))=入力!$AI$30-1,入力!$AH$30,0)\n+IF(MOD(C15,MAX(入力!$AI$31,1))=入力!$AI$31-1,入力!$AH$31,0)\n+IF(MOD(C15,MAX(入力!$AI$32,1))=入力!$AI$32-1,入力!$AH$32,0)\n+IF(MOD(C15,MAX(入力!$AI$33,1))=入力!$AI$33-1,入力!$AH$33,0)\n+IF(MOD(C15,MAX(入力!$AI$34,1))=入力!$AI$34-1,入力!$AH$34,0)\n+IF(MOD(C15,MAX(入力!$AI$35,1))=入力!$AI$35-1,入力!$AH$35,0)\n+IF(MOD(C15,MAX(入力!$AI$36,1))=入力!$AI$36-1,入力!$AH$36,0)\n+IF(MOD(C15,MAX(入力!$AI$37,1))=入力!$AI$37-1,入力!$AH$37,0)\n+IF(MOD(C15,MAX(入力!$AI$38,1))=入力!$AI$38-1,入力!$AH$38,0)\n)","v":0},null,null,null,null,0,-120,-1032]
[null,34,0,null,null,null,null,null,null,0,{"$f":"IF($C16=0,入力!$W$27,0)+IF(AND($C16>=0,$C16<=入力!$W$29-1),入力!$W$35,0)+IF($C16<0,VLOOKUP(親1!$C16,入力!$W$11:$Z$16,4,1),0)","v":135.4971354896243},{"$f":"住居計算!D23","v":2.4064113548962407},null,null,null,null,null,null,null,137.90354684452055,-137.90354684452055,null,null,null,null,null,null,null,0,-137.90354684452055,0,{"$f":"IF(C16<0,0,\nIF(MOD(C16,MAX(入力!$AI$29,1))=入力!$AI$29-1,入力!$AH$29,0)\n+IF(MOD(C16,MAX(入力!$AI$30,1))=入力!$AI$30-1,入力!$AH$30,0)\n+IF(MOD(C16,MAX(入力!$AI$31,1))=入力!$AI$31-1,入力!$AH$31,0)\n+IF(MOD(C16,MAX(入力!$AI$32,1))=入力!$AI$32-1,入力!$AH$32,0)\n+IF(MOD(C16,MAX(入力!$AI$33,1))=入力!$AI$33-1,入力!$AH$33,0)\n+IF(MOD(C16,MAX(入力!$AI$34,1))=入力!$AI$34-1,入力!$AH$34,0)\n+IF(MOD(C16,MAX(入力!$AI$35,1))=入力!$AI$35-1,入力!$AH$35,0)\n+IF(MOD(C16,MAX(入力!$AI$36,1))=入力!$AI$36-1,入力!$AH$36,0)\n+IF(MOD(C16,MAX(入力!$AI$37,1))=入力!$AI$37-1,入力!$AH$37,0)\n+IF(MOD(C16,MAX(入力!$AI$38,1))=入力!$AI$38-1,入力!$AH$38,0)\n)","v":0},null,null,null,null,0,-137.90354684452055,-1169.9035468445206]
[null,35,1,null,null,null,null,null,null,0,{"$f":"IF($C17=0,入力!$W$27,0)+IF(AND($C17>=0,$C17<=入力!$W$29-1),入力!$W$35,0)+IF($C17<0,VLOOKUP(親1!$C17,入力!$W$11:$Z$16,4,1),0)","v":135.4971354896243},{"$f":"住居計算!D24","v":3.5362627097924841},null,null,null,null,null,null,null,139.03339819941678,-139.03339819941678,null,null,null,null,null,null,null,0,-139.03339819941678,0,{"$f":"IF(C17<0,0,\nIF(MOD(C17,MAX(入力!$AI$29,1))=入力!$AI$29-1,入力!$AH$29,0)\n+IF(MOD(C17,MAX(入力!$AI$30,1))=入力!$AI$30-1,入力!$AH$30,0)\n+IF(MOD(C17,MAX(入力!$AI$31,1))=入力!$AI$31-1,入力!$AH$31,0)\n+IF(MOD(C17,MAX(入力!$AI$32,1))=入力!$AI$32-1,入力!$AH$32,0)\n+IF(MOD(C17,MAX(入力!$AI$33,1))=入力!$AI$33-1,入力!$AH$33,0)\n+IF(MOD(C17,MAX(入力!$AI$34,1))=入力!$AI$34-1,入力!$AH$34,0)\n+IF(MOD(C17,MAX(入力!$AI$35,1))=入力!$AI$35-1,入力!$AH$35,0)\n+IF(MOD(C17,MAX(入力!$AI$36,1))=入力!$AI$36-1,入力!$AH$36,0)\n+IF(MOD(C17,MAX(入力!$AI$37,1))=入力!$AI$37-1,入力!$AH$37,0)\n+IF(MOD(C17,MAX(入力!$AI$38,1))=入力!$AI$38-1,入力!$AH$38,0)\n)","v":0},null,null,null,null,0,-139.03339819941678,-1308.9369450439374]
[null,36,2,null,null,null,null,null,null,0,{"$f":"IF($C18=0,入力!$W$27,0)+IF(AND($C18>=0,$C18<=入力!$W$29-1),入力!$W$35,0)+IF($C18<0,VLOOKUP(親1!$C18,入力!$W$11:$Z$16,4,1),0)","v":135.4971354896243},{"$f":"住居計算!D25","v":4.6661140646887267},null,null,null,null,null,null,null,140.16324955431301,-140.16324955431301,null,null,null,null,null,null,null,0,-140.16324955431301,0,{"$f":"IF(C18<0,0,\nIF(MOD(C18,MAX(入力!$AI$29,1))=入力!$AI$29-1,入力!$AH$29,0)\n+IF(MOD(C18,MAX(入力!$AI$30,1))=入力!$AI$30-1,入力!$AH$30,0)\n+IF(MOD(C18,MAX(入力!$AI$31,1))=入力!$AI$31-1,入力!$AH$31,0)\n+IF(MOD(C18,MAX(入力!$AI$32,1))=入力!$AI$32-1,入力!$AH$32,0)\n+IF(MOD(C18,MAX(入力!$AI$33,1))=入力!$AI$33-1,入力!$AH$33,0)\n+IF(MOD(C18,MAX(入力!$AI$34,1))=入力!$AI$34-1,入力!$AH$34,0)\n+IF(MOD(C18,MAX(入力!$AI$35,1))=入力!$AI$35-1,入力!$AH$35,0)\n+IF(MOD(C18,MAX(入力!$AI$36,1))=入力!$AI$36-1,入力!$AH$36,0)\n+IF(MOD(C18,MAX(入力!$AI$37,1))=入力!$AI$37-1,入力!$AH$37,0)\n+IF(MOD(C18,MAX(入力!$AI$38,1))=入力!$AI$38-1,入力!$AH$38,0)\n)","v":0},null,null,null,null,0,-140.16324955431301,-1449.1001945982505]
[null,37,3,null,null,null,null,null,null,0,{"$f":"IF($C19=0,入力!$W$27,0)+IF(AND($C19>=0,$C19<=入力!$W$29-1),入力!$W$35,0)+IF($C19<0,VLOOKUP(親1!$C19,入力!$W$11:$Z$16,4,1),0)","v":135.4971354896243},{"$f":"住居計算!D26","v":5.8710054195849697},null,null,null,null,null,null,null,141.36814090920927,-141.36814090920927,null,null,null,null,null,null,null,0,-141.36814090920927,0,{"$f":"IF(C19<0,0,\nIF(MOD(C19,MAX(入力!$AI$29,1))=入力!$AI$29-1,入力!$AH$29,0)\n+IF(MOD(C19,MAX(入力!$AI$30,1))=入力!$AI$30-1,入力!$AH$30,0)\n+IF(MOD(C19,MAX(入力!$AI$31,1))=入力!$AI$31-1,入力!$AH$31,0)\n+IF(MOD(C19,MAX(入力!$AI$32,1))=入力!$AI$32-1,入力!$AH$32,0)\n+IF(MOD(C19,MAX(入力!$AI$33,1))=入力!$AI$33-1,入力!$AH$33,0)\n+IF(MOD(C19,MAX(入力!$AI$34,1))=入力!$AI$34-1,入力!$AH$34,0)\n+IF(MOD(C19,MAX(入力!$AI$35,1))=入力!$AI$35-1,入力!$AH$35,0)\n+IF(MOD(C19,MAX(入力!$AI$36,1))=入力!$AI$36-1,入力!$AH$36,0)\n+IF(MOD(C19,MAX(入力!$AI$37,1))=入力!$AI$37-1,入力!$AH$37,0)\n+IF(MOD(C19,MAX(入力!$AI$38,1))=入力!$AI$38-1,入力!$AH$38,0)\n)","v":0},null,null,null,null,0,-141.36814090920927,-1590.4683355074599]
[null,38,4,null,null,null,null,null,null,0,{"$f":"IF($C20=0,入力!$W$27,0)+IF(AND($C20>=0,$C20<=入力!$W$29-1),入力!$W$35,0)+IF($C20<0,VLOOKUP(親1!$C20,入力!$W$11:$Z$16,4,1),0)","v":135.4971354896243},{"$f":"住居計算!D27","v":7.0758967744812127},null,null,null,null,null,null,null,142.57303226410551,-142.57303226410551,null,null,null,null,null,null,null,0,-142.57303226410551,0,{"$f":"IF(C20<0,0,\nIF(MOD(C20,MAX(入力!$AI$29,1))=入力!$AI$29-1,入力!$AH$29,0)\n+IF(MOD(C20,MAX(入力!$AI$30,1))=入力!$AI$30-1,入力!$AH$30,0)\n+IF(MOD(C20,MAX(入力!$AI$31,1))=入力!$AI$31-1,入力!$AH$31,0)\n+IF(MOD(C20,MAX(入力!$AI$32,1))=入力!$AI$32-1,入力!$AH$32,0)\n+IF(MOD(C20,MAX(入力!$AI$33,1))=入力!$AI$33-1,入力!$AH$33,0)\n+IF(MOD(C20,MAX(入力!$AI$34,1))=入力!$AI$34-1,入力!$AH$34,0)\n+IF(MOD(C20,MAX(入力!$AI$35,1))=入力!$AI$35-1,入力!$AH$35,0)\n+IF(MOD(C20,MAX(入力!$AI$36,1))=入力!$AI$36-1,入力!$AH$36,0)\n+IF(MOD(C20,MAX(入力!$AI$37,1))=入力!$AI$37-1,入力!$AH$37,0)\n+IF(MOD(C20,MAX(入力!$AI$38,1))=入力!$AI$38-1,入力!$AH$38,0)\n)","v":0},null,null,null,null,0,-142.57303226410551,-1733.0413677715653]
[null,39,5,null,null,null,null,null,null,0,{"$f":"IF($C21=0,入力!$W$27,0)+IF(AND($C21>=0,$C21<=入力!$W$29-1),入力!$W$35,0)+IF($C21<0,VLOOKUP(親1!$C21,入力!$W$11:$Z$16,4,1),0)","v":135.4971354896243},{"$f":"住居計算!D28","v":8.2057481293774508},null,null,null,null,null,null,null,143.70288361900174,-143.70288361900174,null,null,null,null,null,null,null,0,-143.70288361900174,0,{"$f":"IF(C21<0,0,\nIF(MOD(C21,MAX(入力!$AI$29,1))=入力!$AI$29-1,入力!$AH$29,0)\n+IF(MOD(C21,MAX(入力!$AI$30,1))=入力!$AI$30-1,入力!$AH$30,0)\n+IF(MOD(C21,MAX(入力!$AI$31,1))=入力!$AI$31-1,入力!$AH$31,0)\n+IF(MOD(C21,MAX(入力!$AI$32,1))=入力!$AI$32-1,入力!$AH$32,0)\n+IF(MOD(C21,MAX(入力!$AI$33,1))=入力!$AI$33-1,入力!$AH$33,0)\n+IF(MOD(C21,MAX(入力!$AI$34,1))=入力!$AI$34-1,入力!$AH$34,0)\n+IF(MOD(C21,MAX(入力!$AI$35,1))=入力!$AI$35-1,入力!$AH$35,0)\n+IF(MOD(C21,MAX(入力!$AI$36,1))=入力!$AI$36-1,入力!$AH$36,0)\n+IF(MOD(C21,MAX(入力!$AI$37,1))=入力!$AI$37-1,入力!$AH$37,0)\n+IF(MOD(C21,MAX(入力!$AI$38,1))=入力!$AI$38-1,入力!$AH$38,0)\n)","v":0},null,null,null,null,0,-143.70288361900174,-1876.7442513905671]
[null,40,6,null,null,null,null,null,null,0,{"$f":"IF($C22=0,入力!$W$27,0)+IF(AND($C22>=0,$C22<=入力!$W$29-1),入力!$W$35,0)+IF($C22<0,VLOOKUP(親1!$C22,入力!$W$11:$Z$16,4,1),0)","v":135.4971354896243},{"$f":"住居計算!D29","v":15.488879484273696},null,null,null,null,null,null,null,150.98601497389799,-150.98601497389799,null,null,null,null,null,null,null,0,-150.98601497389799,0,{"$f":"IF(C22<0,0,\nIF(MOD(C22,MAX(入力!$AI$29,1))=入力!$AI$29-1,入力!$AH$29,0)\n+IF(MOD(C22,MAX(入力!$AI$30,1))=入力!$AI$30-1,入力!$AH$30,0)\n+IF(MOD(C22,MAX(入力!$AI$31,1))=入力!$AI$31-1,入力!$AH$31,0)\n+IF(MOD(C22,MAX(入力!$AI$32,1))=入力!$AI$32-1,入力!$AH$32,0)\n+IF(MOD(C22,MAX(入力!$AI$33,1))=入力!$AI$33-1,入力!$AH$33,0)\n+IF(MOD(C22,MAX(入力!$AI$34,1))=入力!$AI$34-1,入力!$AH$34,0)\n+IF(MOD(C22,MAX(入力!$AI$35,1))=入力!$AI$35-1,入力!$AH$35,0)\n+IF(MOD(C22,MAX(入力!$AI$36,1))=入力!$AI$36-1,入力!$AH$36,0)\n+IF(MOD(C22,MAX(入力!$AI$37,1))=入力!$AI$37-1,入力!$AH$37,0)\n+IF(MOD(C22,MAX(入力!$AI$38,1))=入力!$AI$38-1,入力!$AH$38,0)\n)","v":0},null,null,null,null,0,-150.98601497389799,-2027.730266364465]
[null,{"$f":"B22+1","v":41},7,null,null,null,null,null,null,0,{"$f":"IF($C23=0,入力!$W$27,0)+IF(AND($C23>=0,$C23<=入力!$W$29-1),入力!$W$35,0)+IF($C23<0,VLOOKUP(親1!$C23,入力!$W$11:$Z$16,4,1),0)","v":135.4971354896243},{"$f":"住居計算!D30","v":16.54369083916994},null,null,null,null,null,null,null,152.04082632879425,-152.04082632879425,null,null,null,null,null,null,null,0,-152.04082632879425,0,{"$f":"IF(C23<0,0,\nIF(MOD(C23,MAX(入力!$AI$29,1))=入力!$AI$29-1,入力!$AH$29,0)\n+IF(MOD(C23,MAX(入力!$AI$30,1))=入力!$AI$30-1,入力!$AH$30,0)\n+IF(MOD(C23,MAX(入力!$AI$31,1))=入力!$AI$31-1,入力!$AH$31,0)\n+IF(MOD(C23,MAX(入力!$AI$32,1))=入力!$AI$32-1,入力!$AH$32,0)\n+IF(MOD(C23,MAX(入力!$AI$33,1))=入力!$AI$33-1,入力!$AH$33,0)\n+IF(MOD(C23,MAX(入力!$AI$34,1))=入力!$AI$34-1,入力!$AH$34,0)\n+IF(MOD(C23,MAX(入力!$AI$35,1))=入力!$AI$35-1,入力!$AH$35,0)\n+IF(MOD(C23,MAX(入力!$AI$36,1))=入力!$AI$36-1,入力!$AH$36,0)\n+IF(MOD(C23,MAX(入力!$AI$37,1))=入力!$AI$37-1,入力!$AH$37,0)\n+IF(MOD(C23,MAX(入力!$AI$38,1))=入力!$AI$38-1,入力!$AH$38,0)\n)","v":0},null,null,null,null,0,-152.04082632879425,-2179.7710926932591]
[null,42,8,null,null,null,null,null,null,0,{"$f":"IF($C24=0,入力!$W$27,0)+IF(AND($C24>=0,$C24<=入力!$W$29-1),入力!$W$35,0)+IF($C24<0,VLOOKUP(親1!$C24,入力!$W$11:$Z$16,4,1),0)","v":135.4971354896243},{"$f":"住居計算!D31","v":17.448422194066183},null,null,null,null,null,null,null,152.94555768369048,-152.94555768369048,null,null,null,null,null,null,null,0,-152.94555768369048,0,{"$f":"IF(C24<0,0,\nIF(MOD(C24,MAX(入力!$AI$29,1))=入力!$AI$29-1,入力!$AH$29,0)\n+IF(MOD(C24,MAX(入力!$AI$30,1))=入力!$AI$30-1,入力!$AH$30,0)\n+IF(MOD(C24,MAX(入力!$AI$31,1))=入力!$AI$31-1,入力!$AH$31,0)\n+IF(MOD(C24,MAX(入力!$AI$32,1))=入力!$AI$32-1,入力!$AH$32,0)\n+IF(MOD(C24,MAX(入力!$AI$33,1))=入力!$AI$33-1,入力!$AH$33,0)\n+IF(MOD(C24,MAX(入力!$AI$34,1))=入力!$AI$34-1,入力!$AH$34,0)\n+IF(MOD(C24,MAX(入力!$AI$35,1))=入力!$AI$35-1,入力!$AH$35,0)\n+IF(MOD(C24,MAX(入力!$AI$36,1))=入力!$AI$36-1,入力!$AH$36,0)\n+IF(MOD(C24,MAX(入力!$AI$37,1))=入力!$AI$37-1,入力!$AH$37,0)\n+IF(MOD(C24,MAX(入力!$AI$38,1))=入力!$AI$38-1,入力!$AH$38,0)\n)","v":0},null,null,null,null,0,-152.94555768369048,-2332.7166503769495]
[null,43,9,null,null,null,null,null,null,0,{"$f":"IF($C25=0,入力!$W$27,0)+IF(AND($C25>=0,$C25<=入力!$W$29-1),入力!$W$35,0)+IF($C25<0,VLOOKUP(親1!$C25,入力!$W$11:$Z$16,4,1),0)","v":135.4971354896243},{"$f":"住居計算!D32","v":18.503233548962427},null,null,null,null,null,null,null,154.00036903858671,-154.00036903858671,null,null,null,null,null,null,null,0,-154.00036903858671,0,{"$f":"IF(C25<0,0,\nIF(MOD(C25,MAX(入力!$AI$29,1))=入力!$AI$29-1,入力!$AH$29,0)\n+IF(MOD(C25,MAX(入力!$AI$30,1))=入力!$AI$30-1,入力!$AH$30,0)\n+IF(MOD(C25,MAX(入力!$AI$31,1))=入力!$AI$31-1,入力!$AH$31,0)\n+IF(MOD(C25,MAX(入力!$AI$32,1))=入力!$AI$32-1,入力!$AH$32,0)\n+IF(MOD(C25,MAX(入力!$AI$33,1))=入力!$AI$33-1,入力!$AH$33,0)\n+IF(MOD(C25,MAX(入力!$AI$34,1))=入力!$AI$34-1,入力!$AH$34,0)\n+IF(MOD(C25,MAX(入力!$AI$35,1))=入力!$AI$35-1,入力!$AH$35,0)\n+IF(MOD(C25,MAX(入力!$AI$36,1))=入力!$AI$36-1,入力!$AH$36,0)\n+IF(MOD(C25,MAX(入力!$AI$37,1))=入力!$AI$37-1,入力!$AH$37,0)\n+IF(MOD(C25,MAX(入力!$AI$38,1))=入力!$AI$38-1,入力!$AH$38,0)\n)","v":0},null,null,null,null,0,-154.00036903858671,-2486.717019415536]
[null,44,10,null,null,null,null,null,null,0,{"$f":"IF($C26=0,入力!$W$27,0)+IF(AND($C26>=0,$C26<=入力!$W$29-1),入力!$W$35,0)+IF($C26<0,VLOOKUP(親1!$C26,入力!$W$11:$Z$16,4,1),0)","v":135.4971354896243},{"$f":"住居計算!D33","v":44.653359999999999},null,null,null,null,null,null,null,180.15049548962429,-180.15049548962429,null,null,null,null,null,null,null,0,-180.15049548962429,0,{"$f":"IF(C26<0,0,\nIF(MOD(C26,MAX(入力!$AI$29,1))=入力!$AI$29-1,入力!$AH$29,0)\n+IF(MOD(C26,MAX(入力!$AI$30,1))=入力!$AI$30-1,入力!$AH$30,0)\n+IF(MOD(C26,MAX(入力!$AI$31,1))=入力!$AI$31-1,入力!$AH$31,0)\n+IF(MOD(C26,MAX(入力!$AI$32,1))=入力!$AI$32-1,入力!$AH$32,0)\n+IF(MOD(C26,MAX(入力!$AI$33,1))=入力!$AI$33-1,入力!$AH$33,0)\n+IF(MOD(C26,MAX(入力!$AI$34,1))=入力!$AI$34-1,入力!$AH$34,0)\n+IF(MOD(C26,MAX(入力!$AI$35,1))=入力!$AI$35-1,入力!$AH$35,0)\n+IF(MOD(C26,MAX(入力!$AI$36,1))=入力!$AI$36-1,入力!$AH$36,0)\n+IF(MOD(C26,MAX(入力!$AI$37,1))=入力!$AI$37-1,入力!$AH$37,0)\n+IF(MOD(C26,MAX(入力!$AI$38,1))=入力!$AI$38-1,入力!$AH$38,0)\n)","v":0},null,null,null,null,0,-180.15049548962429,-2666.8675149051605]
[null,45,11,null,null,null,null,null,null,0,{"$f":"IF($C27=0,入力!$W$27,0)+IF(AND($C27>=0,$C27<=入力!$W$29-1),入力!$W$35,0)+IF($C27<0,VLOOKUP(親1!$C27,入力!$W$11:$Z$16,4,1),0)","v":135.4971354896243},{"$f":"住居計算!D34","v":44.203119999999998},null,null,null,null,null,null,null,179.70025548962428,-179.70025548962428,null,null,null,null,null,null,null,0,-179.70025548962428,0,{"$f":"IF(C27<0,0,\nIF(MOD(C27,MAX(入力!$AI$29,1))=入力!$AI$29-1,入力!$AH$29,0)\n+IF(MOD(C27,MAX(入力!$AI$30,1))=入力!$AI$30-1,入力!$AH$30,0)\n+IF(MOD(C27,MAX(入力!$AI$31,1))=入力!$AI$31-1,入力!$AH$31,0)\n+IF(MOD(C27,MAX(入力!$AI$32,1))=入力!$AI$32-1,入力!$AH$32,0)\n+IF(MOD(C27,MAX(入力!$AI$33,1))=入力!$AI$33-1,入力!$AH$33,0)\n+IF(MOD(C27,MAX(入力!$AI$34,1))=入力!$AI$34-1,入力!$AH$34,0)\n+IF(MOD(C27,MAX(入力!$AI$35,1))=入力!$AI$35-1,入力!$AH$35,0)\n+IF(MOD(C27,MAX(入力!$AI$36,1))=入力!$AI$36-1,入力!$AH$36,0)\n+IF(MOD(C27,MAX(入力!$AI$37,1))=入力!$AI$37-1,入力!$AH$37,0)\n+IF(MOD(C27,MAX(入力!$AI$38,1))=入力!$AI$38-1,入力!$AH$38,0)\n)","v":0},null,null,null,null,0,-179.70025548962428,-2846.5677703947849]
[null,46,12,null,null,null,null,null,null,0,{"$f":"IF($C28=0,入力!$W$27,0)+IF(AND($C28>=0,$C28<=入力!$W$29-1),入力!$W$35,0)+IF($C28<0,VLOOKUP(親1!$C28,入力!$W$11:$Z$16,4,1),0)","v":135.4971354896243},{"$f":"住居計算!D35","v":43.90296},null,null,null,null,null,null,null,179.40009548962431,-179.40009548962431,null,null,null,null,null,null,null,0,-179.40009548962431,0,{"$f":"IF(C28<0,0,\nIF(MOD(C28,MAX(入力!$AI$29,1))=入力!$AI$29-1,入力!$AH$29,0)\n+IF(MOD(C28,MAX(入力!$AI$30,1))=入力!$AI$30-1,入力!$AH$30,0)\n+IF(MOD(C28,MAX(入力!$AI$31,1))=入力!$AI$31-1,入力!$AH$31,0)\n+IF(MOD(C28,MAX(入力!$AI$32,1))=入力!$AI$32-1,入力!$AH$32,0)\n+IF(MOD(C28,MAX(入力!$AI$33,1))=入力!$AI$33-1,入力!$AH$33,0)\n+IF(MOD(C28,MAX(入力!$AI$34,1))=入力!$AI$34-1,入力!$AH$34,0)\n+IF(MOD(C28,MAX(入力!$AI$35,1))=入力!$AI$35-1,入力!$AH$35,0)\n+IF(MOD(C28,MAX(入力!$AI$36,1))=入力!$AI$36-1,入力!$AH$36,0)\n+IF(MOD(C28,MAX(入力!$AI$37,1))=入力!$AI$37-1,入力!$AH$37,0)\n+IF(MOD(C28,MAX(入力!$AI$38,1))=入力!$AI$38-1,入力!$AH$38,0)\n)","v":0},null,null,null,null,0,-179.40009548962431,-3025.9678658844091]
[null,47,13,null,null,null,null,null,null,0,{"$f":"IF($C29=0,入力!$W$27,0)+IF(AND($C29>=0,$C29<=入力!$W$29-1),入力!$W$35,0)+IF($C29<0,VLOOKUP(親1!$C29,入力!$W$11:$Z$16,4,1),0)","v":135.4971354896243},{"$f":"住居計算!D36","v":43.602800000000002},null,null,null,null,null,null,null,179.0999354896243,-179.0999354896243,null,null,null,null,null,null,null,0,-179.0999354896243,0,{"$f":"IF(C29<0,0,\nIF(MOD(C29,MAX(入力!$AI$29,1))=入力!$AI$29-1,入力!$AH$29,0)\n+IF(MOD(C29,MAX(入力!$AI$30,1))=入力!$AI$30-1,入力!$AH$30,0)\n+IF(MOD(C29,MAX(入力!$AI$31,1))=入力!$AI$31-1,入力!$AH$31,0)\n+IF(MOD(C29,MAX(入力!$AI$32,1))=入力!$AI$32-1,入力!$AH$32,0)\n+IF(MOD(C29,MAX(入力!$AI$33,1))=入力!$AI$33-1,入力!$AH$33,0)\n+IF(MOD(C29,MAX(入力!$AI$34,1))=入力!$AI$34-1,入力!$AH$34,0)\n+IF(MOD(C29,MAX(入力!$AI$35,1))=入力!$AI$35-1,入力!$AH$35,0)\n+IF(MOD(C29,MAX(入力!$AI$36,1))=入力!$AI$36-1,入力!$AH$36,0)\n+IF(MOD(C29,MAX(入力!$AI$37,1))=入力!$AI$37-1,入力!$AH$37,0)\n+IF(MOD(C29,MAX(入力!$AI$38,1))=入力!$AI$38-1,入力!$AH$38,0)\n)","v":0},null,null,null,null,0,-179.0999354896243,-3205.0678013740335]
[null,48,14,null,null,null,null,null,null,0,{"$f":"IF($C30=0,入力!$W$27,0)+IF(AND($C30>=0,$C30<=入力!$W$29-1),入力!$W$35,0)+IF($C30<0,VLOOKUP(親1!$C30,入力!$W$11:$Z$16,4,1),0)","v":135.4971354896243},{"$f":"住居計算!D37","v":43.152560000000001},null,null,null,null,null,null,null,178.64969548962429,-178.64969548962429,null,null,null,null,null,null,null,0,-178.64969548962429,0,{"$f":"IF(C30<0,0,\nIF(MOD(C30,MAX(入力!$AI$29,1))=入力!$AI$29-1,入力!$AH$29,0)\n+IF(MOD(C30,MAX(入力!$AI$30,1))=入力!$AI$30-1,入力!$AH$30,0)\n+IF(MOD(C30,MAX(入力!$AI$31,1))=入力!$AI$31-1,入力!$AH$31,0)\n+IF(MOD(C30,MAX(入力!$AI$32,1))=入力!$AI$32-1,入力!$AH$32,0)\n+IF(MOD(C30,MAX(入力!$AI$33,1))=入力!$AI$33-1,入力!$AH$33,0)\n+IF(MOD(C30,MAX(入力!$AI$34,1))=入力!$AI$34-1,入力!$AH$34,0)\n+IF(MOD(C30,MAX(入力!$AI$35,1))=入力!$AI$35-1,入力!$AH$35,0)\n+IF(MOD(C30,MAX(入力!$AI$36,1))=入力!$AI$36-1,入力!$AH$36,0)\n+IF(MOD(C30,MAX(入力!$AI$37,1))=入力!$AI$37-1,入力!$AH$37,0)\n+IF(MOD(C30,MAX(入力!$AI$38,1))=入力!$AI$38-1,入力!$AH$38,0)\n)","v":0},null,null,null,null,0,-178.64969548962429,-3383.7174968636577]
[null,49,15,null,null,null,null,null,null,0,{"$f":"IF($C31=0,入力!$W$27,0)+IF(AND($C31>=0,$C31<=入力!$W$29-1),入力!$W$35,0)+IF($C31<0,VLOOKUP(親1!$C31,入力!$W$11:$Z$16,4,1),0)","v":135.4971354896243},{"$f":"住居計算!D38","v":42.852399999999996},null,null,null,null,null,null,null,178.34953548962429,-178.34953548962429,null,null,null,null,null,null,null,0,-178.34953548962429,0,{"$f":"IF(C31<0,0,\nIF(MOD(C31,MAX(入力!$AI$29,1))=入力!$AI$29-1,入力!$AH$29,0)\n+IF(MOD(C31,MAX(入力!$AI$30,1))=入力!$AI$30-1,入力!$AH$30,0)\n+IF(MOD(C31,MAX(入力!$AI$31,1))=入力!$AI$31-1,入力!$AH$31,0)\n+IF(MOD(C31,MAX(入力!$AI$32,1))=入力!$AI$32-1,入力!$AH$32,0)\n+IF(MOD(C31,MAX(入力!$AI$33,1))=入力!$AI$33-1,入力!$AH$33,0)\n+IF(MOD(C31,MAX(入力!$AI$34,1))=入力!$AI$34-1,入力!$AH$34,0)\n+IF(MOD(C31,MAX(入力!$AI$35,1))=入力!$AI$35-1,入力!$AH$35,0)\n+IF(MOD(C31,MAX(入力!$AI$36,1))=入力!$AI$36-1,入力!$AH$36,0)\n+IF(MOD(C31,MAX(入力!$AI$37,1))=入力!$AI$37-1,入力!$AH$37,0)\n+IF(MOD(C31,MAX(入力!$AI$38,1))=入力!$AI$38-1,入力!$AH$38,0)\n)","v":0},null,null,null,null,0,-178.34953548962429,-3562.0670323532822]
[null,50,16,null,null,null,null,null,null,0,{"$f":"IF($C32=0,入力!$W$27,0)+IF(AND($C32>=0,$C32<=入力!$W$29-1),入力!$W$35,0)+IF($C32<0,VLOOKUP(親1!$C32,入力!$W$11:$Z$16,4,1),0)","v":135.4971354896243},{"$f":"住居計算!D39","v":42.552239999999998},null,null,null,null,null,null,null,178.04937548962431,-178.04937548962431,null,null,null,null,null,null,null,0,-178.04937548962431,0,{"$f":"IF(C32<0,0,\nIF(MOD(C32,MAX(入力!$AI$29,1))=入力!$AI$29-1,入力!$AH$29,0)\n+IF(MOD(C32,MAX(入力!$AI$30,1))=入力!$AI$30-1,入力!$AH$30,0)\n+IF(MOD(C32,MAX(入力!$AI$31,1))=入力!$AI$31-1,入力!$AH$31,0)\n+IF(MOD(C32,MAX(入力!$AI$32,1))=入力!$AI$32-1,入力!$AH$32,0)\n+IF(MOD(C32,MAX(入力!$AI$33,1))=入力!$AI$33-1,入力!$AH$33,0)\n+IF(MOD(C32,MAX(入力!$AI$34,1))=入力!$AI$34-1,入力!$AH$34,0)\n+IF(MOD(C32,MAX(入力!$AI$35,1))=入力!$AI$35-1,入力!$AH$35,0)\n+IF(MOD(C32,MAX(入力!$AI$36,1))=入力!$AI$36-1,入力!$AH$36,0)\n+IF(MOD(C32,MAX(入力!$AI$37,1))=入力!$AI$37-1,入力!$AH$37,0)\n+IF(MOD(C32,MAX(入力!$AI$38,1))=入力!$AI$38-1,入力!$AH$38,0)\n)","v":0},null,null,null,null,0,-178.04937548962431,-3740.1164078429065]
[null,51,17,null,null,null,null,null,null,0,{"$f":"IF($C33=0,入力!$W$27,0)+IF(AND($C33>=0,$C33<=入力!$W$29-1),入力!$W$35,0)+IF($C33<0,VLOOKUP(親1!$C33,入力!$W$11:$Z$16,4,1),0)","v":135.4971354896243},{"$f":"住居計算!D40","v":42.101999999999997},null,null,null,null,null,null,null,177.5991354896243,-177.5991354896243,null,null,null,null,null,null,null,0,-177.5991354896243,0,{"$f":"IF(C33<0,0,\nIF(MOD(C33,MAX(入力!$AI$29,1))=入力!$AI$29-1,入力!$AH$29,0)\n+IF(MOD(C33,MAX(入力!$AI$30,1))=入力!$AI$30-1,入力!$AH$30,0)\n+IF(MOD(C33,MAX(入力!$AI$31,1))=入力!$AI$31-1,入力!$AH$31,0)\n+IF(MOD(C33,MAX(入力!$AI$32,1))=入力!$AI$32-1,入力!$AH$32,0)\n+IF(MOD(C33,MAX(入力!$AI$33,1))=入力!$AI$33-1,入力!$AH$33,0)\n+IF(MOD(C33,MAX(入力!$AI$34,1))=入力!$AI$34-1,入力!$AH$34,0)\n+IF(MOD(C33,MAX(入力!$AI$35,1))=入力!$AI$35-1,入力!$AH$35,0)\n+IF(MOD(C33,MAX(入力!$AI$36,1))=入力!$AI$36-1,入力!$AH$36,0)\n+IF(MOD(C33,MAX(入力!$AI$37,1))=入力!$AI$37-1,入力!$AH$37,0)\n+IF(MOD(C33,MAX(入力!$AI$38,1))=入力!$AI$38-1,入力!$AH$38,0)\n)","v":0},null,null,null,null,0,-177.5991354896243,-3917.7155433325306]
[null,52,18,null,null,null,null,null,null,0,{"$f":"IF($C34=0,入力!$W$27,0)+IF(AND($C34>=0,$C34<=入力!$W$29-1),入力!$W$35,0)+IF($C34<0,VLOOKUP(親1!$C34,入力!$W$11:$Z$16,4,1),0)","v":135.4971354896243},{"$f":"住居計算!D41","v":41.801839999999999},null,null,null,null,null,null,null,177.2989754896243,-177.2989754896243,null,null,null,null,null,null,null,0,-177.2989754896243,0,{"$f":"IF(C34<0,0,\nIF(MOD(C34,MAX(入力!$AI$29,1))=入力!$AI$29-1,入力!$AH$29,0)\n+IF(MOD(C34,MAX(入力!$AI$30,1))=入力!$AI$30-1,入力!$AH$30,0)\n+IF(MOD(C34,MAX(入力!$AI$31,1))=入力!$AI$31-1,入力!$AH$31,0)\n+IF(MOD(C34,MAX(入力!$AI$32,1))=入力!$AI$32-1,入力!$AH$32,0)\n+IF(MOD(C34,MAX(入力!$AI$33,1))=入力!$AI$33-1,入力!$AH$33,0)\n+IF(MOD(C34,MAX(入力!$AI$34,1))=入力!$AI$34-1,入力!$AH$34,0)\n+IF(MOD(C34,MAX(入力!$AI$35,1))=入力!$AI$35-1,入力!$AH$35,0)\n+IF(MOD(C34,MAX(入力!$AI$36,1))=入力!$AI$36-1,入力!$AH$36,0)\n+IF(MOD(C34,MAX(入力!$AI$37,1))=入力!$AI$37-1,入力!$AH$37,0)\n+IF(MOD(C34,MAX(入力!$AI$38,1))=入力!$AI$38-1,入力!$AH$38,0)\n)","v":0},null,null,null,null,0,-177.2989754896243,-4095.014518822155]
[null,53,19,null,null,null,null,null,null,0,{"$f":"IF($C35=0,入力!$W$27,0)+IF(AND($C35>=0,$C35<=入力!$W$29-1),入力!$W$35,0)+IF($C35<0,VLOOKUP(親1!$C35,入力!$W$11:$Z$16,4,1),0)","v":135.4971354896243},{"$f":"住居計算!D42","v":41.351599999999998},null,null,null,null,null,null,null,176.84873548962429,-176.84873548962429,null,null,null,null,null,null,null,0,-176.84873548962429,0,{"$f":"IF(C35<0,0,\nIF(MOD(C35,MAX(入力!$AI$29,1))=入力!$AI$29-1,入力!$AH$29,0)\n+IF(MOD(C35,MAX(入力!$AI$30,1))=入力!$AI$30-1,入力!$AH$30,0)\n+IF(MOD(C35,MAX(入力!$AI$31,1))=入力!$AI$31-1,入力!$AH$31,0)\n+IF(MOD(C35,MAX(入力!$AI$32,1))=入力!$AI$32-1,入力!$AH$32,0)\n+IF(MOD(C35,MAX(入力!$AI$33,1))=入力!$AI$33-1,入力!$AH$33,0)\n+IF(MOD(C35,MAX(入力!$AI$34,1))=入力!$AI$34-1,入力!$AH$34,0)\n+IF(MOD(C35,MAX(入力!$AI$35,1))=入力!$AI$35-1,入力!$AH$35,0)\n+IF(MOD(C35,MAX(入力!$AI$36,1))=入力!$AI$36-1,入力!$AH$36,0)\n+IF(MOD(C35,MAX(入力!$AI$37,1))=入力!$AI$37-1,入力!$AH$37,0)\n+IF(MOD(C35,MAX(入力!$AI$38,1))=入力!$AI$38-1,入力!$AH$38,0)\n)","v":316},null,null,null,null,316,-492.84873548962429,-4587.8632543117792]
[null,54,20,null,null,null,null,null,null,0,{"$f":"IF($C36=0,入力!$W$27,0)+IF(AND($C36>=0,$C36<=入力!$W$29-1),入力!$W$35,0)+IF($C36<0,VLOOKUP(親1!$C36,入力!$W$11:$Z$16,4,1),0)","v":135.4971354896243},{"$f":"住居計算!D43","v":41.051439999999999},null,null,null,null,null,null,null,176.54857548962428,-176.54857548962428,null,null,null,null,null,null,null,0,-176.54857548962428,0,{"$f":"IF(C36<0,0,\nIF(MOD(C36,MAX(入力!$AI$29,1))=入力!$AI$29-1,入力!$AH$29,0)\n+IF(MOD(C36,MAX(入力!$AI$30,1))=入力!$AI$30-1,入力!$AH$30,0)\n+IF(MOD(C36,MAX(入力!$AI$31,1))=入力!$AI$31-1,入力!$AH$31,0)\n+IF(MOD(C36,MAX(入力!$AI$32,1))=入力!$AI$32-1,入力!$AH$32,0)\n+IF(MOD(C36,MAX(入力!$AI$33,1))=入力!$AI$33-1,入力!$AH$33,0)\n+IF(MOD(C36,MAX(入力!$AI$34,1))=入力!$AI$34-1,入力!$AH$34,0)\n+IF(MOD(C36,MAX(入力!$AI$35,1))=入力!$AI$35-1,入力!$AH$35,0)\n+IF(MOD(C36,MAX(入力!$AI$36,1))=入力!$AI$36-1,入力!$AH$36,0)\n+IF(MOD(C36,MAX(入力!$AI$37,1))=入力!$AI$37-1,入力!$AH$37,0)\n+IF(MOD(C36,MAX(入力!$AI$38,1))=入力!$AI$38-1,入力!$AH$38,0)\n)","v":0},null,null,null,null,0,-176.54857548962428,-4764.4118298014037]
[null,55,21,null,null,null,null,null,null,0,{"$f":"IF($C37=0,入力!$W$27,0)+IF(AND($C37>=0,$C37<=入力!$W$29-1),入力!$W$35,0)+IF($C37<0,VLOOKUP(親1!$C37,入力!$W$11:$Z$16,4,1),0)","v":135.4971354896243},{"$f":"住居計算!D44","v":40.751280000000001},null,null,null,null,null,null,null,176.24841548962431,-176.24841548962431,null,null,null,null,null,null,null,0,-176.24841548962431,0,{"$f":"IF(C37<0,0,\nIF(MOD(C37,MAX(入力!$AI$29,1))=入力!$AI$29-1,入力!$AH$29,0)\n+IF(MOD(C37,MAX(入力!$AI$30,1))=入力!$AI$30-1,入力!$AH$30,0)\n+IF(MOD(C37,MAX(入力!$AI$31,1))=入力!$AI$31-1,入力!$AH$31,0)\n+IF(MOD(C37,MAX(入力!$AI$32,1))=入力!$AI$32-1,入力!$AH$32,0)\n+IF(MOD(C37,MAX(入力!$AI$33,1))=入力!$AI$33-1,入力!$AH$33,0)\n+IF(MOD(C37,MAX(入力!$AI$34,1))=入力!$AI$34-1,入力!$AH$34,0)\n+IF(MOD(C37,MAX(入力!$AI$35,1))=入力!$AI$35-1,入力!$AH$35,0)\n+IF(MOD(C37,MAX(入力!$AI$36,1))=入力!$AI$36-1,入力!$AH$36,0)\n+IF(MOD(C37,MAX(入力!$AI$37,1))=入力!$AI$37-1,入力!$AH$37,0)\n+IF(MOD(C37,MAX(入力!$AI$38,1))=入力!$AI$38-1,入力!$AH$38,0)\n)","v":0},null,null,null,null,0,-176.24841548962431,-4940.6602452910283]
[null,56,22,null,null,null,null,null,null,0,{"$f":"IF($C38=0,入力!$W$27,0)+IF(AND($C38>=0,$C38<=入力!$W$29-1),入力!$W$35,0)+IF($C38<0,VLOOKUP(親1!$C38,入力!$W$11:$Z$16,4,1),0)","v":135.4971354896243},{"$f":"住居計算!D45","v":40.451119999999996},null,null,null,null,null,null,null,175.9482554896243,-175.9482554896243,null,null,null,null,null,null,null,0,-175.9482554896243,0,{"$f":"IF(C38<0,0,\nIF(MOD(C38,MAX(入力!$AI$29,1))=入力!$AI$29-1,入力!$AH$29,0)\n+IF(MOD(C38,MAX(入力!$AI$30,1))=入力!$AI$30-1,入力!$AH$30,0)\n+IF(MOD(C38,MAX(入力!$AI$31,1))=入力!$AI$31-1,入力!$AH$31,0)\n+IF(MOD(C38,MAX(入力!$AI$32,1))=入力!$AI$32-1,入力!$AH$32,0)\n+IF(MOD(C38,MAX(入力!$AI$33,1))=入力!$AI$33-1,入力!$AH$33,0)\n+IF(MOD(C38,MAX(入力!$AI$34,1))=入力!$AI$34-1,入力!$AH$34,0)\n+IF(MOD(C38,MAX(入力!$AI$35,1))=入力!$AI$35-1,入力!$AH$35,0)\n+IF(MOD(C38,MAX(入力!$AI$36,1))=入力!$AI$36-1,入力!$AH$36,0)\n+IF(MOD(C38,MAX(入力!$AI$37,1))=入力!$AI$37-1,入力!$AH$37,0)\n+IF(MOD(C38,MAX(入力!$AI$38,1))=入力!$AI$38-1,入力!$AH$38,0)\n)","v":0},null,null,null,null,0,-175.9482554896243,-5116.6085007806523]
[null,{"$f":"B38+1","v":57},23,null,null,null,null,null,null,0,{"$f":"IF($C39=0,入力!$W$27,0)+IF(AND($C39>=0,$C39<=入力!$W$29-1),入力!$W$35,0)+IF($C39<0,VLOOKUP(親1!$C39,入力!$W$11:$Z$16,4,1),0)","v":135.4971354896243},{"$f":"住居計算!D46","v":40.150959999999998},null,null,null,null,null,null,null,175.6480954896243,-175.6480954896243,null,null,null,null,null,null,null,0,-175.6480954896243,0,{"$f":"IF(C39<0,0,\nIF(MOD(C39,MAX(入力!$AI$29,1))=入力!$AI$29-1,入力!$AH$29,0)\n+IF(MOD(C39,MAX(入力!$AI$30,1))=入力!$AI$30-1,入力!$AH$30,0)\n+IF(MOD(C39,MAX(入力!$AI$31,1))=入力!$AI$31-1,入力!$AH$31,0)\n+IF(MOD(C39,MAX(入力!$AI$32,1))=入力!$AI$32-1,入力!$AH$32,0)\n+IF(MOD(C39,MAX(入力!$AI$33,1))=入力!$AI$33-1,入力!$AH$33,0)\n+IF(MOD(C39,MAX(入力!$AI$34,1))=入力!$AI$34-1,入力!$AH$34,0)\n+IF(MOD(C39,MAX(入力!$AI$35,1))=入力!$AI$35-1,入力!$AH$35,0)\n+IF(MOD(C39,MAX(入力!$AI$36,1))=入力!$AI$36-1,入力!$AH$36,0)\n+IF(MOD(C39,MAX(入力!$AI$37,1))=入力!$AI$37-1,入力!$AH$37,0)\n+IF(MOD(C39,MAX(入力!$AI$38,1))=入力!$AI$38-1,入力!$AH$38,0)\n)","v":0},null,null,null,null,0,-175.6480954896243,-5292.2565962702765]
[null,58,24,null,null,null,null,null,null,0,{"$f":"IF($C40=0,入力!$W$27,0)+IF(AND($C40>=0,$C40<=入力!$W$29-1),入力!$W$35,0)+IF($C40<0,VLOOKUP(親1!$C40,入力!$W$11:$Z$16,4,1),0)","v":135.4971354896243},{"$f":"住居計算!D47","v":39.8508},null,null,null,null,null,null,null,175.34793548962429,-175.34793548962429,null,null,null,null,null,null,null,0,-175.34793548962429,0,{"$f":"IF(C40<0,0,\nIF(MOD(C40,MAX(入力!$AI$29,1))=入力!$AI$29-1,入力!$AH$29,0)\n+IF(MOD(C40,MAX(入力!$AI$30,1))=入力!$AI$30-1,入力!$AH$30,0)\n+IF(MOD(C40,MAX(入力!$AI$31,1))=入力!$AI$31-1,入力!$AH$31,0)\n+IF(MOD(C40,MAX(入力!$AI$32,1))=入力!$AI$32-1,入力!$AH$32,0)\n+IF(MOD(C40,MAX(入力!$AI$33,1))=入力!$AI$33-1,入力!$AH$33,0)\n+IF(MOD(C40,MAX(入力!$AI$34,1))=入力!$AI$34-1,入力!$AH$34,0)\n+IF(MOD(C40,MAX(入力!$AI$35,1))=入力!$AI$35-1,入力!$AH$35,0)\n+IF(MOD(C40,MAX(入力!$AI$36,1))=入力!$AI$36-1,入力!$AH$36,0)\n+IF(MOD(C40,MAX(入力!$AI$37,1))=入力!$AI$37-1,入力!$AH$37,0)\n+IF(MOD(C40,MAX(入力!$AI$38,1))=入力!$AI$38-1,入力!$AH$38,0)\n)","v":0},null,null,null,null,0,-175.34793548962429,-5467.604531759901]
[null,59,25,null,null,null,null,null,null,0,{"$f":"IF($C41=0,入力!$W$27,0)+IF(AND($C41>=0,$C41<=入力!$W$29-1),入力!$W$35,0)+IF($C41<0,VLOOKUP(親1!$C41,入力!$W$11:$Z$16,4,1),0)","v":135.4971354896243},{"$f":"住居計算!D48","v":39.550640000000001},null,null,null,null,null,null,null,175.04777548962431,-175.04777548962431,null,null,null,null,null,null,null,0,-175.04777548962431,0,{"$f":"IF(C41<0,0,\nIF(MOD(C41,MAX(入力!$AI$29,1))=入力!$AI$29-1,入力!$AH$29,0)\n+IF(MOD(C41,MAX(入力!$AI$30,1))=入力!$AI$30-1,入力!$AH$30,0)\n+IF(MOD(C41,MAX(入力!$AI$31,1))=入力!$AI$31-1,入力!$AH$31,0)\n+IF(MOD(C41,MAX(入力!$AI$32,1))=入力!$AI$32-1,入力!$AH$32,0)\n+IF(MOD(C41,MAX(入力!$AI$33,1))=入力!$AI$33-1,入力!$AH$33,0)\n+IF(MOD(C41,MAX(入力!$AI$34,1))=入力!$AI$34-1,入力!$AH$34,0)\n+IF(MOD(C41,MAX(入力!$AI$35,1))=入力!$AI$35-1,入力!$AH$35,0)\n+IF(MOD(C41,MAX(入力!$AI$36,1))=入力!$AI$36-1,入力!$AH$36,0)\n+IF(MOD(C41,MAX(入力!$AI$37,1))=入力!$AI$37-1,入力!$AH$37,0)\n+IF(MOD(C41,MAX(入力!$AI$38,1))=入力!$AI$38-1,入力!$AH$38,0)\n)","v":0},null,null,null,null,0,-175.04777548962431,-5642.6523072495256]
[null,60,26,null,null,null,null,null,null,0,{"$f":"IF($C42=0,入力!$W$27,0)+IF(AND($C42>=0,$C42<=入力!$W$29-1),入力!$W$35,0)+IF($C42<0,VLOOKUP(親1!$C42,入力!$W$11:$Z$16,4,1),0)","v":135.4971354896243},{"$f":"住居計算!D49","v":39.250480000000003},null,null,null,null,null,null,null,174.74761548962431,-174.74761548962431,null,null,null,null,null,null,null,0,-174.74761548962431,0,{"$f":"IF(C42<0,0,\nIF(MOD(C42,MAX(入力!$AI$29,1))=入力!$AI$29-1,入力!$AH$29,0)\n+IF(MOD(C42,MAX(入力!$AI$30,1))=入力!$AI$30-1,入力!$AH$30,0)\n+IF(MOD(C42,MAX(入力!$AI$31,1))=入力!$AI$31-1,入力!$AH$31,0)\n+IF(MOD(C42,MAX(入力!$AI$32,1))=入力!$AI$32-1,入力!$AH$32,0)\n+IF(MOD(C42,MAX(入力!$AI$33,1))=入力!$AI$33-1,入力!$AH$33,0)\n+IF(MOD(C42,MAX(入力!$AI$34,1))=入力!$AI$34-1,入力!$AH$34,0)\n+IF(MOD(C42,MAX(入力!$AI$35,1))=入力!$AI$35-1,入力!$AH$35,0)\n+IF(MOD(C42,MAX(入力!$AI$36,1))=入力!$AI$36-1,入力!$AH$36,0)\n+IF(MOD(C42,MAX(入力!$AI$37,1))=入力!$AI$37-1,入力!$AH$37,0)\n+IF(MOD(C42,MAX(入力!$AI$38,1))=入力!$AI$38-1,入力!$AH$38,0)\n)","v":0},null,null,null,null,0,-174.74761548962431,-5817.3999227391496]
[null,61,27,null,null,null,null,null,null,0,{"$f":"IF($C43=0,入力!$W$27,0)+IF(AND($C43>=0,$C43<=入力!$W$29-1),入力!$W$35,0)+IF($C43<0,VLOOKUP(親1!$C43,入力!$W$11:$Z$16,4,1),0)","v":135.4971354896243},{"$f":"住居計算!D50","v":38.950319999999998},null,null,null,null,null,null,null,174.4474554896243,-174.4474554896243,null,null,null,null,null,null,null,0,-174.4474554896243,0,{"$f":"IF(C43<0,0,\nIF(MOD(C43,MAX(入力!$AI$29,1))=入力!$AI$29-1,入力!$AH$29,0)\n+IF(MOD(C43,MAX(入力!$AI$30,1))=入力!$AI$30-1,入力!$AH$30,0)\n+IF(MOD(C43,MAX(入力!$AI$31,1))=入力!$AI$31-1,入力!$AH$31,0)\n+IF(MOD(C43,MAX(入力!$AI$32,1))=入力!$AI$32-1,入力!$AH$32,0)\n+IF(MOD(C43,MAX(入力!$AI$33,1))=入力!$AI$33-1,入力!$AH$33,0)\n+IF(MOD(C43,MAX(入力!$AI$34,1))=入力!$AI$34-1,入力!$AH$34,0)\n+IF(MOD(C43,MAX(入力!$AI$35,1))=入力!$AI$35-1,入力!$AH$35,0)\n+IF(MOD(C43,MAX(入力!$AI$36,1))=入力!$AI$36-1,入力!$AH$36,0)\n+IF(MOD(C43,MAX(入力!$AI$37,1))=入力!$AI$37-1,入力!$AH$37,0)\n+IF(MOD(C43,MAX(入力!$AI$38,1))=入力!$AI$38-1,入力!$AH$38,0)\n)","v":0},null,null,null,null,0,-174.4474554896243,-5991.8473782287738]
[null,62,28,null,null,null,null,null,null,0,{"$f":"IF($C44=0,入力!$W$27,0)+IF(AND($C44>=0,$C44<=入力!$W$29-1),入力!$W$35,0)+IF($C44<0,VLOOKUP(親1!$C44,入力!$W$11:$Z$16,4,1),0)","v":135.4971354896243},{"$f":"住居計算!D51","v":38.65016},null,null,null,null,null,null,null,174.1472954896243,-174.1472954896243,null,null,null,null,null,null,null,0,-174.1472954896243,0,{"$f":"IF(C44<0,0,\nIF(MOD(C44,MAX(入力!$AI$29,1))=入力!$AI$29-1,入力!$AH$29,0)\n+IF(MOD(C44,MAX(入力!$AI$30,1))=入力!$AI$30-1,入力!$AH$30,0)\n+IF(MOD(C44,MAX(入力!$AI$31,1))=入力!$AI$31-1,入力!$AH$31,0)\n+IF(MOD(C44,MAX(入力!$AI$32,1))=入力!$AI$32-1,入力!$AH$32,0)\n+IF(MOD(C44,MAX(入力!$AI$33,1))=入力!$AI$33-1,入力!$AH$33,0)\n+IF(MOD(C44,MAX(入力!$AI$34,1))=入力!$AI$34-1,入力!$AH$34,0)\n+IF(MOD(C44,MAX(入力!$AI$35,1))=入力!$AI$35-1,入力!$AH$35,0)\n+IF(MOD(C44,MAX(入力!$AI$36,1))=入力!$AI$36-1,入力!$AH$36,0)\n+IF(MOD(C44,MAX(入力!$AI$37,1))=入力!$AI$37-1,入力!$AH$37,0)\n+IF(MOD(C44,MAX(入力!$AI$38,1))=入力!$AI$38-1,入力!$AH$38,0)\n)","v":0},null,null,null,null,0,-174.1472954896243,-6165.9946737183982]
[null,63,29,null,null,null,null,null,null,0,{"$f":"IF($C45=0,入力!$W$27,0)+IF(AND($C45>=0,$C45<=入力!$W$29-1),入力!$W$35,0)+IF($C45<0,VLOOKUP(親1!$C45,入力!$W$11:$Z$16,4,1),0)","v":135.4971354896243},{"$f":"住居計算!D52","v":38.500079999999997},null,null,null,null,null,null,null,173.9972154896243,-173.9972154896243,null,null,null,null,null,null,null,0,-173.9972154896243,0,{"$f":"IF(C45<0,0,\nIF(MOD(C45,MAX(入力!$AI$29,1))=入力!$AI$29-1,入力!$AH$29,0)\n+IF(MOD(C45,MAX(入力!$AI$30,1))=入力!$AI$30-1,入力!$AH$30,0)\n+IF(MOD(C45,MAX(入力!$AI$31,1))=入力!$AI$31-1,入力!$AH$31,0)\n+IF(MOD(C45,MAX(入力!$AI$32,1))=入力!$AI$32-1,入力!$AH$32,0)\n+IF(MOD(C45,MAX(入力!$AI$33,1))=入力!$AI$33-1,入力!$AH$33,0)\n+IF(MOD(C45,MAX(入力!$AI$34,1))=入力!$AI$34-1,入力!$AH$34,0)\n+IF(MOD(C45,MAX(入力!$AI$35,1))=入力!$AI$35-1,入力!$AH$35,0)\n+IF(MOD(C45,MAX(入力!$AI$36,1))=入力!$AI$36-1,入力!$AH$36,0)\n+IF(MOD(C45,MAX(入力!$AI$37,1))=入力!$AI$37-1,入力!$AH$37,0)\n+IF(MOD(C45,MAX(入力!$AI$38,1))=入力!$AI$38-1,入力!$AH$38,0)\n)","v":238},null,null,null,null,238,-411.9972154896243,-6577.9918892080223]
[null,64,30,null,null,null,null,null,null,0,{"$f":"IF($C46=0,入力!$W$27,0)+IF(AND($C46>=0,$C46<=入力!$W$29-1),入力!$W$35,0)+IF($C46<0,VLOOKUP(親1!$C46,入力!$W$11:$Z$16,4,1),0)","v":135.4971354896243},{"$f":"住居計算!D53","v":38.199919999999999},null,null,null,null,null,null,null,173.69705548962429,-173.69705548962429,null,null,null,null,null,null,null,0,-173.69705548962429,0,{"$f":"IF(C46<0,0,\nIF(MOD(C46,MAX(入力!$AI$29,1))=入力!$AI$29-1,入力!$AH$29,0)\n+IF(MOD(C46,MAX(入力!$AI$30,1))=入力!$AI$30-1,入力!$AH$30,0)\n+IF(MOD(C46,MAX(入力!$AI$31,1))=入力!$AI$31-1,入力!$AH$31,0)\n+IF(MOD(C46,MAX(入力!$AI$32,1))=入力!$AI$32-1,入力!$AH$32,0)\n+IF(MOD(C46,MAX(入力!$AI$33,1))=入力!$AI$33-1,入力!$AH$33,0)\n+IF(MOD(C46,MAX(入力!$AI$34,1))=入力!$AI$34-1,入力!$AH$34,0)\n+IF(MOD(C46,MAX(入力!$AI$35,1))=入力!$AI$35-1,入力!$AH$35,0)\n+IF(MOD(C46,MAX(入力!$AI$36,1))=入力!$AI$36-1,入力!$AH$36,0)\n+IF(MOD(C46,MAX(入力!$AI$37,1))=入力!$AI$37-1,入力!$AH$37,0)\n+IF(MOD(C46,MAX(入力!$AI$38,1))=入力!$AI$38-1,入力!$AH$38,0)\n)","v":0},null,null,null,null,0,-173.69705548962429,-6751.6889446976465]
[null,65,31,null,null,null,null,null,null,0,{"$f":"IF($C47=0,入力!$W$27,0)+IF(AND($C47>=0,$C47<=入力!$W$29-1),入力!$W$35,0)+IF($C47<0,VLOOKUP(親1!$C47,入力!$W$11:$Z$16,4,1),0)","v":135.4971354896243},{"$f":"住居計算!D54","v":38.049839999999996},null,null,null,null,null,null,null,173.54697548962429,-173.54697548962429,null,null,null,null,null,null,null,0,-173.54697548962429,0,{"$f":"IF(C47<0,0,\nIF(MOD(C47,MAX(入力!$AI$29,1))=入力!$AI$29-1,入力!$AH$29,0)\n+IF(MOD(C47,MAX(入力!$AI$30,1))=入力!$AI$30-1,入力!$AH$30,0)\n+IF(MOD(C47,MAX(入力!$AI$31,1))=入力!$AI$31-1,入力!$AH$31,0)\n+IF(MOD(C47,MAX(入力!$AI$32,1))=入力!$AI$32-1,入力!$AH$32,0)\n+IF(MOD(C47,MAX(入力!$AI$33,1))=入力!$AI$33-1,入力!$AH$33,0)\n+IF(MOD(C47,MAX(入力!$AI$34,1))=入力!$AI$34-1,入力!$AH$34,0)\n+IF(MOD(C47,MAX(入力!$AI$35,1))=入力!$AI$35-1,入力!$AH$35,0)\n+IF(MOD(C47,MAX(入力!$AI$36,1))=入力!$AI$36-1,入力!$AH$36,0)\n+IF(MOD(C47,MAX(入力!$AI$37,1))=入力!$AI$37-1,入力!$AH$37,0)\n+IF(MOD(C47,MAX(入力!$AI$38,1))=入力!$AI$38-1,入力!$AH$38,0)\n)","v":0},null,null,null,null,0,-173.54697548962429,-6925.2359201872705]
[null,66,32,null,null,null,null,null,null,0,{"$f":"IF($C48=0,入力!$W$27,0)+IF(AND($C48>=0,$C48<=入力!$W$29-1),入力!$W$35,0)+IF($C48<0,VLOOKUP(親1!$C48,入力!$W$11:$Z$16,4,1),0)","v":135.4971354896243},{"$f":"住居計算!D55","v":37.749679999999998},null,null,null,null,null,null,null,173.24681548962428,-173.24681548962428,null,null,null,null,null,null,null,0,-173.24681548962428,0,{"$f":"IF(C48<0,0,\nIF(MOD(C48,MAX(入力!$AI$29,1))=入力!$AI$29-1,入力!$AH$29,0)\n+IF(MOD(C48,MAX(入力!$AI$30,1))=入力!$AI$30-1,入力!$AH$30,0)\n+IF(MOD(C48,MAX(入力!$AI$31,1))=入力!$AI$31-1,入力!$AH$31,0)\n+IF(MOD(C48,MAX(入力!$AI$32,1))=入力!$AI$32-1,入力!$AH$32,0)\n+IF(MOD(C48,MAX(入力!$AI$33,1))=入力!$AI$33-1,入力!$AH$33,0)\n+IF(MOD(C48,MAX(入力!$AI$34,1))=入力!$AI$34-1,入力!$AH$34,0)\n+IF(MOD(C48,MAX(入力!$AI$35,1))=入力!$AI$35-1,入力!$AH$35,0)\n+IF(MOD(C48,MAX(入力!$AI$36,1))=入力!$AI$36-1,入力!$AH$36,0)\n+IF(MOD(C48,MAX(入力!$AI$37,1))=入力!$AI$37-1,入力!$AH$37,0)\n+IF(MOD(C48,MAX(入力!$AI$38,1))=入力!$AI$38-1,入力!$AH$38,0)\n)","v":0},null,null,null,null,0,-173.24681548962428,-7098.4827356768947]
[null,67,33,null,null,null,null,null,null,0,{"$f":"IF($C49=0,入力!$W$27,0)+IF(AND($C49>=0,$C49<=入力!$W$29-1),入力!$W$35,0)+IF($C49<0,VLOOKUP(親1!$C49,入力!$W$11:$Z$16,4,1),0)","v":135.4971354896243},{"$f":"住居計算!D56","v":37.599600000000002},null,null,null,null,null,null,null,173.09673548962431,-173.09673548962431,null,null,null,null,null,null,null,0,-173.09673548962431,0,{"$f":"IF(C49<0,0,\nIF(MOD(C49,MAX(入力!$AI$29,1))=入力!$AI$29-1,入力!$AH$29,0)\n+IF(MOD(C49,MAX(入力!$AI$30,1))=入力!$AI$30-1,入力!$AH$30,0)\n+IF(MOD(C49,MAX(入力!$AI$31,1))=入力!$AI$31-1,入力!$AH$31,0)\n+IF(MOD(C49,MAX(入力!$AI$32,1))=入力!$AI$32-1,入力!$AH$32,0)\n+IF(MOD(C49,MAX(入力!$AI$33,1))=入力!$AI$33-1,入力!$AH$33,0)\n+IF(MOD(C49,MAX(入力!$AI$34,1))=入力!$AI$34-1,入力!$AH$34,0)\n+IF(MOD(C49,MAX(入力!$AI$35,1))=入力!$AI$35-1,入力!$AH$35,0)\n+IF(MOD(C49,MAX(入力!$AI$36,1))=入力!$AI$36-1,入力!$AH$36,0)\n+IF(MOD(C49,MAX(入力!$AI$37,1))=入力!$AI$37-1,入力!$AH$37,0)\n+IF(MOD(C49,MAX(入力!$AI$38,1))=入力!$AI$38-1,入力!$AH$38,0)\n)","v":0},null,null,null,null,0,-173.09673548962431,-7271.5794711665194]
[null,68,34,null,null,null,null,null,null,0,{"$f":"IF($C50=0,入力!$W$27,0)+IF(AND($C50>=0,$C50<=入力!$W$29-1),入力!$W$35,0)+IF($C50<0,VLOOKUP(親1!$C50,入力!$W$11:$Z$16,4,1),0)","v":135.4971354896243},{"$f":"住居計算!D57","v":37.299439999999997},null,null,null,null,null,null,null,172.7965754896243,-172.7965754896243,null,null,null,null,null,null,null,0,-172.7965754896243,0,{"$f":"IF(C50<0,0,\nIF(MOD(C50,MAX(入力!$AI$29,1))=入力!$AI$29-1,入力!$AH$29,0)\n+IF(MOD(C50,MAX(入力!$AI$30,1))=入力!$AI$30-1,入力!$AH$30,0)\n+IF(MOD(C50,MAX(入力!$AI$31,1))=入力!$AI$31-1,入力!$AH$31,0)\n+IF(MOD(C50,MAX(入力!$AI$32,1))=入力!$AI$32-1,入力!$AH$32,0)\n+IF(MOD(C50,MAX(入力!$AI$33,1))=入力!$AI$33-1,入力!$AH$33,0)\n+IF(MOD(C50,MAX(入力!$AI$34,1))=入力!$AI$34-1,入力!$AH$34,0)\n+IF(MOD(C50,MAX(入力!$AI$35,1))=入力!$AI$35-1,入力!$AH$35,0)\n+IF(MOD(C50,MAX(入力!$AI$36,1))=入力!$AI$36-1,入力!$AH$36,0)\n+IF(MOD(C50,MAX(入力!$AI$37,1))=入力!$AI$37-1,入力!$AH$37,0)\n+IF(MOD(C50,MAX(入力!$AI$38,1))=入力!$AI$38-1,入力!$AH$38,0)\n)","v":0},null,null,null,null,0,-172.7965754896243,-7444.3760466561434]
[null,69,35,null,null,null,null,null,null,0,{"$f":"IF($C51=0,入力!$W$27,0)+IF(AND($C51>=0,$C51<=入力!$W$29-1),入力!$W$35,0)+IF($C51<0,VLOOKUP(親1!$C51,入力!$W$11:$Z$16,4,1),0)","v":0},{"$f":"住居計算!D58","v":37.299439999999997},null,null,null,null,null,null,null,37.299439999999997,-37.299439999999997,null,null,null,null,null,null,null,0,-37.299439999999997,0,{"$f":"IF(C51<0,0,\nIF(MOD(C51,MAX(入力!$AI$29,1))=入力!$AI$29-1,入力!$AH$29,0)\n+IF(MOD(C51,MAX(入力!$AI$30,1))=入力!$AI$30-1,入力!$AH$30,0)\n+IF(MOD(C51,MAX(入力!$AI$31,1))=入力!$AI$31-1,入力!$AH$31,0)\n+IF(MOD(C51,MAX(入力!$AI$32,1))=入力!$AI$32-1,入力!$AH$32,0)\n+IF(MOD(C51,MAX(入力!$AI$33,1))=入力!$AI$33-1,入力!$AH$33,0)\n+IF(MOD(C51,MAX(入力!$AI$34,1))=入力!$AI$34-1,入力!$AH$34,0)\n+IF(MOD(C51,MAX(入力!$AI$35,1))=入力!$AI$35-1,入力!$AH$35,0)\n+IF(MOD(C51,MAX(入力!$AI$36,1))=入力!$AI$36-1,入力!$AH$36,0)\n+IF(MOD(C51,MAX(入力!$AI$37,1))=入力!$AI$37-1,入力!$AH$37,0)\n+IF(MOD(C51,MAX(入力!$AI$38,1))=入力!$AI$38-1,入力!$AH$38,0)\n)","v":0},null,null,null,null,0,-37.299439999999997,-7481.6754866561432]
[null,70,36,null,null,null,null,null,null,0,{"$f":"IF($C52=0,入力!$W$27,0)+IF(AND($C52>=0,$C52<=入力!$W$29-1),入力!$W$35,0)+IF($C52<0,VLOOKUP(親1!$C52,入力!$W$11:$Z$16,4,1),0)","v":0},{"$f":"住居計算!D59","v":37.149360000000001},null,null,null,null,null,null,null,37.149360000000001,-37.149360000000001,null,null,null,null,null,null,null,0,-37.149360000000001,0,{"$f":"IF(C52<0,0,\nIF(MOD(C52,MAX(入力!$AI$29,1))=入力!$AI$29-1,入力!$AH$29,0)\n+IF(MOD(C52,MAX(入力!$AI$30,1))=入力!$AI$30-1,入力!$AH$30,0)\n+IF(MOD(C52,MAX(入力!$AI$31,1))=入力!$AI$31-1,入力!$AH$31,0)\n+IF(MOD(C52,MAX(入力!$AI$32,1))=入力!$AI$32-1,入力!$AH$32,0)\n+IF(MOD(C52,MAX(入力!$AI$33,1))=入力!$AI$33-1,入力!$AH$33,0)\n+IF(MOD(C52,MAX(入力!$AI$34,1))=入力!$AI$34-1,入力!$AH$34,0)\n+IF(MOD(C52,MAX(入力!$AI$35,1))=入力!$AI$35-1,入力!$AH$35,0)\n+IF(MOD(C52,MAX(入力!$AI$36,1))=入力!$AI$36-1,入力!$AH$36,0)\n+IF(MOD(C52,MAX(入力!$AI$37,1))=入力!$AI$37-1,入力!$AH$37,0)\n+IF(MOD(C52,MAX(入力!$AI$38,1))=入力!$AI$38-1,入力!$AH$38,0)\n)","v":0},null,null,null,null,0,-37.149360000000001,-7518.8248466561436]
[null,71,37,null,null,null,null,null,null,0,{"$f":"IF($C53=0,入力!$W$27,0)+IF(AND($C53>=0,$C53<=入力!$W$29-1),入力!$W$35,0)+IF($C53<0,VLOOKUP(親1!$C53,入力!$W$11:$Z$16,4,1),0)","v":0},{"$f":"住居計算!D60","v":37.149360000000001},null,null,null,null,null,null,null,37.149360000000001,-37.149360000000001,null,null,null,null,null,null,null,0,-37.149360000000001,0,{"$f":"IF(C53<0,0,\nIF(MOD(C53,MAX(入力!$AI$29,1))=入力!$AI$29-1,入力!$AH$29,0)\n+IF(MOD(C53,MAX(入力!$AI$30,1))=入力!$AI$30-1,入力!$AH$30,0)\n+IF(MOD(C53,MAX(入力!$AI$31,1))=入力!$AI$31-1,入力!$AH$31,0)\n+IF(MOD(C53,MAX(入力!$AI$32,1))=入力!$AI$32-1,入力!$AH$32,0)\n+IF(MOD(C53,MAX(入力!$AI$33,1))=入力!$AI$33-1,入力!$AH$33,0)\n+IF(MOD(C53,MAX(入力!$AI$34,1))=入力!$AI$34-1,入力!$AH$34,0)\n+IF(MOD(C53,MAX(入力!$AI$35,1))=入力!$AI$35-1,入力!$AH$35,0)\n+IF(MOD(C53,MAX(入力!$AI$36,1))=入力!$AI$36-1,入力!$AH$36,0)\n+IF(MOD(C53,MAX(入力!$AI$37,1))=入力!$AI$37-1,入力!$AH$37,0)\n+IF(MOD(C53,MAX(入力!$AI$38,1))=入力!$AI$38-1,入力!$AH$38,0)\n)","v":0},null,null,null,null,0,-37.149360000000001,-7555.9742066561439]
[null,72,38,null,null,null,null,null,null,0,{"$f":"IF($C54=0,入力!$W$27,0)+IF(AND($C54>=0,$C54<=入力!$W$29-1),入力!$W$35,0)+IF($C54<0,VLOOKUP(親1!$C54,入力!$W$11:$Z$16,4,1),0)","v":0},{"$f":"住居計算!D61","v":36.999279999999999},null,null,null,null,null,null,null,36.999279999999999,-36.999279999999999,null,null,null,null,null,null,null,0,-36.999279999999999,0,{"$f":"IF(C54<0,0,\nIF(MOD(C54,MAX(入力!$AI$29,1))=入力!$AI$29-1,入力!$AH$29,0)\n+IF(MOD(C54,MAX(入力!$AI$30,1))=入力!$AI$30-1,入力!$AH$30,0)\n+IF(MOD(C54,MAX(入力!$AI$31,1))=入力!$AI$31-1,入力!$AH$31,0)\n+IF(MOD(C54,MAX(入力!$AI$32,1))=入力!$AI$32-1,入力!$AH$32,0)\n+IF(MOD(C54,MAX(入力!$AI$33,1))=入力!$AI$33-1,入力!$AH$33,0)\n+IF(MOD(C54,MAX(入力!$AI$34,1))=入力!$AI$34-1,入力!$AH$34,0)\n+IF(MOD(C54,MAX(入力!$AI$35,1))=入力!$AI$35-1,入力!$AH$35,0)\n+IF(MOD(C54,MAX(入力!$AI$36,1))=入力!$AI$36-1,入力!$AH$36,0)\n+IF(MOD(C54,MAX(入力!$AI$37,1))=入力!$AI$37-1,入力!$AH$37,0)\n+IF(MOD(C54,MAX(入力!$AI$38,1))=入力!$AI$38-1,入力!$AH$38,0)\n)","v":0},null,null,null,null,0,-36.999279999999999,-7592.9734866561439]
[null,{"$f":"B54+1","v":73},39,null,null,null,null,null,null,0,{"$f":"IF($C55=0,入力!$W$27,0)+IF(AND($C55>=0,$C55<=入力!$W$29-1),入力!$W$35,0)+IF($C55<0,VLOOKUP(親1!$C55,入力!$W$11:$Z$16,4,1),0)","v":0},{"$f":"住居計算!D62","v":36.999279999999999},null,null,null,null,null,null,null,36.999279999999999,-36.999279999999999,null,null,null,null,null,null,null,0,-36.999279999999999,0,{"$f":"IF(C55<0,0,\nIF(MOD(C55,MAX(入力!$AI$29,1))=入力!$AI$29-1,入力!$AH$29,0)\n+IF(MOD(C55,MAX(入力!$AI$30,1))=入力!$AI$30-1,入力!$AH$30,0)\n+IF(MOD(C55,MAX(入力!$AI$31,1))=入力!$AI$31-1,入力!$AH$31,0)\n+IF(MOD(C55,MAX(入力!$AI$32,1))=入力!$AI$32-1,入力!$AH$32,0)\n+IF(MOD(C55,MAX(入力!$AI$33,1))=入力!$AI$33-1,入力!$AH$33,0)\n+IF(MOD(C55,MAX(入力!$AI$34,1))=入力!$AI$34-1,入力!$AH$34,0)\n+IF(MOD(C55,MAX(入力!$AI$35,1))=入力!$AI$35-1,入力!$AH$35,0)\n+IF(MOD(C55,MAX(入力!$AI$36,1))=入力!$AI$36-1,入力!$AH$36,0)\n+IF(MOD(C55,MAX(入力!$AI$37,1))=入力!$AI$37-1,入力!$AH$37,0)\n+IF(MOD(C55,MAX(入力!$AI$38,1))=入力!$AI$38-1,入力!$AH$38,0)\n)","v":316},null,null,null,null,316,-352.99928,-7945.9727666561439]
[null,74,40,null,null,null,null,null,null,0,{"$f":"IF($C56=0,入力!$W$27,0)+IF(AND($C56>=0,$C56<=入力!$W$29-1),入力!$W$35,0)+IF($C56<0,VLOOKUP(親1!$C56,入力!$W$11:$Z$16,4,1),0)","v":0},{"$f":"住居計算!D63","v":36.954256000000001},null,null,null,null,null,null,null,36.954256000000001,-36.954256000000001,null,null,null,null,null,null,null,0,-36.954256000000001,0,{"$f":"IF(C56<0,0,\nIF(MOD(C56,MAX(入力!$AI$29,1))=入力!$AI$29-1,入力!$AH$29,0)\n+IF(MOD(C56,MAX(入力!$AI$30,1))=入力!$AI$30-1,入力!$AH$30,0)\n+IF(MOD(C56,MAX(入力!$AI$31,1))=入力!$AI$31-1,入力!$AH$31,0)\n+IF(MOD(C56,MAX(入力!$AI$32,1))=入力!$AI$32-1,入力!$AH$32,0)\n+IF(MOD(C56,MAX(入力!$AI$33,1))=入力!$AI$33-1,入力!$AH$33,0)\n+IF(MOD(C56,MAX(入力!$AI$34,1))=入力!$AI$34-1,入力!$AH$34,0)\n+IF(MOD(C56,MAX(入力!$AI$35,1))=入力!$AI$35-1,入力!$AH$35,0)\n+IF(MOD(C56,MAX(入力!$AI$36,1))=入力!$AI$36-1,入力!$AH$36,0)\n+IF(MOD(C56,MAX(入力!$AI$37,1))=入力!$AI$37-1,入力!$AH$37,0)\n+IF(MOD(C56,MAX(入力!$AI$38,1))=入力!$AI$38-1,入力!$AH$38,0)\n)","v":0},null,null,null,null,0,-36.954256000000001,-7982.9270226561439]
[null,75,41,null,null,null,null,null,null,0,{"$f":"IF($C57=0,入力!$W$27,0)+IF(AND($C57>=0,$C57<=入力!$W$29-1),入力!$W$35,0)+IF($C57<0,VLOOKUP(親1!$C57,入力!$W$11:$Z$16,4,1),0)","v":0},{"$f":"住居計算!D64","v":36.928742399999997},null,null,null,null,null,null,null,36.928742399999997,-36.928742399999997,null,null,null,null,null,null,null,0,-36.928742399999997,0,{"$f":"IF(C57<0,0,\nIF(MOD(C57,MAX(入力!$AI$29,1))=入力!$AI$29-1,入力!$AH$29,0)\n+IF(MOD(C57,MAX(入力!$AI$30,1))=入力!$AI$30-1,入力!$AH$30,0)\n+IF(MOD(C57,MAX(入力!$AI$31,1))=入力!$AI$31-1,入力!$AH$31,0)\n+IF(MOD(C57,MAX(入力!$AI$32,1))=入力!$AI$32-1,入力!$AH$32,0)\n+IF(MOD(C57,MAX(入力!$AI$33,1))=入力!$AI$33-1,入力!$AH$33,0)\n+IF(MOD(C57,MAX(入力!$AI$34,1))=入力!$AI$34-1,入力!$AH$34,0)\n+IF(MOD(C57,MAX(入力!$AI$35,1))=入力!$AI$35-1,入力!$AH$35,0)\n+IF(MOD(C57,MAX(入力!$AI$36,1))=入力!$AI$36-1,入力!$AH$36,0)\n+IF(MOD(C57,MAX(入力!$AI$37,1))=入力!$AI$37-1,入力!$AH$37,0)\n+IF(MOD(C57,MAX(入力!$AI$38,1))=入力!$AI$38-1,入力!$AH$38,0)\n)","v":0},null,null,null,null,0,-36.928742399999997,-8019.8557650561443]
[null,76,42,null,null,null,null,null,null,0,{"$f":"IF($C58=0,入力!$W$27,0)+IF(AND($C58>=0,$C58<=入力!$W$29-1),入力!$W$35,0)+IF($C58<0,VLOOKUP(親1!$C58,入力!$W$11:$Z$16,4,1),0)","v":0},{"$f":"住居計算!D65","v":36.903228800000001},null,null,null,null,null,null,null,36.903228800000001,-36.903228800000001,null,null,null,null,null,null,null,0,-36.903228800000001,0,{"$f":"IF(C58<0,0,\nIF(MOD(C58,MAX(入力!$AI$29,1))=入力!$AI$29-1,入力!$AH$29,0)\n+IF(MOD(C58,MAX(入力!$AI$30,1))=入力!$AI$30-1,入力!$AH$30,0)\n+IF(MOD(C58,MAX(入力!$AI$31,1))=入力!$AI$31-1,入力!$AH$31,0)\n+IF(MOD(C58,MAX(入力!$AI$32,1))=入力!$AI$32-1,入力!$AH$32,0)\n+IF(MOD(C58,MAX(入力!$AI$33,1))=入力!$AI$33-1,入力!$AH$33,0)\n+IF(MOD(C58,MAX(入力!$AI$34,1))=入力!$AI$34-1,入力!$AH$34,0)\n+IF(MOD(C58,MAX(入力!$AI$35,1))=入力!$AI$35-1,入力!$AH$35,0)\n+IF(MOD(C58,MAX(入力!$AI$36,1))=入力!$AI$36-1,入力!$AH$36,0)\n+IF(MOD(C58,MAX(入力!$AI$37,1))=入力!$AI$37-1,入力!$AH$37,0)\n+IF(MOD(C58,MAX(入力!$AI$38,1))=入力!$AI$38-1,入力!$AH$38,0)\n)","v":0},null,null,null,null,0,-36.903228800000001,-8056.7589938561441]
[null,77,43,null,null,null,null,null,null,0,{"$f":"IF($C59=0,入力!$W$27,0)+IF(AND($C59>=0,$C59<=入力!$W$29-1),入力!$W$35,0)+IF($C59<0,VLOOKUP(親1!$C59,入力!$W$11:$Z$16,4,1),0)","v":0},{"$f":"住居計算!D66","v":36.876214400000002},null,null,null,null,null,null,null,36.876214400000002,-36.876214400000002,null,null,null,null,null,null,null,0,-36.876214400000002,0,{"$f":"IF(C59<0,0,\nIF(MOD(C59,MAX(入力!$AI$29,1))=入力!$AI$29-1,入力!$AH$29,0)\n+IF(MOD(C59,MAX(入力!$AI$30,1))=入力!$AI$30-1,入力!$AH$30,0)\n+IF(MOD(C59,MAX(入力!$AI$31,1))=入力!$AI$31-1,入力!$AH$31,0)\n+IF(MOD(C59,MAX(入力!$AI$32,1))=入力!$AI$32-1,入力!$AH$32,0)\n+IF(MOD(C59,MAX(入力!$AI$33,1))=入力!$AI$33-1,入力!$AH$33,0)\n+IF(MOD(C59,MAX(入力!$AI$34,1))=入力!$AI$34-1,入力!$AH$34,0)\n+IF(MOD(C59,MAX(入力!$AI$35,1))=入力!$AI$35-1,入力!$AH$35,0)\n+IF(MOD(C59,MAX(入力!$AI$36,1))=入力!$AI$36-1,入力!$AH$36,0)\n+IF(MOD(C59,MAX(入力!$AI$37,1))=入力!$AI$37-1,入力!$AH$37,0)\n+IF(MOD(C59,MAX(入力!$AI$38,1))=入力!$AI$38-1,入力!$AH$38,0)\n)","v":0},null,null,null,null,0,-36.876214400000002,-8093.6352082561443]
[null,78,44,null,null,null,null,null,null,0,{"$f":"IF($C60=0,入力!$W$27,0)+IF(AND($C60>=0,$C60<=入力!$W$29-1),入力!$W$35,0)+IF($C60<0,VLOOKUP(親1!$C60,入力!$W$11:$Z$16,4,1),0)","v":0},{"$f":"住居計算!D67","v":36.849200000000003},null,null,null,null,null,null,null,36.849200000000003,-36.849200000000003,null,null,null,null,null,null,null,0,-36.849200000000003,0,{"$f":"IF(C60<0,0,\nIF(MOD(C60,MAX(入力!$AI$29,1))=入力!$AI$29-1,入力!$AH$29,0)\n+IF(MOD(C60,MAX(入力!$AI$30,1))=入力!$AI$30-1,入力!$AH$30,0)\n+IF(MOD(C60,MAX(入力!$AI$31,1))=入力!$AI$31-1,入力!$AH$31,0)\n+IF(MOD(C60,MAX(入力!$AI$32,1))=入力!$AI$32-1,入力!$AH$32,0)\n+IF(MOD(C60,MAX(入力!$AI$33,1))=入力!$AI$33-1,入力!$AH$33,0)\n+IF(MOD(C60,MAX(入力!$AI$34,1))=入力!$AI$34-1,入力!$AH$34,0)\n+IF(MOD(C60,MAX(入力!$AI$35,1))=入力!$AI$35-1,入力!$AH$35,0)\n+IF(MOD(C60,MAX(入力!$AI$36,1))=入力!$AI$36-1,入力!$AH$36,0)\n+IF(MOD(C60,MAX(入力!$AI$37,1))=入力!$AI$37-1,入力!$AH$37,0)\n+IF(MOD(C60,MAX(入力!$AI$38,1))=入力!$AI$38-1,入力!$AH$38,0)\n)","v":0},null,null,null,null,0,-36.849200000000003,-8130.484408256144]
[null,79,45,null,null,null,null,null,null,0,{"$f":"IF($C61=0,入力!$W$27,0)+IF(AND($C61>=0,$C61<=入力!$W$29-1),入力!$W$35,0)+IF($C61<0,VLOOKUP(親1!$C61,入力!$W$11:$Z$16,4,1),0)","v":0},{"$f":"住居計算!D68","v":36.849200000000003},null,null,null,null,null,null,null,36.849200000000003,-36.849200000000003,null,null,null,null,null,null,null,0,-36.849200000000003,0,{"$f":"IF(C61<0,0,\nIF(MOD(C61,MAX(入力!$AI$29,1))=入力!$AI$29-1,入力!$AH$29,0)\n+IF(MOD(C61,MAX(入力!$AI$30,1))=入力!$AI$30-1,入力!$AH$30,0)\n+IF(MOD(C61,MAX(入力!$AI$31,1))=入力!$AI$31-1,入力!$AH$31,0)\n+IF(MOD(C61,MAX(入力!$AI$32,1))=入力!$AI$32-1,入力!$AH$32,0)\n+IF(MOD(C61,MAX(入力!$AI$33,1))=入力!$AI$33-1,入力!$AH$33,0)\n+IF(MOD(C61,MAX(入力!$AI$34,1))=入力!$AI$34-1,入力!$AH$34,0)\n+IF(MOD(C61,MAX(入力!$AI$35,1))=入力!$AI$35-1,入力!$AH$35,0)\n+IF(MOD(C61,MAX(入力!$AI$36,1))=入力!$AI$36-1,入力!$AH$36,0)\n+IF(MOD(C61,MAX(入力!$AI$37,1))=入力!$AI$37-1,入力!$AH$37,0)\n+IF(MOD(C61,MAX(入力!$AI$38,1))=入力!$AI$38-1,入力!$AH$38,0)\n)","v":0},null,null,null,null,0,-36.849200000000003,-8167.3336082561436]
[null,80,46,null,null,null,null,null,null,0,{"$f":"IF($C62=0,入力!$W$27,0)+IF(AND($C62>=0,$C62<=入力!$W$29-1),入力!$W$35,0)+IF($C62<0,VLOOKUP(親1!$C62,入力!$W$11:$Z$16,4,1),0)","v":0},{"$f":"住居計算!D69","v":36.849200000000003},null,null,null,null,null,null,null,36.849200000000003,-36.849200000000003,null,null,null,null,null,null,null,0,-36.849200000000003,0,{"$f":"IF(C62<0,0,\nIF(MOD(C62,MAX(入力!$AI$29,1))=入力!$AI$29-1,入力!$AH$29,0)\n+IF(MOD(C62,MAX(入力!$AI$30,1))=入力!$AI$30-1,入力!$AH$30,0)\n+IF(MOD(C62,MAX(入力!$AI$31,1))=入力!$AI$31-1,入力!$AH$31,0)\n+IF(MOD(C62,MAX(入力!$AI$32,1))=入力!$AI$32-1,入力!$AH$32,0)\n+IF(MOD(C62,MAX(入力!$AI$33,1))=入力!$AI$33-1,入力!$AH$33,0)\n+IF(MOD(C62,MAX(入力!$AI$34,1))=入力!$AI$34-1,入力!$AH$34,0)\n+IF(MOD(C62,MAX(入力!$AI$35,1))=入力!$AI$35-1,入力!$AH$35,0)\n+IF(MOD(C62,MAX(入力!$AI$36,1))=入力!$AI$36-1,入力!$AH$36,0)\n+IF(MOD(C62,MAX(入力!$AI$37,1))=入力!$AI$37-1,入力!$AH$37,0)\n+IF(MOD(C62,MAX(入力!$AI$38,1))=入力!$AI$38-1,入力!$AH$38,0)\n)","v":0},null,null,null,null,0,-36.849200000000003,-8204.1828082561442]
[null,81,47,null,null,null,null,null,null,0,{"$f":"IF($C63=0,入力!$W$27,0)+IF(AND($C63>=0,$C63<=入力!$W$29-1),入力!$W$35,0)+IF($C63<0,VLOOKUP(親1!$C63,入力!$W$11:$Z$16,4,1),0)","v":0},{"$f":"住居計算!D70","v":36.849200000000003},null,null,null,null,null,null,null,36.849200000000003,-36.849200000000003,null,null,null,null,null,null,null,0,-36.849200000000003,0,{"$f":"IF(C63<0,0,\nIF(MOD(C63,MAX(入力!$AI$29,1))=入力!$AI$29-1,入力!$AH$29,0)\n+IF(MOD(C63,MAX(入力!$AI$30,1))=入力!$AI$30-1,入力!$AH$30,0)\n+IF(MOD(C63,MAX(入力!$AI$31,1))=入力!$AI$31-1,入力!$AH$31,0)\n+IF(MOD(C63,MAX(入力!$AI$32,1))=入力!$AI$32-1,入力!$AH$32,0)\n+IF(MOD(C63,MAX(入力!$AI$33,1))=入力!$AI$33-1,入力!$AH$33,0)\n+IF(MOD(C63,MAX(入力!$AI$34,1))=入力!$AI$34-1,入力!$AH$34,0)\n+IF(MOD(C63,MAX(入力!$AI$35,1))=入力!$AI$35-1,入力!$AH$35,0)\n+IF(MOD(C63,MAX(入力!$AI$36,1))=入力!$AI$36-1,入力!$AH$36,0)\n+IF(MOD(C63,MAX(入力!$AI$37,1))=入力!$AI$37-1,入力!$AH$37,0)\n+IF(MOD(C63,MAX(入力!$AI$38,1))=入力!$AI$38-1,入力!$AH$38,0)\n)","v":0},null,null,null,null,0,-36.849200000000003,-8241.0320082561448]
[null,82,48,null,null,null,null,null,null,0,{"$f":"IF($C64=0,入力!$W$27,0)+IF(AND($C64>=0,$C64<=入力!$W$29-1),入力!$W$35,0)+IF($C64<0,VLOOKUP(親1!$C64,入力!$W$11:$Z$16,4,1),0)","v":0},{"$f":"住居計算!D71","v":36.849200000000003},null,null,null,null,null,null,null,36.849200000000003,-36.849200000000003,null,null,null,null,null,null,null,0,-36.849200000000003,0,{"$f":"IF(C64<0,0,\nIF(MOD(C64,MAX(入力!$AI$29,1))=入力!$AI$29-1,入力!$AH$29,0)\n+IF(MOD(C64,MAX(入力!$AI$30,1))=入力!$AI$30-1,入力!$AH$30,0)\n+IF(MOD(C64,MAX(入力!$AI$31,1))=入力!$AI$31-1,入力!$AH$31,0)\n+IF(MOD(C64,MAX(入力!$AI$32,1))=入力!$AI$32-1,入力!$AH$32,0)\n+IF(MOD(C64,MAX(入力!$AI$33,1))=入力!$AI$33-1,入力!$AH$33,0)\n+IF(MOD(C64,MAX(入力!$AI$34,1))=入力!$AI$34-1,入力!$AH$34,0)\n+IF(MOD(C64,MAX(入力!$AI$35,1))=入力!$AI$35-1,入力!$AH$35,0)\n+IF(MOD(C64,MAX(入力!$AI$36,1))=入力!$AI$36-1,入力!$AH$36,0)\n+IF(MOD(C64,MAX(入力!$AI$37,1))=入力!$AI$37-1,入力!$AH$37,0)\n+IF(MOD(C64,MAX(入力!$AI$38,1))=入力!$AI$38-1,入力!$AH$38,0)\n)","v":0},null,null,null,null,0,-36.849200000000003,-8277.8812082561453]
[null,83,49,null,null,null,null,null,null,0,{"$f":"IF($C65=0,入力!$W$27,0)+IF(AND($C65>=0,$C65<=入力!$W$29-1),入力!$W$35,0)+IF($C65<0,VLOOKUP(親1!$C65,入力!$W$11:$Z$16,4,1),0)","v":0},{"$f":"住居計算!D72","v":36.849200000000003},null,null,null,null,null,null,null,36.849200000000003,-36.849200000000003,null,null,null,null,null,null,null,0,-36.849200000000003,0,{"$f":"IF(C65<0,0,\nIF(MOD(C65,MAX(入力!$AI$29,1))=入力!$AI$29-1,入力!$AH$29,0)\n+IF(MOD(C65,MAX(入力!$AI$30,1))=入力!$AI$30-1,入力!$AH$30,0)\n+IF(MOD(C65,MAX(入力!$AI$31,1))=入力!$AI$31-1,入力!$AH$31,0)\n+IF(MOD(C65,MAX(入力!$AI$32,1))=入力!$AI$32-1,入力!$AH$32,0)\n+IF(MOD(C65,MAX(入力!$AI$33,1))=入力!$AI$33-1,入力!$AH$33,0)\n+IF(MOD(C65,MAX(入力!$AI$34,1))=入力!$AI$34-1,入力!$AH$34,0)\n+IF(MOD(C65,MAX(入力!$AI$35,1))=入力!$AI$35-1,入力!$AH$35,0)\n+IF(MOD(C65,MAX(入力!$AI$36,1))=入力!$AI$36-1,入力!$AH$36,0)\n+IF(MOD(C65,MAX(入力!$AI$37,1))=入力!$AI$37-1,入力!$AH$37,0)\n+IF(MOD(C65,MAX(入力!$AI$38,1))=入力!$AI$38-1,入力!$AH$38,0)\n)","v":0},null,null,null,null,0,-36.849200000000003,-8314.7304082561459]
[null,84,50,null,null,null,null,null,null,0,{"$f":"IF($C66=0,入力!$W$27,0)+IF(AND($C66>=0,$C66<=入力!$W$29-1),入力!$W$35,0)+IF($C66<0,VLOOKUP(親1!$C66,入力!$W$11:$Z$16,4,1),0)","v":0},{"$f":"住居計算!D73","v":36.849200000000003},null,null,null,null,null,null,null,36.849200000000003,-36.849200000000003,null,null,null,null,null,null,null,0,-36.849200000000003,0,{"$f":"IF(C66<0,0,\nIF(MOD(C66,MAX(入力!$AI$29,1))=入力!$AI$29-1,入力!$AH$29,0)\n+IF(MOD(C66,MAX(入力!$AI$30,1))=入力!$AI$30-1,入力!$AH$30,0)\n+IF(MOD(C66,MAX(入力!$AI$31,1))=入力!$AI$31-1,入力!$AH$31,0)\n+IF(MOD(C66,MAX(入力!$AI$32,1))=入力!$AI$32-1,入力!$AH$32,0)\n+IF(MOD(C66,MAX(入力!$AI$33,1))=入力!$AI$33-1,入力!$AH$33,0)\n+IF(MOD(C66,MAX(入力!$AI$34,1))=入力!$AI$34-1,入力!$AH$34,0)\n+IF(MOD(C66,MAX(入力!$AI$35,1))=入力!$AI$35-1,入力!$AH$35,0)\n+IF(MOD(C66,MAX(入力!$AI$36,1))=入力!$AI$36-1,入力!$AH$36,0)\n+IF(MOD(C66,MAX(入力!$AI$37,1))=入力!$AI$37-1,入力!$AH$37,0)\n+IF(MOD(C66,MAX(入力!$AI$38,1))=入力!$AI$38-1,入力!$AH$38,0)\n)","v":0},null,null,null,null,0,-36.849200000000003,-8351.5796082561465]
[null,85,51,null,null,null,null,null,null,0,{"$f":"IF($C67=0,入力!$W$27,0)+IF(AND($C67>=0,$C67<=入力!$W$29-1),入力!$W$35,0)+IF($C67<0,VLOOKUP(親1!$C67,入力!$W$11:$Z$16,4,1),0)","v":0},{"$f":"住居計算!D74","v":36.849200000000003},null,null,null,null,null,null,null,36.849200000000003,-36.849200000000003,null,null,null,null,null,null,null,0,-36.849200000000003,0,{"$f":"IF(C67<0,0,\nIF(MOD(C67,MAX(入力!$AI$29,1))=入力!$AI$29-1,入力!$AH$29,0)\n+IF(MOD(C67,MAX(入力!$AI$30,1))=入力!$AI$30-1,入力!$AH$30,0)\n+IF(MOD(C67,MAX(入力!$AI$31,1))=入力!$AI$31-1,入力!$AH$31,0)\n+IF(MOD(C67,MAX(入力!$AI$32,1))=入力!$AI$32-1,入力!$AH$32,0)\n+IF(MOD(C67,MAX(入力!$AI$33,1))=入力!$AI$33-1,入力!$AH$33,0)\n+IF(MOD(C67,MAX(入力!$AI$34,1))=入力!$AI$34-1,入力!$AH$34,0)\n+IF(MOD(C67,MAX(入力!$AI$35,1))=入力!$AI$35-1,入力!$AH$35,0)\n+IF(MOD(C67,MAX(入力!$AI$36,1))=入力!$AI$36-1,入力!$AH$36,0)\n+IF(MOD(C67,MAX(入力!$AI$37,1))=入力!$AI$37-1,入力!$AH$37,0)\n+IF(MOD(C67,MAX(入力!$AI$38,1))=入力!$AI$38-1,入力!$AH$38,0)\n)","v":0},null,null,null,null,0,-36.849200000000003,-8388.428808256147]
[null,86,52,null,null,null,null,null,null,0,{"$f":"IF($C68=0,入力!$W$27,0)+IF(AND($C68>=0,$C68<=入力!$W$29-1),入力!$W$35,0)+IF($C68<0,VLOOKUP(親1!$C68,入力!$W$11:$Z$16,4,1),0)","v":0},{"$f":"住居計算!D75","v":36.849200000000003},null,null,null,null,null,null,null,36.849200000000003,-36.849200000000003,null,null,null,null,null,null,null,0,-36.849200000000003,0,{"$f":"IF(C68<0,0,\nIF(MOD(C68,MAX(入力!$AI$29,1))=入力!$AI$29-1,入力!$AH$29,0)\n+IF(MOD(C68,MAX(入力!$AI$30,1))=入力!$AI$30-1,入力!$AH$30,0)\n+IF(MOD(C68,MAX(入力!$AI$31,1))=入力!$AI$31-1,入力!$AH$31,0)\n+IF(MOD(C68,MAX(入力!$AI$32,1))=入力!$AI$32-1,入力!$AH$32,0)\n+IF(MOD(C68,MAX(入力!$AI$33,1))=入力!$AI$33-1,入力!$AH$33,0)\n+IF(MOD(C68,MAX(入力!$AI$34,1))=入力!$AI$34-1,入力!$AH$34,0)\n+IF(MOD(C68,MAX(入力!$AI$35,1))=入力!$AI$35-1,入力!$AH$35,0)\n+IF(MOD(C68,MAX(入力!$AI$36,1))=入力!$AI$36-1,入力!$AH$36,0)\n+IF(MOD(C68,MAX(入力!$AI$37,1))=入力!$AI$37-1,入力!$AH$37,0)\n+IF(MOD(C68,MAX(入力!$AI$38,1))=入力!$AI$38-1,入力!$AH$38,0)\n)","v":0},null,null,null,null,0,-36.849200000000003,-8425.2780082561476]
[null,87,53,null,null,null,null,null,null,0,{"$f":"IF($C69=0,入力!$W$27,0)+IF(AND($C69>=0,$C69<=入力!$W$29-1),入力!$W$35,0)+IF($C69<0,VLOOKUP(親1!$C69,入力!$W$11:$Z$16,4,1),0)","v":0},{"$f":"住居計算!D76","v":36.849200000000003},null,null,null,null,null,null,null,36.849200000000003,-36.849200000000003,null,null,null,null,null,null,null,0,-36.849200000000003,0,{"$f":"IF(C69<0,0,\nIF(MOD(C69,MAX(入力!$AI$29,1))=入力!$AI$29-1,入力!$AH$29,0)\n+IF(MOD(C69,MAX(入力!$AI$30,1))=入力!$AI$30-1,入力!$AH$30,0)\n+IF(MOD(C69,MAX(入力!$AI$31,1))=入力!$AI$31-1,入力!$AH$31,0)\n+IF(MOD(C69,MAX(入力!$AI$32,1))=入力!$AI$32-1,入力!$AH$32,0)\n+IF(MOD(C69,MAX(入力!$AI$33,1))=入力!$AI$33-1,入力!$AH$33,0)\n+IF(MOD(C69,MAX(入力!$AI$34,1))=入力!$AI$34-1,入力!$AH$34,0)\n+IF(MOD(C69,MAX(入力!$AI$35,1))=入力!$AI$35-1,入力!$AH$35,0)\n+IF(MOD(C69,MAX(入力!$AI$36,1))=入力!$AI$36-1,入力!$AH$36,0)\n+IF(MOD(C69,MAX(入力!$AI$37,1))=入力!$AI$37-1,入力!$AH$37,0)\n+IF(MOD(C69,MAX(入力!$AI$38,1))=入力!$AI$38-1,入力!$AH$38,0)\n)","v":0},null,null,null,null,0,-36.849200000000003,-8462.1272082561482]
[null,88,54,null,null,null,null,null,null,{"$f":"SUM(E70:I70)","v":0},{"$f":"IF($C70=0,入力!$W$27,0)+IF(AND($C70>=0,$C70<=入力!$W$29-1),入力!$W$35,0)+IF($C70<0,VLOOKUP(親1!$C70,入力!$W$11:$Z$16,4,1),0)","v":0},{"$f":"住居計算!D77","v":36.849200000000003},null,null,null,null,null,null,null,{"$f":"SUM(K70:S70)","v":36.849200000000003},{"$f":"J70-T70","v":-36.849200000000003},null,null,null,null,null,null,null,{"$f":"SUM(V70:AB70)","v":0},{"$f":"U70-AC70","v":-36.849200000000003},0,{"$f":"IF(C70<0,0,\nIF(MOD(C70,MAX(入力!$AI$29,1))=入力!$AI$29-1,入力!$AH$29,0)\n+IF(MOD(C70,MAX(入力!$AI$30,1))=入力!$AI$30-1,入力!$AH$30,0)\n+IF(MOD(C70,MAX(入力!$AI$31,1))=入力!$AI$31-1,入力!$AH$31,0)\n+IF(MOD(C70,MAX(入力!$AI$32,1))=入力!$AI$32-1,入力!$AH$32,0)\n+IF(MOD(C70,MAX(入力!$AI$33,1))=入力!$AI$33-1,入力!$AH$33,0)\n+IF(MOD(C70,MAX(入力!$AI$34,1))=入力!$AI$34-1,入力!$AH$34,0)\n+IF(MOD(C70,MAX(入力!$AI$35,1))=入力!$AI$35-1,入力!$AH$35,0)\n+IF(MOD(C70,MAX(入力!$AI$36,1))=入力!$AI$36-1,入力!$AH$36,0)\n+IF(MOD(C70,MAX(入力!$AI$37,1))=入力!$AI$37-1,入力!$AH$37,0)\n+IF(MOD(C70,MAX(入力!$AI$38,1))=入力!$AI$38-1,入力!$AH$38,0)\n)","v":0},null,null,null,null,0,{"$f":"AD70-AK70","v":-36.849200000000003},{"$f":"AL70+AM69","v":-8498.9764082561487}]
[null,null,null,{"$f":"SUM(D6:D70)","v":0},0,0,null,0,0,0,5774.3997421368495,1854.5766661192943,0,0,0,0,0,null,{"$f":"SUM(S6:S70)","v":0},7628.9764082561405,-7628.9764082561405,0,0,0,0,0,0,0,0,-7628.9764082561405,0,870,0,0,0,0,870,{"$f":"SUM(AL5:AL70)","v":-8498.9764082561487}]

{"sheet":"車_大物家電","index":10,"n_rows":71,"n_cols":47,"rows_kept":71,"cut":false,"hidden":false,"merged":[]}
[]
[null,null,null,null,null,null,null,null,null,"収入",null,null,null,null,null,null,null,null,null,null,"収支 小計",null,null,null,null,null,null,null,null,"収支 小計",null,null,null,null,null,null,null,"収支","収支累計"]
[null,null,null,null,null,null,null,null,null,null,null,null,null,null,null,null,null,null,null,"支出1  衣食住",null,null,null,null,null,null,null,null,"支出2  固定費",null,null,null,null,null,null,null,"支出3  衣食住勉"]
[null,"西暦","年齢","年収","手取り","時短等","退職金","年金",null,null,"住居","住居維持費\n(含むローン控除)","食費","服費","電気","ガス","水道","保険",null,null,null,"インターネット","携帯","塾・仕送り","習い事","学費",null,null,null,null,"お小遣い","雑費","大物家電","車1","車2","車維持費","合計",null,null,null,null,null,"車検","保険","駐車場",null,"車有無"]
[null,"貯金"]
[{"$f":"-入力!$AD$21","v":-3},19,{"$f":"親1!$C$6","v":24},null,null,null,null,null,null,{"$f":"SUM(E6:I6)","v":0},null,null,null,null,null,null,null,null,null,{"$f":"SUM(K6:S6)","v":0},{"$f":"J6-T6","v":0},null,null,null,null,null,null,null,{"$f":"SUM(V6:AB6)","v":0},{"$f":"U6-AC6","v":0},{"$f":"AE$1","v":0},null,{"$f":"IF(MOD(C6,MAX(入力!$AE$29,1))=入力!$AE$29-1,入力!$AD$29,0)\n+IF(MOD(C6,MAX(入力!$AE$30,1))=入力!$AE$30-1,入力!$AD$30,0)\n+IF(MOD(C6,MAX(入力!$AE$31,1))=入力!$AE$31-1,入力!$AD$31,0)\n+IF(MOD(C6,MAX(入力!$AE$32,1))=入力!$AE$32-1,入力!$AD$32,0)\n+IF(MOD(C6,MAX(入力!$AE$33,1))=入力!$AE$33-1,入力!$AD$33,0)\n+IF(MOD(C6,MAX(入力!$AE$34,1))=入力!$AE$34-1,入力!$AD$34,0)\n+IF(MOD(C6,MAX(入力!$AE$35,1))=入力!$AE$35-1,入力!$AD$35,0)","v":3},{"$f":"IF(AND($C6>=入力!$AC$24,$C6<=入力!$AD$24,MOD(A6,入力!AG$24)=0),入力!$AL$24,IF(AND($C6>=入力!$AC$25,$C6<=入力!$AD$25,MOD(A6,入力!$AG$25)=0),入力!$AL$25,0))","v":0},{"$f":"IF(AND($C6>=入力!$AC$24,$C6<=入力!$AD$24),入力!$AF$24/60*12,IF(AND($C6>=入力!$AC$25,$C6<=入力!$AD$25),入力!$AF$25/60*12,0))","v":0},{"$f":"AU6","v":21.5},{"$f":"SUM(AE6:AJ6)","v":24.5},{"$f":"AD6-AK6","v":-24.5},{"$f":"AL6+AM5","v":-24.5},null,null,{"$f":"住居計算!A13","v":"賃貸"},{"$f":"IF(AND($C6>=入力!$AC$24,$C6<=入力!$AD$24),入力!$AH$24/2,IF(AND($C6>=入力!$AC$25,$C6<=入力!$AD$25),入力!$AH$25/2,0))","v":5},{"$f":"IF(AND($C6>=入力!$AC$24,$C6<=入力!$AD$24),入力!$AI$24,IF(AND($C6>=入力!$AC$25,$C6<=入力!$AD$25),入力!$AI$25,0))","v":4.5},{"$f":"IF(AND($C6>=入力!$AC$24,$C6<=入力!$AD$24),入力!$AJ$24*12,IF(AND($C6>=入力!$AC$25,$C6<=入力!$AD$25),入力!$AJ$25*12,0))","v":12},{"$f":"IF(AP6=\"1戸建て\",AQ6+AR6,SUM(AQ6:AS6))","v":21.5},{"$f":"IF(AND($C6>=入力!$AC$24,$C6<=入力!$AD$24,SUM(入力!$AE$24:$AF$24)>0),車_大物家電!AT6,IF(AND($C6>=入力!$AC$25,$C6<=入力!$AD$25,SUM(入力!$AE$25:$AF$25)>0),車_大物家電!AT6,0))","v":21.5}]
[{"$f":"A6+1","v":-2},{"$f":"B6+1","v":20},25,null,null,null,null,null,null,0,null,null,null,null,null,null,null,null,null,0,0,null,null,null,null,null,null,null,0,0,{"$f":"AE$1","v":0},null,{"$f":"IF(MOD(C7,MAX(入力!$AE$29,1))=入力!$AE$29-1,入力!$AD$29,0)\n+IF(MOD(C7,MAX(入力!$AE$30,1))=入力!$AE$30-1,入力!$AD$30,0)\n+IF(MOD(C7,MAX(入力!$AE$31,1))=入力!$AE$31-1,入力!$AD$31,0)\n+IF(MOD(C7,MAX(入力!$AE$32,1))=入力!$AE$32-1,入力!$AD$32,0)\n+IF(MOD(C7,MAX(入力!$AE$33,1))=入力!$AE$33-1,入力!$AD$33,0)\n+IF(MOD(C7,MAX(入力!$AE$34,1))=入力!$AE$34-1,入力!$AD$34,0)\n+IF(MOD(C7,MAX(入力!$AE$35,1))=入力!$AE$35-1,入力!$AD$35,0)","v":0},{"$f":"IF(AND($C7>=入力!$AC$24,$C7<=入力!$AD$24,MOD(A7,入力!AG$24)=0),入力!$AL$24,IF(AND($C7>=入力!$AC$25,$C7<=入力!$AD$25,MOD(A7,入力!$AG$25)=0),入力!$AL$25,0))","v":0},{"$f":"IF(AND($C7>=入力!$AC$24,$C7<=入力!$AD$24),入力!$AF$24/60*12,IF(AND($C7>=入力!$AC$25,$C7<=入力!$AD$25),入力!$AF$25/60*12,0))","v":0},{"$f":"AU7","v":21.5},{"$f":"SUM(AE7:AJ7)","v":21.5},-21.5,-46,null,null,{"$f":"住居計算!A14","v":"賃貸"},{"$f":"IF(AND($C7>=入力!$AC$24,$C7<=入力!$AD$24),入力!$AH$24/2,IF(AND($C7>=入力!$AC$25,$C7<=入力!$AD$25),入力!$AH$25/2,0))","v":5},{"$f":"IF(AND($C7>=入力!$AC$24,$C7<=入力!$AD$24),入力!$AI$24,IF(AND($C7>=入力!$AC$25,$C7<=入力!$AD$25),入力!$AI$25,0))","v":4.5},{"$f":"IF(AND($C7>=入力!$AC$24,$C7<=入力!$AD$24),入力!$AJ$24*12,IF(AND($C7>=入力!$AC$25,$C7<=入力!$AD$25),入力!$AJ$25*12,0))","v":12},{"$f":"IF(AP7=\"1戸建て\",AQ7+AR7,SUM(AQ7:AS7))","v":21.5},{"$f":"IF(AND($C7>=入力!$AC$24,$C7<=入力!$AD$24,SUM(入力!$AE$24:$AF$24)>0),車_大物家電!AT7,IF(AND($C7>=入力!$AC$25,$C7<=入力!$AD$25,SUM(入力!$AE$25:$AF$25)>0),車_大物家電!AT7,0))","v":21.5}]
[{"$f":"A7+1","v":-1},21,26,null,null,null,null,null,null,0,null,null,null,null,null,null,null,null,null,0,0,null,null,null,null,null,null,null,0,0,0,null,{"$f":"IF(MOD(C8,MAX(入力!$AE$29,1))=入力!$AE$29-1,入力!$AD$29,0)\n+IF(MOD(C8,MAX(入力!$AE$30,1))=入力!$AE$30-1,入力!$AD$30,0)\n+IF(MOD(C8,MAX(入力!$AE$31,1))=入力!$AE$31-1,入力!$AD$31,0)\n+IF(MOD(C8,MAX(入力!$AE$32,1))=入力!$AE$32-1,入力!$AD$32,0)\n+IF(MOD(C8,MAX(入力!$AE$33,1))=入力!$AE$33-1,入力!$AD$33,0)\n+IF(MOD(C8,MAX(入力!$AE$34,1))=入力!$AE$34-1,入力!$AD$34,0)\n+IF(MOD(C8,MAX(入力!$AE$35,1))=入力!$AE$35-1,入力!$AD$35,0)","v":0},{"$f":"IF(AND($C8>=入力!$AC$24,$C8<=入力!$AD$24,MOD(A8,入力!AG$24)=0),入力!$AL$24,IF(AND($C8>=入力!$AC$25,$C8<=入力!$AD$25,MOD(A8,入力!$AG$25)=0),入力!$AL$25,0))","v":0},{"$f":"IF(AND($C8>=入力!$AC$24,$C8<=入力!$AD$24),入力!$AF$24/60*12,IF(AND($C8>=入力!$AC$25,$C8<=入力!$AD$25),入力!$AF$25/60*12,0))","v":0},21.5,21.5,-21.5,-67.5,null,null,{"$f":"住居計算!A15","v":"賃貸"},{"$f":"IF(AND($C8>=入力!$AC$24,$C8<=入力!$AD$24),入力!$AH$24/2,IF(AND($C8>=入力!$AC$25,$C8<=入力!$AD$25),入力!$AH$25/2,0))","v":5},{"$f":"IF(AND($C8>=入力!$AC$24,$C8<=入力!$AD$24),入力!$AI$24,IF(AND($C8>=入力!$AC$25,$C8<=入力!$AD$25),入力!$AI$25,0))","v":4.5},{"$f":"IF(AND($C8>=入力!$AC$24,$C8<=入力!$AD$24),入力!$AJ$24*12,IF(AND($C8>=入力!$AC$25,$C8<=入力!$AD$25),入力!$AJ$25*12,0))","v":12},21.5,{"$f":"IF(AND($C8>=入力!$AC$24,$C8<=入力!$AD$24,SUM(入力!$AE$24:$AF$24)>0),車_大物家電!AT8,IF(AND($C8>=入力!$AC$25,$C8<=入力!$AD$25,SUM(入力!$AE$25:$AF$25)>0),車_大物家電!AT8,0))","v":21.5}]
[0,22,27,null,null,null,null,null,null,0,null,null,null,null,null,null,null,null,null,0,0,null,null,null,null,null,null,null,0,0,0,null,{"$f":"IF(MOD(C9,MAX(入力!$AE$29,1))=入力!$AE$29-1,入力!$AD$29,0)\n+IF(MOD(C9,MAX(入力!$AE$30,1))=入力!$AE$30-1,入力!$AD$30,0)\n+IF(MOD(C9,MAX(入力!$AE$31,1))=入力!$AE$31-1,入力!$AD$31,0)\n+IF(MOD(C9,MAX(入力!$AE$32,1))=入力!$AE$32-1,入力!$AD$32,0)\n+IF(MOD(C9,MAX(入力!$AE$33,1))=入力!$AE$33-1,入力!$AD$33,0)\n+IF(MOD(C9,MAX(入力!$AE$34,1))=入力!$AE$34-1,入力!$AD$34,0)\n+IF(MOD(C9,MAX(入力!$AE$35,1))=入力!$AE$35-1,入力!$AD$35,0)","v":0},{"$f":"IF(AND($C9>=入力!$AC$24,$C9<=入力!$AD$24,MOD(A9,入力!AG$24)=0),入力!$AL$24,IF(AND($C9>=入力!$AC$25,$C9<=入力!$AD$25,MOD(A9,入力!$AG$25)=0),入力!$AL$25,0))","v":300},{"$f":"IF(AND($C9>=入力!$AC$24,$C9<=入力!$AD$24),入力!$AF$24/60*12,IF(AND($C9>=入力!$AC$25,$C9<=入力!$AD$25),入力!$AF$25/60*12,0))","v":0},21.5,321.5,-321.5,-389,null,null,{"$f":"住居計算!A16","v":"賃貸"},{"$f":"IF(AND($C9>=入力!$AC$24,$C9<=入力!$AD$24),入力!$AH$24/2,IF(AND($C9>=入力!$AC$25,$C9<=入力!$AD$25),入力!$AH$25/2,0))","v":5},{"$f":"IF(AND($C9>=入力!$AC$24,$C9<=入力!$AD$24),入力!$AI$24,IF(AND($C9>=入力!$AC$25,$C9<=入力!$AD$25),入力!$AI$25,0))","v":4.5},{"$f":"IF(AND($C9>=入力!$AC$24,$C9<=入力!$AD$24),入力!$AJ$24*12,IF(AND($C9>=入力!$AC$25,$C9<=入力!$AD$25),入力!$AJ$25*12,0))","v":12},21.5,{"$f":"IF(AND($C9>=入力!$AC$24,$C9<=入力!$AD$24,SUM(入力!$AE$24:$AF$24)>0),車_大物家電!AT9,IF(AND($C9>=入力!$AC$25,$C9<=入力!$AD$25,SUM(入力!$AE$25:$AF$25)>0),車_大物家電!AT9,0))","v":21.5}]
[1,23,28,null,null,null,null,null,null,0,null,null,null,null,null,null,null,null,null,0,0,null,null,null,null,null,null,null,0,0,0,null,{"$f":"IF(MOD(C10,MAX(入力!$AE$29,1))=入力!$AE$29-1,入力!$AD$29,0)\n+IF(MOD(C10,MAX(入力!$AE$30,1))=入力!$AE$30-1,入力!$AD$30,0)\n+IF(MOD(C10,MAX(入力!$AE$31,1))=入力!$AE$31-1,入力!$AD$31,0)\n+IF(MOD(C10,MAX(入力!$AE$32,1))=入力!$AE$32-1,入力!$AD$32,0)\n+IF(MOD(C10,MAX(入力!$AE$33,1))=入力!$AE$33-1,入力!$AD$33,0)\n+IF(MOD(C10,MAX(入力!$AE$34,1))=入力!$AE$34-1,入力!$AD$34,0)\n+IF(MOD(C10,MAX(入力!$AE$35,1))=入力!$AE$35-1,入力!$AD$35,0)","v":0},{"$f":"IF(AND($C10>=入力!$AC$24,$C10<=入力!$AD$24,MOD(A10,入力!AG$24)=0),入力!$AL$24,IF(AND($C10>=入力!$AC$25,$C10<=入力!$AD$25,MOD(A10,入力!$AG$25)=0),入力!$AL$25,0))","v":0},{"$f":"IF(AND($C10>=入力!$AC$24,$C10<=入力!$AD$24),入力!$AF$24/60*12,IF(AND($C10>=入力!$AC$25,$C10<=入力!$AD$25),入力!$AF$25/60*12,0))","v":0},21.5,21.5,-21.5,-410.5,null,null,{"$f":"住居計算!A17","v":"賃貸"},{"$f":"IF(AND($C10>=入力!$AC$24,$C10<=入力!$AD$24),入力!$AH$24/2,IF(AND($C10>=入力!$AC$25,$C10<=入力!$AD$25),入力!$AH$25/2,0))","v":5},{"$f":"IF(AND($C10>=入力!$AC$24,$C10<=入力!$AD$24),入力!$AI$24,IF(AND($C10>=入力!$AC$25,$C10<=入力!$AD$25),入力!$AI$25,0))","v":4.5},{"$f":"IF(AND($C10>=入力!$AC$24,$C10<=入力!$AD$24),入力!$AJ$24*12,IF(AND($C10>=入力!$AC$25,$C10<=入力!$AD$25),入力!$AJ$25*12,0))","v":12},21.5,{"$f":"IF(AND($C10>=入力!$AC$24,$C10<=入力!$AD$24,SUM(入力!$AE$24:$AF$24)>0),車_大物家電!AT10,IF(AND($C10>=入力!$AC$25,$C10<=入力!$AD$25,SUM(入力!$AE$25:$AF$25)>0),車_大物家電!AT10,0))","v":21.5}]
[2,24,29,null,null,null,null,null,null,0,null,null,null,null,null,null,null,null,null,0,0,null,null,null,null,null,null,null,0,0,0,null,{"$f":"IF(MOD(C11,MAX(入力!$AE$29,1))=入力!$AE$29-1,入力!$AD$29,0)\n+IF(MOD(C11,MAX(入力!$AE$30,1))=入力!$AE$30-1,入力!$AD$30,0)\n+IF(MOD(C11,MAX(入力!$AE$31,1))=入力!$AE$31-1,入力!$AD$31,0)\n+IF(MOD(C11,MAX(入力!$AE$32,1))=入力!$AE$32-1,入力!$AD$32,0)\n+IF(MOD(C11,MAX(入力!$AE$33,1))=入力!$AE$33-1,入力!$AD$33,0)\n+IF(MOD(C11,MAX(入力!$AE$34,1))=入力!$AE$34-1,入力!$AD$34,0)\n+IF(MOD(C11,MAX(入力!$AE$35,1))=入力!$AE$35-1,入力!$AD$35,0)","v":57},{"$f":"IF(AND($C11>=入力!$AC$24,$C11<=入力!$AD$24,MOD(A11,入力!AG$24)=0),入力!$AL$24,IF(AND($C11>=入力!$AC$25,$C11<=入力!$AD$25,MOD(A11,入力!$AG$25)=0),入力!$AL$25,0))","v":0},{"$f":"IF(AND($C11>=入力!$AC$24,$C11<=入力!$AD$24),入力!$AF$24/60*12,IF(AND($C11>=入力!$AC$25,$C11<=入力!$AD$25),入力!$AF$25/60*12,0))","v":0},21.5,78.5,-78.5,-489,null,null,{"$f":"住居計算!A18","v":"賃貸"},{"$f":"IF(AND($C11>=入力!$AC$24,$C11<=入力!$AD$24),入力!$AH$24/2,IF(AND($C11>=入力!$AC$25,$C11<=入力!$AD$25),入力!$AH$25/2,0))","v":5},{"$f":"IF(AND($C11>=入力!$AC$24,$C11<=入力!$AD$24),入力!$AI$24,IF(AND($C11>=入力!$AC$25,$C11<=入力!$AD$25),入力!$AI$25,0))","v":4.5},{"$f":"IF(AND($C11>=入力!$AC$24,$C11<=入力!$AD$24),入力!$AJ$24*12,IF(AND($C11>=入力!$AC$25,$C11<=入力!$AD$25),入力!$AJ$25*12,0))","v":12},21.5,{"$f":"IF(AND($C11>=入力!$AC$24,$C11<=入力!$AD$24,SUM(入力!$AE$24:$AF$24)>0),車_大物家電!AT11,IF(AND($C11>=入力!$AC$25,$C11<=入力!$AD$25,SUM(入力!$AE$25:$AF$25)>0),車_大物家電!AT11,0))","v":21.5}]
[3,25,30,null,null,null,null,null,null,0,null,null,null,null,null,null,null,null,null,0,0,null,null,null,null,null,null,null,0,0,0,null,{"$f":"IF(MOD(C12,MAX(入力!$AE$29,1))=入力!$AE$29-1,入力!$AD$29,0)\n+IF(MOD(C12,MAX(入力!$AE$30,1))=入力!$AE$30-1,入力!$AD$30,0)\n+IF(MOD(C12,MAX(入力!$AE$31,1))=入力!$AE$31-1,入力!$AD$31,0)\n+IF(MOD(C12,MAX(入力!$AE$32,1))=入力!$AE$32-1,入力!$AD$32,0)\n+IF(MOD(C12,MAX(入力!$AE$33,1))=入力!$AE$33-1,入力!$AD$33,0)\n+IF(MOD(C12,MAX(入力!$AE$34,1))=入力!$AE$34-1,入力!$AD$34,0)\n+IF(MOD(C12,MAX(入力!$AE$35,1))=入力!$AE$35-1,入力!$AD$35,0)","v":0},{"$f":"IF(AND($C12>=入力!$AC$24,$C12<=入力!$AD$24,MOD(A12,入力!AG$24)=0),入力!$AL$24,IF(AND($C12>=入力!$AC$25,$C12<=入力!$AD$25,MOD(A12,入力!$AG$25)=0),入力!$AL$25,0))","v":0},{"$f":"IF(AND($C12>=入力!$AC$24,$C12<=入力!$AD$24),入力!$AF$24/60*12,IF(AND($C12>=入力!$AC$25,$C12<=入力!$AD$25),入力!$AF$25/60*12,0))","v":0},21.5,21.5,-21.5,-510.5,null,null,{"$f":"住居計算!A19","v":"賃貸"},{"$f":"IF(AND($C12>=入力!$AC$24,$C12<=入力!$AD$24),入力!$AH$24/2,IF(AND($C12>=入力!$AC$25,$C12<=入力!$AD$25),入力!$AH$25/2,0))","v":5},{"$f":"IF(AND($C12>=入力!$AC$24,$C12<=入力!$AD$24),入力!$AI$24,IF(AND($C12>=入力!$AC$25,$C12<=入力!$AD$25),入力!$AI$25,0))","v":4.5},{"$f":"IF(AND($C12>=入力!$AC$24,$C12<=入力!$AD$24),入力!$AJ$24*12,IF(AND($C12>=入力!$AC$25,$C12<=入力!$AD$25),入力!$AJ$25*12,0))","v":12},21.5,{"$f":"IF(AND($C12>=入力!$AC$24,$C12<=入力!$AD$24,SUM(入力!$AE$24:$AF$24)>0),車_大物家電!AT12,IF(AND($C12>=入力!$AC$25,$C12<=入力!$AD$25,SUM(入力!$AE$25:$AF$25)>0),車_大物家電!AT12,0))","v":21.5}]
[4,26,31,null,null,null,null,null,null,0,null,null,null,null,null,null,null,null,null,0,0,null,null,null,null,null,null,null,0,0,0,null,{"$f":"IF(MOD(C13,MAX(入力!$AE$29,1))=入力!$AE$29-1,入力!$AD$29,0)\n+IF(MOD(C13,MAX(入力!$AE$30,1))=入力!$AE$30-1,入力!$AD$30,0)\n+IF(MOD(C13,MAX(入力!$AE$31,1))=入力!$AE$31-1,入力!$AD$31,0)\n+IF(MOD(C13,MAX(入力!$AE$32,1))=入力!$AE$32-1,入力!$AD$32,0)\n+IF(MOD(C13,MAX(入力!$AE$33,1))=入力!$AE$33-1,入力!$AD$33,0)\n+IF(MOD(C13,MAX(入力!$AE$34,1))=入力!$AE$34-1,入力!$AD$34,0)\n+IF(MOD(C13,MAX(入力!$AE$35,1))=入力!$AE$35-1,入力!$AD$35,0)","v":0},{"$f":"IF(AND($C13>=入力!$AC$24,$C13<=入力!$AD$24,MOD(A13,入力!AG$24)=0),入力!$AL$24,IF(AND($C13>=入力!$AC$25,$C13<=入力!$AD$25,MOD(A13,入力!$AG$25)=0),入力!$AL$25,0))","v":0},{"$f":"IF(AND($C13>=入力!$AC$24,$C13<=入力!$AD$24),入力!$AF$24/60*12,IF(AND($C13>=入力!$AC$25,$C13<=入力!$AD$25),入力!$AF$25/60*12,0))","v":0},21.5,21.5,-21.5,-532,null,null,{"$f":"住居計算!A20","v":"賃貸"},{"$f":"IF(AND($C13>=入力!$AC$24,$C13<=入力!$AD$24),入力!$AH$24/2,IF(AND($C13>=入力!$AC$25,$C13<=入力!$AD$25),入力!$AH$25/2,0))","v":5},{"$f":"IF(AND($C13>=入力!$AC$24,$C13<=入力!$AD$24),入力!$AI$24,IF(AND($C13>=入力!$AC$25,$C13<=入力!$AD$25),入力!$AI$25,0))","v":4.5},{"$f":"IF(AND($C13>=入力!$AC$24,$C13<=入力!$AD$24),入力!$AJ$24*12,IF(AND($C13>=入力!$AC$25,$C13<=入力!$AD$25),入力!$AJ$25*12,0))","v":12},21.5,{"$f":"IF(AND($C13>=入力!$AC$24,$C13<=入力!$AD$24,SUM(入力!$AE$24:$AF$24)>0),車_大物家電!AT13,IF(AND($C13>=入力!$AC$25,$C13<=入力!$AD$25,SUM(入力!$AE$25:$AF$25)>0),車_大物家電!AT13,0))","v":21.5}]
[5,27,32,null,null,null,null,null,null,0,null,null,null,null,null,null,null,null,null,0,0,null,null,null,null,null,null,null,0,0,0,null,{"$f":"IF(MOD(C14,MAX(入力!$AE$29,1))=入力!$AE$29-1,入力!$AD$29,0)\n+IF(MOD(C14,MAX(入力!$AE$30,1))=入力!$AE$30-1,入力!$AD$30,0)\n+IF(MOD(C14,MAX(入力!$AE$31,1))=入力!$AE$31-1,入力!$AD$31,0)\n+IF(MOD(C14,MAX(入力!$AE$32,1))=入力!$AE$32-1,入力!$AD$32,0)\n+IF(MOD(C14,MAX(入力!$AE$33,1))=入力!$AE$33-1,入力!$AD$33,0)\n+IF(MOD(C14,MAX(入力!$AE$34,1))=入力!$AE$34-1,入力!$AD$34,0)\n+IF(MOD(C14,MAX(入力!$AE$35,1))=入力!$AE$35-1,入力!$AD$35,0)","v":0},{"$f":"IF(AND($C14>=入力!$AC$24,$C14<=入力!$AD$24,MOD(A14,入力!AG$24)=0),入力!$AL$24,IF(AND($C14>=入力!$AC$25,$C14<=入力!$AD$25,MOD(A14,入力!$AG$25)=0),入力!$AL$25,0))","v":0},{"$f":"IF(AND($C14>=入力!$AC$24,$C14<=入力!$AD$24),入力!$AF$24/60*12,IF(AND($C14>=入力!$AC$25,$C14<=入力!$AD$25),入力!$AF$25/60*12,0))","v":0},21.5,21.5,-21.5,-553.5,null,null,{"$f":"住居計算!A21","v":"賃貸"},{"$f":"IF(AND($C14>=入力!$AC$24,$C14<=入力!$AD$24),入力!$AH$24/2,IF(AND($C14>=入力!$AC$25,$C14<=入力!$AD$25),入力!$AH$25/2,0))","v":5},{"$f":"IF(AND($C14>=入力!$AC$24,$C14<=入力!$AD$24),入力!$AI$24,IF(AND($C14>=入力!$AC$25,$C14<=入力!$AD$25),入力!$AI$25,0))","v":4.5},{"$f":"IF(AND($C14>=入力!$AC$24,$C14<=入力!$AD$24),入力!$AJ$24*12,IF(AND($C14>=入力!$AC$25,$C14<=入力!$AD$25),入力!$AJ$25*12,0))","v":12},21.5,{"$f":"IF(AND($C14>=入力!$AC$24,$C14<=入力!$AD$24,SUM(入力!$AE$24:$AF$24)>0),車_大物家電!AT14,IF(AND($C14>=入力!$AC$25,$C14<=入力!$AD$25,SUM(入力!$AE$25:$AF$25)>0),車_大物家電!AT14,0))","v":21.5}]
[6,28,33,null,null,null,null,null,null,0,null,null,null,null,null,null,null,null,null,0,0,null,null,null,null,null,null,null,0,0,0,null,{"$f":"IF(MOD(C15,MAX(入力!$AE$29,1))=入力!$AE$29-1,入力!$AD$29,0)\n+IF(MOD(C15,MAX(入力!$AE$30,1))=入力!$AE$30-1,入力!$AD$30,0)\n+IF(MOD(C15,MAX(入力!$AE$31,1))=入力!$AE$31-1,入力!$AD$31,0)\n+IF(MOD(C15,MAX(入力!$AE$32,1))=入力!$AE$32-1,入力!$AD$32,0)\n+IF(MOD(C15,MAX(入力!$AE$33,1))=入力!$AE$33-1,入力!$AD$33,0)\n+IF(MOD(C15,MAX(入力!$AE$34,1))=入力!$AE$34-1,入力!$AD$34,0)\n+IF(MOD(C15,MAX(入力!$AE$35,1))=入力!$AE$35-1,入力!$AD$35,0)","v":0},{"$f":"IF(AND($C15>=入力!$AC$24,$C15<=入力!$AD$24,MOD(A15,入力!AG$24)=0),入力!$AL$24,IF(AND($C15>=入力!$AC$25,$C15<=入力!$AD$25,MOD(A15,入力!$AG$25)=0),入力!$AL$25,0))","v":0},{"$f":"IF(AND($C15>=入力!$AC$24,$C15<=入力!$AD$24),入力!$AF$24/60*12,IF(AND($C15>=入力!$AC$25,$C15<=入力!$AD$25),入力!$AF$25/60*12,0))","v":0},21.5,21.5,-21.5,-575,null,null,{"$f":"住居計算!A22","v":"賃貸"},{"$f":"IF(AND($C15>=入力!$AC$24,$C15<=入力!$AD$24),入力!$AH$24/2,IF(AND($C15>=入力!$AC$25,$C15<=入力!$AD$25),入力!$AH$25/2,0))","v":5},{"$f":"IF(AND($C15>=入力!$AC$24,$C15<=入力!$AD$24),入力!$AI$24,IF(AND($C15>=入力!$AC$25,$C15<=入力!$AD$25),入力!$AI$25,0))","v":4.5},{"$f":"IF(AND($C15>=入力!$AC$24,$C15<=入力!$AD$24),入力!$AJ$24*12,IF(AND($C15>=入力!$AC$25,$C15<=入力!$AD$25),入力!$AJ$25*12,0))","v":12},21.5,{"$f":"IF(AND($C15>=入力!$AC$24,$C15<=入力!$AD$24,SUM(入力!$AE$24:$AF$24)>0),車_大物家電!AT15,IF(AND($C15>=入力!$AC$25,$C15<=入力!$AD$25,SUM(入力!$AE$25:$AF$25)>0),車_大物家電!AT15,0))","v":21.5}]
[7,29,34,null,null,null,null,null,null,0,null,null,null,null,null,null,null,null,null,0,0,null,null,null,null,null,null,null,0,0,0,null,{"$f":"IF(MOD(C16,MAX(入力!$AE$29,1))=入力!$AE$29-1,入力!$AD$29,0)\n+IF(MOD(C16,MAX(入力!$AE$30,1))=入力!$AE$30-1,入力!$AD$30,0)\n+IF(MOD(C16,MAX(入力!$AE$31,1))=入力!$AE$31-1,入力!$AD$31,0)\n+IF(MOD(C16,MAX(入力!$AE$32,1))=入力!$AE$32-1,入力!$AD$32,0)\n+IF(MOD(C16,MAX(入力!$AE$33,1))=入力!$AE$33-1,入力!$AD$33,0)\n+IF(MOD(C16,MAX(入力!$AE$34,1))=入力!$AE$34-1,入力!$AD$34,0)\n+IF(MOD(C16,MAX(入力!$AE$35,1))=入力!$AE$35-1,入力!$AD$35,0)","v":3},{"$f":"IF(AND($C16>=入力!$AC$24,$C16<=入力!$AD$24,MOD(A16,入力!AG$24)=0),入力!$AL$24,IF(AND($C16>=入力!$AC$25,$C16<=入力!$AD$25,MOD(A16,入力!$AG$25)=0),入力!$AL$25,0))","v":300},{"$f":"IF(AND($C16>=入力!$AC$24,$C16<=入力!$AD$24),入力!$AF$24/60*12,IF(AND($C16>=入力!$AC$25,$C16<=入力!$AD$25),入力!$AF$25/60*12,0))","v":0},21.5,324.5,-324.5,-899.5,null,null,{"$f":"住居計算!A23","v":"マンション"},{"$f":"IF(AND($C16>=入力!$AC$24,$C16<=入力!$AD$24),入力!$AH$24/2,IF(AND($C16>=入力!$AC$25,$C16<=入力!$AD$25),入力!$AH$25/2,0))","v":5},{"$f":"IF(AND($C16>=入力!$AC$24,$C16<=入力!$AD$24),入力!$AI$24,IF(AND($C16>=入力!$AC$25,$C16<=入力!$AD$25),入力!$AI$25,0))","v":4.5},{"$f":"IF(AND($C16>=入力!$AC$24,$C16<=入力!$AD$24),入力!$AJ$24*12,IF(AND($C16>=入力!$AC$25,$C16<=入力!$AD$25),入力!$AJ$25*12,0))","v":12},21.5,{"$f":"IF(AND($C16>=入力!$AC$24,$C16<=入力!$AD$24,SUM(入力!$AE$24:$AF$24)>0),車_大物家電!AT16,IF(AND($C16>=入力!$AC$25,$C16<=入力!$AD$25,SUM(入力!$AE$25:$AF$25)>0),車_大物家電!AT16,0))","v":21.5}]
[8,30,35,null,null,null,null,null,null,0,null,null,null,null,null,null,null,null,null,0,0,null,null,null,null,null,null,null,0,0,0,null,{"$f":"IF(MOD(C17,MAX(入力!$AE$29,1))=入力!$AE$29-1,入力!$AD$29,0)\n+IF(MOD(C17,MAX(入力!$AE$30,1))=入力!$AE$30-1,入力!$AD$30,0)\n+IF(MOD(C17,MAX(入力!$AE$31,1))=入力!$AE$31-1,入力!$AD$31,0)\n+IF(MOD(C17,MAX(入力!$AE$32,1))=入力!$AE$32-1,入力!$AD$32,0)\n+IF(MOD(C17,MAX(入力!$AE$33,1))=入力!$AE$33-1,入力!$AD$33,0)\n+IF(MOD(C17,MAX(入力!$AE$34,1))=入力!$AE$34-1,入力!$AD$34,0)\n+IF(MOD(C17,MAX(入力!$AE$35,1))=入力!$AE$35-1,入力!$AD$35,0)","v":0},{"$f":"IF(AND($C17>=入力!$AC$24,$C17<=入力!$AD$24,MOD(A17,入力!AG$24)=0),入力!$AL$24,IF(AND($C17>=入力!$AC$25,$C17<=入力!$AD$25,MOD(A17,入力!$AG$25)=0),入力!$AL$25,0))","v":0},{"$f":"IF(AND($C17>=入力!$AC$24,$C17<=入力!$AD$24),入力!$AF$24/60*12,IF(AND($C17>=入力!$AC$25,$C17<=入力!$AD$25),入力!$AF$25/60*12,0))","v":0},21.5,21.5,-21.5,-921,null,null,{"$f":"住居計算!A24","v":"マンション"},{"$f":"IF(AND($C17>=入力!$AC$24,$C17<=入力!$AD$24),入力!$AH$24/2,IF(AND($C17>=入力!$AC$25,$C17<=入力!$AD$25),入力!$AH$25/2,0))","v":5},{"$f":"IF(AND($C17>=入力!$AC$24,$C17<=入力!$AD$24),入力!$AI$24,IF(AND($C17>=入力!$AC$25,$C17<=入力!$AD$25),入力!$AI$25,0))","v":4.5},{"$f":"IF(AND($C17>=入力!$AC$24,$C17<=入力!$AD$24),入力!$AJ$24*12,IF(AND($C17>=入力!$AC$25,$C17<=入力!$AD$25),入力!$AJ$25*12,0))","v":12},21.5,{"$f":"IF(AND($C17>=入力!$AC$24,$C17<=入力!$AD$24,SUM(入力!$AE$24:$AF$24)>0),車_大物家電!AT17,IF(AND($C17>=入力!$AC$25,$C17<=入力!$AD$25,SUM(入力!$AE$25:$AF$25)>0),車_大物家電!AT17,0))","v":21.5}]
[9,31,36,null,null,null,null,null,null,0,null,null,null,null,null,null,null,null,null,0,0,null,null,null,null,null,null,null,0,0,0,null,{"$f":"IF(MOD(C18,MAX(入力!$AE$29,1))=入力!$AE$29-1,入力!$AD$29,0)\n+IF(MOD(C18,MAX(入力!$AE$30,1))=入力!$AE$30-1,入力!$AD$30,0)\n+IF(MOD(C18,MAX(入力!$AE$31,1))=入力!$AE$31-1,入力!$AD$31,0)\n+IF(MOD(C18,MAX(入力!$AE$32,1))=入力!$AE$32-1,入力!$AD$32,0)\n+IF(MOD(C18,MAX(入力!$AE$33,1))=入力!$AE$33-1,入力!$AD$33,0)\n+IF(MOD(C18,MAX(入力!$AE$34,1))=入力!$AE$34-1,入力!$AD$34,0)\n+IF(MOD(C18,MAX(入力!$AE$35,1))=入力!$AE$35-1,入力!$AD$35,0)","v":0},{"$f":"IF(AND($C18>=入力!$AC$24,$C18<=入力!$AD$24,MOD(A18,入力!AG$24)=0),入力!$AL$24,IF(AND($C18>=入力!$AC$25,$C18<=入力!$AD$25,MOD(A18,入力!$AG$25)=0),入力!$AL$25,0))","v":0},{"$f":"IF(AND($C18>=入力!$AC$24,$C18<=入力!$AD$24),入力!$AF$24/60*12,IF(AND($C18>=入力!$AC$25,$C18<=入力!$AD$25),入力!$AF$25/60*12,0))","v":0},21.5,21.5,-21.5,-942.5,null,null,{"$f":"住居計算!A25","v":"マンション"},{"$f":"IF(AND($C18>=入力!$AC$24,$C18<=入力!$AD$24),入力!$AH$24/2,IF(AND($C18>=入力!$AC$25,$C18<=入力!$AD$25),入力!$AH$25/2,0))","v":5},{"$f":"IF(AND($C18>=入力!$AC$24,$C18<=入力!$AD$24),入力!$AI$24,IF(AND($C18>=入力!$AC$25,$C18<=入力!$AD$25),入力!$AI$25,0))","v":4.5},{"$f":"IF(AND($C18>=入力!$AC$24,$C18<=入力!$AD$24),入力!$AJ$24*12,IF(AND($C18>=入力!$AC$25,$C18<=入力!$AD$25),入力!$AJ$25*12,0))","v":12},21.5,{"$f":"IF(AND($C18>=入力!$AC$24,$C18<=入力!$AD$24,SUM(入力!$AE$24:$AF$24)>0),車_大物家電!AT18,IF(AND($C18>=入力!$AC$25,$C18<=入力!$AD$25,SUM(入力!$AE$25:$AF$25)>0),車_大物家電!AT18,0))","v":21.5}]
[10,32,37,null,null,null,null,null,null,0,null,null,null,null,null,null,null,null,null,0,0,null,null,null,null,null,null,null,0,0,0,null,{"$f":"IF(MOD(C19,MAX(入力!$AE$29,1))=入力!$AE$29-1,入力!$AD$29,0)\n+IF(MOD(C19,MAX(入力!$AE$30,1))=入力!$AE$30-1,入力!$AD$30,0)\n+IF(MOD(C19,MAX(入力!$AE$31,1))=入力!$AE$31-1,入力!$AD$31,0)\n+IF(MOD(C19,MAX(入力!$AE$32,1))=入力!$AE$32-1,入力!$AD$32,0)\n+IF(MOD(C19,MAX(入力!$AE$33,1))=入力!$AE$33-1,入力!$AD$33,0)\n+IF(MOD(C19,MAX(入力!$AE$34,1))=入力!$AE$34-1,入力!$AD$34,0)\n+IF(MOD(C19,MAX(入力!$AE$35,1))=入力!$AE$35-1,入力!$AD$35,0)","v":0},{"$f":"IF(AND($C19>=入力!$AC$24,$C19<=入力!$AD$24,MOD(A19,入力!AG$24)=0),入力!$AL$24,IF(AND($C19>=入力!$AC$25,$C19<=入力!$AD$25,MOD(A19,入力!$AG$25)=0),入力!$AL$25,0))","v":0},{"$f":"IF(AND($C19>=入力!$AC$24,$C19<=入力!$AD$24),入力!$AF$24/60*12,IF(AND($C19>=入力!$AC$25,$C19<=入力!$AD$25),入力!$AF$25/60*12,0))","v":0},21.5,21.5,-21.5,-964,null,null,{"$f":"住居計算!A26","v":"マンション"},{"$f":"IF(AND($C19>=入力!$AC$24,$C19<=入力!$AD$24),入力!$AH$24/2,IF(AND($C19>=入力!$AC$25,$C19<=入力!$AD$25),入力!$AH$25/2,0))","v":5},{"$f":"IF(AND($C19>=入力!$AC$24,$C19<=入力!$AD$24),入力!$AI$24,IF(AND($C19>=入力!$AC$25,$C19<=入力!$AD$25),入力!$AI$25,0))","v":4.5},{"$f":"IF(AND($C19>=入力!$AC$24,$C19<=入力!$AD$24),入力!$AJ$24*12,IF(AND($C19>=入力!$AC$25,$C19<=入力!$AD$25),入力!$AJ$25*12,0))","v":12},21.5,{"$f":"IF(AND($C19>=入力!$AC$24,$C19<=入力!$AD$24,SUM(入力!$AE$24:$AF$24)>0),車_大物家電!AT19,IF(AND($C19>=入力!$AC$25,$C19<=入力!$AD$25,SUM(入力!$AE$25:$AF$25)>0),車_大物家電!AT19,0))","v":21.5}]
[11,33,38,null,null,null,null,null,null,0,null,null,null,null,null,null,null,null,null,0,0,null,null,null,null,null,null,null,0,0,0,null,{"$f":"IF(MOD(C20,MAX(入力!$AE$29,1))=入力!$AE$29-1,入力!$AD$29,0)\n+IF(MOD(C20,MAX(入力!$AE$30,1))=入力!$AE$30-1,入力!$AD$30,0)\n+IF(MOD(C20,MAX(入力!$AE$31,1))=入力!$AE$31-1,入力!$AD$31,0)\n+IF(MOD(C20,MAX(入力!$AE$32,1))=入力!$AE$32-1,入力!$AD$32,0)\n+IF(MOD(C20,MAX(入力!$AE$33,1))=入力!$AE$33-1,入力!$AD$33,0)\n+IF(MOD(C20,MAX(入力!$AE$34,1))=入力!$AE$34-1,入力!$AD$34,0)\n+IF(MOD(C20,MAX(入力!$AE$35,1))=入力!$AE$35-1,入力!$AD$35,0)","v":0},{"$f":"IF(AND($C20>=入力!$AC$24,$C20<=入力!$AD$24,MOD(A20,入力!AG$24)=0),入力!$AL$24,IF(AND($C20>=入力!$AC$25,$C20<=入力!$AD$25,MOD(A20,入力!$AG$25)=0),入力!$AL$25,0))","v":0},{"$f":"IF(AND($C20>=入力!$AC$24,$C20<=入力!$AD$24),入力!$AF$24/60*12,IF(AND($C20>=入力!$AC$25,$C20<=入力!$AD$25),入力!$AF$25/60*12,0))","v":0},21.5,21.5,-21.5,-985.5,null,null,{"$f":"住居計算!A27","v":"マンション"},{"$f":"IF(AND($C20>=入力!$AC$24,$C20<=入力!$AD$24),入力!$AH$24/2,IF(AND($C20>=入力!$AC$25,$C20<=入力!$AD$25),入力!$AH$25/2,0))","v":5},{"$f":"IF(AND($C20>=入力!$AC$24,$C20<=入力!$AD$24),入力!$AI$24,IF(AND($C20>=入力!$AC$25,$C20<=入力!$AD$25),入力!$AI$25,0))","v":4.5},{"$f":"IF(AND($C20>=入力!$AC$24,$C20<=入力!$AD$24),入力!$AJ$24*12,IF(AND($C20>=入力!$AC$25,$C20<=入力!$AD$25),入力!$AJ$25*12,0))","v":12},21.5,{"$f":"IF(AND($C20>=入力!$AC$24,$C20<=入力!$AD$24,SUM(入力!$AE$24:$AF$24)>0),車_大物家電!AT20,IF(AND($C20>=入力!$AC$25,$C20<=入力!$AD$25,SUM(入力!$AE$25:$AF$25)>0),車_大物家電!AT20,0))","v":21.5}]
[12,34,39,null,null,null,null,null,null,0,null,null,null,null,null,null,null,null,null,0,0,null,null,null,null,null,null,null,0,0,0,null,{"$f":"IF(MOD(C21,MAX(入力!$AE$29,1))=入力!$AE$29-1,入力!$AD$29,0)\n+IF(MOD(C21,MAX(入力!$AE$30,1))=入力!$AE$30-1,入力!$AD$30,0)\n+IF(MOD(C21,MAX(入力!$AE$31,1))=入力!$AE$31-1,入力!$AD$31,0)\n+IF(MOD(C21,MAX(入力!$AE$32,1))=入力!$AE$32-1,入力!$AD$32,0)\n+IF(MOD(C21,MAX(入力!$AE$33,1))=入力!$AE$33-1,入力!$AD$33,0)\n+IF(MOD(C21,MAX(入力!$AE$34,1))=入力!$AE$34-1,入力!$AD$34,0)\n+IF(MOD(C21,MAX(入力!$AE$35,1))=入力!$AE$35-1,入力!$AD$35,0)","v":57},{"$f":"IF(AND($C21>=入力!$AC$24,$C21<=入力!$AD$24,MOD(A21,入力!AG$24)=0),入力!$AL$24,IF(AND($C21>=入力!$AC$25,$C21<=入力!$AD$25,MOD(A21,入力!$AG$25)=0),入力!$AL$25,0))","v":0},{"$f":"IF(AND($C21>=入力!$AC$24,$C21<=入力!$AD$24),入力!$AF$24/60*12,IF(AND($C21>=入力!$AC$25,$C21<=入力!$AD$25),入力!$AF$25/60*12,0))","v":0},21.5,78.5,-78.5,-1064,null,null,{"$f":"住居計算!A28","v":"マンション"},{"$f":"IF(AND($C21>=入力!$AC$24,$C21<=入力!$AD$24),入力!$AH$24/2,IF(AND($C21>=入力!$AC$25,$C21<=入力!$AD$25),入力!$AH$25/2,0))","v":5},{"$f":"IF(AND($C21>=入力!$AC$24,$C21<=入力!$AD$24),入力!$AI$24,IF(AND($C21>=入力!$AC$25,$C21<=入力!$AD$25),入力!$AI$25,0))","v":4.5},{"$f":"IF(AND($C21>=入力!$AC$24,$C21<=入力!$AD$24),入力!$AJ$24*12,IF(AND($C21>=入力!$AC$25,$C21<=入力!$AD$25),入力!$AJ$25*12,0))","v":12},21.5,{"$f":"IF(AND($C21>=入力!$AC$24,$C21<=入力!$AD$24,SUM(入力!$AE$24:$AF$24)>0),車_大物家電!AT21,IF(AND($C21>=入力!$AC$25,$C21<=入力!$AD$25,SUM(入力!$AE$25:$AF$25)>0),車_大物家電!AT21,0))","v":21.5}]
[13,35,40,null,null,null,null,null,null,0,null,null,null,null,null,null,null,null,null,0,0,null,null,null,null,null,null,null,0,0,0,null,{"$f":"IF(MOD(C22,MAX(入力!$AE$29,1))=入力!$AE$29-1,入力!$AD$29,0)\n+IF(MOD(C22,MAX(入力!$AE$30,1))=入力!$AE$30-1,入力!$AD$30,0)\n+IF(MOD(C22,MAX(入力!$AE$31,1))=入力!$AE$31-1,入力!$AD$31,0)\n+IF(MOD(C22,MAX(入力!$AE$32,1))=入力!$AE$32-1,入力!$AD$32,0)\n+IF(MOD(C22,MAX(入力!$AE$33,1))=入力!$AE$33-1,入力!$AD$33,0)\n+IF(MOD(C22,MAX(入力!$AE$34,1))=入力!$AE$34-1,入力!$AD$34,0)\n+IF(MOD(C22,MAX(入力!$AE$35,1))=入力!$AE$35-1,入力!$AD$35,0)","v":0},{"$f":"IF(AND($C22>=入力!$AC$24,$C22<=入力!$AD$24,MOD(A22,入力!AG$24)=0),入力!$AL$24,IF(AND($C22>=入力!$AC$25,$C22<=入力!$AD$25,MOD(A22,入力!$AG$25)=0),入力!$AL$25,0))","v":0},{"$f":"IF(AND($C22>=入力!$AC$24,$C22<=入力!$AD$24),入力!$AF$24/60*12,IF(AND($C22>=入力!$AC$25,$C22<=入力!$AD$25),入力!$AF$25/60*12,0))","v":0},21.5,21.5,-21.5,-1085.5,null,null,{"$f":"住居計算!A29","v":"マンション"},{"$f":"IF(AND($C22>=入力!$AC$24,$C22<=入力!$AD$24),入力!$AH$24/2,IF(AND($C22>=入力!$AC$25,$C22<=入力!$AD$25),入力!$AH$25/2,0))","v":5},{"$f":"IF(AND($C22>=入力!$AC$24,$C22<=入力!$AD$24),入力!$AI$24,IF(AND($C22>=入力!$AC$25,$C22<=入力!$AD$25),入力!$AI$25,0))","v":4.5},{"$f":"IF(AND($C22>=入力!$AC$24,$C22<=入力!$AD$24),入力!$AJ$24*12,IF(AND($C22>=入力!$AC$25,$C22<=入力!$AD$25),入力!$AJ$25*12,0))","v":12},21.5,{"$f":"IF(AND($C22>=入力!$AC$24,$C22<=入力!$AD$24,SUM(入力!$AE$24:$AF$24)>0),車_大物家電!AT22,IF(AND($C22>=入力!$AC$25,$C22<=入力!$AD$25,SUM(入力!$AE$25:$AF$25)>0),車_大物家電!AT22,0))","v":21.5}]
[14,{"$f":"B22+1","v":36},41,null,null,null,null,null,null,0,null,null,null,null,null,null,null,null,null,0,0,null,null,null,null,null,null,null,0,0,0,null,{"$f":"IF(MOD(C23,MAX(入力!$AE$29,1))=入力!$AE$29-1,入力!$AD$29,0)\n+IF(MOD(C23,MAX(入力!$AE$30,1))=入力!$AE$30-1,入力!$AD$30,0)\n+IF(MOD(C23,MAX(入力!$AE$31,1))=入力!$AE$31-1,入力!$AD$31,0)\n+IF(MOD(C23,MAX(入力!$AE$32,1))=入力!$AE$32-1,入力!$AD$32,0)\n+IF(MOD(C23,MAX(入力!$AE$33,1))=入力!$AE$33-1,入力!$AD$33,0)\n+IF(MOD(C23,MAX(入力!$AE$34,1))=入力!$AE$34-1,入力!$AD$34,0)\n+IF(MOD(C23,MAX(入力!$AE$35,1))=入力!$AE$35-1,入力!$AD$35,0)","v":0},{"$f":"IF(AND($C23>=入力!$AC$24,$C23<=入力!$AD$24,MOD(A23,入力!AG$24)=0),入力!$AL$24,IF(AND($C23>=入力!$AC$25,$C23<=入力!$AD$25,MOD(A23,入力!$AG$25)=0),入力!$AL$25,0))","v":300},{"$f":"IF(AND($C23>=入力!$AC$24,$C23<=入力!$AD$24),入力!$AF$24/60*12,IF(AND($C23>=入力!$AC$25,$C23<=入力!$AD$25),入力!$AF$25/60*12,0))","v":0},21.5,321.5,-321.5,-1407,null,null,{"$f":"住居計算!A30","v":"マンション"},{"$f":"IF(AND($C23>=入力!$AC$24,$C23<=入力!$AD$24),入力!$AH$24/2,IF(AND($C23>=入力!$AC$25,$C23<=入力!$AD$25),入力!$AH$25/2,0))","v":5},{"$f":"IF(AND($C23>=入力!$AC$24,$C23<=入力!$AD$24),入力!$AI$24,IF(AND($C23>=入力!$AC$25,$C23<=入力!$AD$25),入力!$AI$25,0))","v":4.5},{"$f":"IF(AND($C23>=入力!$AC$24,$C23<=入力!$AD$24),入力!$AJ$24*12,IF(AND($C23>=入力!$AC$25,$C23<=入力!$AD$25),入力!$AJ$25*12,0))","v":12},21.5,{"$f":"IF(AND($C23>=入力!$AC$24,$C23<=入力!$AD$24,SUM(入力!$AE$24:$AF$24)>0),車_大物家電!AT23,IF(AND($C23>=入力!$AC$25,$C23<=入力!$AD$25,SUM(入力!$AE$25:$AF$25)>0),車_大物家電!AT23,0))","v":21.5}]
[15,37,42,null,null,null,null,null,null,0,null,null,null,null,null,null,null,null,null,0,0,null,null,null,null,null,null,null,0,0,0,null,{"$f":"IF(MOD(C24,MAX(入力!$AE$29,1))=入力!$AE$29-1,入力!$AD$29,0)\n+IF(MOD(C24,MAX(入力!$AE$30,1))=入力!$AE$30-1,入力!$AD$30,0)\n+IF(MOD(C24,MAX(入力!$AE$31,1))=入力!$AE$31-1,入力!$AD$31,0)\n+IF(MOD(C24,MAX(入力!$AE$32,1))=入力!$AE$32-1,入力!$AD$32,0)\n+IF(MOD(C24,MAX(入力!$AE$33,1))=入力!$AE$33-1,入力!$AD$33,0)\n+IF(MOD(C24,MAX(入力!$AE$34,1))=入力!$AE$34-1,入力!$AD$34,0)\n+IF(MOD(C24,MAX(入力!$AE$35,1))=入力!$AE$35-1,入力!$AD$35,0)","v":0},{"$f":"IF(AND($C24>=入力!$AC$24,$C24<=入力!$AD$24,MOD(A24,入力!AG$24)=0),入力!$AL$24,IF(AND($C24>=入力!$AC$25,$C24<=入力!$AD$25,MOD(A24,入力!$AG$25)=0),入力!$AL$25,0))","v":0},{"$f":"IF(AND($C24>=入力!$AC$24,$C24<=入力!$AD$24),入力!$AF$24/60*12,IF(AND($C24>=入力!$AC$25,$C24<=入力!$AD$25),入力!$AF$25/60*12,0))","v":0},21.5,21.5,-21.5,-1428.5,null,null,{"$f":"住居計算!A31","v":"マンション"},{"$f":"IF(AND($C24>=入力!$AC$24,$C24<=入力!$AD$24),入力!$AH$24/2,IF(AND($C24>=入力!$AC$25,$C24<=入力!$AD$25),入力!$AH$25/2,0))","v":5},{"$f":"IF(AND($C24>=入力!$AC$24,$C24<=入力!$AD$24),入力!$AI$24,IF(AND($C24>=入力!$AC$25,$C24<=入力!$AD$25),入力!$AI$25,0))","v":4.5},{"$f":"IF(AND($C24>=入力!$AC$24,$C24<=入力!$AD$24),入力!$AJ$24*12,IF(AND($C24>=入力!$AC$25,$C24<=入力!$AD$25),入力!$AJ$25*12,0))","v":12},21.5,{"$f":"IF(AND($C24>=入力!$AC$24,$C24<=入力!$AD$24,SUM(入力!$AE$24:$AF$24)>0),車_大物家電!AT24,IF(AND($C24>=入力!$AC$25,$C24<=入力!$AD$25,SUM(入力!$AE$25:$AF$25)>0),車_大物家電!AT24,0))","v":21.5}]
[16,38,43,null,null,null,null,null,null,0,null,null,null,null,null,null,null,null,null,0,0,null,null,null,null,null,null,null,0,0,0,null,{"$f":"IF(MOD(C25,MAX(入力!$AE$29,1))=入力!$AE$29-1,入力!$AD$29,0)\n+IF(MOD(C25,MAX(入力!$AE$30,1))=入力!$AE$30-1,入力!$AD$30,0)\n+IF(MOD(C25,MAX(入力!$AE$31,1))=入力!$AE$31-1,入力!$AD$31,0)\n+IF(MOD(C25,MAX(入力!$AE$32,1))=入力!$AE$32-1,入力!$AD$32,0)\n+IF(MOD(C25,MAX(入力!$AE$33,1))=入力!$AE$33-1,入力!$AD$33,0)\n+IF(MOD(C25,MAX(入力!$AE$34,1))=入力!$AE$34-1,入力!$AD$34,0)\n+IF(MOD(C25,MAX(入力!$AE$35,1))=入力!$AE$35-1,入力!$AD$35,0)","v":0},{"$f":"IF(AND($C25>=入力!$AC$24,$C25<=入力!$AD$24,MOD(A25,入力!AG$24)=0),入力!$AL$24,IF(AND($C25>=入力!$AC$25,$C25<=入力!$AD$25,MOD(A25,入力!$AG$25)=0),入力!$AL$25,0))","v":0},{"$f":"IF(AND($C25>=入力!$AC$24,$C25<=入力!$AD$24),入力!$AF$24/60*12,IF(AND($C25>=入力!$AC$25,$C25<=入力!$AD$25),入力!$AF$25/60*12,0))","v":0},21.5,21.5,-21.5,-1450,null,null,{"$f":"住居計算!A32","v":"マンション"},{"$f":"IF(AND($C25>=入力!$AC$24,$C25<=入力!$AD$24),入力!$AH$24/2,IF(AND($C25>=入力!$AC$25,$C25<=入力!$AD$25),入力!$AH$25/2,0))","v":5},{"$f":"IF(AND($C25>=入力!$AC$24,$C25<=入力!$AD$24),入力!$AI$24,IF(AND($C25>=入力!$AC$25,$C25<=入力!$AD$25),入力!$AI$25,0))","v":4.5},{"$f":"IF(AND($C25>=入力!$AC$24,$C25<=入力!$AD$24),入力!$AJ$24*12,IF(AND($C25>=入力!$AC$25,$C25<=入力!$AD$25),入力!$AJ$25*12,0))","v":12},21.5,{"$f":"IF(AND($C25>=入力!$AC$24,$C25<=入力!$AD$24,SUM(入力!$AE$24:$AF$24)>0),車_大物家電!AT25,IF(AND($C25>=入力!$AC$25,$C25<=入力!$AD$25,SUM(入力!$AE$25:$AF$25)>0),車_大物家電!AT25,0))","v":21.5}]
[17,39,44,null,null,null,null,null,null,0,null,null,null,null,null,null,null,null,null,0,0,null,null,null,null,null,null,null,0,0,0,null,{"$f":"IF(MOD(C26,MAX(入力!$AE$29,1))=入力!$AE$29-1,入力!$AD$29,0)\n+IF(MOD(C26,MAX(入力!$AE$30,1))=入力!$AE$30-1,入力!$AD$30,0)\n+IF(MOD(C26,MAX(入力!$AE$31,1))=入力!$AE$31-1,入力!$AD$31,0)\n+IF(MOD(C26,MAX(入力!$AE$32,1))=入力!$AE$32-1,入力!$AD$32,0)\n+IF(MOD(C26,MAX(入力!$AE$33,1))=入力!$AE$33-1,入力!$AD$33,0)\n+IF(MOD(C26,MAX(入力!$AE$34,1))=入力!$AE$34-1,入力!$AD$34,0)\n+IF(MOD(C26,MAX(入力!$AE$35,1))=入力!$AE$35-1,入力!$AD$35,0)","v":3},{"$f":"IF(AND($C26>=入力!$AC$24,$C26<=入力!$AD$24,MOD(A26,入力!AG$24)=0),入力!$AL$24,IF(AND($C26>=入力!$AC$25,$C26<=入力!$AD$25,MOD(A26,入力!$AG$25)=0),入力!$AL$25,0))","v":0},{"$f":"IF(AND($C26>=入力!$AC$24,$C26<=入力!$AD$24),入力!$AF$24/60*12,IF(AND($C26>=入力!$AC$25,$C26<=入力!$AD$25),入力!$AF$25/60*12,0))","v":0},21.5,24.5,-24.5,-1474.5,null,null,{"$f":"住居計算!A33","v":"マンション"},{"$f":"IF(AND($C26>=入力!$AC$24,$C26<=入力!$AD$24),入力!$AH$24/2,IF(AND($C26>=入力!$AC$25,$C26<=入力!$AD$25),入力!$AH$25/2,0))","v":5},{"$f":"IF(AND($C26>=入力!$AC$24,$C26<=入力!$AD$24),入力!$AI$24,IF(AND($C26>=入力!$AC$25,$C26<=入力!$AD$25),入力!$AI$25,0))","v":4.5},{"$f":"IF(AND($C26>=入力!$AC$24,$C26<=入力!$AD$24),入力!$AJ$24*12,IF(AND($C26>=入力!$AC$25,$C26<=入力!$AD$25),入力!$AJ$25*12,0))","v":12},21.5,{"$f":"IF(AND($C26>=入力!$AC$24,$C26<=入力!$AD$24,SUM(入力!$AE$24:$AF$24)>0),車_大物家電!AT26,IF(AND($C26>=入力!$AC$25,$C26<=入力!$AD$25,SUM(入力!$AE$25:$AF$25)>0),車_大物家電!AT26,0))","v":21.5}]
[18,40,45,null,null,null,null,null,null,0,null,null,null,null,null,null,null,null,null,0,0,null,null,null,null,null,null,null,0,0,0,null,{"$f":"IF(MOD(C27,MAX(入力!$AE$29,1))=入力!$AE$29-1,入力!$AD$29,0)\n+IF(MOD(C27,MAX(入力!$AE$30,1))=入力!$AE$30-1,入力!$AD$30,0)\n+IF(MOD(C27,MAX(入力!$AE$31,1))=入力!$AE$31-1,入力!$AD$31,0)\n+IF(MOD(C27,MAX(入力!$AE$32,1))=入力!$AE$32-1,入力!$AD$32,0)\n+IF(MOD(C27,MAX(入力!$AE$33,1))=入力!$AE$33-1,入力!$AD$33,0)\n+IF(MOD(C27,MAX(入力!$AE$34,1))=入力!$AE$34-1,入力!$AD$34,0)\n+IF(MOD(C27,MAX(入力!$AE$35,1))=入力!$AE$35-1,入力!$AD$35,0)","v":0},{"$f":"IF(AND($C27>=入力!$AC$24,$C27<=入力!$AD$24,MOD(A27,入力!AG$24)=0),入力!$AL$24,IF(AND($C27>=入力!$AC$25,$C27<=入力!$AD$25,MOD(A27,入力!$AG$25)=0),入力!$AL$25,0))","v":0},{"$f":"IF(AND($C27>=入力!$AC$24,$C27<=入力!$AD$24),入力!$AF$24/60*12,IF(AND($C27>=入力!$AC$25,$C27<=入力!$AD$25),入力!$AF$25/60*12,0))","v":0},21.5,21.5,-21.5,-1496,null,null,{"$f":"住居計算!A34","v":"マンション"},{"$f":"IF(AND($C27>=入力!$AC$24,$C27<=入力!$AD$24),入力!$AH$24/2,IF(AND($C27>=入力!$AC$25,$C27<=入力!$AD$25),入力!$AH$25/2,0))","v":5},{"$f":"IF(AND($C27>=入力!$AC$24,$C27<=入力!$AD$24),入力!$AI$24,IF(AND($C27>=入力!$AC$25,$C27<=入力!$AD$25),入力!$AI$25,0))","v":4.5},{"$f":"IF(AND($C27>=入力!$AC$24,$C27<=入力!$AD$24),入力!$AJ$24*12,IF(AND($C27>=入力!$AC$25,$C27<=入力!$AD$25),入力!$AJ$25*12,0))","v":12},21.5,{"$f":"IF(AND($C27>=入力!$AC$24,$C27<=入力!$AD$24,SUM(入力!$AE$24:$AF$24)>0),車_大物家電!AT27,IF(AND($C27>=入力!$AC$25,$C27<=入力!$AD$25,SUM(入力!$AE$25:$AF$25)>0),車_大物家電!AT27,0))","v":21.5}]
[19,41,46,null,null,null,null,null,null,0,null,null,null,null,null,null,null,null,null,0,0,null,null,null,null,null,null,null,0,0,0,null,{"$f":"IF(MOD(C28,MAX(入力!$AE$29,1))=入力!$AE$29-1,入力!$AD$29,0)\n+IF(MOD(C28,MAX(入力!$AE$30,1))=入力!$AE$30-1,入力!$AD$30,0)\n+IF(MOD(C28,MAX(入力!$AE$31,1))=入力!$AE$31-1,入力!$AD$31,0)\n+IF(MOD(C28,MAX(入力!$AE$32,1))=入力!$AE$32-1,入力!$AD$32,0)\n+IF(MOD(C28,MAX(入力!$AE$33,1))=入力!$AE$33-1,入力!$AD$33,0)\n+IF(MOD(C28,MAX(入力!$AE$34,1))=入力!$AE$34-1,入力!$AD$34,0)\n+IF(MOD(C28,MAX(入力!$AE$35,1))=入力!$AE$35-1,入力!$AD$35,0)","v":0},{"$f":"IF(AND($C28>=入力!$AC$24,$C28<=入力!$AD$24,MOD(A28,入力!AG$24)=0),入力!$AL$24,IF(AND($C28>=入力!$AC$25,$C28<=入力!$AD$25,MOD(A28,入力!$AG$25)=0),入力!$AL$25,0))","v":0},{"$f":"IF(AND($C28>=入力!$AC$24,$C28<=入力!$AD$24),入力!$AF$24/60*12,IF(AND($C28>=入力!$AC$25,$C28<=入力!$AD$25),入力!$AF$25/60*12,0))","v":0},21.5,21.5,-21.5,-1517.5,null,null,{"$f":"住居計算!A35","v":"マンション"},{"$f":"IF(AND($C28>=入力!$AC$24,$C28<=入力!$AD$24),入力!$AH$24/2,IF(AND($C28>=入力!$AC$25,$C28<=入力!$AD$25),入力!$AH$25/2,0))","v":5},{"$f":"IF(AND($C28>=入力!$AC$24,$C28<=入力!$AD$24),入力!$AI$24,IF(AND($C28>=入力!$AC$25,$C28<=入力!$AD$25),入力!$AI$25,0))","v":4.5},{"$f":"IF(AND($C28>=入力!$AC$24,$C28<=入力!$AD$24),入力!$AJ$24*12,IF(AND($C28>=入力!$AC$25,$C28<=入力!$AD$25),入力!$AJ$25*12,0))","v":12},21.5,{"$f":"IF(AND($C28>=入力!$AC$24,$C28<=入力!$AD$24,SUM(入力!$AE$24:$AF$24)>0),車_大物家電!AT28,IF(AND($C28>=入力!$AC$25,$C28<=入力!$AD$25,SUM(入力!$AE$25:$AF$25)>0),車_大物家電!AT28,0))","v":21.5}]
[20,42,47,null,null,null,null,null,null,0,null,null,null,null,null,null,null,null,null,0,0,null,null,null,null,null,null,null,0,0,0,null,{"$f":"IF(MOD(C29,MAX(入力!$AE$29,1))=入力!$AE$29-1,入力!$AD$29,0)\n+IF(MOD(C29,MAX(入力!$AE$30,1))=入力!$AE$30-1,入力!$AD$30,0)\n+IF(MOD(C29,MAX(入力!$AE$31,1))=入力!$AE$31-1,入力!$AD$31,0)\n+IF(MOD(C29,MAX(入力!$AE$32,1))=入力!$AE$32-1,入力!$AD$32,0)\n+IF(MOD(C29,MAX(入力!$AE$33,1))=入力!$AE$33-1,入力!$AD$33,0)\n+IF(MOD(C29,MAX(入力!$AE$34,1))=入力!$AE$34-1,入力!$AD$34,0)\n+IF(MOD(C29,MAX(入力!$AE$35,1))=入力!$AE$35-1,入力!$AD$35,0)","v":0},{"$f":"IF(AND($C29>=入力!$AC$24,$C29<=入力!$AD$24,MOD(A29,入力!AG$24)=0),入力!$AL$24,IF(AND($C29>=入力!$AC$25,$C29<=入力!$AD$25,MOD(A29,入力!$AG$25)=0),入力!$AL$25,0))","v":0},{"$f":"IF(AND($C29>=入力!$AC$24,$C29<=入力!$AD$24),入力!$AF$24/60*12,IF(AND($C29>=入力!$AC$25,$C29<=入力!$AD$25),入力!$AF$25/60*12,0))","v":0},21.5,21.5,-21.5,-1539,null,null,{"$f":"住居計算!A36","v":"マンション"},{"$f":"IF(AND($C29>=入力!$AC$24,$C29<=入力!$AD$24),入力!$AH$24/2,IF(AND($C29>=入力!$AC$25,$C29<=入力!$AD$25),入力!$AH$25/2,0))","v":5},{"$f":"IF(AND($C29>=入力!$AC$24,$C29<=入力!$AD$24),入力!$AI$24,IF(AND($C29>=入力!$AC$25,$C29<=入力!$AD$25),入力!$AI$25,0))","v":4.5},{"$f":"IF(AND($C29>=入力!$AC$24,$C29<=入力!$AD$24),入力!$AJ$24*12,IF(AND($C29>=入力!$AC$25,$C29<=入力!$AD$25),入力!$AJ$25*12,0))","v":12},21.5,{"$f":"IF(AND($C29>=入力!$AC$24,$C29<=入力!$AD$24,SUM(入力!$AE$24:$AF$24)>0),車_大物家電!AT29,IF(AND($C29>=入力!$AC$25,$C29<=入力!$AD$25,SUM(入力!$AE$25:$AF$25)>0),車_大物家電!AT29,0))","v":21.5}]
[21,43,48,null,null,null,null,null,null,0,null,null,null,null,null,null,null,null,null,0,0,null,null,null,null,null,null,null,0,0,0,null,{"$f":"IF(MOD(C30,MAX(入力!$AE$29,1))=入力!$AE$29-1,入力!$AD$29,0)\n+IF(MOD(C30,MAX(入力!$AE$30,1))=入力!$AE$30-1,入力!$AD$30,0)\n+IF(MOD(C30,MAX(入力!$AE$31,1))=入力!$AE$31-1,入力!$AD$31,0)\n+IF(MOD(C30,MAX(入力!$AE$32,1))=入力!$AE$32-1,入力!$AD$32,0)\n+IF(MOD(C30,MAX(入力!$AE$33,1))=入力!$AE$33-1,入力!$AD$33,0)\n+IF(MOD(C30,MAX(入力!$AE$34,1))=入力!$AE$34-1,入力!$AD$34,0)\n+IF(MOD(C30,MAX(入力!$AE$35,1))=入力!$AE$35-1,入力!$AD$35,0)","v":0},{"$f":"IF(AND($C30>=入力!$AC$24,$C30<=入力!$AD$24,MOD(A30,入力!AG$24)=0),入力!$AL$24,IF(AND($C30>=入力!$AC$25,$C30<=入力!$AD$25,MOD(A30,入力!$AG$25)=0),入力!$AL$25,0))","v":300},{"$f":"IF(AND($C30>=入力!$AC$24,$C30<=入力!$AD$24),入力!$AF$24/60*12,IF(AND($C30>=入力!$AC$25,$C30<=入力!$AD$25),入力!$AF$25/60*12,0))","v":0},21.5,321.5,-321.5,-1860.5,null,null,{"$f":"住居計算!A37","v":"マンション"},{"$f":"IF(AND($C30>=入力!$AC$24,$C30<=入力!$AD$24),入力!$AH$24/2,IF(AND($C30>=入力!$AC$25,$C30<=入力!$AD$25),入力!$AH$25/2,0))","v":5},{"$f":"IF(AND($C30>=入力!$AC$24,$C30<=入力!$AD$24),入力!$AI$24,IF(AND($C30>=入力!$AC$25,$C30<=入力!$AD$25),入力!$AI$25,0))","v":4.5},{"$f":"IF(AND($C30>=入力!$AC$24,$C30<=入力!$AD$24),入力!$AJ$24*12,IF(AND($C30>=入力!$AC$25,$C30<=入力!$AD$25),入力!$AJ$25*12,0))","v":12},21.5,{"$f":"IF(AND($C30>=入力!$AC$24,$C30<=入力!$AD$24,SUM(入力!$AE$24:$AF$24)>0),車_大物家電!AT30,IF(AND($C30>=入力!$AC$25,$C30<=入力!$AD$25,SUM(入力!$AE$25:$AF$25)>0),車_大物家電!AT30,0))","v":21.5}]
[22,44,49,null,null,null,null,null,null,0,null,null,null,null,null,null,null,null,null,0,0,null,null,null,null,null,null,null,0,0,0,null,{"$f":"IF(MOD(C31,MAX(入力!$AE$29,1))=入力!$AE$29-1,入力!$AD$29,0)\n+IF(MOD(C31,MAX(入力!$AE$30,1))=入力!$AE$30-1,入力!$AD$30,0)\n+IF(MOD(C31,MAX(入力!$AE$31,1))=入力!$AE$31-1,入力!$AD$31,0)\n+IF(MOD(C31,MAX(入力!$AE$32,1))=入力!$AE$32-1,入力!$AD$32,0)\n+IF(MOD(C31,MAX(入力!$AE$33,1))=入力!$AE$33-1,入力!$AD$33,0)\n+IF(MOD(C31,MAX(入力!$AE$34,1))=入力!$AE$34-1,入力!$AD$34,0)\n+IF(MOD(C31,MAX(入力!$AE$35,1))=入力!$AE$35-1,入力!$AD$35,0)","v":57},{"$f":"IF(AND($C31>=入力!$AC$24,$C31<=入力!$AD$24,MOD(A31,入力!AG$24)=0),入力!$AL$24,IF(AND($C31>=入力!$AC$25,$C31<=入力!$AD$25,MOD(A31,入力!$AG$25)=0),入力!$AL$25,0))","v":0},{"$f":"IF(AND($C31>=入力!$AC$24,$C31<=入力!$AD$24),入力!$AF$24/60*12,IF(AND($C31>=入力!$AC$25,$C31<=入力!$AD$25),入力!$AF$25/60*12,0))","v":0},21.5,78.5,-78.5,-1939,null,null,{"$f":"住居計算!A38","v":"マンション"},{"$f":"IF(AND($C31>=入力!$AC$24,$C31<=入力!$AD$24),入力!$AH$24/2,IF(AND($C31>=入力!$AC$25,$C31<=入力!$AD$25),入力!$AH$25/2,0))","v":5},{"$f":"IF(AND($C31>=入力!$AC$24,$C31<=入力!$AD$24),入力!$AI$24,IF(AND($C31>=入力!$AC$25,$C31<=入力!$AD$25),入力!$AI$25,0))","v":4.5},{"$f":"IF(AND($C31>=入力!$AC$24,$C31<=入力!$AD$24),入力!$AJ$24*12,IF(AND($C31>=入力!$AC$25,$C31<=入力!$AD$25),入力!$AJ$25*12,0))","v":12},21.5,{"$f":"IF(AND($C31>=入力!$AC$24,$C31<=入力!$AD$24,SUM(入力!$AE$24:$AF$24)>0),車_大物家電!AT31,IF(AND($C31>=入力!$AC$25,$C31<=入力!$AD$25,SUM(入力!$AE$25:$AF$25)>0),車_大物家電!AT31,0))","v":21.5}]
[23,45,50,null,null,null,null,null,null,0,null,null,null,null,null,null,null,null,null,0,0,null,null,null,null,null,null,null,0,0,0,null,{"$f":"IF(MOD(C32,MAX(入力!$AE$29,1))=入力!$AE$29-1,入力!$AD$29,0)\n+IF(MOD(C32,MAX(入力!$AE$30,1))=入力!$AE$30-1,入力!$AD$30,0)\n+IF(MOD(C32,MAX(入力!$AE$31,1))=入力!$AE$31-1,入力!$AD$31,0)\n+IF(MOD(C32,MAX(入力!$AE$32,1))=入力!$AE$32-1,入力!$AD$32,0)\n+IF(MOD(C32,MAX(入力!$AE$33,1))=入力!$AE$33-1,入力!$AD$33,0)\n+IF(MOD(C32,MAX(入力!$AE$34,1))=入力!$AE$34-1,入力!$AD$34,0)\n+IF(MOD(C32,MAX(入力!$AE$35,1))=入力!$AE$35-1,入力!$AD$35,0)","v":0},{"$f":"IF(AND($C32>=入力!$AC$24,$C32<=入力!$AD$24,MOD(A32,入力!AG$24)=0),入力!$AL$24,IF(AND($C32>=入力!$AC$25,$C32<=入力!$AD$25,MOD(A32,入力!$AG$25)=0),入力!$AL$25,0))","v":0},{"$f":"IF(AND($C32>=入力!$AC$24,$C32<=入力!$AD$24),入力!$AF$24/60*12,IF(AND($C32>=入力!$AC$25,$C32<=入力!$AD$25),入力!$AF$25/60*12,0))","v":0},21.5,21.5,-21.5,-1960.5,null,null,{"$f":"住居計算!A39","v":"マンション"},{"$f":"IF(AND($C32>=入力!$AC$24,$C32<=入力!$AD$24),入力!$AH$24/2,IF(AND($C32>=入力!$AC$25,$C32<=入力!$AD$25),入力!$AH$25/2,0))","v":5},{"$f":"IF(AND($C32>=入力!$AC$24,$C32<=入力!$AD$24),入力!$AI$24,IF(AND($C32>=入力!$AC$25,$C32<=入力!$AD$25),入力!$AI$25,0))","v":4.5},{"$f":"IF(AND($C32>=入力!$AC$24,$C32<=入力!$AD$24),入力!$AJ$24*12,IF(AND($C32>=入力!$AC$25,$C32<=入力!$AD$25),入力!$AJ$25*12,0))","v":12},21.5,{"$f":"IF(AND($C32>=入力!$AC$24,$C32<=入力!$AD$24,SUM(入力!$AE$24:$AF$24)>0),車_大物家電!AT32,IF(AND($C32>=入力!$AC$25,$C32<=入力!$AD$25,SUM(入力!$AE$25:$AF$25)>0),車_大物家電!AT32,0))","v":21.5}]
[24,46,51,null,null,null,null,null,null,0,null,null,null,null,null,null,null,null,null,0,0,null,null,null,null,null,null,null,0,0,0,null,{"$f":"IF(MOD(C33,MAX(入力!$AE$29,1))=入力!$AE$29-1,入力!$AD$29,0)\n+IF(MOD(C33,MAX(入力!$AE$30,1))=入力!$AE$30-1,入力!$AD$30,0)\n+IF(MOD(C33,MAX(入力!$AE$31,1))=入力!$AE$31-1,入力!$AD$31,0)\n+IF(MOD(C33,MAX(入力!$AE$32,1))=入力!$AE$32-1,入力!$AD$32,0)\n+IF(MOD(C33,MAX(入力!$AE$33,1))=入力!$AE$33-1,入力!$AD$33,0)\n+IF(MOD(C33,MAX(入力!$AE$34,1))=入力!$AE$34-1,入力!$AD$34,0)\n+IF(MOD(C33,MAX(入力!$AE$35,1))=入力!$AE$35-1,入力!$AD$35,0)","v":0},{"$f":"IF(AND($C33>=入力!$AC$24,$C33<=入力!$AD$24,MOD(A33,入力!AG$24)=0),入力!$AL$24,IF(AND($C33>=入力!$AC$25,$C33<=入力!$AD$25,MOD(A33,入力!$AG$25)=0),入力!$AL$25,0))","v":0},{"$f":"IF(AND($C33>=入力!$AC$24,$C33<=入力!$AD$24),入力!$AF$24/60*12,IF(AND($C33>=入力!$AC$25,$C33<=入力!$AD$25),入力!$AF$25/60*12,0))","v":0},21.5,21.5,-21.5,-1982,null,null,{"$f":"住居計算!A40","v":"マンション"},{"$f":"IF(AND($C33>=入力!$AC$24,$C33<=入力!$AD$24),入力!$AH$24/2,IF(AND($C33>=入力!$AC$25,$C33<=入力!$AD$25),入力!$AH$25/2,0))","v":5},{"$f":"IF(AND($C33>=入力!$AC$24,$C33<=入力!$AD$24),入力!$AI$24,IF(AND($C33>=入力!$AC$25,$C33<=入力!$AD$25),入力!$AI$25,0))","v":4.5},{"$f":"IF(AND($C33>=入力!$AC$24,$C33<=入力!$AD$24),入力!$AJ$24*12,IF(AND($C33>=入力!$AC$25,$C33<=入力!$AD$25),入力!$AJ$25*12,0))","v":12},21.5,{"$f":"IF(AND($C33>=入力!$AC$24,$C33<=入力!$AD$24,SUM(入力!$AE$24:$AF$24)>0),車_大物家電!AT33,IF(AND($C33>=入力!$AC$25,$C33<=入力!$AD$25,SUM(入力!$AE$25:$AF$25)>0),車_大物家電!AT33,0))","v":21.5}]
[25,47,52,null,null,null,null,null,null,0,null,null,null,null,null,null,null,null,null,0,0,null,null,null,null,null,null,null,0,0,0,null,{"$f":"IF(MOD(C34,MAX(入力!$AE$29,1))=入力!$AE$29-1,入力!$AD$29,0)\n+IF(MOD(C34,MAX(入力!$AE$30,1))=入力!$AE$30-1,入力!$AD$30,0)\n+IF(MOD(C34,MAX(入力!$AE$31,1))=入力!$AE$31-1,入力!$AD$31,0)\n+IF(MOD(C34,MAX(入力!$AE$32,1))=入力!$AE$32-1,入力!$AD$32,0)\n+IF(MOD(C34,MAX(入力!$AE$33,1))=入力!$AE$33-1,入力!$AD$33,0)\n+IF(MOD(C34,MAX(入力!$AE$34,1))=入力!$AE$34-1,入力!$AD$34,0)\n+IF(MOD(C34,MAX(入力!$AE$35,1))=入力!$AE$35-1,入力!$AD$35,0)","v":0},{"$f":"IF(AND($C34>=入力!$AC$24,$C34<=入力!$AD$24,MOD(A34,入力!AG$24)=0),入力!$AL$24,IF(AND($C34>=入力!$AC$25,$C34<=入力!$AD$25,MOD(A34,入力!$AG$25)=0),入力!$AL$25,0))","v":0},{"$f":"IF(AND($C34>=入力!$AC$24,$C34<=入力!$AD$24),入力!$AF$24/60*12,IF(AND($C34>=入力!$AC$25,$C34<=入力!$AD$25),入力!$AF$25/60*12,0))","v":0},21.5,21.5,-21.5,-2003.5,null,null,{"$f":"住居計算!A41","v":"マンション"},{"$f":"IF(AND($C34>=入力!$AC$24,$C34<=入力!$AD$24),入力!$AH$24/2,IF(AND($C34>=入力!$AC$25,$C34<=入力!$AD$25),入力!$AH$25/2,0))","v":5},{"$f":"IF(AND($C34>=入力!$AC$24,$C34<=入力!$AD$24),入力!$AI$24,IF(AND($C34>=入力!$AC$25,$C34<=入力!$AD$25),入力!$AI$25,0))","v":4.5},{"$f":"IF(AND($C34>=入力!$AC$24,$C34<=入力!$AD$24),入力!$AJ$24*12,IF(AND($C34>=入力!$AC$25,$C34<=入力!$AD$25),入力!$AJ$25*12,0))","v":12},21.5,{"$f":"IF(AND($C34>=入力!$AC$24,$C34<=入力!$AD$24,SUM(入力!$AE$24:$AF$24)>0),車_大物家電!AT34,IF(AND($C34>=入力!$AC$25,$C34<=入力!$AD$25,SUM(入力!$AE$25:$AF$25)>0),車_大物家電!AT34,0))","v":21.5}]
[26,48,53,null,null,null,null,null,null,0,null,null,null,null,null,null,null,null,null,0,0,null,null,null,null,null,null,null,0,0,0,null,{"$f":"IF(MOD(C35,MAX(入力!$AE$29,1))=入力!$AE$29-1,入力!$AD$29,0)\n+IF(MOD(C35,MAX(入力!$AE$30,1))=入力!$AE$30-1,入力!$AD$30,0)\n+IF(MOD(C35,MAX(入力!$AE$31,1))=入力!$AE$31-1,入力!$AD$31,0)\n+IF(MOD(C35,MAX(入力!$AE$32,1))=入力!$AE$32-1,入力!$AD$32,0)\n+IF(MOD(C35,MAX(入力!$AE$33,1))=入力!$AE$33-1,入力!$AD$33,0)\n+IF(MOD(C35,MAX(入力!$AE$34,1))=入力!$AE$34-1,入力!$AD$34,0)\n+IF(MOD(C35,MAX(入力!$AE$35,1))=入力!$AE$35-1,入力!$AD$35,0)","v":0},{"$f":"IF(AND($C35>=入力!$AC$24,$C35<=入力!$AD$24,MOD(A35,入力!AG$24)=0),入力!$AL$24,IF(AND($C35>=入力!$AC$25,$C35<=入力!$AD$25,MOD(A35,入力!$AG$25)=0),入力!$AL$25,0))","v":0},{"$f":"IF(AND($C35>=入力!$AC$24,$C35<=入力!$AD$24),入力!$AF$24/60*12,IF(AND($C35>=入力!$AC$25,$C35<=入力!$AD$25),入力!$AF$25/60*12,0))","v":0},21.5,21.5,-21.5,-2025,null,null,{"$f":"住居計算!A42","v":"マンション"},{"$f":"IF(AND($C35>=入力!$AC$24,$C35<=入力!$AD$24),入力!$AH$24/2,IF(AND($C35>=入力!$AC$25,$C35<=入力!$AD$25),入力!$AH$25/2,0))","v":5},{"$f":"IF(AND($C35>=入力!$AC$24,$C35<=入力!$AD$24),入力!$AI$24,IF(AND($C35>=入力!$AC$25,$C35<=入力!$AD$25),入力!$AI$25,0))","v":4.5},{"$f":"IF(AND($C35>=入力!$AC$24,$C35<=入力!$AD$24),入力!$AJ$24*12,IF(AND($C35>=入力!$AC$25,$C35<=入力!$AD$25),入力!$AJ$25*12,0))","v":12},21.5,{"$f":"IF(AND($C35>=入力!$AC$24,$C35<=入力!$AD$24,SUM(入力!$AE$24:$AF$24)>0),車_大物家電!AT35,IF(AND($C35>=入力!$AC$25,$C35<=入力!$AD$25,SUM(入力!$AE$25:$AF$25)>0),車_大物家電!AT35,0))","v":21.5}]
[27,49,54,null,null,null,null,null,null,0,null,null,null,null,null,null,null,null,null,0,0,null,null,null,null,null,null,null,0,0,0,null,{"$f":"IF(MOD(C36,MAX(入力!$AE$29,1))=入力!$AE$29-1,入力!$AD$29,0)\n+IF(MOD(C36,MAX(入力!$AE$30,1))=入力!$AE$30-1,入力!$AD$30,0)\n+IF(MOD(C36,MAX(入力!$AE$31,1))=入力!$AE$31-1,入力!$AD$31,0)\n+IF(MOD(C36,MAX(入力!$AE$32,1))=入力!$AE$32-1,入力!$AD$32,0)\n+IF(MOD(C36,MAX(入力!$AE$33,1))=入力!$AE$33-1,入力!$AD$33,0)\n+IF(MOD(C36,MAX(入力!$AE$34,1))=入力!$AE$34-1,入力!$AD$34,0)\n+IF(MOD(C36,MAX(入力!$AE$35,1))=入力!$AE$35-1,入力!$AD$35,0)","v":3},{"$f":"IF(AND($C36>=入力!$AC$24,$C36<=入力!$AD$24,MOD(A36,入力!AG$24)=0),入力!$AL$24,IF(AND($C36>=入力!$AC$25,$C36<=入力!$AD$25,MOD(A36,入力!$AG$25)=0),入力!$AL$25,0))","v":0},{"$f":"IF(AND($C36>=入力!$AC$24,$C36<=入力!$AD$24),入力!$AF$24/60*12,IF(AND($C36>=入力!$AC$25,$C36<=入力!$AD$25),入力!$AF$25/60*12,0))","v":0},21.5,24.5,-24.5,-2049.5,null,null,{"$f":"住居計算!A43","v":"マンション"},{"$f":"IF(AND($C36>=入力!$AC$24,$C36<=入力!$AD$24),入力!$AH$24/2,IF(AND($C36>=入力!$AC$25,$C36<=入力!$AD$25),入力!$AH$25/2,0))","v":5},{"$f":"IF(AND($C36>=入力!$AC$24,$C36<=入力!$AD$24),入力!$AI$24,IF(AND($C36>=入力!$AC$25,$C36<=入力!$AD$25),入力!$AI$25,0))","v":4.5},{"$f":"IF(AND($C36>=入力!$AC$24,$C36<=入力!$AD$24),入力!$AJ$24*12,IF(AND($C36>=入力!$AC$25,$C36<=入力!$AD$25),入力!$AJ$25*12,0))","v":12},21.5,{"$f":"IF(AND($C36>=入力!$AC$24,$C36<=入力!$AD$24,SUM(入力!$AE$24:$AF$24)>0),車_大物家電!AT36,IF(AND($C36>=入力!$AC$25,$C36<=入力!$AD$25,SUM(入力!$AE$25:$AF$25)>0),車_大物家電!AT36,0))","v":21.5}]
[28,50,55,null,null,null,null,null,null,0,null,null,null,null,null,null,null,null,null,0,0,null,null,null,null,null,null,null,0,0,0,null,{"$f":"IF(MOD(C37,MAX(入力!$AE$29,1))=入力!$AE$29-1,入力!$AD$29,0)\n+IF(MOD(C37,MAX(入力!$AE$30,1))=入力!$AE$30-1,入力!$AD$30,0)\n+IF(MOD(C37,MAX(入力!$AE$31,1))=入力!$AE$31-1,入力!$AD$31,0)\n+IF(MOD(C37,MAX(入力!$AE$32,1))=入力!$AE$32-1,入力!$AD$32,0)\n+IF(MOD(C37,MAX(入力!$AE$33,1))=入力!$AE$33-1,入力!$AD$33,0)\n+IF(MOD(C37,MAX(入力!$AE$34,1))=入力!$AE$34-1,入力!$AD$34,0)\n+IF(MOD(C37,MAX(入力!$AE$35,1))=入力!$AE$35-1,入力!$AD$35,0)","v":0},{"$f":"IF(AND($C37>=入力!$AC$24,$C37<=入力!$AD$24,MOD(A37,入力!AG$24)=0),入力!$AL$24,IF(AND($C37>=入力!$AC$25,$C37<=入力!$AD$25,MOD(A37,入力!$AG$25)=0),入力!$AL$25,0))","v":300},{"$f":"IF(AND($C37>=入力!$AC$24,$C37<=入力!$AD$24),入力!$AF$24/60*12,IF(AND($C37>=入力!$AC$25,$C37<=入力!$AD$25),入力!$AF$25/60*12,0))","v":0},21.5,321.5,-321.5,-2371,null,null,{"$f":"住居計算!A44","v":"マンション"},{"$f":"IF(AND($C37>=入力!$AC$24,$C37<=入力!$AD$24),入力!$AH$24/2,IF(AND($C37>=入力!$AC$25,$C37<=入力!$AD$25),入力!$AH$25/2,0))","v":5},{"$f":"IF(AND($C37>=入力!$AC$24,$C37<=入力!$AD$24),入力!$AI$24,IF(AND($C37>=入力!$AC$25,$C37<=入力!$AD$25),入力!$AI$25,0))","v":4.5},{"$f":"IF(AND($C37>=入力!$AC$24,$C37<=入力!$AD$24),入力!$AJ$24*12,IF(AND($C37>=入力!$AC$25,$C37<=入力!$AD$25),入力!$AJ$25*12,0))","v":12},21.5,{"$f":"IF(AND($C37>=入力!$AC$24,$C37<=入力!$AD$24,SUM(入力!$AE$24:$AF$24)>0),車_大物家電!AT37,IF(AND($C37>=入力!$AC$25,$C37<=入力!$AD$25,SUM(入力!$AE$25:$AF$25)>0),車_大物家電!AT37,0))","v":21.5}]
[29,51,56,null,null,null,null,null,null,0,null,null,null,null,null,null,null,null,null,0,0,null,null,null,null,null,null,null,0,0,0,null,{"$f":"IF(MOD(C38,MAX(入力!$AE$29,1))=入力!$AE$29-1,入力!$AD$29,0)\n+IF(MOD(C38,MAX(入力!$AE$30,1))=入力!$AE$30-1,入力!$AD$30,0)\n+IF(MOD(C38,MAX(入力!$AE$31,1))=入力!$AE$31-1,入力!$AD$31,0)\n+IF(MOD(C38,MAX(入力!$AE$32,1))=入力!$AE$32-1,入力!$AD$32,0)\n+IF(MOD(C38,MAX(入力!$AE$33,1))=入力!$AE$33-1,入力!$AD$33,0)\n+IF(MOD(C38,MAX(入力!$AE$34,1))=入力!$AE$34-1,入力!$AD$34,0)\n+IF(MOD(C38,MAX(入力!$AE$35,1))=入力!$AE$35-1,入力!$AD$35,0)","v":0},{"$f":"IF(AND($C38>=入力!$AC$24,$C38<=入力!$AD$24,MOD(A38,入力!AG$24)=0),入力!$AL$24,IF(AND($C38>=入力!$AC$25,$C38<=入力!$AD$25,MOD(A38,入力!$AG$25)=0),入力!$AL$25,0))","v":0},{"$f":"IF(AND($C38>=入力!$AC$24,$C38<=入力!$AD$24),入力!$AF$24/60*12,IF(AND($C38>=入力!$AC$25,$C38<=入力!$AD$25),入力!$AF$25/60*12,0))","v":0},21.5,21.5,-21.5,-2392.5,null,null,{"$f":"住居計算!A45","v":"マンション"},{"$f":"IF(AND($C38>=入力!$AC$24,$C38<=入力!$AD$24),入力!$AH$24/2,IF(AND($C38>=入力!$AC$25,$C38<=入力!$AD$25),入力!$AH$25/2,0))","v":5},{"$f":"IF(AND($C38>=入力!$AC$24,$C38<=入力!$AD$24),入力!$AI$24,IF(AND($C38>=入力!$AC$25,$C38<=入力!$AD$25),入力!$AI$25,0))","v":4.5},{"$f":"IF(AND($C38>=入力!$AC$24,$C38<=入力!$AD$24),入力!$AJ$24*12,IF(AND($C38>=入力!$AC$25,$C38<=入力!$AD$25),入力!$AJ$25*12,0))","v":12},21.5,{"$f":"IF(AND($C38>=入力!$AC$24,$C38<=入力!$AD$24,SUM(入力!$AE$24:$AF$24)>0),車_大物家電!AT38,IF(AND($C38>=入力!$AC$25,$C38<=入力!$AD$25,SUM(入力!$AE$25:$AF$25)>0),車_大物家電!AT38,0))","v":21.5}]
[30,{"$f":"B38+1","v":52},57,null,null,null,null,null,null,0,null,null,null,null,null,null,null,null,null,0,0,null,null,null,null,null,null,null,0,0,0,null,{"$f":"IF(MOD(C39,MAX(入力!$AE$29,1))=入力!$AE$29-1,入力!$AD$29,0)\n+IF(MOD(C39,MAX(入力!$AE$30,1))=入力!$AE$30-1,入力!$AD$30,0)\n+IF(MOD(C39,MAX(入力!$AE$31,1))=入力!$AE$31-1,入力!$AD$31,0)\n+IF(MOD(C39,MAX(入力!$AE$32,1))=入力!$AE$32-1,入力!$AD$32,0)\n+IF(MOD(C39,MAX(入力!$AE$33,1))=入力!$AE$33-1,入力!$AD$33,0)\n+IF(MOD(C39,MAX(入力!$AE$34,1))=入力!$AE$34-1,入力!$AD$34,0)\n+IF(MOD(C39,MAX(入力!$AE$35,1))=入力!$AE$35-1,入力!$AD$35,0)","v":0},{"$f":"IF(AND($C39>=入力!$AC$24,$C39<=入力!$AD$24,MOD(A39,入力!AG$24)=0),入力!$AL$24,IF(AND($C39>=入力!$AC$25,$C39<=入力!$AD$25,MOD(A39,入力!$AG$25)=0),入力!$AL$25,0))","v":0},{"$f":"IF(AND($C39>=入力!$AC$24,$C39<=入力!$AD$24),入力!$AF$24/60*12,IF(AND($C39>=入力!$AC$25,$C39<=入力!$AD$25),入力!$AF$25/60*12,0))","v":0},21.5,21.5,-21.5,-2414,null,null,{"$f":"住居計算!A46","v":"マンション"},{"$f":"IF(AND($C39>=入力!$AC$24,$C39<=入力!$AD$24),入力!$AH$24/2,IF(AND($C39>=入力!$AC$25,$C39<=入力!$AD$25),入力!$AH$25/2,0))","v":5},{"$f":"IF(AND($C39>=入力!$AC$24,$C39<=入力!$AD$24),入力!$AI$24,IF(AND($C39>=入力!$AC$25,$C39<=入力!$AD$25),入力!$AI$25,0))","v":4.5},{"$f":"IF(AND($C39>=入力!$AC$24,$C39<=入力!$AD$24),入力!$AJ$24*12,IF(AND($C39>=入力!$AC$25,$C39<=入力!$AD$25),入力!$AJ$25*12,0))","v":12},21.5,{"$f":"IF(AND($C39>=入力!$AC$24,$C39<=入力!$AD$24,SUM(入力!$AE$24:$AF$24)>0),車_大物家電!AT39,IF(AND($C39>=入力!$AC$25,$C39<=入力!$AD$25,SUM(入力!$AE$25:$AF$25)>0),車_大物家電!AT39,0))","v":21.5}]
[31,53,58,null,null,null,null,null,null,0,null,null,null,null,null,null,null,null,null,0,0,null,null,null,null,null,null,null,0,0,0,null,{"$f":"IF(MOD(C40,MAX(入力!$AE$29,1))=入力!$AE$29-1,入力!$AD$29,0)\n+IF(MOD(C40,MAX(入力!$AE$30,1))=入力!$AE$30-1,入力!$AD$30,0)\n+IF(MOD(C40,MAX(入力!$AE$31,1))=入力!$AE$31-1,入力!$AD$31,0)\n+IF(MOD(C40,MAX(入力!$AE$32,1))=入力!$AE$32-1,入力!$AD$32,0)\n+IF(MOD(C40,MAX(入力!$AE$33,1))=入力!$AE$33-1,入力!$AD$33,0)\n+IF(MOD(C40,MAX(入力!$AE$34,1))=入力!$AE$34-1,入力!$AD$34,0)\n+IF(MOD(C40,MAX(入力!$AE$35,1))=入力!$AE$35-1,入力!$AD$35,0)","v":0},{"$f":"IF(AND($C40>=入力!$AC$24,$C40<=入力!$AD$24,MOD(A40,入力!AG$24)=0),入力!$AL$24,IF(AND($C40>=入力!$AC$25,$C40<=入力!$AD$25,MOD(A40,入力!$AG$25)=0),入力!$AL$25,0))","v":0},{"$f":"IF(AND($C40>=入力!$AC$24,$C40<=入力!$AD$24),入力!$AF$24/60*12,IF(AND($C40>=入力!$AC$25,$C40<=入力!$AD$25),入力!$AF$25/60*12,0))","v":0},21.5,21.5,-21.5,-2435.5,null,null,{"$f":"住居計算!A47","v":"マンション"},{"$f":"IF(AND($C40>=入力!$AC$24,$C40<=入力!$AD$24),入力!$AH$24/2,IF(AND($C40>=入力!$AC$25,$C40<=入力!$AD$25),入力!$AH$25/2,0))","v":5},{"$f":"IF(AND($C40>=入力!$AC$24,$C40<=入力!$AD$24),入力!$AI$24,IF(AND($C40>=入力!$AC$25,$C40<=入力!$AD$25),入力!$AI$25,0))","v":4.5},{"$f":"IF(AND($C40>=入力!$AC$24,$C40<=入力!$AD$24),入力!$AJ$24*12,IF(AND($C40>=入力!$AC$25,$C40<=入力!$AD$25),入力!$AJ$25*12,0))","v":12},21.5,{"$f":"IF(AND($C40>=入力!$AC$24,$C40<=入力!$AD$24,SUM(入力!$AE$24:$AF$24)>0),車_大物家電!AT40,IF(AND($C40>=入力!$AC$25,$C40<=入力!$AD$25,SUM(入力!$AE$25:$AF$25)>0),車_大物家電!AT40,0))","v":21.5}]
[32,54,59,null,null,null,null,null,null,0,null,null,null,null,null,null,null,null,null,0,0,null,null,null,null,null,null,null,0,0,0,null,{"$f":"IF(MOD(C41,MAX(入力!$AE$29,1))=入力!$AE$29-1,入力!$AD$29,0)\n+IF(MOD(C41,MAX(入力!$AE$30,1))=入力!$AE$30-1,入力!$AD$30,0)\n+IF(MOD(C41,MAX(入力!$AE$31,1))=入力!$AE$31-1,入力!$AD$31,0)\n+IF(MOD(C41,MAX(入力!$AE$32,1))=入力!$AE$32-1,入力!$AD$32,0)\n+IF(MOD(C41,MAX(入力!$AE$33,1))=入力!$AE$33-1,入力!$AD$33,0)\n+IF(MOD(C41,MAX(入力!$AE$34,1))=入力!$AE$34-1,入力!$AD$34,0)\n+IF(MOD(C41,MAX(入力!$AE$35,1))=入力!$AE$35-1,入力!$AD$35,0)","v":57},{"$f":"IF(AND($C41>=入力!$AC$24,$C41<=入力!$AD$24,MOD(A41,入力!AG$24)=0),入力!$AL$24,IF(AND($C41>=入力!$AC$25,$C41<=入力!$AD$25,MOD(A41,入力!$AG$25)=0),入力!$AL$25,0))","v":0},{"$f":"IF(AND($C41>=入力!$AC$24,$C41<=入力!$AD$24),入力!$AF$24/60*12,IF(AND($C41>=入力!$AC$25,$C41<=入力!$AD$25),入力!$AF$25/60*12,0))","v":0},21.5,78.5,-78.5,-2514,null,null,{"$f":"住居計算!A48","v":"マンション"},{"$f":"IF(AND($C41>=入力!$AC$24,$C41<=入力!$AD$24),入力!$AH$24/2,IF(AND($C41>=入力!$AC$25,$C41<=入力!$AD$25),入力!$AH$25/2,0))","v":5},{"$f":"IF(AND($C41>=入力!$AC$24,$C41<=入力!$AD$24),入力!$AI$24,IF(AND($C41>=入力!$AC$25,$C41<=入力!$AD$25),入力!$AI$25,0))","v":4.5},{"$f":"IF(AND($C41>=入力!$AC$24,$C41<=入力!$AD$24),入力!$AJ$24*12,IF(AND($C41>=入力!$AC$25,$C41<=入力!$AD$25),入力!$AJ$25*12,0))","v":12},21.5,{"$f":"IF(AND($C41>=入力!$AC$24,$C41<=入力!$AD$24,SUM(入力!$AE$24:$AF$24)>0),車_大物家電!AT41,IF(AND($C41>=入力!$AC$25,$C41<=入力!$AD$25,SUM(入力!$AE$25:$AF$25)>0),車_大物家電!AT41,0))","v":21.5}]
[33,55,60,null,null,null,null,null,null,0,null,null,null,null,null,null,null,null,null,0,0,null,null,null,null,null,null,null,0,0,0,null,{"$f":"IF(MOD(C42,MAX(入力!$AE$29,1))=入力!$AE$29-1,入力!$AD$29,0)\n+IF(MOD(C42,MAX(入力!$AE$30,1))=入力!$AE$30-1,入力!$AD$30,0)\n+IF(MOD(C42,MAX(入力!$AE$31,1))=入力!$AE$31-1,入力!$AD$31,0)\n+IF(MOD(C42,MAX(入力!$AE$32,1))=入力!$AE$32-1,入力!$AD$32,0)\n+IF(MOD(C42,MAX(入力!$AE$33,1))=入力!$AE$33-1,入力!$AD$33,0)\n+IF(MOD(C42,MAX(入力!$AE$34,1))=入力!$AE$34-1,入力!$AD$34,0)\n+IF(MOD(C42,MAX(入力!$AE$35,1))=入力!$AE$35-1,入力!$AD$35,0)","v":0},{"$f":"IF(AND($C42>=入力!$AC$24,$C42<=入力!$AD$24,MOD(A42,入力!AG$24)=0),入力!$AL$24,IF(AND($C42>=入力!$AC$25,$C42<=入力!$AD$25,MOD(A42,入力!$AG$25)=0),入力!$AL$25,0))","v":0},{"$f":"IF(AND($C42>=入力!$AC$24,$C42<=入力!$AD$24),入力!$AF$24/60*12,IF(AND($C42>=入力!$AC$25,$C42<=入力!$AD$25),入力!$AF$25/60*12,0))","v":0},21.5,21.5,-21.5,-2535.5,null,null,{"$f":"住居計算!A49","v":"マンション"},{"$f":"IF(AND($C42>=入力!$AC$24,$C42<=入力!$AD$24),入力!$AH$24/2,IF(AND($C42>=入力!$AC$25,$C42<=入力!$AD$25),入力!$AH$25/2,0))","v":5},{"$f":"IF(AND($C42>=入力!$AC$24,$C42<=入力!$AD$24),入力!$AI$24,IF(AND($C42>=入力!$AC$25,$C42<=入力!$AD$25),入力!$AI$25,0))","v":4.5},{"$f":"IF(AND($C42>=入力!$AC$24,$C42<=入力!$AD$24),入力!$AJ$24*12,IF(AND($C42>=入力!$AC$25,$C42<=入力!$AD$25),入力!$AJ$25*12,0))","v":12},21.5,{"$f":"IF(AND($C42>=入力!$AC$24,$C42<=入力!$AD$24,SUM(入力!$AE$24:$AF$24)>0),車_大物家電!AT42,IF(AND($C42>=入力!$AC$25,$C42<=入力!$AD$25,SUM(入力!$AE$25:$AF$25)>0),車_大物家電!AT42,0))","v":21.5}]
[34,56,61,null,null,null,null,null,null,0,null,null,null,null,null,null,null,null,null,0,0,null,null,null,null,null,null,null,0,0,0,null,{"$f":"IF(MOD(C43,MAX(入力!$AE$29,1))=入力!$AE$29-1,入力!$AD$29,0)\n+IF(MOD(C43,MAX(入力!$AE$30,1))=入力!$AE$30-1,入力!$AD$30,0)\n+IF(MOD(C43,MAX(入力!$AE$31,1))=入力!$AE$31-1,入力!$AD$31,0)\n+IF(MOD(C43,MAX(入力!$AE$32,1))=入力!$AE$32-1,入力!$AD$32,0)\n+IF(MOD(C43,MAX(入力!$AE$33,1))=入力!$AE$33-1,入力!$AD$33,0)\n+IF(MOD(C43,MAX(入力!$AE$34,1))=入力!$AE$34-1,入力!$AD$34,0)\n+IF(MOD(C43,MAX(入力!$AE$35,1))=入力!$AE$35-1,入力!$AD$35,0)","v":0},{"$f":"IF(AND($C43>=入力!$AC$24,$C43<=入力!$AD$24,MOD(A43,入力!AG$24)=0),入力!$AL$24,IF(AND($C43>=入力!$AC$25,$C43<=入力!$AD$25,MOD(A43,入力!$AG$25)=0),入力!$AL$25,0))","v":0},{"$f":"IF(AND($C43>=入力!$AC$24,$C43<=入力!$AD$24),入力!$AF$24/60*12,IF(AND($C43>=入力!$AC$25,$C43<=入力!$AD$25),入力!$AF$25/60*12,0))","v":0},21.5,21.5,-21.5,-2557,null,null,{"$f":"住居計算!A50","v":"マンション"},{"$f":"IF(AND($C43>=入力!$AC$24,$C43<=入力!$AD$24),入力!$AH$24/2,IF(AND($C43>=入力!$AC$25,$C43<=入力!$AD$25),入力!$AH$25/2,0))","v":5},{"$f":"IF(AND($C43>=入力!$AC$24,$C43<=入力!$AD$24),入力!$AI$24,IF(AND($C43>=入力!$AC$25,$C43<=入力!$AD$25),入力!$AI$25,0))","v":4.5},{"$f":"IF(AND($C43>=入力!$AC$24,$C43<=入力!$AD$24),入力!$AJ$24*12,IF(AND($C43>=入力!$AC$25,$C43<=入力!$AD$25),入力!$AJ$25*12,0))","v":12},21.5,{"$f":"IF(AND($C43>=入力!$AC$24,$C43<=入力!$AD$24,SUM(入力!$AE$24:$AF$24)>0),車_大物家電!AT43,IF(AND($C43>=入力!$AC$25,$C43<=入力!$AD$25,SUM(入力!$AE$25:$AF$25)>0),車_大物家電!AT43,0))","v":21.5}]
[35,57,62,null,null,null,null,null,null,0,null,null,null,null,null,null,null,null,null,0,0,null,null,null,null,null,null,null,0,0,0,null,{"$f":"IF(MOD(C44,MAX(入力!$AE$29,1))=入力!$AE$29-1,入力!$AD$29,0)\n+IF(MOD(C44,MAX(入力!$AE$30,1))=入力!$AE$30-1,入力!$AD$30,0)\n+IF(MOD(C44,MAX(入力!$AE$31,1))=入力!$AE$31-1,入力!$AD$31,0)\n+IF(MOD(C44,MAX(入力!$AE$32,1))=入力!$AE$32-1,入力!$AD$32,0)\n+IF(MOD(C44,MAX(入力!$AE$33,1))=入力!$AE$33-1,入力!$AD$33,0)\n+IF(MOD(C44,MAX(入力!$AE$34,1))=入力!$AE$34-1,入力!$AD$34,0)\n+IF(MOD(C44,MAX(入力!$AE$35,1))=入力!$AE$35-1,入力!$AD$35,0)","v":0},{"$f":"IF(AND($C44>=入力!$AC$24,$C44<=入力!$AD$24,MOD(A44,入力!AG$24)=0),入力!$AL$24,IF(AND($C44>=入力!$AC$25,$C44<=入力!$AD$25,MOD(A44,入力!$AG$25)=0),入力!$AL$25,0))","v":300},{"$f":"IF(AND($C44>=入力!$AC$24,$C44<=入力!$AD$24),入力!$AF$24/60*12,IF(AND($C44>=入力!$AC$25,$C44<=入力!$AD$25),入力!$AF$25/60*12,0))","v":0},21.5,321.5,-321.5,-2878.5,null,null,{"$f":"住居計算!A51","v":"マンション"},{"$f":"IF(AND($C44>=入力!$AC$24,$C44<=入力!$AD$24),入力!$AH$24/2,IF(AND($C44>=入力!$AC$25,$C44<=入力!$AD$25),入力!$AH$25/2,0))","v":5},{"$f":"IF(AND($C44>=入力!$AC$24,$C44<=入力!$AD$24),入力!$AI$24,IF(AND($C44>=入力!$AC$25,$C44<=入力!$AD$25),入力!$AI$25,0))","v":4.5},{"$f":"IF(AND($C44>=入力!$AC$24,$C44<=入力!$AD$24),入力!$AJ$24*12,IF(AND($C44>=入力!$AC$25,$C44<=入力!$AD$25),入力!$AJ$25*12,0))","v":12},21.5,{"$f":"IF(AND($C44>=入力!$AC$24,$C44<=入力!$AD$24,SUM(入力!$AE$24:$AF$24)>0),車_大物家電!AT44,IF(AND($C44>=入力!$AC$25,$C44<=入力!$AD$25,SUM(入力!$AE$25:$AF$25)>0),車_大物家電!AT44,0))","v":21.5}]
[36,58,63,null,null,null,null,null,null,0,null,null,null,null,null,null,null,null,null,0,0,null,null,null,null,null,null,null,0,0,0,null,{"$f":"IF(MOD(C45,MAX(入力!$AE$29,1))=入力!$AE$29-1,入力!$AD$29,0)\n+IF(MOD(C45,MAX(入力!$AE$30,1))=入力!$AE$30-1,入力!$AD$30,0)\n+IF(MOD(C45,MAX(入力!$AE$31,1))=入力!$AE$31-1,入力!$AD$31,0)\n+IF(MOD(C45,MAX(入力!$AE$32,1))=入力!$AE$32-1,入力!$AD$32,0)\n+IF(MOD(C45,MAX(入力!$AE$33,1))=入力!$AE$33-1,入力!$AD$33,0)\n+IF(MOD(C45,MAX(入力!$AE$34,1))=入力!$AE$34-1,入力!$AD$34,0)\n+IF(MOD(C45,MAX(入力!$AE$35,1))=入力!$AE$35-1,入力!$AD$35,0)","v":0},{"$f":"IF(AND($C45>=入力!$AC$24,$C45<=入力!$AD$24,MOD(A45,入力!AG$24)=0),入力!$AL$24,IF(AND($C45>=入力!$AC$25,$C45<=入力!$AD$25,MOD(A45,入力!$AG$25)=0),入力!$AL$25,0))","v":0},{"$f":"IF(AND($C45>=入力!$AC$24,$C45<=入力!$AD$24),入力!$AF$24/60*12,IF(AND($C45>=入力!$AC$25,$C45<=入力!$AD$25),入力!$AF$25/60*12,0))","v":0},21.5,21.5,-21.5,-2900,null,null,{"$f":"住居計算!A52","v":"マンション"},{"$f":"IF(AND($C45>=入力!$AC$24,$C45<=入力!$AD$24),入力!$AH$24/2,IF(AND($C45>=入力!$AC$25,$C45<=入力!$AD$25),入力!$AH$25/2,0))","v":5},{"$f":"IF(AND($C45>=入力!$AC$24,$C45<=入力!$AD$24),入力!$AI$24,IF(AND($C45>=入力!$AC$25,$C45<=入力!$AD$25),入力!$AI$25,0))","v":4.5},{"$f":"IF(AND($C45>=入力!$AC$24,$C45<=入力!$AD$24),入力!$AJ$24*12,IF(AND($C45>=入力!$AC$25,$C45<=入力!$AD$25),入力!$AJ$25*12,0))","v":12},21.5,{"$f":"IF(AND($C45>=入力!$AC$24,$C45<=入力!$AD$24,SUM(入力!$AE$24:$AF$24)>0),車_大物家電!AT45,IF(AND($C45>=入力!$AC$25,$C45<=入力!$AD$25,SUM(入力!$AE$25:$AF$25)>0),車_大物家電!AT45,0))","v":21.5}]
[37,59,64,null,null,null,null,null,null,0,null,null,null,null,null,null,null,null,null,0,0,null,null,null,null,null,null,null,0,0,0,null,{"$f":"IF(MOD(C46,MAX(入力!$AE$29,1))=入力!$AE$29-1,入力!$AD$29,0)\n+IF(MOD(C46,MAX(入力!$AE$30,1))=入力!$AE$30-1,入力!$AD$30,0)\n+IF(MOD(C46,MAX(入力!$AE$31,1))=入力!$AE$31-1,入力!$AD$31,0)\n+IF(MOD(C46,MAX(入力!$AE$32,1))=入力!$AE$32-1,入力!$AD$32,0)\n+IF(MOD(C46,MAX(入力!$AE$33,1))=入力!$AE$33-1,入力!$AD$33,0)\n+IF(MOD(C46,MAX(入力!$AE$34,1))=入力!$AE$34-1,入力!$AD$34,0)\n+IF(MOD(C46,MAX(入力!$AE$35,1))=入力!$AE$35-1,入力!$AD$35,0)","v":3},{"$f":"IF(AND($C46>=入力!$AC$24,$C46<=入力!$AD$24,MOD(A46,入力!AG$24)=0),入力!$AL$24,IF(AND($C46>=入力!$AC$25,$C46<=入力!$AD$25,MOD(A46,入力!$AG$25)=0),入力!$AL$25,0))","v":0},{"$f":"IF(AND($C46>=入力!$AC$24,$C46<=入力!$AD$24),入力!$AF$24/60*12,IF(AND($C46>=入力!$AC$25,$C46<=入力!$AD$25),入力!$AF$25/60*12,0))","v":0},21.5,24.5,-24.5,-2924.5,null,null,{"$f":"住居計算!A53","v":"マンション"},{"$f":"IF(AND($C46>=入力!$AC$24,$C46<=入力!$AD$24),入力!$AH$24/2,IF(AND($C46>=入力!$AC$25,$C46<=入力!$AD$25),入力!$AH$25/2,0))","v":5},{"$f":"IF(AND($C46>=入力!$AC$24,$C46<=入力!$AD$24),入力!$AI$24,IF(AND($C46>=入力!$AC$25,$C46<=入力!$AD$25),入力!$AI$25,0))","v":4.5},{"$f":"IF(AND($C46>=入力!$AC$24,$C46<=入力!$AD$24),入力!$AJ$24*12,IF(AND($C46>=入力!$AC$25,$C46<=入力!$AD$25),入力!$AJ$25*12,0))","v":12},21.5,{"$f":"IF(AND($C46>=入力!$AC$24,$C46<=入力!$AD$24,SUM(入力!$AE$24:$AF$24)>0),車_大物家電!AT46,IF(AND($C46>=入力!$AC$25,$C46<=入力!$AD$25,SUM(入力!$AE$25:$AF$25)>0),車_大物家電!AT46,0))","v":21.5}]
[38,60,65,null,null,null,null,null,null,0,null,null,null,null,null,null,null,null,null,0,0,null,null,null,null,null,null,null,0,0,0,null,{"$f":"IF(MOD(C47,MAX(入力!$AE$29,1))=入力!$AE$29-1,入力!$AD$29,0)\n+IF(MOD(C47,MAX(入力!$AE$30,1))=入力!$AE$30-1,入力!$AD$30,0)\n+IF(MOD(C47,MAX(入力!$AE$31,1))=入力!$AE$31-1,入力!$AD$31,0)\n+IF(MOD(C47,MAX(入力!$AE$32,1))=入力!$AE$32-1,入力!$AD$32,0)\n+IF(MOD(C47,MAX(入力!$AE$33,1))=入力!$AE$33-1,入力!$AD$33,0)\n+IF(MOD(C47,MAX(入力!$AE$34,1))=入力!$AE$34-1,入力!$AD$34,0)\n+IF(MOD(C47,MAX(入力!$AE$35,1))=入力!$AE$35-1,入力!$AD$35,0)","v":0},{"$f":"IF(AND($C47>=入力!$AC$24,$C47<=入力!$AD$24,MOD(A47,入力!AG$24)=0),入力!$AL$24,IF(AND($C47>=入力!$AC$25,$C47<=入力!$AD$25,MOD(A47,入力!$AG$25)=0),入力!$AL$25,0))","v":0},{"$f":"IF(AND($C47>=入力!$AC$24,$C47<=入力!$AD$24),入力!$AF$24/60*12,IF(AND($C47>=入力!$AC$25,$C47<=入力!$AD$25),入力!$AF$25/60*12,0))","v":0},21.5,21.5,-21.5,-2946,null,null,{"$f":"住居計算!A54","v":"マンション"},{"$f":"IF(AND($C47>=入力!$AC$24,$C47<=入力!$AD$24),入力!$AH$24/2,IF(AND($C47>=入力!$AC$25,$C47<=入力!$AD$25),入力!$AH$25/2,0))","v":5},{"$f":"IF(AND($C47>=入力!$AC$24,$C47<=入力!$AD$24),入力!$AI$24,IF(AND($C47>=入力!$AC$25,$C47<=入力!$AD$25),入力!$AI$25,0))","v":4.5},{"$f":"IF(AND($C47>=入力!$AC$24,$C47<=入力!$AD$24),入力!$AJ$24*12,IF(AND($C47>=入力!$AC$25,$C47<=入力!$AD$25),入力!$AJ$25*12,0))","v":12},21.5,{"$f":"IF(AND($C47>=入力!$AC$24,$C47<=入力!$AD$24,SUM(入力!$AE$24:$AF$24)>0),車_大物家電!AT47,IF(AND($C47>=入力!$AC$25,$C47<=入力!$AD$25,SUM(入力!$AE$25:$AF$25)>0),車_大物家電!AT47,0))","v":21.5}]
[39,61,66,null,null,null,null,null,null,0,null,null,null,null,null,null,null,null,null,0,0,null,null,null,null,null,null,null,0,0,0,null,{"$f":"IF(MOD(C48,MAX(入力!$AE$29,1))=入力!$AE$29-1,入力!$AD$29,0)\n+IF(MOD(C48,MAX(入力!$AE$30,1))=入力!$AE$30-1,入力!$AD$30,0)\n+IF(MOD(C48,MAX(入力!$AE$31,1))=入力!$AE$31-1,入力!$AD$31,0)\n+IF(MOD(C48,MAX(入力!$AE$32,1))=入力!$AE$32-1,入力!$AD$32,0)\n+IF(MOD(C48,MAX(入力!$AE$33,1))=入力!$AE$33-1,入力!$AD$33,0)\n+IF(MOD(C48,MAX(入力!$AE$34,1))=入力!$AE$34-1,入力!$AD$34,0)\n+IF(MOD(C48,MAX(入力!$AE$35,1))=入力!$AE$35-1,入力!$AD$35,0)","v":0},{"$f":"IF(AND($C48>=入力!$AC$24,$C48<=入力!$AD$24,MOD(A48,入力!AG$24)=0),入力!$AL$24,IF(AND($C48>=入力!$AC$25,$C48<=入力!$AD$25,MOD(A48,入力!$AG$25)=0),入力!$AL$25,0))","v":0},{"$f":"IF(AND($C48>=入力!$AC$24,$C48<=入力!$AD$24),入力!$AF$24/60*12,IF(AND($C48>=入力!$AC$25,$C48<=入力!$AD$25),入力!$AF$25/60*12,0))","v":0},20.75,20.75,-20.75,-2966.75,null,null,{"$f":"住居計算!A55","v":"マンション"},{"$f":"IF(AND($C48>=入力!$AC$24,$C48<=入力!$AD$24),入力!$AH$24/2,IF(AND($C48>=入力!$AC$25,$C48<=入力!$AD$25),入力!$AH$25/2,0))","v":5},{"$f":"IF(AND($C48>=入力!$AC$24,$C48<=入力!$AD$24),入力!$AI$24,IF(AND($C48>=入力!$AC$25,$C48<=入力!$AD$25),入力!$AI$25,0))","v":3.75},{"$f":"IF(AND($C48>=入力!$AC$24,$C48<=入力!$AD$24),入力!$AJ$24*12,IF(AND($C48>=入力!$AC$25,$C48<=入力!$AD$25),入力!$AJ$25*12,0))","v":12},20.75,{"$f":"IF(AND($C48>=入力!$AC$24,$C48<=入力!$AD$24,SUM(入力!$AE$24:$AF$24)>0),車_大物家電!AT48,IF(AND($C48>=入力!$AC$25,$C48<=入力!$AD$25,SUM(入力!$AE$25:$AF$25)>0),車_大物家電!AT48,0))","v":20.75}]
[40,62,67,null,null,null,null,null,null,0,null,null,null,null,null,null,null,null,null,0,0,null,null,null,null,null,null,null,0,0,0,null,{"$f":"IF(MOD(C49,MAX(入力!$AE$29,1))=入力!$AE$29-1,入力!$AD$29,0)\n+IF(MOD(C49,MAX(入力!$AE$30,1))=入力!$AE$30-1,入力!$AD$30,0)\n+IF(MOD(C49,MAX(入力!$AE$31,1))=入力!$AE$31-1,入力!$AD$31,0)\n+IF(MOD(C49,MAX(入力!$AE$32,1))=入力!$AE$32-1,入力!$AD$32,0)\n+IF(MOD(C49,MAX(入力!$AE$33,1))=入力!$AE$33-1,入力!$AD$33,0)\n+IF(MOD(C49,MAX(入力!$AE$34,1))=入力!$AE$34-1,入力!$AD$34,0)\n+IF(MOD(C49,MAX(入力!$AE$35,1))=入力!$AE$35-1,入力!$AD$35,0)","v":0},{"$f":"IF(AND($C49>=入力!$AC$24,$C49<=入力!$AD$24,MOD(A49,入力!AG$24)=0),入力!$AL$24,IF(AND($C49>=入力!$AC$25,$C49<=入力!$AD$25,MOD(A49,入力!$AG$25)=0),入力!$AL$25,0))","v":0},{"$f":"IF(AND($C49>=入力!$AC$24,$C49<=入力!$AD$24),入力!$AF$24/60*12,IF(AND($C49>=入力!$AC$25,$C49<=入力!$AD$25),入力!$AF$25/60*12,0))","v":0},20.75,20.75,-20.75,-2987.5,null,null,{"$f":"住居計算!A56","v":"マンション"},{"$f":"IF(AND($C49>=入力!$AC$24,$C49<=入力!$AD$24),入力!$AH$24/2,IF(AND($C49>=入力!$AC$25,$C49<=入力!$AD$25),入力!$AH$25/2,0))","v":5},{"$f":"IF(AND($C49>=入力!$AC$24,$C49<=入力!$AD$24),入力!$AI$24,IF(AND($C49>=入力!$AC$25,$C49<=入力!$AD$25),入力!$AI$25,0))","v":3.75},{"$f":"IF(AND($C49>=入力!$AC$24,$C49<=入力!$AD$24),入力!$AJ$24*12,IF(AND($C49>=入力!$AC$25,$C49<=入力!$AD$25),入力!$AJ$25*12,0))","v":12},20.75,{"$f":"IF(AND($C49>=入力!$AC$24,$C49<=入力!$AD$24,SUM(入力!$AE$24:$AF$24)>0),車_大物家電!AT49,IF(AND($C49>=入力!$AC$25,$C49<=入力!$AD$25,SUM(入力!$AE$25:$AF$25)>0),車_大物家電!AT49,0))","v":20.75}]
[41,63,68,null,null,null,null,null,null,0,null,null,null,null,null,null,null,null,null,0,0,null,null,null,null,null,null,null,0,0,0,null,{"$f":"IF(MOD(C50,MAX(入力!$AE$29,1))=入力!$AE$29-1,入力!$AD$29,0)\n+IF(MOD(C50,MAX(入力!$AE$30,1))=入力!$AE$30-1,入力!$AD$30,0)\n+IF(MOD(C50,MAX(入力!$AE$31,1))=入力!$AE$31-1,入力!$AD$31,0)\n+IF(MOD(C50,MAX(入力!$AE$32,1))=入力!$AE$32-1,入力!$AD$32,0)\n+IF(MOD(C50,MAX(入力!$AE$33,1))=入力!$AE$33-1,入力!$AD$33,0)\n+IF(MOD(C50,MAX(入力!$AE$34,1))=入力!$AE$34-1,入力!$AD$34,0)\n+IF(MOD(C50,MAX(入力!$AE$35,1))=入力!$AE$35-1,入力!$AD$35,0)","v":0},{"$f":"IF(AND($C50>=入力!$AC$24,$C50<=入力!$AD$24,MOD(A50,入力!AG$24)=0),入力!$AL$24,IF(AND($C50>=入力!$AC$25,$C50<=入力!$AD$25,MOD(A50,入力!$AG$25)=0),入力!$AL$25,0))","v":0},{"$f":"IF(AND($C50>=入力!$AC$24,$C50<=入力!$AD$24),入力!$AF$24/60*12,IF(AND($C50>=入力!$AC$25,$C50<=入力!$AD$25),入力!$AF$25/60*12,0))","v":0},20.75,20.75,-20.75,-3008.25,null,null,{"$f":"住居計算!A57","v":"マンション"},{"$f":"IF(AND($C50>=入力!$AC$24,$C50<=入力!$AD$24),入力!$AH$24/2,IF(AND($C50>=入力!$AC$25,$C50<=入力!$AD$25),入力!$AH$25/2,0))","v":5},{"$f":"IF(AND($C50>=入力!$AC$24,$C50<=入力!$AD$24),入力!$AI$24,IF(AND($C50>=入力!$AC$25,$C50<=入力!$AD$25),入力!$AI$25,0))","v":3.75},{"$f":"IF(AND($C50>=入力!$AC$24,$C50<=入力!$AD$24),入力!$AJ$24*12,IF(AND($C50>=入力!$AC$25,$C50<=入力!$AD$25),入力!$AJ$25*12,0))","v":12},20.75,{"$f":"IF(AND($C50>=入力!$AC$24,$C50<=入力!$AD$24,SUM(入力!$AE$24:$AF$24)>0),車_大物家電!AT50,IF(AND($C50>=入力!$AC$25,$C50<=入力!$AD$25,SUM(入力!$AE$25:$AF$25)>0),車_大物家電!AT50,0))","v":20.75}]
[42,64,69,null,null,null,null,null,null,0,null,null,null,null,null,null,null,null,null,0,0,null,null,null,null,null,null,null,0,0,0,null,{"$f":"IF(MOD(C51,MAX(入力!$AE$29,1))=入力!$AE$29-1,入力!$AD$29,0)\n+IF(MOD(C51,MAX(入力!$AE$30,1))=入力!$AE$30-1,入力!$AD$30,0)\n+IF(MOD(C51,MAX(入力!$AE$31,1))=入力!$AE$31-1,入力!$AD$31,0)\n+IF(MOD(C51,MAX(入力!$AE$32,1))=入力!$AE$32-1,入力!$AD$32,0)\n+IF(MOD(C51,MAX(入力!$AE$33,1))=入力!$AE$33-1,入力!$AD$33,0)\n+IF(MOD(C51,MAX(入力!$AE$34,1))=入力!$AE$34-1,入力!$AD$34,0)\n+IF(MOD(C51,MAX(入力!$AE$35,1))=入力!$AE$35-1,入力!$AD$35,0)","v":57},{"$f":"IF(AND($C51>=入力!$AC$24,$C51<=入力!$AD$24,MOD(A51,入力!AG$24)=0),入力!$AL$24,IF(AND($C51>=入力!$AC$25,$C51<=入力!$AD$25,MOD(A51,入力!$AG$25)=0),入力!$AL$25,0))","v":250},{"$f":"IF(AND($C51>=入力!$AC$24,$C51<=入力!$AD$24),入力!$AF$24/60*12,IF(AND($C51>=入力!$AC$25,$C51<=入力!$AD$25),入力!$AF$25/60*12,0))","v":0},20.75,327.75,-327.75,-3336,null,null,{"$f":"住居計算!A58","v":"マンション"},{"$f":"IF(AND($C51>=入力!$AC$24,$C51<=入力!$AD$24),入力!$AH$24/2,IF(AND($C51>=入力!$AC$25,$C51<=入力!$AD$25),入力!$AH$25/2,0))","v":5},{"$f":"IF(AND($C51>=入力!$AC$24,$C51<=入力!$AD$24),入力!$AI$24,IF(AND($C51>=入力!$AC$25,$C51<=入力!$AD$25),入力!$AI$25,0))","v":3.75},{"$f":"IF(AND($C51>=入力!$AC$24,$C51<=入力!$AD$24),入力!$AJ$24*12,IF(AND($C51>=入力!$AC$25,$C51<=入力!$AD$25),入力!$AJ$25*12,0))","v":12},20.75,{"$f":"IF(AND($C51>=入力!$AC$24,$C51<=入力!$AD$24,SUM(入力!$AE$24:$AF$24)>0),車_大物家電!AT51,IF(AND($C51>=入力!$AC$25,$C51<=入力!$AD$25,SUM(入力!$AE$25:$AF$25)>0),車_大物家電!AT51,0))","v":20.75}]
[43,65,70,null,null,null,null,null,null,0,null,null,null,null,null,null,null,null,null,0,0,null,null,null,null,null,null,null,0,0,0,null,{"$f":"IF(MOD(C52,MAX(入力!$AE$29,1))=入力!$AE$29-1,入力!$AD$29,0)\n+IF(MOD(C52,MAX(入力!$AE$30,1))=入力!$AE$30-1,入力!$AD$30,0)\n+IF(MOD(C52,MAX(入力!$AE$31,1))=入力!$AE$31-1,入力!$AD$31,0)\n+IF(MOD(C52,MAX(入力!$AE$32,1))=入力!$AE$32-1,入力!$AD$32,0)\n+IF(MOD(C52,MAX(入力!$AE$33,1))=入力!$AE$33-1,入力!$AD$33,0)\n+IF(MOD(C52,MAX(入力!$AE$34,1))=入力!$AE$34-1,入力!$AD$34,0)\n+IF(MOD(C52,MAX(入力!$AE$35,1))=入力!$AE$35-1,入力!$AD$35,0)","v":0},{"$f":"IF(AND($C52>=入力!$AC$24,$C52<=入力!$AD$24,MOD(A52,入力!AG$24)=0),入力!$AL$24,IF(AND($C52>=入力!$AC$25,$C52<=入力!$AD$25,MOD(A52,入力!$AG$25)=0),入力!$AL$25,0))","v":0},{"$f":"IF(AND($C52>=入力!$AC$24,$C52<=入力!$AD$24),入力!$AF$24/60*12,IF(AND($C52>=入力!$AC$25,$C52<=入力!$AD$25),入力!$AF$25/60*12,0))","v":0},20.75,20.75,-20.75,-3356.75,null,null,{"$f":"住居計算!A59","v":"マンション"},{"$f":"IF(AND($C52>=入力!$AC$24,$C52<=入力!$AD$24),入力!$AH$24/2,IF(AND($C52>=入力!$AC$25,$C52<=入力!$AD$25),入力!$AH$25/2,0))","v":5},{"$f":"IF(AND($C52>=入力!$AC$24,$C52<=入力!$AD$24),入力!$AI$24,IF(AND($C52>=入力!$AC$25,$C52<=入力!$AD$25),入力!$AI$25,0))","v":3.75},{"$f":"IF(AND($C52>=入力!$AC$24,$C52<=入力!$AD$24),入力!$AJ$24*12,IF(AND($C52>=入力!$AC$25,$C52<=入力!$AD$25),入力!$AJ$25*12,0))","v":12},20.75,{"$f":"IF(AND($C52>=入力!$AC$24,$C52<=入力!$AD$24,SUM(入力!$AE$24:$AF$24)>0),車_大物家電!AT52,IF(AND($C52>=入力!$AC$25,$C52<=入力!$AD$25,SUM(入力!$AE$25:$AF$25)>0),車_大物家電!AT52,0))","v":20.75}]
[44,66,71,null,null,null,null,null,null,0,null,null,null,null,null,null,null,null,null,0,0,null,null,null,null,null,null,null,0,0,0,null,{"$f":"IF(MOD(C53,MAX(入力!$AE$29,1))=入力!$AE$29-1,入力!$AD$29,0)\n+IF(MOD(C53,MAX(入力!$AE$30,1))=入力!$AE$30-1,入力!$AD$30,0)\n+IF(MOD(C53,MAX(入力!$AE$31,1))=入力!$AE$31-1,入力!$AD$31,0)\n+IF(MOD(C53,MAX(入力!$AE$32,1))=入力!$AE$32-1,入力!$AD$32,0)\n+IF(MOD(C53,MAX(入力!$AE$33,1))=入力!$AE$33-1,入力!$AD$33,0)\n+IF(MOD(C53,MAX(入力!$AE$34,1))=入力!$AE$34-1,入力!$AD$34,0)\n+IF(MOD(C53,MAX(入力!$AE$35,1))=入力!$AE$35-1,入力!$AD$35,0)","v":0},{"$f":"IF(AND($C53>=入力!$AC$24,$C53<=入力!$AD$24,MOD(A53,入力!AG$24)=0),入力!$AL$24,IF(AND($C53>=入力!$AC$25,$C53<=入力!$AD$25,MOD(A53,入力!$AG$25)=0),入力!$AL$25,0))","v":0},{"$f":"IF(AND($C53>=入力!$AC$24,$C53<=入力!$AD$24),入力!$AF$24/60*12,IF(AND($C53>=入力!$AC$25,$C53<=入力!$AD$25),入力!$AF$25/60*12,0))","v":0},20.75,20.75,-20.75,-3377.5,null,null,{"$f":"住居計算!A60","v":"マンション"},{"$f":"IF(AND($C53>=入力!$AC$24,$C53<=入力!$AD$24),入力!$AH$24/2,IF(AND($C53>=入力!$AC$25,$C53<=入力!$AD$25),入力!$AH$25/2,0))","v":5},{"$f":"IF(AND($C53>=入力!$AC$24,$C53<=入力!$AD$24),入力!$AI$24,IF(AND($C53>=入力!$AC$25,$C53<=入力!$AD$25),入力!$AI$25,0))","v":3.75},{"$f":"IF(AND($C53>=入力!$AC$24,$C53<=入力!$AD$24),入力!$AJ$24*12,IF(AND($C53>=入力!$AC$25,$C53<=入力!$AD$25),入力!$AJ$25*12,0))","v":12},20.75,{"$f":"IF(AND($C53>=入力!$AC$24,$C53<=入力!$AD$24,SUM(入力!$AE$24:$AF$24)>0),車_大物家電!AT53,IF(AND($C53>=入力!$AC$25,$C53<=入力!$AD$25,SUM(入力!$AE$25:$AF$25)>0),車_大物家電!AT53,0))","v":20.75}]
[45,67,72,null,null,null,null,null,null,0,null,null,null,null,null,null,null,null,null,0,0,null,null,null,null,null,null,null,0,0,0,null,{"$f":"IF(MOD(C54,MAX(入力!$AE$29,1))=入力!$AE$29-1,入力!$AD$29,0)\n+IF(MOD(C54,MAX(入力!$AE$30,1))=入力!$AE$30-1,入力!$AD$30,0)\n+IF(MOD(C54,MAX(入力!$AE$31,1))=入力!$AE$31-1,入力!$AD$31,0)\n+IF(MOD(C54,MAX(入力!$AE$32,1))=入力!$AE$32-1,入力!$AD$32,0)\n+IF(MOD(C54,MAX(入力!$AE$33,1))=入力!$AE$33-1,入力!$AD$33,0)\n+IF(MOD(C54,MAX(入力!$AE$34,1))=入力!$AE$34-1,入力!$AD$34,0)\n+IF(MOD(C54,MAX(入力!$AE$35,1))=入力!$AE$35-1,入力!$AD$35,0)","v":0},{"$f":"IF(AND($C54>=入力!$AC$24,$C54<=入力!$AD$24,MOD(A54,入力!AG$24)=0),入力!$AL$24,IF(AND($C54>=入力!$AC$25,$C54<=入力!$AD$25,MOD(A54,入力!$AG$25)=0),入力!$AL$25,0))","v":0},{"$f":"IF(AND($C54>=入力!$AC$24,$C54<=入力!$AD$24),入力!$AF$24/60*12,IF(AND($C54>=入力!$AC$25,$C54<=入力!$AD$25),入力!$AF$25/60*12,0))","v":0},20.75,20.75,-20.75,-3398.25,null,null,{"$f":"住居計算!A61","v":"マンション"},{"$f":"IF(AND($C54>=入力!$AC$24,$C54<=入力!$AD$24),入力!$AH$24/2,IF(AND($C54>=入力!$AC$25,$C54<=入力!$AD$25),入力!$AH$25/2,0))","v":5},{"$f":"IF(AND($C54>=入力!$AC$24,$C54<=入力!$AD$24),入力!$AI$24,IF(AND($C54>=入力!$AC$25,$C54<=入力!$AD$25),入力!$AI$25,0))","v":3.75},{"$f":"IF(AND($C54>=入力!$AC$24,$C54<=入力!$AD$24),入力!$AJ$24*12,IF(AND($C54>=入力!$AC$25,$C54<=入力!$AD$25),入力!$AJ$25*12,0))","v":12},20.75,{"$f":"IF(AND($C54>=入力!$AC$24,$C54<=入力!$AD$24,SUM(入力!$AE$24:$AF$24)>0),車_大物家電!AT54,IF(AND($C54>=入力!$AC$25,$C54<=入力!$AD$25,SUM(入力!$AE$25:$AF$25)>0),車_大物家電!AT54,0))","v":20.75}]
[46,{"$f":"B54+1","v":68},73,null,null,null,null,null,null,0,null,null,null,null,null,null,null,null,null,0,0,null,null,null,null,null,null,null,0,0,0,null,{"$f":"IF(MOD(C55,MAX(入力!$AE$29,1))=入力!$AE$29-1,入力!$AD$29,0)\n+IF(MOD(C55,MAX(入力!$AE$30,1))=入力!$AE$30-1,入力!$AD$30,0)\n+IF(MOD(C55,MAX(入力!$AE$31,1))=入力!$AE$31-1,入力!$AD$31,0)\n+IF(MOD(C55,MAX(入力!$AE$32,1))=入力!$AE$32-1,入力!$AD$32,0)\n+IF(MOD(C55,MAX(入力!$AE$33,1))=入力!$AE$33-1,入力!$AD$33,0)\n+IF(MOD(C55,MAX(入力!$AE$34,1))=入力!$AE$34-1,入力!$AD$34,0)\n+IF(MOD(C55,MAX(入力!$AE$35,1))=入力!$AE$35-1,入力!$AD$35,0)","v":0},{"$f":"IF(AND($C55>=入力!$AC$24,$C55<=入力!$AD$24,MOD(A55,入力!AG$24)=0),入力!$AL$24,IF(AND($C55>=入力!$AC$25,$C55<=入力!$AD$25,MOD(A55,入力!$AG$25)=0),入力!$AL$25,0))","v":0},{"$f":"IF(AND($C55>=入力!$AC$24,$C55<=入力!$AD$24),入力!$AF$24/60*12,IF(AND($C55>=入力!$AC$25,$C55<=入力!$AD$25),入力!$AF$25/60*12,0))","v":0},20.75,20.75,-20.75,-3419,null,null,{"$f":"住居計算!A62","v":"マンション"},{"$f":"IF(AND($C55>=入力!$AC$24,$C55<=入力!$AD$24),入力!$AH$24/2,IF(AND($C55>=入力!$AC$25,$C55<=入力!$AD$25),入力!$AH$25/2,0))","v":5},{"$f":"IF(AND($C55>=入力!$AC$24,$C55<=入力!$AD$24),入力!$AI$24,IF(AND($C55>=入力!$AC$25,$C55<=入力!$AD$25),入力!$AI$25,0))","v":3.75},{"$f":"IF(AND($C55>=入力!$AC$24,$C55<=入力!$AD$24),入力!$AJ$24*12,IF(AND($C55>=入力!$AC$25,$C55<=入力!$AD$25),入力!$AJ$25*12,0))","v":12},20.75,{"$f":"IF(AND($C55>=入力!$AC$24,$C55<=入力!$AD$24,SUM(入力!$AE$24:$AF$24)>0),車_大物家電!AT55,IF(AND($C55>=入力!$AC$25,$C55<=入力!$AD$25,SUM(入力!$AE$25:$AF$25)>0),車_大物家電!AT55,0))","v":20.75}]
[47,69,74,null,null,null,null,null,null,0,null,null,null,null,null,null,null,null,null,0,0,null,null,null,null,null,null,null,0,0,0,null,{"$f":"IF(MOD(C56,MAX(入力!$AE$29,1))=入力!$AE$29-1,入力!$AD$29,0)\n+IF(MOD(C56,MAX(入力!$AE$30,1))=入力!$AE$30-1,入力!$AD$30,0)\n+IF(MOD(C56,MAX(入力!$AE$31,1))=入力!$AE$31-1,入力!$AD$31,0)\n+IF(MOD(C56,MAX(入力!$AE$32,1))=入力!$AE$32-1,入力!$AD$32,0)\n+IF(MOD(C56,MAX(入力!$AE$33,1))=入力!$AE$33-1,入力!$AD$33,0)\n+IF(MOD(C56,MAX(入力!$AE$34,1))=入力!$AE$34-1,入力!$AD$34,0)\n+IF(MOD(C56,MAX(入力!$AE$35,1))=入力!$AE$35-1,入力!$AD$35,0)","v":3},{"$f":"IF(AND($C56>=入力!$AC$24,$C56<=入力!$AD$24,MOD(A56,入力!AG$24)=0),入力!$AL$24,IF(AND($C56>=入力!$AC$25,$C56<=入力!$AD$25,MOD(A56,入力!$AG$25)=0),入力!$AL$25,0))","v":0},{"$f":"IF(AND($C56>=入力!$AC$24,$C56<=入力!$AD$24),入力!$AF$24/60*12,IF(AND($C56>=入力!$AC$25,$C56<=入力!$AD$25),入力!$AF$25/60*12,0))","v":0},20.75,23.75,-23.75,-3442.75,null,null,{"$f":"住居計算!A63","v":"マンション"},{"$f":"IF(AND($C56>=入力!$AC$24,$C56<=入力!$AD$24),入力!$AH$24/2,IF(AND($C56>=入力!$AC$25,$C56<=入力!$AD$25),入力!$AH$25/2,0))","v":5},{"$f":"IF(AND($C56>=入力!$AC$24,$C56<=入力!$AD$24),入力!$AI$24,IF(AND($C56>=入力!$AC$25,$C56<=入力!$AD$25),入力!$AI$25,0))","v":3.75},{"$f":"IF(AND($C56>=入力!$AC$24,$C56<=入力!$AD$24),入力!$AJ$24*12,IF(AND($C56>=入力!$AC$25,$C56<=入力!$AD$25),入力!$AJ$25*12,0))","v":12},20.75,{"$f":"IF(AND($C56>=入力!$AC$24,$C56<=入力!$AD$24,SUM(入力!$AE$24:$AF$24)>0),車_大物家電!AT56,IF(AND($C56>=入力!$AC$25,$C56<=入力!$AD$25,SUM(入力!$AE$25:$AF$25)>0),車_大物家電!AT56,0))","v":20.75}]
[48,70,75,null,null,null,null,null,null,0,null,null,null,null,null,null,null,null,null,0,0,null,null,null,null,null,null,null,0,0,0,null,{"$f":"IF(MOD(C57,MAX(入力!$AE$29,1))=入力!$AE$29-1,入力!$AD$29,0)\n+IF(MOD(C57,MAX(入力!$AE$30,1))=入力!$AE$30-1,入力!$AD$30,0)\n+IF(MOD(C57,MAX(入力!$AE$31,1))=入力!$AE$31-1,入力!$AD$31,0)\n+IF(MOD(C57,MAX(入力!$AE$32,1))=入力!$AE$32-1,入力!$AD$32,0)\n+IF(MOD(C57,MAX(入力!$AE$33,1))=入力!$AE$33-1,入力!$AD$33,0)\n+IF(MOD(C57,MAX(入力!$AE$34,1))=入力!$AE$34-1,入力!$AD$34,0)\n+IF(MOD(C57,MAX(入力!$AE$35,1))=入力!$AE$35-1,入力!$AD$35,0)","v":0},{"$f":"IF(AND($C57>=入力!$AC$24,$C57<=入力!$AD$24,MOD(A57,入力!AG$24)=0),入力!$AL$24,IF(AND($C57>=入力!$AC$25,$C57<=入力!$AD$25,MOD(A57,入力!$AG$25)=0),入力!$AL$25,0))","v":0},{"$f":"IF(AND($C57>=入力!$AC$24,$C57<=入力!$AD$24),入力!$AF$24/60*12,IF(AND($C57>=入力!$AC$25,$C57<=入力!$AD$25),入力!$AF$25/60*12,0))","v":0},20.75,20.75,-20.75,-3463.5,null,null,{"$f":"住居計算!A64","v":"マンション"},{"$f":"IF(AND($C57>=入力!$AC$24,$C57<=入力!$AD$24),入力!$AH$24/2,IF(AND($C57>=入力!$AC$25,$C57<=入力!$AD$25),入力!$AH$25/2,0))","v":5},{"$f":"IF(AND($C57>=入力!$AC$24,$C57<=入力!$AD$24),入力!$AI$24,IF(AND($C57>=入力!$AC$25,$C57<=入力!$AD$25),入力!$AI$25,0))","v":3.75},{"$f":"IF(AND($C57>=入力!$AC$24,$C57<=入力!$AD$24),入力!$AJ$24*12,IF(AND($C57>=入力!$AC$25,$C57<=入力!$AD$25),入力!$AJ$25*12,0))","v":12},20.75,{"$f":"IF(AND($C57>=入力!$AC$24,$C57<=入力!$AD$24,SUM(入力!$AE$24:$AF$24)>0),車_大物家電!AT57,IF(AND($C57>=入力!$AC$25,$C57<=入力!$AD$25,SUM(入力!$AE$25:$AF$25)>0),車_大物家電!AT57,0))","v":20.75}]
[49,71,76,null,null,null,null,null,null,0,null,null,null,null,null,null,null,null,null,0,0,null,null,null,null,null,null,null,0,0,0,null,{"$f":"IF(MOD(C58,MAX(入力!$AE$29,1))=入力!$AE$29-1,入力!$AD$29,0)\n+IF(MOD(C58,MAX(入力!$AE$30,1))=入力!$AE$30-1,入力!$AD$30,0)\n+IF(MOD(C58,MAX(入力!$AE$31,1))=入力!$AE$31-1,入力!$AD$31,0)\n+IF(MOD(C58,MAX(入力!$AE$32,1))=入力!$AE$32-1,入力!$AD$32,0)\n+IF(MOD(C58,MAX(入力!$AE$33,1))=入力!$AE$33-1,入力!$AD$33,0)\n+IF(MOD(C58,MAX(入力!$AE$34,1))=入力!$AE$34-1,入力!$AD$34,0)\n+IF(MOD(C58,MAX(入力!$AE$35,1))=入力!$AE$35-1,入力!$AD$35,0)","v":0},{"$f":"IF(AND($C58>=入力!$AC$24,$C58<=入力!$AD$24,MOD(A58,入力!AG$24)=0),入力!$AL$24,IF(AND($C58>=入力!$AC$25,$C58<=入力!$AD$25,MOD(A58,入力!$AG$25)=0),入力!$AL$25,0))","v":250},{"$f":"IF(AND($C58>=入力!$AC$24,$C58<=入力!$AD$24),入力!$AF$24/60*12,IF(AND($C58>=入力!$AC$25,$C58<=入力!$AD$25),入力!$AF$25/60*12,0))","v":0},20.75,270.75,-270.75,-3734.25,null,null,{"$f":"住居計算!A65","v":"マンション"},{"$f":"IF(AND($C58>=入力!$AC$24,$C58<=入力!$AD$24),入力!$AH$24/2,IF(AND($C58>=入力!$AC$25,$C58<=入力!$AD$25),入力!$AH$25/2,0))","v":5},{"$f":"IF(AND($C58>=入力!$AC$24,$C58<=入力!$AD$24),入力!$AI$24,IF(AND($C58>=入力!$AC$25,$C58<=入力!$AD$25),入力!$AI$25,0))","v":3.75},{"$f":"IF(AND($C58>=入力!$AC$24,$C58<=入力!$AD$24),入力!$AJ$24*12,IF(AND($C58>=入力!$AC$25,$C58<=入力!$AD$25),入力!$AJ$25*12,0))","v":12},20.75,{"$f":"IF(AND($C58>=入力!$AC$24,$C58<=入力!$AD$24,SUM(入力!$AE$24:$AF$24)>0),車_大物家電!AT58,IF(AND($C58>=入力!$AC$25,$C58<=入力!$AD$25,SUM(入力!$AE$25:$AF$25)>0),車_大物家電!AT58,0))","v":20.75}]
[50,72,77,null,null,null,null,null,null,0,null,null,null,null,null,null,null,null,null,0,0,null,null,null,null,null,null,null,0,0,0,null,{"$f":"IF(MOD(C59,MAX(入力!$AE$29,1))=入力!$AE$29-1,入力!$AD$29,0)\n+IF(MOD(C59,MAX(入力!$AE$30,1))=入力!$AE$30-1,入力!$AD$30,0)\n+IF(MOD(C59,MAX(入力!$AE$31,1))=入力!$AE$31-1,入力!$AD$31,0)\n+IF(MOD(C59,MAX(入力!$AE$32,1))=入力!$AE$32-1,入力!$AD$32,0)\n+IF(MOD(C59,MAX(入力!$AE$33,1))=入力!$AE$33-1,入力!$AD$33,0)\n+IF(MOD(C59,MAX(入力!$AE$34,1))=入力!$AE$34-1,入力!$AD$34,0)\n+IF(MOD(C59,MAX(入力!$AE$35,1))=入力!$AE$35-1,入力!$AD$35,0)","v":0},{"$f":"IF(AND($C59>=入力!$AC$24,$C59<=入力!$AD$24,MOD(A59,入力!AG$24)=0),入力!$AL$24,IF(AND($C59>=入力!$AC$25,$C59<=入力!$AD$25,MOD(A59,入力!$AG$25)=0),入力!$AL$25,0))","v":0},{"$f":"IF(AND($C59>=入力!$AC$24,$C59<=入力!$AD$24),入力!$AF$24/60*12,IF(AND($C59>=入力!$AC$25,$C59<=入力!$AD$25),入力!$AF$25/60*12,0))","v":0},20.75,20.75,-20.75,-3755,null,null,{"$f":"住居計算!A66","v":"マンション"},{"$f":"IF(AND($C59>=入力!$AC$24,$C59<=入力!$AD$24),入力!$AH$24/2,IF(AND($C59>=入力!$AC$25,$C59<=入力!$AD$25),入力!$AH$25/2,0))","v":5},{"$f":"IF(AND($C59>=入力!$AC$24,$C59<=入力!$AD$24),入力!$AI$24,IF(AND($C59>=入力!$AC$25,$C59<=入力!$AD$25),入力!$AI$25,0))","v":3.75},{"$f":"IF(AND($C59>=入力!$AC$24,$C59<=入力!$AD$24),入力!$AJ$24*12,IF(AND($C59>=入力!$AC$25,$C59<=入力!$AD$25),入力!$AJ$25*12,0))","v":12},20.75,{"$f":"IF(AND($C59>=入力!$AC$24,$C59<=入力!$AD$24,SUM(入力!$AE$24:$AF$24)>0),車_大物家電!AT59,IF(AND($C59>=入力!$AC$25,$C59<=入力!$AD$25,SUM(入力!$AE$25:$AF$25)>0),車_大物家電!AT59,0))","v":20.75}]
[51,73,78,null,null,null,null,null,null,0,null,null,null,null,null,null,null,null,null,0,0,null,null,null,null,null,null,null,0,0,0,null,{"$f":"IF(MOD(C60,MAX(入力!$AE$29,1))=入力!$AE$29-1,入力!$AD$29,0)\n+IF(MOD(C60,MAX(入力!$AE$30,1))=入力!$AE$30-1,入力!$AD$30,0)\n+IF(MOD(C60,MAX(入力!$AE$31,1))=入力!$AE$31-1,入力!$AD$31,0)\n+IF(MOD(C60,MAX(入力!$AE$32,1))=入力!$AE$32-1,入力!$AD$32,0)\n+IF(MOD(C60,MAX(入力!$AE$33,1))=入力!$AE$33-1,入力!$AD$33,0)\n+IF(MOD(C60,MAX(入力!$AE$34,1))=入力!$AE$34-1,入力!$AD$34,0)\n+IF(MOD(C60,MAX(入力!$AE$35,1))=入力!$AE$35-1,入力!$AD$35,0)","v":0},{"$f":"IF(AND($C60>=入力!$AC$24,$C60<=入力!$AD$24,MOD(A60,入力!AG$24)=0),入力!$AL$24,IF(AND($C60>=入力!$AC$25,$C60<=入力!$AD$25,MOD(A60,入力!$AG$25)=0),入力!$AL$25,0))","v":0},{"$f":"IF(AND($C60>=入力!$AC$24,$C60<=入力!$AD$24),入力!$AF$24/60*12,IF(AND($C60>=入力!$AC$25,$C60<=入力!$AD$25),入力!$AF$25/60*12,0))","v":0},20.75,20.75,-20.75,-3775.75,null,null,{"$f":"住居計算!A67","v":"マンション"},{"$f":"IF(AND($C60>=入力!$AC$24,$C60<=入力!$AD$24),入力!$AH$24/2,IF(AND($C60>=入力!$AC$25,$C60<=入力!$AD$25),入力!$AH$25/2,0))","v":5},{"$f":"IF(AND($C60>=入力!$AC$24,$C60<=入力!$AD$24),入力!$AI$24,IF(AND($C60>=入力!$AC$25,$C60<=入力!$AD$25),入力!$AI$25,0))","v":3.75},{"$f":"IF(AND($C60>=入力!$AC$24,$C60<=入力!$AD$24),入力!$AJ$24*12,IF(AND($C60>=入力!$AC$25,$C60<=入力!$AD$25),入力!$AJ$25*12,0))","v":12},20.75,{"$f":"IF(AND($C60>=入力!$AC$24,$C60<=入力!$AD$24,SUM(入力!$AE$24:$AF$24)>0),車_大物家電!AT60,IF(AND($C60>=入力!$AC$25,$C60<=入力!$AD$25,SUM(入力!$AE$25:$AF$25)>0),車_大物家電!AT60,0))","v":20.75}]
[52,74,79,null,null,null,null,null,null,0,null,null,null,null,null,null,null,null,null,0,0,null,null,null,null,null,null,null,0,0,0,null,{"$f":"IF(MOD(C61,MAX(入力!$AE$29,1))=入力!$AE$29-1,入力!$AD$29,0)\n+IF(MOD(C61,MAX(入力!$AE$30,1))=入力!$AE$30-1,入力!$AD$30,0)\n+IF(MOD(C61,MAX(入力!$AE$31,1))=入力!$AE$31-1,入力!$AD$31,0)\n+IF(MOD(C61,MAX(入力!$AE$32,1))=入力!$AE$32-1,入力!$AD$32,0)\n+IF(MOD(C61,MAX(入力!$AE$33,1))=入力!$AE$33-1,入力!$AD$33,0)\n+IF(MOD(C61,MAX(入力!$AE$34,1))=入力!$AE$34-1,入力!$AD$34,0)\n+IF(MOD(C61,MAX(入力!$AE$35,1))=入力!$AE$35-1,入力!$AD$35,0)","v":57},{"$f":"IF(AND($C61>=入力!$AC$24,$C61<=入力!$AD$24,MOD(A61,入力!AG$24)=0),入力!$AL$24,IF(AND($C61>=入力!$AC$25,$C61<=入力!$AD$25,MOD(A61,入力!$AG$25)=0),入力!$AL$25,0))","v":0},{"$f":"IF(AND($C61>=入力!$AC$24,$C61<=入力!$AD$24),入力!$AF$24/60*12,IF(AND($C61>=入力!$AC$25,$C61<=入力!$AD$25),入力!$AF$25/60*12,0))","v":0},20.75,77.75,-77.75,-3853.5,null,null,{"$f":"住居計算!A68","v":"マンション"},{"$f":"IF(AND($C61>=入力!$AC$24,$C61<=入力!$AD$24),入力!$AH$24/2,IF(AND($C61>=入力!$AC$25,$C61<=入力!$AD$25),入力!$AH$25/2,0))","v":5},{"$f":"IF(AND($C61>=入力!$AC$24,$C61<=入力!$AD$24),入力!$AI$24,IF(AND($C61>=入力!$AC$25,$C61<=入力!$AD$25),入力!$AI$25,0))","v":3.75},{"$f":"IF(AND($C61>=入力!$AC$24,$C61<=入力!$AD$24),入力!$AJ$24*12,IF(AND($C61>=入力!$AC$25,$C61<=入力!$AD$25),入力!$AJ$25*12,0))","v":12},20.75,{"$f":"IF(AND($C61>=入力!$AC$24,$C61<=入力!$AD$24,SUM(入力!$AE$24:$AF$24)>0),車_大物家電!AT61,IF(AND($C61>=入力!$AC$25,$C61<=入力!$AD$25,SUM(入力!$AE$25:$AF$25)>0),車_大物家電!AT61,0))","v":20.75}]
[53,75,80,null,null,null,null,null,null,0,null,null,null,null,null,null,null,null,null,0,0,null,null,null,null,null,null,null,0,0,0,null,{"$f":"IF(MOD(C62,MAX(入力!$AE$29,1))=入力!$AE$29-1,入力!$AD$29,0)\n+IF(MOD(C62,MAX(入力!$AE$30,1))=入力!$AE$30-1,入力!$AD$30,0)\n+IF(MOD(C62,MAX(入力!$AE$31,1))=入力!$AE$31-1,入力!$AD$31,0)\n+IF(MOD(C62,MAX(入力!$AE$32,1))=入力!$AE$32-1,入力!$AD$32,0)\n+IF(MOD(C62,MAX(入力!$AE$33,1))=入力!$AE$33-1,入力!$AD$33,0)\n+IF(MOD(C62,MAX(入力!$AE$34,1))=入力!$AE$34-1,入力!$AD$34,0)\n+IF(MOD(C62,MAX(入力!$AE$35,1))=入力!$AE$35-1,入力!$AD$35,0)","v":0},{"$f":"IF(AND($C62>=入力!$AC$24,$C62<=入力!$AD$24,MOD(A62,入力!AG$24)=0),入力!$AL$24,IF(AND($C62>=入力!$AC$25,$C62<=入力!$AD$25,MOD(A62,入力!$AG$25)=0),入力!$AL$25,0))","v":0},{"$f":"IF(AND($C62>=入力!$AC$24,$C62<=入力!$AD$24),入力!$AF$24/60*12,IF(AND($C62>=入力!$AC$25,$C62<=入力!$AD$25),入力!$AF$25/60*12,0))","v":0},20.75,20.75,-20.75,-3874.25,null,null,{"$f":"住居計算!A69","v":"マンション"},{"$f":"IF(AND($C62>=入力!$AC$24,$C62<=入力!$AD$24),入力!$AH$24/2,IF(AND($C62>=入力!$AC$25,$C62<=入力!$AD$25),入力!$AH$25/2,0))","v":5},{"$f":"IF(AND($C62>=入力!$AC$24,$C62<=入力!$AD$24),入力!$AI$24,IF(AND($C62>=入力!$AC$25,$C62<=入力!$AD$25),入力!$AI$25,0))","v":3.75},{"$f":"IF(AND($C62>=入力!$AC$24,$C62<=入力!$AD$24),入力!$AJ$24*12,IF(AND($C62>=入力!$AC$25,$C62<=入力!$AD$25),入力!$AJ$25*12,0))","v":12},20.75,{"$f":"IF(AND($C62>=入力!$AC$24,$C62<=入力!$AD$24,SUM(入力!$AE$24:$AF$24)>0),車_大物家電!AT62,IF(AND($C62>=入力!$AC$25,$C62<=入力!$AD$25,SUM(入力!$AE$25:$AF$25)>0),車_大物家電!AT62,0))","v":20.75}]
[54,76,81,null,null,null,null,null,null,0,null,null,null,null,null,null,null,null,null,0,0,null,null,null,null,null,null,null,0,0,0,null,{"$f":"IF(MOD(C63,MAX(入力!$AE$29,1))=入力!$AE$29-1,入力!$AD$29,0)\n+IF(MOD(C63,MAX(入力!$AE$30,1))=入力!$AE$30-1,入力!$AD$30,0)\n+IF(MOD(C63,MAX(入力!$AE$31,1))=入力!$AE$31-1,入力!$AD$31,0)\n+IF(MOD(C63,MAX(入力!$AE$32,1))=入力!$AE$32-1,入力!$AD$32,0)\n+IF(MOD(C63,MAX(入力!$AE$33,1))=入力!$AE$33-1,入力!$AD$33,0)\n+IF(MOD(C63,MAX(入力!$AE$34,1))=入力!$AE$34-1,入力!$AD$34,0)\n+IF(MOD(C63,MAX(入力!$AE$35,1))=入力!$AE$35-1,入力!$AD$35,0)","v":0},{"$f":"IF(AND($C63>=入力!$AC$24,$C63<=入力!$AD$24,MOD(A63,入力!AG$24)=0),入力!$AL$24,IF(AND($C63>=入力!$AC$25,$C63<=入力!$AD$25,MOD(A63,入力!$AG$25)=0),入力!$AL$25,0))","v":0},{"$f":"IF(AND($C63>=入力!$AC$24,$C63<=入力!$AD$24),入力!$AF$24/60*12,IF(AND($C63>=入力!$AC$25,$C63<=入力!$AD$25),入力!$AF$25/60*12,0))","v":0},20.75,20.75,-20.75,-3895,null,null,{"$f":"住居計算!A70","v":"マンション"},{"$f":"IF(AND($C63>=入力!$AC$24,$C63<=入力!$AD$24),入力!$AH$24/2,IF(AND($C63>=入力!$AC$25,$C63<=入力!$AD$25),入力!$AH$25/2,0))","v":5},{"$f":"IF(AND($C63>=入力!$AC$24,$C63<=入力!$AD$24),入力!$AI$24,IF(AND($C63>=入力!$AC$25,$C63<=入力!$AD$25),入力!$AI$25,0))","v":3.75},{"$f":"IF(AND($C63>=入力!$AC$24,$C63<=入力!$AD$24),入力!$AJ$24*12,IF(AND($C63>=入力!$AC$25,$C63<=入力!$AD$25),入力!$AJ$25*12,0))","v":12},20.75,{"$f":"IF(AND($C63>=入力!$AC$24,$C63<=入力!$AD$24,SUM(入力!$AE$24:$AF$24)>0),車_大物家電!AT63,IF(AND($C63>=入力!$AC$25,$C63<=入力!$AD$25,SUM(入力!$AE$25:$AF$25)>0),車_大物家電!AT63,0))","v":20.75}]
[55,77,82,null,null,null,null,null,null,0,null,null,null,null,null,null,null,null,null,0,0,null,null,null,null,null,null,null,0,0,0,null,{"$f":"IF(MOD(C64,MAX(入力!$AE$29,1))=入力!$AE$29-1,入力!$AD$29,0)\n+IF(MOD(C64,MAX(入力!$AE$30,1))=入力!$AE$30-1,入力!$AD$30,0)\n+IF(MOD(C64,MAX(入力!$AE$31,1))=入力!$AE$31-1,入力!$AD$31,0)\n+IF(MOD(C64,MAX(入力!$AE$32,1))=入力!$AE$32-1,入力!$AD$32,0)\n+IF(MOD(C64,MAX(入力!$AE$33,1))=入力!$AE$33-1,入力!$AD$33,0)\n+IF(MOD(C64,MAX(入力!$AE$34,1))=入力!$AE$34-1,入力!$AD$34,0)\n+IF(MOD(C64,MAX(入力!$AE$35,1))=入力!$AE$35-1,入力!$AD$35,0)","v":0},{"$f":"IF(AND($C64>=入力!$AC$24,$C64<=入力!$AD$24,MOD(A64,入力!AG$24)=0),入力!$AL$24,IF(AND($C64>=入力!$AC$25,$C64<=入力!$AD$25,MOD(A64,入力!$AG$25)=0),入力!$AL$25,0))","v":0},{"$f":"IF(AND($C64>=入力!$AC$24,$C64<=入力!$AD$24),入力!$AF$24/60*12,IF(AND($C64>=入力!$AC$25,$C64<=入力!$AD$25),入力!$AF$25/60*12,0))","v":0},20.75,20.75,-20.75,-3915.75,null,null,{"$f":"住居計算!A71","v":"マンション"},{"$f":"IF(AND($C64>=入力!$AC$24,$C64<=入力!$AD$24),入力!$AH$24/2,IF(AND($C64>=入力!$AC$25,$C64<=入力!$AD$25),入力!$AH$25/2,0))","v":5},{"$f":"IF(AND($C64>=入力!$AC$24,$C64<=入力!$AD$24),入力!$AI$24,IF(AND($C64>=入力!$AC$25,$C64<=入力!$AD$25),入力!$AI$25,0))","v":3.75},{"$f":"IF(AND($C64>=入力!$AC$24,$C64<=入力!$AD$24),入力!$AJ$24*12,IF(AND($C64>=入力!$AC$25,$C64<=入力!$AD$25),入力!$AJ$25*12,0))","v":12},20.75,{"$f":"IF(AND($C64>=入力!$AC$24,$C64<=入力!$AD$24,SUM(入力!$AE$24:$AF$24)>0),車_大物家電!AT64,IF(AND($C64>=入力!$AC$25,$C64<=入力!$AD$25,SUM(入力!$AE$25:$AF$25)>0),車_大物家電!AT64,0))","v":20.75}]
[56,78,83,null,null,null,null,null,null,0,null,null,null,null,null,null,null,null,null,0,0,null,null,null,null,null,null,null,0,0,0,null,{"$f":"IF(MOD(C65,MAX(入力!$AE$29,1))=入力!$AE$29-1,入力!$AD$29,0)\n+IF(MOD(C65,MAX(入力!$AE$30,1))=入力!$AE$30-1,入力!$AD$30,0)\n+IF(MOD(C65,MAX(入力!$AE$31,1))=入力!$AE$31-1,入力!$AD$31,0)\n+IF(MOD(C65,MAX(入力!$AE$32,1))=入力!$AE$32-1,入力!$AD$32,0)\n+IF(MOD(C65,MAX(入力!$AE$33,1))=入力!$AE$33-1,入力!$AD$33,0)\n+IF(MOD(C65,MAX(入力!$AE$34,1))=入力!$AE$34-1,入力!$AD$34,0)\n+IF(MOD(C65,MAX(入力!$AE$35,1))=入力!$AE$35-1,入力!$AD$35,0)","v":0},{"$f":"IF(AND($C65>=入力!$AC$24,$C65<=入力!$AD$24,MOD(A65,入力!AG$24)=0),入力!$AL$24,IF(AND($C65>=入力!$AC$25,$C65<=入力!$AD$25,MOD(A65,入力!$AG$25)=0),入力!$AL$25,0))","v":250},{"$f":"IF(AND($C65>=入力!$AC$24,$C65<=入力!$AD$24),入力!$AF$24/60*12,IF(AND($C65>=入力!$AC$25,$C65<=入力!$AD$25),入力!$AF$25/60*12,0))","v":0},20.75,270.75,-270.75,-4186.5,null,null,{"$f":"住居計算!A72","v":"マンション"},{"$f":"IF(AND($C65>=入力!$AC$24,$C65<=入力!$AD$24),入力!$AH$24/2,IF(AND($C65>=入力!$AC$25,$C65<=入力!$AD$25),入力!$AH$25/2,0))","v":5},{"$f":"IF(AND($C65>=入力!$AC$24,$C65<=入力!$AD$24),入力!$AI$24,IF(AND($C65>=入力!$AC$25,$C65<=入力!$AD$25),入力!$AI$25,0))","v":3.75},{"$f":"IF(AND($C65>=入力!$AC$24,$C65<=入力!$AD$24),入力!$AJ$24*12,IF(AND($C65>=入力!$AC$25,$C65<=入力!$AD$25),入力!$AJ$25*12,0))","v":12},20.75,{"$f":"IF(AND($C65>=入力!$AC$24,$C65<=入力!$AD$24,SUM(入力!$AE$24:$AF$24)>0),車_大物家電!AT65,IF(AND($C65>=入力!$AC$25,$C65<=入力!$AD$25,SUM(入力!$AE$25:$AF$25)>0),車_大物家電!AT65,0))","v":20.75}]
[57,79,84,null,null,null,null,null,null,0,null,null,null,null,null,null,null,null,null,0,0,null,null,null,null,null,null,null,0,0,0,null,{"$f":"IF(MOD(C66,MAX(入力!$AE$29,1))=入力!$AE$29-1,入力!$AD$29,0)\n+IF(MOD(C66,MAX(入力!$AE$30,1))=入力!$AE$30-1,入力!$AD$30,0)\n+IF(MOD(C66,MAX(入力!$AE$31,1))=入力!$AE$31-1,入力!$AD$31,0)\n+IF(MOD(C66,MAX(入力!$AE$32,1))=入力!$AE$32-1,入力!$AD$32,0)\n+IF(MOD(C66,MAX(入力!$AE$33,1))=入力!$AE$33-1,入力!$AD$33,0)\n+IF(MOD(C66,MAX(入力!$AE$34,1))=入力!$AE$34-1,入力!$AD$34,0)\n+IF(MOD(C66,MAX(入力!$AE$35,1))=入力!$AE$35-1,入力!$AD$35,0)","v":3},{"$f":"IF(AND($C66>=入力!$AC$24,$C66<=入力!$AD$24,MOD(A66,入力!AG$24)=0),入力!$AL$24,IF(AND($C66>=入力!$AC$25,$C66<=入力!$AD$25,MOD(A66,入力!$AG$25)=0),入力!$AL$25,0))","v":0},{"$f":"IF(AND($C66>=入力!$AC$24,$C66<=入力!$AD$24),入力!$AF$24/60*12,IF(AND($C66>=入力!$AC$25,$C66<=入力!$AD$25),入力!$AF$25/60*12,0))","v":0},20.75,23.75,-23.75,-4210.25,null,null,{"$f":"住居計算!A73","v":"マンション"},{"$f":"IF(AND($C66>=入力!$AC$24,$C66<=入力!$AD$24),入力!$AH$24/2,IF(AND($C66>=入力!$AC$25,$C66<=入力!$AD$25),入力!$AH$25/2,0))","v":5},{"$f":"IF(AND($C66>=入力!$AC$24,$C66<=入力!$AD$24),入力!$AI$24,IF(AND($C66>=入力!$AC$25,$C66<=入力!$AD$25),入力!$AI$25,0))","v":3.75},{"$f":"IF(AND($C66>=入力!$AC$24,$C66<=入力!$AD$24),入力!$AJ$24*12,IF(AND($C66>=入力!$AC$25,$C66<=入力!$AD$25),入力!$AJ$25*12,0))","v":12},20.75,{"$f":"IF(AND($C66>=入力!$AC$24,$C66<=入力!$AD$24,SUM(入力!$AE$24:$AF$24)>0),車_大物家電!AT66,IF(AND($C66>=入力!$AC$25,$C66<=入力!$AD$25,SUM(入力!$AE$25:$AF$25)>0),車_大物家電!AT66,0))","v":20.75}]
[58,80,85,null,null,null,null,null,null,0,null,null,null,null,null,null,null,null,null,0,0,null,null,null,null,null,null,null,0,0,0,null,{"$f":"IF(MOD(C67,MAX(入力!$AE$29,1))=入力!$AE$29-1,入力!$AD$29,0)\n+IF(MOD(C67,MAX(入力!$AE$30,1))=入力!$AE$30-1,入力!$AD$30,0)\n+IF(MOD(C67,MAX(入力!$AE$31,1))=入力!$AE$31-1,入力!$AD$31,0)\n+IF(MOD(C67,MAX(入力!$AE$32,1))=入力!$AE$32-1,入力!$AD$32,0)\n+IF(MOD(C67,MAX(入力!$AE$33,1))=入力!$AE$33-1,入力!$AD$33,0)\n+IF(MOD(C67,MAX(入力!$AE$34,1))=入力!$AE$34-1,入力!$AD$34,0)\n+IF(MOD(C67,MAX(入力!$AE$35,1))=入力!$AE$35-1,入力!$AD$35,0)","v":0},{"$f":"IF(AND($C67>=入力!$AC$24,$C67<=入力!$AD$24,MOD(A67,入力!AG$24)=0),入力!$AL$24,IF(AND($C67>=入力!$AC$25,$C67<=入力!$AD$25,MOD(A67,入力!$AG$25)=0),入力!$AL$25,0))","v":0},{"$f":"IF(AND($C67>=入力!$AC$24,$C67<=入力!$AD$24),入力!$AF$24/60*12,IF(AND($C67>=入力!$AC$25,$C67<=入力!$AD$25),入力!$AF$25/60*12,0))","v":0},20.75,20.75,-20.75,-4231,null,null,{"$f":"住居計算!A74","v":"マンション"},{"$f":"IF(AND($C67>=入力!$AC$24,$C67<=入力!$AD$24),入力!$AH$24/2,IF(AND($C67>=入力!$AC$25,$C67<=入力!$AD$25),入力!$AH$25/2,0))","v":5},{"$f":"IF(AND($C67>=入力!$AC$24,$C67<=入力!$AD$24),入力!$AI$24,IF(AND($C67>=入力!$AC$25,$C67<=入力!$AD$25),入力!$AI$25,0))","v":3.75},{"$f":"IF(AND($C67>=入力!$AC$24,$C67<=入力!$AD$24),入力!$AJ$24*12,IF(AND($C67>=入力!$AC$25,$C67<=入力!$AD$25),入力!$AJ$25*12,0))","v":12},20.75,{"$f":"IF(AND($C67>=入力!$AC$24,$C67<=入力!$AD$24,SUM(入力!$AE$24:$AF$24)>0),車_大物家電!AT67,IF(AND($C67>=入力!$AC$25,$C67<=入力!$AD$25,SUM(入力!$AE$25:$AF$25)>0),車_大物家電!AT67,0))","v":20.75}]
[59,81,86,null,null,null,null,null,null,0,null,null,null,null,null,null,null,null,null,0,0,null,null,null,null,null,null,null,0,0,0,null,{"$f":"IF(MOD(C68,MAX(入力!$AE$29,1))=入力!$AE$29-1,入力!$AD$29,0)\n+IF(MOD(C68,MAX(入力!$AE$30,1))=入力!$AE$30-1,入力!$AD$30,0)\n+IF(MOD(C68,MAX(入力!$AE$31,1))=入力!$AE$31-1,入力!$AD$31,0)\n+IF(MOD(C68,MAX(入力!$AE$32,1))=入力!$AE$32-1,入力!$AD$32,0)\n+IF(MOD(C68,MAX(入力!$AE$33,1))=入力!$AE$33-1,入力!$AD$33,0)\n+IF(MOD(C68,MAX(入力!$AE$34,1))=入力!$AE$34-1,入力!$AD$34,0)\n+IF(MOD(C68,MAX(入力!$AE$35,1))=入力!$AE$35-1,入力!$AD$35,0)","v":0},{"$f":"IF(AND($C68>=入力!$AC$24,$C68<=入力!$AD$24,MOD(A68,入力!AG$24)=0),入力!$AL$24,IF(AND($C68>=入力!$AC$25,$C68<=入力!$AD$25,MOD(A68,入力!$AG$25)=0),入力!$AL$25,0))","v":0},{"$f":"IF(AND($C68>=入力!$AC$24,$C68<=入力!$AD$24),入力!$AF$24/60*12,IF(AND($C68>=入力!$AC$25,$C68<=入力!$AD$25),入力!$AF$25/60*12,0))","v":0},20.75,20.75,-20.75,-4251.75,null,null,{"$f":"住居計算!A75","v":"マンション"},{"$f":"IF(AND($C68>=入力!$AC$24,$C68<=入力!$AD$24),入力!$AH$24/2,IF(AND($C68>=入力!$AC$25,$C68<=入力!$AD$25),入力!$AH$25/2,0))","v":5},{"$f":"IF(AND($C68>=入力!$AC$24,$C68<=入力!$AD$24),入力!$AI$24,IF(AND($C68>=入力!$AC$25,$C68<=入力!$AD$25),入力!$AI$25,0))","v":3.75},{"$f":"IF(AND($C68>=入力!$AC$24,$C68<=入力!$AD$24),入力!$AJ$24*12,IF(AND($C68>=入力!$AC$25,$C68<=入力!$AD$25),入力!$AJ$25*12,0))","v":12},20.75,{"$f":"IF(AND($C68>=入力!$AC$24,$C68<=入力!$AD$24,SUM(入力!$AE$24:$AF$24)>0),車_大物家電!AT68,IF(AND($C68>=入力!$AC$25,$C68<=入力!$AD$25,SUM(入力!$AE$25:$AF$25)>0),車_大物家電!AT68,0))","v":20.75}]
[60,82,87,null,null,null,null,null,null,0,null,null,null,null,null,null,null,null,null,0,0,null,null,null,null,null,null,null,0,0,0,null,{"$f":"IF(MOD(C69,MAX(入力!$AE$29,1))=入力!$AE$29-1,入力!$AD$29,0)\n+IF(MOD(C69,MAX(入力!$AE$30,1))=入力!$AE$30-1,入力!$AD$30,0)\n+IF(MOD(C69,MAX(入力!$AE$31,1))=入力!$AE$31-1,入力!$AD$31,0)\n+IF(MOD(C69,MAX(入力!$AE$32,1))=入力!$AE$32-1,入力!$AD$32,0)\n+IF(MOD(C69,MAX(入力!$AE$33,1))=入力!$AE$33-1,入力!$AD$33,0)\n+IF(MOD(C69,MAX(入力!$AE$34,1))=入力!$AE$34-1,入力!$AD$34,0)\n+IF(MOD(C69,MAX(入力!$AE$35,1))=入力!$AE$35-1,入力!$AD$35,0)","v":0},{"$f":"IF(AND($C69>=入力!$AC$24,$C69<=入力!$AD$24,MOD(A69,入力!AG$24)=0),入力!$AL$24,IF(AND($C69>=入力!$AC$25,$C69<=入力!$AD$25,MOD(A69,入力!$AG$25)=0),入力!$AL$25,0))","v":0},{"$f":"IF(AND($C69>=入力!$AC$24,$C69<=入力!$AD$24),入力!$AF$24/60*12,IF(AND($C69>=入力!$AC$25,$C69<=入力!$AD$25),入力!$AF$25/60*12,0))","v":0},20.75,20.75,-20.75,-4272.5,null,null,{"$f":"住居計算!A76","v":"マンション"},{"$f":"IF(AND($C69>=入力!$AC$24,$C69<=入力!$AD$24),入力!$AH$24/2,IF(AND($C69>=入力!$AC$25,$C69<=入力!$AD$25),入力!$AH$25/2,0))","v":5},{"$f":"IF(AND($C69>=入力!$AC$24,$C69<=入力!$AD$24),入力!$AI$24,IF(AND($C69>=入力!$AC$25,$C69<=入力!$AD$25),入力!$AI$25,0))","v":3.75},{"$f":"IF(AND($C69>=入力!$AC$24,$C69<=入力!$AD$24),入力!$AJ$24*12,IF(AND($C69>=入力!$AC$25,$C69<=入力!$AD$25),入力!$AJ$25*12,0))","v":12},20.75,{"$f":"IF(AND($C69>=入力!$AC$24,$C69<=入力!$AD$24,SUM(入力!$AE$24:$AF$24)>0),車_大物家電!AT69,IF(AND($C69>=入力!$AC$25,$C69<=入力!$AD$25,SUM(入力!$AE$25:$AF$25)>0),車_大物家電!AT69,0))","v":20.75}]
[61,83,88,null,null,null,null,null,null,{"$f":"SUM(E70:I70)","v":0},null,null,null,null,null,null,null,null,null,{"$f":"SUM(K70:S70)","v":0},{"$f":"J70-T70","v":0},null,null,null,null,null,null,null,{"$f":"SUM(V70:AB70)","v":0},{"$f":"U70-AC70","v":0},0,null,{"$f":"IF(MOD(C70,MAX(入力!$AE$29,1))=入力!$AE$29-1,入力!$AD$29,0)\n+IF(MOD(C70,MAX(入力!$AE$30,1))=入力!$AE$30-1,入力!$AD$30,0)\n+IF(MOD(C70,MAX(入力!$AE$31,1))=入力!$AE$31-1,入力!$AD$31,0)\n+IF(MOD(C70,MAX(入力!$AE$32,1))=入力!$AE$32-1,入力!$AD$32,0)\n+IF(MOD(C70,MAX(入力!$AE$33,1))=入力!$AE$33-1,入力!$AD$33,0)\n+IF(MOD(C70,MAX(入力!$AE$34,1))=入力!$AE$34-1,入力!$AD$34,0)\n+IF(MOD(C70,MAX(入力!$AE$35,1))=入力!$AE$35-1,入力!$AD$35,0)","v":0},{"$f":"IF(AND($C70>=入力!$AC$24,$C70<=入力!$AD$24,MOD(A70,入力!AG$24)=0),入力!$AL$24,IF(AND($C70>=入力!$AC$25,$C70<=入力!$AD$25,MOD(A70,入力!$AG$25)=0),入力!$AL$25,0))","v":0},{"$f":"IF(AND($C70>=入力!$AC$24,$C70<=入力!$AD$24),入力!$AF$24/60*12,IF(AND($C70>=入力!$AC$25,$C70<=入力!$AD$25),入力!$AF$25/60*12,0))","v":0},20.75,20.75,{"$f":"AD70-AK70","v":-20.75},{"$f":"AL70+AM69","v":-4293.25},null,null,{"$f":"住居計算!A77","v":"マンション"},{"$f":"IF(AND($C70>=入力!$AC$24,$C70<=入力!$AD$24),入力!$AH$24/2,IF(AND($C70>=入力!$AC$25,$C70<=入力!$AD$25),入力!$AH$25/2,0))","v":5},{"$f":"IF(AND($C70>=入力!$AC$24,$C70<=入力!$AD$24),入力!$AI$24,IF(AND($C70>=入力!$AC$25,$C70<=入力!$AD$25),入力!$AI$25,0))","v":3.75},{"$f":"IF(AND($C70>=入力!$AC$24,$C70<=入力!$AD$24),入力!$AJ$24*12,IF(AND($C70>=入力!$AC$25,$C70<=入力!$AD$25),入力!$AJ$25*12,0))","v":12},20.75,{"$f":"IF(AND($C70>=入力!$AC$24,$C70<=入力!$AD$24,SUM(入力!$AE$24:$AF$24)>0),車_大物家電!AT70,IF(AND($C70>=入力!$AC$25,$C70<=入力!$AD$25,SUM(入力!$AE$25:$AF$25)>0),車_大物家電!AT70,0))","v":20.75}]
[null,null,null,{"$f":"SUM(D6:D70)","v":0},0,0,null,0,0,0,0,0,0,0,0,0,0,null,{"$f":"SUM(S6:S70)","v":0},0,0,0,0,0,0,0,0,0,0,0,0,0,363,2550,0,1380.25,4293.25,{"$f":"SUM(AL5:AL70)","v":-4293.25}]

{"sheet":"←","index":11,"n_rows":5,"n_cols":47,"rows_kept":5,"cut":false,"hidden":false,"merged":[]}
[]
[null,null,null,null,null,null,null,null,"収入",null,null,null,null,null,null,null,null,null,null,"収支 小計",null,null,null,null,null,null,null,null,"収支 小計",null,null,null,null,null,null,null,"収支","収支累計",null,null,"投資をしたら","投資額","貯金",null,"投資計算","累積投資額","投資収入"]
[null,null,null,null,null,null,null,null,null,null,null,null,null,null,null,null,null,null,"支出1  衣食住",null,null,null,null,null,null,null,null,"支出2  固定費",null,null,null,null,null,null,null,null,"支出3  衣食住勉"]
[null,"西暦","年齢","年収","手取り","雑収入",null,null,null,"住居","住居維持費","食費","服費","電気","ガス","水道",null,null,null,null,"インターネット","携帯","塾","学校",null,null,null,null,null,null,"雑費","家具","車1",null,null,"合計",null,null,null,null,"毎月"]
[null,"貯金"]

{"sheet":"賃金カーブ","index":12,"n_rows":88,"n_cols":21,"rows_kept":88,"cut":false,"hidden":false,"merged":[[19,0,20,0],[19,1,19,3],[19,4,19,6],[19,7,19,9],[1,0,1,6],[4,0,5,0],[4,1,4,3],[4,4,4,6],[4,7,4,9],[34,0,35,0],[34,1,34,3],[34,4,34,6],[34,7,34,9],[48,0,48,9]]}
["表 賃金カーブ"]
["表5-1 性別、年齢階級による賃金カーブ（所定内給与額）"]
[null,null,null,null,null,"図5　賃金カーブ｜早わかり　グラフでみる長期労働統計｜労働政策研究・研修機構（JILPT）"]
["男女計"]
["年齢","1976年",null,null,"1995年",null,null,"2019年"]
[null,"（千円）","20～24歳\n=100","男女計の\n20～24歳=100","（千円）","20～24歳\n=100","男女計の\n20～24歳=100","（千円）","20～24歳\n=100","男女計の\n20～24歳=100"]
["計",131.80000000000001,140.4,140.4,291.3,154,154,307.7,145.9,145.9]
["～19歳",76.7,81.7,81.7,160,84.6,84.6,179,84.9,84.9,null,null,null,null,null,null,null,20,{"$f":"$L$24","v":100},{"$f":"$O$24/$L$24*S8","v":324.11408815903195},{"$f":"$P$24/$L$24*S8","v":162.05704407951598}]
["20～24歳",93.9,100,100,189.2,100,100,210.9,100,100,null,null,null,null,null,null,null,21,{"$f":"S8*$M$25","v":103.34816288443834},{"$f":"$O$24/$L$24*S9","v":334.96595576200843},{"$f":"$P$24/$L$24*S9","v":167.48297788100422}]
["25～29歳",120.4,128.19999999999999,128.19999999999999,231.1,122.1,122.1,243.9,115.6,115.6,null,null,null,null,null,null,null,22,{"$f":"S9*$M$25","v":106.80842771588398},346.18116156833611,173.09058078416805]
["30～34歳",146.6,156.1,156.1,279.10000000000002,147.5,147.5,275.89999999999998,130.80000000000001,130.80000000000001,null,null,null,null,null,null,null,23,{"$f":"S10*$M$25","v":110.38454785011935},357.77187073288462,178.88593536644231]
["35～39歳",156.4,166.6,166.6,316.2,167.1,167.1,305.3,144.80000000000001,144.80000000000001,null,null,null,null,null,null,null,24,{"$f":"S11*$M$25","v":114.08040231139212},369.7506557197238,184.8753278598619]
["40～44歳",157.19999999999999,167.4,167.4,340.1,179.8,179.8,329.6,156.30000000000001,156.30000000000001,null,null,null,null,null,null,null,25,{"$f":"$L$25","v":117.9},382.13050993949867,191.06525496974933]
["45～49歳",156.69999999999999,166.9,166.9,361.4,191,191,350.3,166.1,166.1,null,null,null,null,null,null,null,26,{"$f":"S13*$M$26","v":121.36968233348216},393.37623919667942,196.68811959833971]
["50～54歳",156.5,166.7,166.7,367.8,194.4,194.4,373.5,177.1,177.1,null,null,null,null,null,null,null,27,{"$f":"S14*$M$26","v":124.9414740435146},404.95291932859095,202.47645966429548]
["55～59歳",136.30000000000001,145.19999999999999,145.19999999999999,337.7,178.5,178.5,367.2,174.1,174.1,null,null,null,null,null,null,null,28,128.61838010974023,416.87028989760228,208.43514494880114]
["60歳～",116.4,124,124,263.5,139.30000000000001,139.30000000000001,269.89999999999998,128,128,null,null,null,null,null,null,null,29,132.40349394543028,429.13837709193047,214.56918854596523]
[null,null,null,null,null,null,null,null,null,null,null,null,null,null,null,null,null,30,{"$f":"$L$26","v":136.30000000000001},441.76750216076061,220.88375108038031]
["男",null,null,null,null,null,null,null,null,null,null,null,null,null,null,null,null,31,{"$f":"S18*$M$27","v":139.65111535266297},452.62893912920146,226.31446956460073]
["年齢","1976年",null,null,"1995年",null,null,"2019年",null,null,null,null,null,null,null,null,null,32,{"$f":"S19*$M$27","v":143.08462229818619},463.75741885756111,231.87870942878055]
[null,"（千円）","20～24歳\n=100","男女計の\n20～24歳=100","（千円）","20～24歳\n=100","男女計の\n20～24歳=100","（千円）","20～24歳\n=100","男女計の\n20～24歳=100",null,null,null,null,null,null,null,33,146.60254654259876,475.1595069444644,237.5797534722322]
["計",151.5,149.69999999999999,161.30000000000001,330,165.2,174.4,338,158.4,160.30000000000001,null,null,null,null,null,null,null,34,150.20696359658547,486.84193041244208,243.42096520622104]
["～19歳",80.099999999999994,79.2,85.3,165.9,83.1,87.7,182.8,85.7,86.7,null,null,null,null,null,null,null,35,{"$f":"$L$27","v":153.9},498.81158167675022,249.40579083837511]
["20～24歳",101.2,100,107.8,199.7,100,105.5,213.4,100,101.2,20,{"$f":"I24","v":100},null,500,{"$f":"$O$33/$N$33*L24","v":324.11408815903195},{"$f":"$P$33/$N$33*L24","v":162.05704407951598},null,36,{"$f":"S23*$M$28","v":156.75229657255102},508.05627670446523,254.02813835223262]
["25～29歳",128.69999999999999,127.2,137.1,245.2,122.8,129.6,251.6,117.9,119.3,25,{"$f":"I25","v":117.9},{"$f":"(L25/L24)^(1/(K25-K24))","v":1.0334816288443833},589.5,{"$f":"$O$33/$N$33*L25","v":382.13050993949867},{"$f":"$P$33/$N$33*L25","v":191.06525496974933},null,37,{"$f":"S24*$M$28","v":159.65745601539302},517.47230774219861,258.7361538710993]
["30～34歳",157.6,155.69999999999999,167.8,296.10000000000002,148.30000000000001,156.5,290.8,136.30000000000001,137.9,30,136.30000000000001,{"$f":"(L26/L25)^(1/(K26-K25))","v":1.0294290274256332},681.5,441.76750216076061,220.88375108038031,null,38,162.61645805941458,527.06285023578619,263.53142511789309]
["35～39歳",175.1,173,186.5,342.4,171.5,181,328.4,153.9,155.69999999999999,35,153.9,1.0245863195353115,769.5,498.81158167675022,249.40579083837511,null,39,165.63030059328887,536.83113848300195,268.41556924150098]
["40～44歳",184,181.8,196,378.9,189.7,200.3,360.1,168.7,170.7,40,168.7,1.0185334410172255,843.5,546.78046672428684,273.39023336214342,null,40,{"$f":"$L$28","v":168.7},546.78046672428684,273.39023336214342]
["45～49歳",186.5,184.3,198.6,411.7,206.2,217.6,390.4,182.9,185.1,45,182.9,1.016294849412168,914.5,592.80466724286941,296.40233362143471,null,41,{"$f":"S28*$M$29","v":171.44894109583274},555.69017209107403,277.84508604553702]
["50～54歳",187.9,185.7,200.1,423.7,212.2,223.9,423.7,198.5,200.9,50,198.5,1.0165046300255522,992.5,643.36646499567848,321.68323249783924,null,42,{"$f":"S29*$M$29","v":174.242675772865},564.74505976511989,282.37252988255995]
["55～59歳",159.1,157.19999999999999,169.4,386,193.3,204,416.6,195.2,197.5,55,195.2,0.99665272941319372,976,632.67070008643032,316.33535004321516,null,43,177.08193393575704,573.94749547025833,286.97374773512917]
["60歳～",128.69999999999999,127.2,137.1,288.7,144.6,152.6,288.10000000000002,135,136.6,60,135,0.9289039101947123,675,437.55401901469315,218.77700950734658,null,44,179.96745738285568,583.29988347943709,291.64994173971854]
[null,null,null,null,null,null,null,null,null,null,null,null,null,{"$f":"SUM(N24:N32)/45","v":154.26666666666668},{"$f":"入力!$F$14","v":500},{"$f":"入力!$K$14","v":250},null,45,{"$f":"$L$29","v":182.9},592.80466724286941,296.40233362143471]
["女",null,null,null,null,null,null,null,null,null,null,null,null,null,null,null,null,46,{"$f":"S33*$M$30","v":185.91869683167351},602.58868895313367,301.29434447656683]
["年齢","1976年",null,null,"1995年",null,null,"2019年",null,null,null,null,null,null,null,null,null,47,{"$f":"S34*$M$30","v":188.98721613771309},612.53419232188764,306.26709616094382]
[null,"（千円）","20～24歳\n=100","男女計の\n20～24歳=100","（千円）","20～24歳\n=100","男女計の\n20～24歳=100","（千円）","20～24歳\n=100","男女計の\n20～24歳=100",null,null,null,null,null,null,null,48,192.10638021962512,622.64384254416086,311.32192127208043]
["計",89.1,102.6,94.9,206.2,115.1,109,251,120.6,119,null,null,null,null,null,null,null,49,195.27702495069809,632.92034880304038,316.46017440152019]
["～19歳",74.3,85.6,79.099999999999994,152.69999999999999,85.2,80.7,172.4,82.8,81.7,null,null,null,null,null,null,null,50,{"$f":"$L$30","v":198.5},643.36646499567848,321.68323249783924]
["20～24歳",86.8,100,92.4,179.2,100,94.7,208.1,100,98.7,null,null,null,null,null,null,null,51,{"$f":"S38*$M$31","v":197.83556678851895},641.21294335086088,320.60647167543044]
["25～29歳",94.3,108.6,100.4,205.8,114.8,108.8,232.9,111.9,110.4,null,null,null,null,null,null,null,52,{"$f":"S39*$M$31","v":197.17335761478358},639.066630125703,319.5333150628515]
["30～34歳",93.7,107.9,99.8,224.4,125.2,118.6,247.4,118.9,117.3,null,null,null,null,null,null,null,53,196.5133650343378,636.92750119167385,318.46375059583693]
["35～39歳",89.3,102.9,95.1,227.2,126.8,120.1,256.2,123.1,121.5,null,null,null,null,null,null,null,54,195.85558162764403,634.79553250100696,317.39776625050348]
["40～44歳",89.7,103.3,95.5,225.2,125.7,119,268.60000000000002,129.1,127.4,null,null,null,null,null,null,null,55,{"$f":"$L$31","v":195.2},632.67070008643032,316.33535004321516]
["45～49歳",94.4,108.8,100.5,222.8,124.3,117.8,271.60000000000002,130.5,128.80000000000001,null,null,null,null,null,null,null,56,{"$f":"S43*$M$32","v":181.32204327000784},587.69028717591129,293.84514358795565]
["50～54歳",95.1,109.6,101.3,220.5,123,116.5,275.8,132.5,130.80000000000001,null,null,null,null,null,null,null,57,{"$f":"S44*$M$32","v":168.43075499800511},545.9078057411574,272.9539028705787]
["55～59歳",92.2,106.2,98.2,211.8,118.2,111.9,266.8,128.19999999999999,126.5,null,null,null,null,null,null,null,58,156.45598691469453,507.09589535877654,253.54794767938827]
["60歳～",84.9,97.8,90.4,196.9,109.9,104.1,224.3,107.8,106.4,null,null,null,null,null,null,null,59,145.33257801843249,471.04336004245619,235.52168002122809]
[null,null,null,null,null,null,null,null,null,null,null,null,null,null,null,null,null,60,135.00000000000003,437.55401901469321,218.77700950734661]
["資料出所 厚生労働省「賃金構造基本統計調査」\n（注１）平均所定内給与額のほか、各調査年での男女計の「20～24歳」の平均所定内賃金額を100としたときの平均所定内給与額と、男女計、男、女それぞれの「20～24歳」の平均所定内賃金額を100としたときの平均所定内給与額である。\n（注２）19歳以下と60歳以上では調査年により年齢階級区分が異なるため、労働者数ウェイトを用いて区分を統合した値を推計した。",null,null,null,null,null,null,null,null,null,null,null,null,null,null,null,null,61,{"$f":"S48","v":135.00000000000003},437.55401901469321,218.77700950734661]
[null,null,null,null,null,null,null,null,null,null,null,null,null,null,null,null,null,62,{"$f":"S49","v":135.00000000000003},437.55401901469321,218.77700950734661]
[null,null,null,null,null,null,null,null,null,null,null,null,null,null,null,null,null,63,135.00000000000003,437.55401901469321,218.77700950734661]
[null,null,null,null,null,null,null,null,null,null,null,null,null,null,null,null,null,64,135.00000000000003,437.55401901469321,218.77700950734661]
[null,null,null,null,null,null,null,null,null,null,null,null,null,null,null,null,null,65,135.00000000000003,437.55401901469321,218.77700950734661]
[null,null,null,null,null,null,null,null,null,null,null,null,null,null,null,null,null,66,{"$f":"S53","v":135.00000000000003},{"$f":"$O$24/$L$24*S54","v":437.55401901469321},{"$f":"$P$24/$L$24*S54","v":218.77700950734661}]
[null,null,null,null,null,null,null,null,null,null,null,null,null,null,null,null,null,67,135.00000000000003,{"$f":"$O$24/$L$24*S55","v":437.55401901469321},218.77700950734661]
[null,null,null,null,null,null,null,null,null,null,null,null,null,null,null,null,null,68,135.00000000000003,{"$f":"$O$24/$L$24*S56","v":437.55401901469321},218.77700950734661]
[null,null,null,null,null,null,null,null,null,null,null,null,null,null,null,null,null,69,135.00000000000003,{"$f":"$O$24/$L$24*S57","v":437.55401901469321},218.77700950734661]
[null,null,null,null,null,null,null,null,null,null,null,null,null,null,null,null,null,70,135.00000000000003,{"$f":"$O$24/$L$24*S58","v":437.55401901469321},218.77700950734661]
[null,null,null,null,null,null,null,null,null,null,null,null,null,null,null,null,null,71,135.00000000000003,{"$f":"$O$24/$L$24*S59","v":437.55401901469321},218.77700950734661]
[null,null,null,null,null,null,null,null,null,null,null,null,null,null,null,null,null,72,135.00000000000003,{"$f":"$O$24/$L$24*S60","v":437.55401901469321},218.77700950734661]
[null,null,null,null,null,null,null,null,null,null,null,null,null,null,null,null,null,73,135.00000000000003,{"$f":"$O$24/$L$24*S61","v":437.55401901469321},218.77700950734661]
[null,null,null,null,null,null,null,null,null,null,null,null,null,null,null,null,null,74,135.00000000000003,{"$f":"$O$24/$L$24*S62","v":437.55401901469321},218.77700950734661]
[null,null,null,null,null,null,null,null,null,null,null,null,null,null,null,null,null,75,135.00000000000003,{"$f":"$O$24/$L$24*S63","v":437.55401901469321},218.77700950734661]
[null,null,null,null,null,null,null,null,null,null,null,null,null,null,null,null,null,76,135.00000000000003,{"$f":"$O$24/$L$24*S64","v":437.55401901469321},218.77700950734661]
[null,null,null,null,null,null,null,null,null,null,null,null,null,null,null,null,null,77,135.00000000000003,{"$f":"$O$24/$L$24*S65","v":437.55401901469321},218.77700950734661]
[null,null,null,null,null,null,null,null,null,null,null,null,null,null,null,null,null,78,135.00000000000003,{"$f":"$O$24/$L$24*S66","v":437.55401901469321},218.77700950734661]
[null,null,null,null,null,null,null,null,null,null,null,null,null,null,null,null,null,79,135.00000000000003,{"$f":"$O$24/$L$24*S67","v":437.55401901469321},218.77700950734661]
[null,null,null,null,null,null,null,null,null,null,null,null,null,null,null,null,null,80,135.00000000000003,{"$f":"$O$24/$L$24*S68","v":437.55401901469321},218.77700950734661]
[null,null,null,null,null,null,null,null,null,null,null,null,null,null,null,null,null,81,135.00000000000003,{"$f":"$O$24/$L$24*S69","v":437.55401901469321},218.77700950734661]
[null,null,null,null,null,null,null,null,null,null,null,null,null,null,null,null,null,82,135.00000000000003,{"$f":"$O$24/$L$24*S70","v":437.55401901469321},218.77700950734661]
[null,null,null,null,null,null,null,null,null,null,null,null,null,null,null,null,null,83,135.00000000000003,{"$f":"$O$24/$L$24*S71","v":437.55401901469321},218.77700950734661]
[null,null,null,null,null,null,null,null,null,null,null,null,null,null,null,null,null,84,135.00000000000003,{"$f":"$O$24/$L$24*S72","v":437.55401901469321},218.77700950734661]
[null,null,null,null,null,null,null,null,null,null,null,null,null,null,null,null,null,85,135.00000000000003,{"$f":"$O$24/$L$24*S73","v":437.55401901469321},218.77700950734661]
[null,null,null,null,null,null,null,null,null,null,null,null,null,null,null,null,null,86,135.00000000000003,{"$f":"$O$24/$L$24*S74","v":437.55401901469321},218.77700950734661]
[null,null,null,null,null,null,null,null,null,null,null,null,null,null,null,null,null,87,135.00000000000003,{"$f":"$O$24/$L$24*S75","v":437.55401901469321},218.77700950734661]
[null,null,null,null,null,null,null,null,null,null,null,null,null,null,null,null,null,88,135.00000000000003,{"$f":"$O$24/$L$24*S76","v":437.55401901469321},218.77700950734661]
[null,null,null,null,null,null,null,null,null,null,null,null,null,null,null,null,null,89,135.00000000000003,{"$f":"$O$24/$L$24*S77","v":437.55401901469321},218.77700950734661]
[null,null,null,null,null,null,null,null,null,null,null,null,null,null,null,null,null,90,135.00000000000003,{"$f":"$O$24/$L$24*S78","v":437.55401901469321},218.77700950734661]
[null,null,null,null,null,null,null,null,null,null,null,null,null,null,null,null,null,91,135.00000000000003,{"$f":"$O$24/$L$24*S79","v":437.55401901469321},218.77700950734661]
[null,null,null,null,null,null,null,null,null,null,null,null,null,null,null,null,null,92,135.00000000000003,{"$f":"$O$24/$L$24*S80","v":437.55401901469321},218.77700950734661]
[null,null,null,null,null,null,null,null,null,null,null,null,null,null,null,null,null,93,135.00000000000003,{"$f":"$O$24/$L$24*S81","v":437.55401901469321},218.77700950734661]
[null,null,null,null,null,null,null,null,null,null,null,null,null,null,null,null,null,94,135.00000000000003,{"$f":"$O$24/$L$24*S82","v":437.55401901469321},218.77700950734661]
[null,null,null,null,null,null,null,null,null,null,null,null,null,null,null,null,null,95,135.00000000000003,{"$f":"$O$24/$L$24*S83","v":437.55401901469321},218.77700950734661]
[null,null,null,null,null,null,null,null,null,null,null,null,null,null,null,null,null,96,135.00000000000003,{"$f":"$O$24/$L$24*S84","v":437.55401901469321},218.77700950734661]
[null,null,null,null,null,null,null,null,null,null,null,null,null,null,null,null,null,97,135.00000000000003,{"$f":"$O$24/$L$24*S85","v":437.55401901469321},218.77700950734661]
[null,null,null,null,null,null,null,null,null,null,null,null,null,null,null,null,null,98,135.00000000000003,{"$f":"$O$24/$L$24*S86","v":437.55401901469321},218.77700950734661]
[null,null,null,null,null,null,null,null,null,null,null,null,null,null,null,null,null,99,135.00000000000003,{"$f":"$O$24/$L$24*S87","v":437.55401901469321},218.77700950734661]
[null,null,null,null,null,null,null,null,null,null,null,null,null,null,null,null,null,100,135.00000000000003,{"$f":"$O$24/$L$24*S88","v":437.55401901469321},218.77700950734661]

{"sheet":"学費計算","index":13,"n_rows":138,"n_cols":46,"rows_kept":138,"cut":false,"hidden":false,"merged":[]}
[null,null,null,2,{"$f":"D1+1","v":3},4,5,6,7,8,9,10,11,12,13,14,15,16,17]
[]
[null,null,null,"子1",null,null,null,"子2",null,null,null,"子3",null,null,null,"子4",null,null,null,null,null,"学校",null,null,null,null,null,null,null,null,null,null,null,null,null,null,null,null,null,"子供1","子供1","子供1","子供1"]
[null,"塾/習い事","年齢","塾","習い事","学費","仕送り","塾","習い事","学費","仕送り","塾","習い事","学費","仕送り","塾","習い事","学費","仕送り",null,null,"子供1","子供2","子供3","子供4","子供1","子供2","子供3","子供4","公立","私立","行かない"]
[null,"保育園",0,{"$f":"入力!$P$14*12","v":0},{"$f":"入力!$P$15*12","v":0},{"$f":"V5","v":36},null,{"$f":"入力!$Q$14*12","v":0},{"$f":"入力!$Q$15*12","v":0},{"$f":"W5","v":18},null,{"$f":"入力!$R$14*12","v":0},{"$f":"入力!$R$15*12","v":0},{"$f":"X5","v":0},null,{"$f":"入力!$S$14*12","v":0},{"$f":"入力!$S$15*12","v":0},{"$f":"Y5","v":0},null,null,null,{"$f":"IF(Z5=\"行かない\",0,VLOOKUP(AR5,$V$39:$Z$59,5,1))","v":36},{"$f":"IF(AA5=\"行かない\",0,VLOOKUP(AS5,$V$39:$Z$59,5,1))/2","v":18},{"$f":"IF(AB5=\"行かない\",0,VLOOKUP(AT5,$V$39:$Z$59,5,1))/2","v":0},0,{"$f":"入力!P13","v":"公立"},{"$f":"入力!Q13","v":"公立"},{"$f":"入力!R13","v":"公立"},{"$f":"入力!S13","v":"公立"},null,null,null,"年収で決まる。",null,null,null,null,null,null,{"$f":"IFERROR(MATCH($C5,子1!$C:$C,0),1)","v":10},{"$f":"IFERROR(MATCH($C5,子2!$C:$C,0),1)","v":13},{"$f":"IFERROR(MATCH($C5,子3!$C:$C,0),1)","v":1},{"$f":"IFERROR(MATCH($C5,子4!$C:$C,0),1)","v":1},{"$f":"INDEX(親1!$D:$D,学費計算!AN5)","v":416.87028989760228},{"$f":"INDEX(親1!$D:$D,学費計算!AO5)","v":452.62893912920146},{"$f":"INDEX(親1!$D:$D,学費計算!AP5)","v":0}]
[null,null,{"$f":"C5+1","v":1},{"$f":"入力!$P$14*12","v":0},{"$f":"入力!$P$15*12","v":0},{"$f":"V6","v":36},null,{"$f":"入力!$Q$14*12","v":0},{"$f":"入力!$Q$15*12","v":0},{"$f":"W6","v":21},null,{"$f":"入力!$R$14*12","v":0},{"$f":"入力!$R$15*12","v":0},{"$f":"X6","v":0},null,{"$f":"入力!$S$14*12","v":0},{"$f":"入力!$S$15*12","v":0},{"$f":"Y6","v":0},null,null,null,{"$f":"IF(Z6=\"行かない\",0,VLOOKUP(AR6,$V$39:$Z$59,5,1))","v":36},{"$f":"IF(AA6=\"行かない\",0,VLOOKUP(AS6,$V$39:$Z$59,5,1))/2","v":21},{"$f":"IF(AB6=\"行かない\",0,VLOOKUP(AT6,$V$39:$Z$59,5,1))/2","v":0},{"$f":"IF(AC6=\"行かない\",0,VLOOKUP(AU6,$V$39:$Z$59,5,1))/2","v":0},{"$f":"Z5","v":"公立"},{"$f":"AA5","v":"公立"},{"$f":"AB5","v":"公立"},{"$f":"AC5","v":"公立"},null,null,null,"年収で決まる。",null,null,null,null,null,null,{"$f":"IFERROR(MATCH($C6,子1!$C:$C,0),1)","v":11},{"$f":"IFERROR(MATCH($C6,子2!$C:$C,0),1)","v":14},{"$f":"IFERROR(MATCH($C6,子3!$C:$C,0),1)","v":1},{"$f":"IFERROR(MATCH($C6,子4!$C:$C,0),1)","v":1},{"$f":"INDEX(親1!$D:$D,学費計算!AN6)","v":429.13837709193047},{"$f":"INDEX(親1!$D:$D,学費計算!AO6)","v":463.75741885756111},{"$f":"INDEX(親1!$D:$D,学費計算!AP6)","v":0}]
[null,null,2,{"$f":"入力!$P$14*12","v":0},{"$f":"入力!$P$15*12","v":0},{"$f":"V7","v":36},null,{"$f":"入力!$Q$14*12","v":0},{"$f":"入力!$Q$15*12","v":0},21,null,{"$f":"入力!$R$14*12","v":0},{"$f":"入力!$R$15*12","v":0},0,null,{"$f":"入力!$S$14*12","v":0},{"$f":"入力!$S$15*12","v":0},0,null,null,null,36,21,0,0,{"$f":"Z6","v":"公立"},"公立","公立","公立",null,null,null,"年収で決まる。",null,null,null,null,null,null,{"$f":"IFERROR(MATCH($C7,子1!$C:$C,0),1)","v":12},{"$f":"IFERROR(MATCH($C7,子2!$C:$C,0),1)","v":15},{"$f":"IFERROR(MATCH($C7,子3!$C:$C,0),1)","v":1},{"$f":"IFERROR(MATCH($C7,子4!$C:$C,0),1)","v":1},{"$f":"INDEX(親1!$D:$D,学費計算!AN7)","v":441.76750216076061},{"$f":"INDEX(親1!$D:$D,学費計算!AO7)","v":475.1595069444644},{"$f":"INDEX(親1!$D:$D,学費計算!AP7)","v":0}]
[null,"幼稚園",3,{"$f":"入力!$P$17*12","v":0},{"$f":"入力!$P$18*12","v":12},{"$f":"V8","v":4.4733000000000001},null,{"$f":"入力!$Q$17*12","v":0},{"$f":"入力!$Q$18*12","v":12},4.4733000000000001,null,{"$f":"入力!$R$17*12","v":0},{"$f":"入力!$R$18*12","v":12},4.4733000000000001,null,{"$f":"入力!$S$17*12","v":0},{"$f":"入力!$S$18*12","v":12},4.4733000000000001,null,null,null,{"$f":"IF(Z8=\"公立\",$AD8,IF(Z8=\"私立\",$AE8,0))","v":4.4733000000000001},{"$f":"IF(AA8=\"公立\",$AD8,IF(AA8=\"私立\",$AE8,0))","v":4.4733000000000001},{"$f":"IF(AB8=\"公立\",$AD8,IF(AB8=\"私立\",$AE8,0))","v":4.4733000000000001},{"$f":"IF(AC8=\"公立\",$AD8,IF(AC8=\"私立\",$AE8,0))","v":4.4733000000000001},{"$f":"入力!P16","v":"公立"},{"$f":"入力!Q16","v":"公立"},{"$f":"入力!R16","v":"公立"},{"$f":"入力!S16","v":"公立"},{"$f":"AA62/10000","v":4.4733000000000001},31.876300000000001,null,null,null,null,null,null,null,null,{"$f":"IFERROR(MATCH($C8,子1!$C:$C,0),1)","v":13},{"$f":"IFERROR(MATCH($C8,子2!$C:$C,0),1)","v":16},{"$f":"IFERROR(MATCH($C8,子3!$C:$C,0),1)","v":1},{"$f":"IFERROR(MATCH($C8,子4!$C:$C,0),1)","v":1},{"$f":"INDEX(親1!$D:$D,学費計算!AN8)","v":452.62893912920146},{"$f":"INDEX(親1!$D:$D,学費計算!AO8)","v":486.84193041244208},{"$f":"INDEX(親1!$D:$D,学費計算!AP8)","v":0}]
[null,null,4,{"$f":"D8","v":0},{"$f":"E8","v":12},4.2769000000000004,null,{"$f":"H8","v":0},{"$f":"I8","v":12},4.2769000000000004,null,{"$f":"L8","v":0},{"$f":"M8","v":12},4.2769000000000004,null,{"$f":"P8","v":0},{"$f":"Q8","v":12},4.2769000000000004,null,null,null,4.2769000000000004,{"$f":"IF(AA9=\"公立\",$AD9,IF(AA9=\"私立\",$AE9,0))","v":4.2769000000000004},4.2769000000000004,4.2769000000000004,{"$f":"Z8","v":"公立"},{"$f":"AA8","v":"公立"},{"$f":"AB8","v":"公立"},{"$f":"AC8","v":"公立"},{"$f":"AA63/10000","v":4.2769000000000004},31.876300000000001,null,null,null,null,null,null,null,null,{"$f":"IFERROR(MATCH($C9,子1!$C:$C,0),1)","v":14},{"$f":"IFERROR(MATCH($C9,子2!$C:$C,0),1)","v":17},{"$f":"IFERROR(MATCH($C9,子3!$C:$C,0),1)","v":1},{"$f":"IFERROR(MATCH($C9,子4!$C:$C,0),1)","v":1},{"$f":"INDEX(親1!$D:$D,学費計算!AN9)","v":463.75741885756111},{"$f":"INDEX(親1!$D:$D,学費計算!AO9)","v":498.81158167675022},{"$f":"INDEX(親1!$D:$D,学費計算!AP9)","v":0}]
[null,null,5,0,12,4.2496,null,0,12,4.2496,null,0,12,4.2496,null,0,12,4.2496,null,null,null,4.2496,4.2496,4.2496,4.2496,"公立","公立","公立","公立",4.2496,31.876300000000001,null,null,null,null,null,null,null,null,{"$f":"IFERROR(MATCH($C10,子1!$C:$C,0),1)","v":15},{"$f":"IFERROR(MATCH($C10,子2!$C:$C,0),1)","v":18},{"$f":"IFERROR(MATCH($C10,子3!$C:$C,0),1)","v":1},{"$f":"IFERROR(MATCH($C10,子4!$C:$C,0),1)","v":1},{"$f":"INDEX(親1!$D:$D,学費計算!AN10)","v":475.1595069444644},{"$f":"INDEX(親1!$D:$D,学費計算!AO10)","v":508.05627670446523},{"$f":"INDEX(親1!$D:$D,学費計算!AP10)","v":0}]
[null,"低学年",6,{"$f":"入力!$P$20*12","v":12},{"$f":"入力!$P$21*12","v":0},10.975300000000001,null,{"$f":"入力!$Q$20*12","v":12},{"$f":"入力!$Q$21*12","v":0},10.975300000000001,null,{"$f":"入力!$R$20*12","v":12},{"$f":"入力!$R$21*12","v":0},10.975300000000001,null,{"$f":"入力!$S$20*12","v":12},{"$f":"入力!$S$21*12","v":0},10.975300000000001,null,null,null,10.975300000000001,10.975300000000001,10.975300000000001,10.975300000000001,{"$f":"入力!P19","v":"公立"},{"$f":"入力!Q19","v":"公立"},{"$f":"入力!R19","v":"公立"},{"$f":"入力!S19","v":"公立"},{"$f":"W71/10000","v":10.975300000000001},87.040800000000004,null,null,null,null,null,null,null,null,{"$f":"IFERROR(MATCH($C11,子1!$C:$C,0),1)","v":16},{"$f":"IFERROR(MATCH($C11,子2!$C:$C,0),1)","v":19},{"$f":"IFERROR(MATCH($C11,子3!$C:$C,0),1)","v":1},{"$f":"IFERROR(MATCH($C11,子4!$C:$C,0),1)","v":1},{"$f":"INDEX(親1!$D:$D,学費計算!AN11)","v":486.84193041244208},{"$f":"INDEX(親1!$D:$D,学費計算!AO11)","v":517.47230774219861},{"$f":"INDEX(親1!$D:$D,学費計算!AP11)","v":0}]
[null,null,7,{"$f":"D11","v":12},{"$f":"E11","v":0},3.6476999999999999,null,{"$f":"H11","v":12},{"$f":"I11","v":0},3.6476999999999999,null,{"$f":"L11","v":12},{"$f":"M11","v":0},3.6476999999999999,null,{"$f":"P11","v":12},{"$f":"Q11","v":0},3.6476999999999999,null,null,null,3.6476999999999999,3.6476999999999999,3.6476999999999999,3.6476999999999999,{"$f":"Z11","v":"公立"},{"$f":"AA11","v":"公立"},{"$f":"AB11","v":"公立"},{"$f":"AC11","v":"公立"},3.6476999999999999,87.040800000000004,null,null,null,null,null,null,null,null,{"$f":"IFERROR(MATCH($C12,子1!$C:$C,0),1)","v":17},{"$f":"IFERROR(MATCH($C12,子2!$C:$C,0),1)","v":20},{"$f":"IFERROR(MATCH($C12,子3!$C:$C,0),1)","v":1},{"$f":"IFERROR(MATCH($C12,子4!$C:$C,0),1)","v":1},{"$f":"INDEX(親1!$D:$D,学費計算!AN12)","v":498.81158167675022},{"$f":"INDEX(親1!$D:$D,学費計算!AO12)","v":527.06285023578619},{"$f":"INDEX(親1!$D:$D,学費計算!AP12)","v":0}]
[null,null,8,12,0,4.6673999999999998,null,12,0,4.6673999999999998,null,12,0,4.6673999999999998,null,12,0,4.6673999999999998,null,null,null,4.6673999999999998,4.6673999999999998,4.6673999999999998,4.6673999999999998,"公立","公立","公立","公立",4.6673999999999998,87.040800000000004,null,null,null,null,null,null,null,null,{"$f":"IFERROR(MATCH($C13,子1!$C:$C,0),1)","v":18},{"$f":"IFERROR(MATCH($C13,子2!$C:$C,0),1)","v":21},{"$f":"IFERROR(MATCH($C13,子3!$C:$C,0),1)","v":1},{"$f":"IFERROR(MATCH($C13,子4!$C:$C,0),1)","v":1},{"$f":"INDEX(親1!$D:$D,学費計算!AN13)","v":508.05627670446523},{"$f":"INDEX(親1!$D:$D,学費計算!AO13)","v":536.83113848300195},{"$f":"INDEX(親1!$D:$D,学費計算!AP13)","v":0}]
[null,"高学年",9,{"$f":"入力!$P$20*12","v":12},{"$f":"入力!$P$21*12","v":0},4.5660999999999996,null,{"$f":"入力!$Q$20*12","v":12},{"$f":"入力!$Q$21*12","v":0},4.5660999999999996,null,{"$f":"入力!$R$20*12","v":12},{"$f":"入力!$R$21*12","v":0},4.5660999999999996,null,{"$f":"入力!$S$20*12","v":12},{"$f":"入力!$S$21*12","v":0},4.5660999999999996,null,null,null,4.5660999999999996,4.5660999999999996,4.5660999999999996,4.5660999999999996,{"$f":"Z11","v":"公立"},{"$f":"AA11","v":"公立"},"公立","公立",4.5660999999999996,87.040800000000004,null,null,null,null,null,null,null,null,{"$f":"IFERROR(MATCH($C14,子1!$C:$C,0),1)","v":19},{"$f":"IFERROR(MATCH($C14,子2!$C:$C,0),1)","v":22},{"$f":"IFERROR(MATCH($C14,子3!$C:$C,0),1)","v":1},{"$f":"IFERROR(MATCH($C14,子4!$C:$C,0),1)","v":1},{"$f":"INDEX(親1!$D:$D,学費計算!AN14)","v":517.47230774219861},{"$f":"INDEX(親1!$D:$D,学費計算!AO14)","v":546.78046672428684},{"$f":"INDEX(親1!$D:$D,学費計算!AP14)","v":0}]
[null,null,10,{"$f":"D14","v":12},{"$f":"E14","v":0},5.6357999999999997,null,{"$f":"H14","v":12},{"$f":"I14","v":0},5.6357999999999997,null,{"$f":"L14","v":12},{"$f":"M14","v":0},5.6357999999999997,null,{"$f":"P14","v":12},{"$f":"Q14","v":0},5.6357999999999997,null,null,null,5.6357999999999997,5.6357999999999997,5.6357999999999997,5.6357999999999997,{"$f":"Z14","v":"公立"},{"$f":"AA14","v":"公立"},{"$f":"AB14","v":"公立"},{"$f":"AC14","v":"公立"},5.6357999999999997,87.040800000000004,null,null,null,null,null,null,null,null,{"$f":"IFERROR(MATCH($C15,子1!$C:$C,0),1)","v":20},{"$f":"IFERROR(MATCH($C15,子2!$C:$C,0),1)","v":23},{"$f":"IFERROR(MATCH($C15,子3!$C:$C,0),1)","v":1},{"$f":"IFERROR(MATCH($C15,子4!$C:$C,0),1)","v":1},{"$f":"INDEX(親1!$D:$D,学費計算!AN15)","v":527.06285023578619},{"$f":"INDEX(親1!$D:$D,学費計算!AO15)","v":555.69017209107403},{"$f":"INDEX(親1!$D:$D,学費計算!AP15)","v":0}]
[null,null,11,12,0,8.4511000000000003,null,12,0,8.4511000000000003,null,12,0,8.4511000000000003,null,12,0,8.4511000000000003,null,null,null,8.4511000000000003,8.4511000000000003,8.4511000000000003,8.4511000000000003,"公立","公立","公立","公立",8.4511000000000003,87.040800000000004,null,null,null,null,null,null,null,null,{"$f":"IFERROR(MATCH($C16,子1!$C:$C,0),1)","v":21},{"$f":"IFERROR(MATCH($C16,子2!$C:$C,0),1)","v":24},{"$f":"IFERROR(MATCH($C16,子3!$C:$C,0),1)","v":1},{"$f":"IFERROR(MATCH($C16,子4!$C:$C,0),1)","v":1},{"$f":"INDEX(親1!$D:$D,学費計算!AN16)","v":536.83113848300195},{"$f":"INDEX(親1!$D:$D,学費計算!AO16)","v":564.74505976511989},{"$f":"INDEX(親1!$D:$D,学費計算!AP16)","v":0}]
[null,"中学生",12,{"$f":"入力!$P$23*12","v":0},{"$f":"入力!$P$24*12","v":12},19.459900000000001,null,{"$f":"入力!$Q$23*12","v":0},{"$f":"入力!$Q$24*12","v":12},19.459900000000001,null,{"$f":"入力!$R$23*12","v":0},{"$f":"入力!$R$24*12","v":12},19.459900000000001,null,{"$f":"入力!$S$23*12","v":0},{"$f":"入力!$S$24*12","v":12},19.459900000000001,null,null,null,19.459900000000001,19.459900000000001,19.459900000000001,19.459900000000001,{"$f":"入力!P22","v":"公立"},{"$f":"入力!Q22","v":"公立"},{"$f":"入力!R22","v":"公立"},{"$f":"入力!S22","v":"公立"},{"$f":"W82/10000","v":19.459900000000001},99.743499999999997,null,null,null,null,null,null,null,null,{"$f":"IFERROR(MATCH($C17,子1!$C:$C,0),1)","v":22},{"$f":"IFERROR(MATCH($C17,子2!$C:$C,0),1)","v":25},{"$f":"IFERROR(MATCH($C17,子3!$C:$C,0),1)","v":1},{"$f":"IFERROR(MATCH($C17,子4!$C:$C,0),1)","v":1},{"$f":"INDEX(親1!$D:$D,学費計算!AN17)","v":546.78046672428684},{"$f":"INDEX(親1!$D:$D,学費計算!AO17)","v":573.94749547025833},{"$f":"INDEX(親1!$D:$D,学費計算!AP17)","v":0}]
[null,null,13,{"$f":"D17","v":0},{"$f":"E17","v":12},10.5365,null,{"$f":"H17","v":0},{"$f":"I17","v":12},10.5365,null,{"$f":"L17","v":0},{"$f":"M17","v":12},10.5365,null,{"$f":"P17","v":0},{"$f":"Q17","v":12},10.5365,null,null,null,10.5365,10.5365,10.5365,10.5365,{"$f":"Z17","v":"公立"},{"$f":"AA17","v":"公立"},{"$f":"AB17","v":"公立"},{"$f":"AC17","v":"公立"},{"$f":"W83/10000","v":10.5365},99.743499999999997,null,null,null,null,null,null,null,null,{"$f":"IFERROR(MATCH($C18,子1!$C:$C,0),1)","v":23},{"$f":"IFERROR(MATCH($C18,子2!$C:$C,0),1)","v":26},{"$f":"IFERROR(MATCH($C18,子3!$C:$C,0),1)","v":1},{"$f":"IFERROR(MATCH($C18,子4!$C:$C,0),1)","v":1},{"$f":"INDEX(親1!$D:$D,学費計算!AN18)","v":555.69017209107403},{"$f":"INDEX(親1!$D:$D,学費計算!AO18)","v":583.29988347943709},{"$f":"INDEX(親1!$D:$D,学費計算!AP18)","v":0}]
[null,null,14,0,12,11.936,null,0,12,11.936,null,0,12,11.936,null,0,12,11.936,null,null,null,11.936,11.936,11.936,11.936,"公立","公立","公立","公立",{"$f":"W84/10000","v":11.936},99.743499999999997,null,null,null,null,null,null,null,null,{"$f":"IFERROR(MATCH($C19,子1!$C:$C,0),1)","v":24},{"$f":"IFERROR(MATCH($C19,子2!$C:$C,0),1)","v":27},{"$f":"IFERROR(MATCH($C19,子3!$C:$C,0),1)","v":1},{"$f":"IFERROR(MATCH($C19,子4!$C:$C,0),1)","v":1},{"$f":"INDEX(親1!$D:$D,学費計算!AN19)","v":564.74505976511989},{"$f":"INDEX(親1!$D:$D,学費計算!AO19)","v":592.80466724286941},{"$f":"INDEX(親1!$D:$D,学費計算!AP19)","v":0}]
[null,"高校生",15,{"$f":"入力!$P$26*12","v":0},{"$f":"入力!$P$27*12","v":24},37.037399999999998,null,{"$f":"入力!$Q$26*12","v":0},{"$f":"入力!$Q$27*12","v":24},37.037399999999998,null,{"$f":"入力!$R$26*12","v":0},{"$f":"入力!$R$27*12","v":24},37.037399999999998,null,{"$f":"入力!$S$26*12","v":0},{"$f":"入力!$S$27*12","v":24},37.037399999999998,null,null,null,37.037399999999998,37.037399999999998,37.037399999999998,37.037399999999998,{"$f":"入力!P25","v":"公立"},{"$f":"入力!Q25","v":"公立"},{"$f":"入力!R25","v":"公立"},{"$f":"入力!S25","v":"公立"},{"$f":"W89/10000","v":37.037399999999998},75.510099999999994,null,null,null,null,null,null,null,null,{"$f":"IFERROR(MATCH($C20,子1!$C:$C,0),1)","v":25},{"$f":"IFERROR(MATCH($C20,子2!$C:$C,0),1)","v":28},{"$f":"IFERROR(MATCH($C20,子3!$C:$C,0),1)","v":1},{"$f":"IFERROR(MATCH($C20,子4!$C:$C,0),1)","v":1},{"$f":"INDEX(親1!$D:$D,学費計算!AN20)","v":573.94749547025833},{"$f":"INDEX(親1!$D:$D,学費計算!AO20)","v":602.58868895313367},{"$f":"INDEX(親1!$D:$D,学費計算!AP20)","v":0}]
[null,null,16,{"$f":"D20","v":0},{"$f":"E20","v":24},29.9848,null,{"$f":"H20","v":0},{"$f":"I20","v":24},29.9848,null,{"$f":"L20","v":0},{"$f":"M20","v":24},29.9848,null,{"$f":"P20","v":0},{"$f":"Q20","v":24},29.9848,null,null,null,29.9848,29.9848,29.9848,29.9848,{"$f":"Z20","v":"公立"},{"$f":"AA20","v":"公立"},{"$f":"AB20","v":"公立"},{"$f":"AC20","v":"公立"},{"$f":"W90/10000","v":29.9848},75.510099999999994,null,null,null,null,null,null,null,null,{"$f":"IFERROR(MATCH($C21,子1!$C:$C,0),1)","v":26},{"$f":"IFERROR(MATCH($C21,子2!$C:$C,0),1)","v":29},{"$f":"IFERROR(MATCH($C21,子3!$C:$C,0),1)","v":1},{"$f":"IFERROR(MATCH($C21,子4!$C:$C,0),1)","v":1},{"$f":"INDEX(親1!$D:$D,学費計算!AN21)","v":583.29988347943709},{"$f":"INDEX(親1!$D:$D,学費計算!AO21)","v":612.53419232188764},{"$f":"INDEX(親1!$D:$D,学費計算!AP21)","v":0}]
[null,null,17,0,24,17.100000000000001,null,0,24,17.100000000000001,null,0,24,17.100000000000001,null,0,24,17.100000000000001,null,null,null,17.100000000000001,17.100000000000001,17.100000000000001,17.100000000000001,"公立","公立","公立","公立",{"$f":"W91/10000","v":17.100000000000001},75.510099999999994,null,null,null,null,null,null,null,null,{"$f":"IFERROR(MATCH($C22,子1!$C:$C,0),1)","v":27},{"$f":"IFERROR(MATCH($C22,子2!$C:$C,0),1)","v":30},{"$f":"IFERROR(MATCH($C22,子3!$C:$C,0),1)","v":1},{"$f":"IFERROR(MATCH($C22,子4!$C:$C,0),1)","v":1},{"$f":"INDEX(親1!$D:$D,学費計算!AN22)","v":592.80466724286941},{"$f":"INDEX(親1!$D:$D,学費計算!AO22)","v":622.64384254416086},{"$f":"INDEX(親1!$D:$D,学費計算!AP22)","v":0}]
[null,"大学生",18,null,null,{"$f":"V23","v":93.225099999999998},{"$f":"入力!$P$30*12","v":0},null,null,93.225099999999998,{"$f":"入力!$Q$30*12","v":72},null,null,93.225099999999998,{"$f":"入力!$R$30*12","v":60},null,null,93.225099999999998,{"$f":"入力!$S$30*12","v":60},null,null,{"$f":"IF(Z23=\"公立\",$AD23,IF(Z23=\"私立文系\",$AE23,IF(Z23=\"私立理系\",$AF23,0)))","v":93.225099999999998},{"$f":"IF(AA23=\"公立\",$AD23,IF(AA23=\"私立文系\",$AE23,IF(AA23=\"私立理系\",$AF23,0)))","v":93.225099999999998},{"$f":"IF(AB23=\"公立\",$AD23,IF(AB23=\"私立文系\",$AE23,IF(AB23=\"私立理系\",$AF23,0)))","v":93.225099999999998},{"$f":"IF(AC23=\"公立\",$AD23,IF(AC23=\"私立文系\",$AE23,IF(AC23=\"私立理系\",$AF23,0)))","v":93.225099999999998},{"$f":"入力!P28","v":"公立"},{"$f":"入力!Q28","v":"公立"},{"$f":"入力!R28","v":"公立"},{"$f":"入力!S28","v":"公立"},93.225099999999998,116.53100000000001,154.08959999999999,null,null,null,null,null,null,null,{"$f":"IFERROR(MATCH($C23,子1!$C:$C,0),1)","v":28},{"$f":"IFERROR(MATCH($C23,子2!$C:$C,0),1)","v":31},{"$f":"IFERROR(MATCH($C23,子3!$C:$C,0),1)","v":1},{"$f":"IFERROR(MATCH($C23,子4!$C:$C,0),1)","v":1},{"$f":"INDEX(親1!$D:$D,学費計算!AN23)","v":602.58868895313367},{"$f":"INDEX(親1!$D:$D,学費計算!AO23)","v":632.92034880304038},{"$f":"INDEX(親1!$D:$D,学費計算!AP23)","v":0}]
[null,null,19,null,null,53.58,{"$f":"G23","v":0},null,null,53.58,{"$f":"K23","v":72},null,null,53.58,{"$f":"O23","v":60},null,null,53.58,{"$f":"S23","v":60},null,null,53.58,{"$f":"IF(AA24=\"公立\",$AD24,IF(AA24=\"私立文系\",$AE24,IF(AA24=\"私立理系\",$AF24,0)))","v":53.58},53.58,53.58,{"$f":"Z23","v":"公立"},{"$f":"AA23","v":"公立"},{"$f":"AB23","v":"公立"},{"$f":"AC23","v":"公立"},53.58,93.349900000000005,128.59559999999999,null,null,null,null,null,null,null,{"$f":"IFERROR(MATCH($C24,子1!$C:$C,0),1)","v":29},{"$f":"IFERROR(MATCH($C24,子2!$C:$C,0),1)","v":32},{"$f":"IFERROR(MATCH($C24,子3!$C:$C,0),1)","v":1},{"$f":"IFERROR(MATCH($C24,子4!$C:$C,0),1)","v":1},{"$f":"INDEX(親1!$D:$D,学費計算!AN24)","v":612.53419232188764},{"$f":"INDEX(親1!$D:$D,学費計算!AO24)","v":643.36646499567848},{"$f":"INDEX(親1!$D:$D,学費計算!AP24)","v":0}]
[null,null,20,null,null,53.58,0,null,null,53.58,72,null,null,53.58,60,null,null,53.58,60,null,null,53.58,53.58,53.58,53.58,{"$f":"Z24","v":"公立"},"公立","公立","公立",53.58,93.349900000000005,128.59559999999999,null,null,null,null,null,null,null,{"$f":"IFERROR(MATCH($C25,子1!$C:$C,0),1)","v":30},{"$f":"IFERROR(MATCH($C25,子2!$C:$C,0),1)","v":33},{"$f":"IFERROR(MATCH($C25,子3!$C:$C,0),1)","v":1},{"$f":"IFERROR(MATCH($C25,子4!$C:$C,0),1)","v":1},{"$f":"INDEX(親1!$D:$D,学費計算!AN25)","v":622.64384254416086},{"$f":"INDEX(親1!$D:$D,学費計算!AO25)","v":641.21294335086088},{"$f":"INDEX(親1!$D:$D,学費計算!AP25)","v":0}]
[null,null,21,null,null,53.58,0,null,null,53.58,72,null,null,53.58,60,null,null,53.58,60,null,null,53.58,53.58,53.58,53.58,"公立","公立","公立","公立",53.58,93.349900000000005,128.59559999999999,null,null,null,null,null,null,null,{"$f":"IFERROR(MATCH($C26,子1!$C:$C,0),1)","v":31},{"$f":"IFERROR(MATCH($C26,子2!$C:$C,0),1)","v":34},{"$f":"IFERROR(MATCH($C26,子3!$C:$C,0),1)","v":1},{"$f":"IFERROR(MATCH($C26,子4!$C:$C,0),1)","v":1},{"$f":"INDEX(親1!$D:$D,学費計算!AN26)","v":632.92034880304038},{"$f":"INDEX(親1!$D:$D,学費計算!AO26)","v":639.066630125703},{"$f":"INDEX(親1!$D:$D,学費計算!AP26)","v":0}]
[null,"大学院",22,null,null,0,{"$f":"入力!$P$33*12","v":0},null,null,93.225099999999998,{"$f":"入力!$Q$33*12","v":72},null,null,93.225099999999998,{"$f":"入力!$R$33*12","v":60},null,null,93.225099999999998,{"$f":"入力!$S$33*12","v":60},null,null,0,93.225099999999998,93.225099999999998,93.225099999999998,{"$f":"入力!P31","v":0},{"$f":"入力!Q31","v":"公立"},{"$f":"入力!R31","v":"公立"},{"$f":"入力!S31","v":"公立"},93.225099999999998,116.53100000000001,154.08959999999999,null,null,null,null,null,null,null,{"$f":"IFERROR(MATCH($C27,子1!$C:$C,0),1)","v":32},{"$f":"IFERROR(MATCH($C27,子2!$C:$C,0),1)","v":35},{"$f":"IFERROR(MATCH($C27,子3!$C:$C,0),1)","v":1},{"$f":"IFERROR(MATCH($C27,子4!$C:$C,0),1)","v":1},{"$f":"INDEX(親1!$D:$D,学費計算!AN27)","v":643.36646499567848},{"$f":"INDEX(親1!$D:$D,学費計算!AO27)","v":636.92750119167385},{"$f":"INDEX(親1!$D:$D,学費計算!AP27)","v":0}]
[null,null,23,null,null,0,{"$f":"G27","v":0},null,null,53.58,{"$f":"K27","v":72},null,null,53.58,{"$f":"O27","v":60},null,null,53.58,{"$f":"S27","v":60},null,null,0,53.58,53.58,53.58,{"$f":"Z27","v":0},"公立","公立","公立",53.58,93.349900000000005,128.59559999999999,null,null,null,null,null,null,null,{"$f":"IFERROR(MATCH($C28,子1!$C:$C,0),1)","v":33},{"$f":"IFERROR(MATCH($C28,子2!$C:$C,0),1)","v":36},{"$f":"IFERROR(MATCH($C28,子3!$C:$C,0),1)","v":1},{"$f":"IFERROR(MATCH($C28,子4!$C:$C,0),1)","v":1},{"$f":"INDEX(親1!$D:$D,学費計算!AN28)","v":641.21294335086088},{"$f":"INDEX(親1!$D:$D,学費計算!AO28)","v":634.79553250100696},{"$f":"INDEX(親1!$D:$D,学費計算!AP28)","v":0}]
[null,"合計",null,{"$f":"SUM(D7:D28)","v":72},{"$f":"SUM(E7:E28)","v":144},466.96289999999993,0,72,144,598.76799999999992,432,72,144,577.76799999999992,360,72,144,577.76799999999992,360,null,null,{"$f":"SUM(V5:V28)","v":538.96289999999999},{"$f":"SUM(W5:W28)","v":637.76799999999992},{"$f":"SUM(X5:X28)","v":577.76799999999992},{"$f":"SUM(Y5:Y28)","v":577.76799999999992},null,null,null,null,"公立","私立文系","私立理系"]
[]
[]
[]
[null,null,null,null,null,null,null,null,null,null,null,null,null,null,null,null,null,null,null,null,null,null,null,null,null,null,null,null,null,null,null,null,null,null,null,null,null,null,null,null,null,null,null,null,"https://allabout.co.jp/gm/gc/18712/"]
[null,"https://nujonoa.com/summary-of-tuition-fees/"]
[]
[null,null,null,null,null,null,null,null,null,null,null,null,null,null,null,null,null,null,null,null,null,"保育園",null,null,null,null,null,null,null,null,null,null,null,null,null,null,null,null,null,null,null,null,null,null,"子供の学習費調査"]
[null,null,null,null,null,null,null,null,null,null,null,null,null,null,null,null,null,null,null,null,null,null,null,null,null,null,null,null,null,null,null,null,null,null,null,null,null,null,null,null,null,null,null,null,"http://www.mext.go.jp/b_menu/toukei/chousa03/gakushuuhi/kekka/k_detail/1399308.htm"]
[null,null,null,null,null,null,null,null,null,null,null,null,null,null,null,null,null,null,null,null,null,"世帯年収","保育料","雑費","月額","年額","3年間",null,null,null,null,null,null,null,null,null,null,null,null,null,null,null,null,null,"http://www.mext.go.jp/b_menu/toukei/chousa03/gakushuuhi/kekka/k_detail/__icsFiles/afieldfile/2017/12/22/1399308_3.pdf"]
[null,null,null,null,null,null,null,null,null,null,null,null,null,null,null,null,null,null,null,null,null,0]
[null,null,null,null,null,null,null,null,null,null,null,null,null,null,null,null,null,null,null,null,null,220,10100,2000,12100,15,44,null,null,null,null,null,null,null,null,null,null,null,null,null,null,null,null,null,"https://www.jfc.go.jp/n/findings/pdf/kyouikuhi_chousa_k_h30.pdf"]
[null,null,null,null,null,null,null,null,null,null,null,null,null,null,null,null,null,null,null,null,null,230,11800,2000,13800,17,50]
[null,null,null,null,null,null,null,null,null,null,null,null,null,null,null,null,null,null,null,null,null,235,14000,2000,16000,19,58]
[null,null,null,null,null,null,null,null,null,null,null,null,null,null,null,null,null,null,null,null,null,250,15700,2000,17700,21,64]
[null,null,null,null,null,null,null,null,null,null,null,null,null,null,null,null,null,null,null,null,null,257,18300,2000,20300,24,73]
[null,null,null,null,null,null,null,null,null,null,null,null,null,null,null,null,null,null,null,null,null,263,18300,2000,20300,24,73]
[null,null,null,null,null,null,null,null,null,null,null,null,null,null,null,null,null,null,null,null,null,315,21500,2000,23500,28,85]
[null,null,null,null,null,null,null,null,null,null,null,null,null,null,null,null,null,null,null,null,null,320,21500,2000,23500,28,85]
[null,null,null,null,null,null,null,null,null,null,null,null,null,null,null,null,null,null,null,null,null,370,24900,2000,26900,32,97]
[null,null,null,null,null,null,null,null,null,null,null,null,null,null,null,null,null,null,null,null,null,415,28300,2000,30300,36,109]
[null,null,null,null,null,null,null,null,null,null,null,null,null,null,null,null,null,null,null,null,null,460,32700,2000,34700,42,125]
[null,null,null,null,null,null,null,null,null,null,null,null,null,null,null,null,null,null,null,null,null,550,39400,2000,41400,50,149]
[null,null,null,null,null,null,null,null,null,null,null,null,null,null,null,null,null,null,null,null,null,655,45100,2000,47100,57,170]
[null,null,null,null,null,null,null,null,null,null,null,null,null,null,null,null,null,null,null,null,null,670,45100,2000,47100,57,170]
[null,null,null,null,null,null,null,null,null,null,null,null,null,null,null,null,null,null,null,null,null,752,50700,2000,52700,63,190]
[null,null,null,null,null,null,null,null,null,null,null,null,null,null,null,null,null,null,null,null,null,850,53000,2000,55000,66,198]
[null,null,null,null,null,null,null,null,null,null,null,null,null,null,null,null,null,null,null,null,null,960,59200,2000,61200,73,220]
[null,null,null,null,null,null,null,null,null,null,null,null,null,null,null,null,null,null,null,null,null,1034,61700,2000,63700,76,229]
[null,null,null,null,null,null,null,null,null,null,null,null,null,null,null,null,null,null,null,null,null,1100,65900,2000,67900,81,244]
[null,null,null,null,null,null,null,null,null,null,null,null,null,null,null,null,null,null,null,null,null,1300,65900,2000,67900,81,244]
[]
[null,null,null,null,null,null,null,null,null,null,null,null,null,null,null,null,null,null,null,null,"項目",null,"①学校教育費","　授業料","　その他","②学校給食費","③合計　(①+②)"]
[null,null,null,null,null,null,null,null,null,null,null,null,null,null,null,null,null,null,null,null,"年額","3歳",24000,0,24000,20733,44733]
[null,null,null,null,null,null,null,null,null,null,null,null,null,null,null,null,null,null,null,null,null,"4歳",24000,0,24000,18769,42769]
[null,null,null,null,null,null,null,null,null,null,null,null,null,null,null,null,null,null,null,null,null,"5歳",24000,0,24000,18496,42496]
[]
[]
[]
[null,null,null,null,null,null,null,null,null,null,null,null,null,null,null,null,null,null,null,null,null,1500,70600,2000,72600,87,261]
[]
[null,null,null,null,null,null,null,null,null,null,null,null,null,null,null,null,null,null,null,null,null,null,"①学校教育費","　授業料","　修学旅行・遠足・見学費","　学級・児童会・生徒会費","　PTA会費","　その他の学校納付金","　寄附金","　教科書費・教科書以外の図書費","　学用品・実験実習材料費","　教科外活動費","　通学費","　制服","　通学用品費","　その他","②学校給食費","③合計　(①+②)","月額に直すと、下記の通りで、0.7万円～1万円程度と考えておけば足りると思います。"]
[null,null,null,null,null,null,null,null,null,null,null,null,null,null,null,null,null,null,null,null,null,"第1学年",109753,"…",1358,7534,2892,1013,7,2927,28601,889,719,4664,53047,6102,43105,152858]
[null,null,null,null,null,null,null,null,null,null,null,null,null,null,null,null,null,null,null,null,null,"第2学年",36477,"…",1696,6333,2852,1045,6,1823,11471,482,578,624,6864,2703,43667,80144]
[null,null,null,null,null,null,null,null,null,null,null,null,null,null,null,null,null,null,null,null,null,"第3学年",46674,"…",1849,7397,2977,1053,6,3232,17087,1018,1618,950,6311,3176,43425,90099]
[null,null,null,null,null,null,null,null,null,null,null,null,null,null,null,null,null,null,null,null,null,"第4学年",45661,"…",2607,7494,3067,1566,8,2506,15278,1712,1209,1242,6197,2775,44217,89878]
[null,null,null,null,null,null,null,null,null,null,null,null,null,null,null,null,null,null,null,null,null,"第5学年",56358,"…",8704,7742,3227,1871,8,2471,16567,4665,1022,952,5780,3349,43927,100285]
[null,null,null,null,null,null,null,null,null,null,null,null,null,null,null,null,null,null,null,null,null,"第6学年",84511,"…",25003,8934,3322,2914,48,2332,14079,3368,3155,6893,7533,6930,43995,128506]
[null,null,null,null,null,null,null,null,null,null,null,null,null,null,null,null,null,null,null,null,null,"合計",379434,0,41217,45434,18337,9462,83,15291,103083,12134,8301,15325,85732,25035,262336,641770]
[]
[]
[]
[null,null,null,null,null,null,null,null,null,null,null,null,null,null,null,null,null,null,null,null,"項目",null,"①学校教育費","　授業料","　修学旅行・見学費","　学級・生徒会費","　PTA会費","　その他の学校納付金","　寄附金","　教科書費・教科書以外の図書費","　学用品・実験材料費","　教科外活動費","　通学費","　制服","　通学用品費","　その他","②学校給食費","③合計　(①+②)",null,null,null,null,null,null,null,"高校"]
[null,null,null,null,null,null,null,null,null,null,null,null,null,null,null,null,null,null,null,null,"学年別","第1学年",194599,"…",9440,6943,3791,5435,41,7017,33705,41826,17775,47821,17238,3567,43786,238385]
[null,null,null,null,null,null,null,null,null,null,null,null,null,null,null,null,null,null,null,null,null,"第2学年",105365,"…",18164,6277,3852,5801,37,4806,14723,32435,4193,5285,7521,2271,43305,148670]
[null,null,null,null,null,null,null,null,null,null,null,null,null,null,null,null,null,null,null,null,null,"第3学年",119360,"…",49884,7275,3941,6741,89,5785,10954,14464,3709,5313,6280,4925,41801,161161]
[null,null,null,null,null,null,null,null,null,null,null,null,null,null,null,null,null,null,null,null,null,"　合計",419324,0,77488,20495,11584,17977,167,17608,59382,88725,25677,58419,31039,10763,128892,548216]
[]
[]
[null,null,null,null,null,null,null,null,null,null,null,null,null,null,null,null,null,null,null,null,"項目",null,"①学校教育費","　授業料","　修学旅行・遠足・見学費","　学級・児童会・生徒会費","　PTA会費","　その他の学校納付金","　寄附金","　教科書費・教科書以外の図書費","　学用品・実験実習材料費","　教科外活動費","　通学費","　制服","　通学用品費","　その他","②学校給食費","③合計　(①+②)"]
[null,null,null,null,null,null,null,null,null,null,null,null,null,null,null,null,null,null,null,null,"学年別","第1学年",370374,26010,14511,23275,7360,32794,297,34550,35903,62805,54837,55516,17916,4600,"…",370374]
[null,null,null,null,null,null,null,null,null,null,null,null,null,null,null,null,null,null,null,null,null,"第2学年",299848,25032,89523,17762,6783,24899,120,20065,12378,41681,42417,8304,8926,1958,"…",299848]
[null,null,null,null,null,null,null,null,null,null,null,null,null,null,null,null,null,null,null,null,null,"第3学年",171000,25094,2255,20137,6824,25639,227,12692,8240,16768,40366,4119,6030,2609,"…",171000]
[null,null,null,null,null,null,null,null,null,null,null,null,null,null,null,null,null,null,null,null,null,"合計",841222,76136,106289,61174,20967,83332,644,67307,56521,121254,137620,67939,32872,9167,0,841222]
[]
[]
[]
[]
[]
[]
[]
[]
[null,null,null,null,null,null,null,null,"項目","学年別",null,null,null,null,null,"月額"]
[null,null,null,null,null,null,null,null,null,"第1学年",null,"第2学年","第3学年","　合計",null,"1年","2年","3年",null,"合計"]
[null,null,null,null,null,null,null,null,"①学校教育費",194599,null,105365,119360,419324,null,16217,8780,9947,null,34944]
[null,null,null,null,null,null,null,null,"　授業料","…",null,"…","…",0,null,0,0,0,null,0]
[null,null,null,null,null,null,null,null,"　修学旅行・見学費",9440,null,18164,49884,77488,null,787,1514,4157,null,6457]
[null,null,null,null,null,null,null,null,"　学級・生徒会費",6943,null,6277,7275,20495,null,579,523,606,null,1708]
[null,null,null,null,null,null,null,null,"　PTA会費",3791,null,3852,3941,11584,null,316,321,328,null,965]
[null,null,null,null,null,null,null,null,"　その他の学校納付金",5435,null,5801,6741,17977,null,453,483,562,null,1498]
[null,null,null,null,null,null,null,null,"　寄附金",41,null,37,89,167,null,3,3,7,null,14]
[null,null,null,null,null,null,null,null,"　教科書費・教科書以外の図書費",7017,null,4806,5785,17608,null,585,401,482,null,1467]
[null,null,null,null,null,null,null,null,"　学用品・実験材料費",33705,null,14723,10954,59382,null,2809,1227,913,null,4949]
[null,null,null,null,null,null,null,null,"　教科外活動費",41826,null,32435,14464,88725,null,3486,2703,1205,null,7394]
[null,null,null,null,null,null,null,null,"　通学費",17775,null,4193,3709,25677,null,1481,349,309,null,2140]
[null,null,null,null,null,null,null,null,"　制服",47821,null,5285,5313,58419,null,3985,440,443,null,4868]
[null,null,null,null,null,null,null,null,"　通学用品費",17238,null,7521,6280,31039,null,1437,627,523,null,2587]
[null,null,null,null,null,null,null,null,"　その他",3567,null,2271,4925,10763,null,297,189,410,null,897]
[null,null,null,null,null,null,null,null,"②学校給食費",43786,null,43305,41801,128892,null,3649,3609,3483,null,10741]
[null,null,null,null,null,null,null,null,"③合計　(①+②)",238385,null,148670,161161,548216,null,19865,12389,13430,null,45685]
[]
[]
[null,null,null,null,null,null,null,null,"項目","学年別",null,null,null,null,null,"月額"]
[null,null,null,null,null,null,null,null,null,"第1学年",null,"第2学年","第3学年","合計",null,"1年","2年","3年",null,"合計"]
[null,null,null,null,null,null,null,null,"①学校教育費",370374,null,299848,171000,841222,null,30865,24987,14250,null,70102]
[null,null,null,null,null,null,null,null,"　授業料",26010,null,25032,25094,76136,null,2168,2086,2091,null,6345]
[null,null,null,null,null,null,null,null,"　修学旅行・遠足・見学費",14511,null,89523,2255,106289,null,1209,7460,188,null,8857]
[null,null,null,null,null,null,null,null,"　学級・児童会・生徒会費",23275,null,17762,20137,61174,null,1940,1480,1678,null,5098]
[null,null,null,null,null,null,null,null,"　PTA会費",7360,null,6783,6824,20967,null,613,565,569,null,1747]
[null,null,null,null,null,null,null,null,"　その他の学校納付金",32794,null,24899,25639,83332,null,2733,2075,2137,null,6944]
[null,null,null,null,null,null,null,null,"　寄附金",297,null,120,227,644,null,25,10,19,null,54]
[null,null,null,null,null,null,null,null,"　教科書費・教科書以外の図書費",34550,null,20065,12692,67307,null,2879,1672,1058,null,5609]
[null,null,null,null,null,null,null,null,"　学用品・実験実習材料費",35903,null,12378,8240,56521,null,2992,1032,687,null,4710]
[null,null,null,null,null,null,null,null,"　教科外活動費",62805,null,41681,16768,121254,null,5234,3473,1397,null,10105]
[null,null,null,null,null,null,null,null,"　通学費",54837,null,42417,40366,137620,null,4570,3535,3364,null,11468]
[null,null,null,null,null,null,null,null,"　制服",55516,null,8304,4119,67939,null,4626,692,343,null,5662]
[null,null,null,null,null,null,null,null,"　通学用品費",17916,null,8926,6030,32872,null,1493,744,503,null,2739]
[null,null,null,null,null,null,null,null,"　その他",4600,null,1958,2609,9167,null,383,163,217,null,764]
[null,null,null,null,null,null,null,null,"②学校給食費","…",null,"…","…",0,null,0,0,0,null,0]
[null,null,null,null,null,null,null,null,"③合計　(①+②)",370374,null,299848,171000,841222,null,30865,24987,14250,null,70102]

{"sheet":"住居計算","index":14,"n_rows":212,"n_cols":46,"rows_kept":212,"cut":false,"hidden":false,"merged":[]}
[null,null,null,null,null,null,null,null,null,null,null,null,null,null,null,null,null,"最低限"]
[null,null,null,null,null,null,null,null,null,null,null,null,null,null,null,null,null,"外壁","屋根","玄関","シロアリ","給水管","床下",null,null,null,null,null,"壁紙・内壁","キッチン","給湯器","お風呂","トイレ","洗面所","床","ベランダ",null,"修繕の内容は、屋根や外壁の修繕、エレベーターや階段の修繕、駐車場やごみ置き場の修繕などです。"]
[null,null,null,null,null,null,null,null,null,null,null,null,null,null,null,null,null,135,137,53,40,54,48,null,null,null,null,null,74,131,49,107,51,30,65,47]
[null,null,null,null,null,null,null,null,null,null,null,null,null,null,null,null,null,35.799999999999997,35.799999999999997,35.799999999999997,35.799999999999997,35.799999999999997,35.799999999999997,null,null,null,null,null,35.799999999999997,35.799999999999997,35.799999999999997,35.799999999999997,35.799999999999997,35.799999999999997,35.799999999999997,35.799999999999997,null,"マンションの外回りや共有で使用している部分を中心に修繕は行われますが、専用部の修繕は行われません。たとえば、クロスの張り替えやフローリングの修繕、キッチンのリフォームなどを行う場合は別途各家庭で費用を用意しておく必要があります。"]
[null,null,null,null,null,null,null,null,null,null,null,null,null,0.67,{"$f":"1-N5","v":0.32999999999999996},null,null,{"$f":"R3/R4","v":3.7709497206703912},{"$f":"S3/S4","v":3.8268156424581008},1.4804469273743017,1.1173184357541901,1.5083798882681565,1.3407821229050281,null,0.33,{"$f":"1-Y5","v":0.66999999999999993},null,null,{"$f":"AC3/AC4","v":2.0670391061452515},3.6592178770949721,1.3687150837988828,2.9888268156424584,1.4245810055865924,0.83798882681564257,1.8156424581005588,1.3128491620111733]
[null,null,null,null,null,null,null,null,null,null,null,null,{"$f":"入力!$W$26","v":4000},{"$f":"$M6*N5","v":2680},{"$f":"$M6*O5","v":1319.9999999999998},null,null,"外壁","屋根の塗装","軒先・軒裏塗装","シロアリ駆除",null,"床下メンテ",{"$f":"入力!$W$26","v":4000},{"$f":"$M6*Y5","v":1320},{"$f":"$M6*Z5","v":2679.9999999999995},null,null,"クロス張替え","サッシ回り"]
[null,null,null,null,null,null,null,null,null,null,null,null,"初期評価",{"$f":"30%+10%+N(\"10%は予備\")","v":0.4},{"$f":"37%+10%+N(\"10%は予備\")","v":0.47},null,null,100,50,30,20,null,30,"初期評価",{"$f":"25%+10%+N(\"10%は予備\")","v":0.35},{"$f":"37%+10%+N(\"10%は予備\")","v":0.47},null,null,20,30]
[null,null,null,null,null,null,null,{"$f":"入力!W23","v":1.5},{"$f":"入力!$W$22","v":1.2},null,null,null,null,null,null,null,null,12.5,17.5,17.5,5,null,17.5,null,null,null,null,null,8.5,8.5]
[null,null,null,null,null,null,null,{"$f":"H8*12","v":18},{"$f":"I8*12","v":14.399999999999999},null,null,null,null,{"$f":"N6*N7","v":1072},{"$f":"O6*O7","v":620.39999999999986},null,null,{"$f":"R7/R8","v":8},{"$f":"S7/S8","v":2.8571428571428572},{"$f":"T7/T8","v":1.7142857142857142},{"$f":"U7/U8","v":4},null,{"$f":"W7/W8","v":1.7142857142857142},null,{"$f":"Y6*Y7","v":461.99999999999994},{"$f":"Z6*Z7","v":1259.5999999999997},null,null,{"$f":"AC7/AC8","v":2.3529411764705883},{"$f":"AD7/AD8","v":3.5294117647058822}]
[]
[null,null,null,null,null,null,null,null,null,null,null,null,null,null,null,null,null,null,null,null,null,null,null,null,null,null,null,null,"リフォーム",null,null,null,null,null,null,null,null,null,"減価償却",null,null,null,null,"住宅ローン控除"]
[null,null,null,{"$f":"入力!$W$20","v":"マンション"},"マンション","1戸建て",null,"修繕費","管理費","駐車場",null,null,"住宅ローン控除","建物","土地","マンション",null,"外壁","屋根","玄関","シロアリ","給水管","床下","住宅ローン控除","建物","土地","1戸建て",null,"壁紙・内壁","キッチン","給湯器","お風呂","トイレ","洗面所","床","ベランダ",null,null,0,0.96,0,0.8]
[{"$f":"IF(D13,$D$12,\"賃貸\")","v":"賃貸"},{"$f":"住居!B6","v":24},{"$f":"住居!C6","v":-10},{"$f":"IF(D$12=$E$12,E13,F13)","v":0},{"$f":"P13","v":0},{"$f":"AA13","v":0},null,{"$f":"IF($C13>=0,H$9,0)","v":0},{"$f":"IF($C13>=0,I$9,0)","v":0},0,null,null,{"$f":"-$AT13","v":0},{"$f":"IF($C13>=0,N$9*1.4%*VLOOKUP($C13,$AM$12:$AN$212,2,0)*IF($C13<=5,0.5,1),0)","v":0},{"$f":"IF($C13>=0,O$9*1.4%/6,0)","v":0},{"$f":"SUM(H13:O13)","v":0},null,{"$f":"IF($C13>0,IF(MOD($C13,5)=0,R$9*5,0),0)","v":0},{"$f":"IF($C13>0,IF(MOD($C13,5)=0,S$9*5,0),0)","v":0},0,0,0,0,{"$f":"-$AT13","v":0},{"$f":"IF($C13>=0,Y$9*1.4%*VLOOKUP($C13,$AO$12:$AP$212,2,0)*IF($C13<=3,0.5,1),0)","v":0},{"$f":"IF($C13>=0,Z$9*1.4%/6,0)","v":0},{"$f":"SUM(R13:Z13)","v":0},null,{"$f":"IF($C13>=0,AC$5,0)","v":0},0,{"$f":"IF($C13>=0,AE$9,0)","v":0},{"$f":"IF($C13>=0,AF$5,0)","v":0},0,0,0,0,{"$f":"SUM(AC13:AJ13)","v":0},null,1,0.93,1,0.75,null,{"$f":"IF($C13>=0,入力!$W$35,0)","v":0},{"$f":"入力!$W$26","v":4000},{"$f":"IF(C13>=0,IF(C13<=9,IF(AS13*1%>40,40,AS13*1%),0),0)","v":0}]
[{"$f":"IF(D14,$D$12,\"賃貸\")","v":"賃貸"},{"$f":"住居!B7","v":25},{"$f":"住居!C7","v":-9},{"$f":"IF(D$12=$E$12,E14,F14)","v":0},{"$f":"P14","v":0},{"$f":"AA14","v":0},null,{"$f":"IF($C14>=0,H$9,0)","v":0},0,0,null,null,{"$f":"-$AT14","v":0},{"$f":"IF($C14>=0,N$9*1.4%*VLOOKUP($C14,$AM$12:$AN$212,2,0)*IF($C14<=5,0.5,1),0)","v":0},{"$f":"IF($C14>=0,O$9*1.4%/6,0)","v":0},{"$f":"SUM(H14:O14)","v":0},null,{"$f":"IF($C14>0,IF(MOD($C14,5)=0,R$9*5,0),0)","v":0},0,0,0,0,0,{"$f":"-$AT14","v":0},{"$f":"IF($C14>=0,Y$9*1.4%*VLOOKUP($C14,$AO$12:$AP$212,2,0)*IF($C14<=3,0.5,1),0)","v":0},{"$f":"IF($C14>=0,Z$9*1.4%/6,0)","v":0},0,null,0,0,0,0,0,0,0,0,{"$f":"SUM(AC14:AJ14)","v":0},null,2,0.9,2,0.7,null,{"$f":"IF($C14>=0,入力!$W$35,0)","v":0},{"$f":"AS13-AR14","v":4000},{"$f":"IF(C14>=0,IF(C14<=9,IF(AS14*1%>40,40,AS14*1%),0),0)","v":0}]
["賃貸",{"$f":"住居!B8","v":26},{"$f":"住居!C8","v":-8},0,0,0,null,0,0,0,null,null,0,0,0,0,null,{"$f":"IF($C15>0,IF(MOD($C15,5)=0,R$9*5,0),0)","v":0},0,0,0,0,0,0,0,0,0,null,0,0,0,0,0,0,0,0,0,null,3,0.88,3,0.67,null,{"$f":"IF($C15>=0,入力!$W$35,0)","v":0},{"$f":"AS14-AR15","v":4000},0]
["賃貸",{"$f":"住居!B9","v":27},{"$f":"住居!C9","v":-7},0,0,0,null,0,0,0,null,null,0,0,0,0,null,{"$f":"IF($C16>0,IF(MOD($C16,5)=0,R$9*5,0),0)","v":0},0,0,0,0,0,0,0,0,0,null,0,0,0,0,0,0,0,0,0,null,4,0.86,4,0.64,null,{"$f":"IF($C16>=0,入力!$W$35,0)","v":0},4000,0]
["賃貸",{"$f":"住居!B10","v":28},{"$f":"住居!C10","v":-6},0,0,0,null,0,0,0,null,null,0,0,0,0,null,{"$f":"IF($C17>0,IF(MOD($C17,5)=0,R$9*5,0),0)","v":0},0,0,0,0,0,0,0,0,0,null,0,0,0,0,0,0,0,0,0,null,5,0.83,5,0.61,null,{"$f":"IF($C17>=0,入力!$W$35,0)","v":0},4000,0]
["賃貸",{"$f":"住居!B11","v":29},{"$f":"住居!C11","v":-5},0,0,0,null,0,0,0,null,null,0,0,0,0,null,0,0,0,0,0,0,0,0,0,0,null,0,0,0,0,0,0,0,0,0,null,6,0.81,6,0.57999999999999996,null,{"$f":"IF($C18>=0,入力!$W$35,0)","v":0},4000,0]
["賃貸",{"$f":"住居!B12","v":30},{"$f":"住居!C12","v":-4},0,0,0,null,0,0,0,null,null,0,0,0,0,null,0,0,0,0,0,0,0,0,0,0,null,0,0,0,0,0,0,0,0,0,null,7,0.79,7,0.55000000000000004,null,{"$f":"IF($C19>=0,入力!$W$35,0)","v":0},4000,0]
["賃貸",{"$f":"住居!B13","v":31},{"$f":"住居!C13","v":-3},0,0,0,null,0,0,0,null,null,0,0,0,0,null,0,0,0,0,0,0,0,0,0,0,null,0,0,0,0,0,0,0,0,0,null,8,0.76,8,0.52,null,{"$f":"IF($C20>=0,入力!$W$35,0)","v":0},4000,0]
["賃貸",{"$f":"住居!B14","v":32},{"$f":"住居!C14","v":-2},0,0,0,null,0,0,0,null,null,0,0,0,0,null,0,0,0,0,0,0,0,0,0,0,null,0,0,0,0,0,0,0,0,0,null,9,0.74,9,0.49,null,{"$f":"IF($C21>=0,入力!$W$35,0)","v":0},4000,0]
["賃貸",{"$f":"住居!B15","v":33},{"$f":"住居!C15","v":-1},0,0,0,null,0,0,0,null,null,0,0,0,0,null,0,0,0,0,0,0,0,0,0,0,null,0,0,0,0,0,0,0,0,0,null,10,0.72,10,0.46,null,{"$f":"IF($C22>=0,入力!$W$35,0)","v":0},4000,0]
["マンション",{"$f":"住居!B16","v":34},{"$f":"住居!C16","v":0},2.4064113548962407,2.4064113548962407,-33.118761978437092,null,18,14.399999999999999,0,null,null,-38.645028645103757,7.2038399999999996,1.4475999999999996,2.4064113548962407,null,0,0,0,0,0,0,-38.645028645103757,2.5871999999999993,2.9390666666666654,-33.118761978437092,null,2.0670391061452515,3.6592178770949721,0,{"$f":"IF($C23>=0,AF$5,0)","v":2.9888268156424584},1.4245810055865924,0.83798882681564257,1.8156424581005588,1.3128491620111733,14.106145251396651,null,11,0.69,11,0.44,null,{"$f":"IF($C23>=0,入力!$W$35,0)","v":135.4971354896243},3864.5028645103757,38.645028645103757]
["マンション",{"$f":"住居!B17","v":35},{"$f":"住居!C17","v":1},3.5362627097924841,3.5362627097924841,-31.925490623540849,null,18,14.399999999999999,0,null,null,-37.290057290207514,6.97872,1.4475999999999996,3.5362627097924841,null,0,0,0,0,0,0,-37.290057290207514,2.4254999999999995,2.9390666666666654,-31.925490623540849,null,2.0670391061452515,3.6592178770949721,0,2.9888268156424584,1.4245810055865924,0.83798882681564257,1.8156424581005588,1.3128491620111733,14.106145251396651,null,12,0.67,12,0.41,null,{"$f":"IF($C24>=0,入力!$W$35,0)","v":135.4971354896243},3729.0057290207515,37.290057290207514]
["マンション",{"$f":"住居!B18","v":36},{"$f":"住居!C18","v":2},4.6661140646887267,4.6661140646887267,-30.732219268644609,null,18,14.399999999999999,0,null,null,-35.935085935311271,6.7535999999999996,1.4475999999999996,4.6661140646887267,null,0,0,0,0,0,0,-35.935085935311271,2.2637999999999994,2.9390666666666654,-30.732219268644609,null,2.0670391061452515,3.6592178770949721,0,2.9888268156424584,1.4245810055865924,0.83798882681564257,1.8156424581005588,1.3128491620111733,14.106145251396651,null,13,0.65,13,0.38,null,{"$f":"IF($C25>=0,入力!$W$35,0)","v":135.4971354896243},3593.5085935311272,35.935085935311271]
["マンション",{"$f":"住居!B19","v":37},{"$f":"住居!C19","v":3},5.8710054195849697,5.8710054195849697,-29.47426791374836,null,18,14.399999999999999,0,null,null,-34.580114580415028,6.6035199999999996,1.4475999999999996,5.8710054195849697,null,0,0,0,0,0,0,-34.580114580415028,2.1667799999999997,2.9390666666666654,-29.47426791374836,null,2.0670391061452515,3.6592178770949721,0,2.9888268156424584,1.4245810055865924,0.83798882681564257,1.8156424581005588,1.3128491620111733,14.106145251396651,null,14,0.62,14,0.35,null,{"$f":"IF($C26>=0,入力!$W$35,0)","v":135.4971354896243},3458.0114580415029,34.580114580415028]
["マンション",{"$f":"住居!B20","v":38},{"$f":"住居!C20","v":4},7.0758967744812127,7.0758967744812127,-26.146556558852122,null,18,14.399999999999999,0,null,null,-33.225143225518785,6.4534399999999996,1.4475999999999996,7.0758967744812127,null,0,0,0,0,0,0,-33.225143225518785,4.1395199999999992,2.9390666666666654,-26.146556558852122,null,2.0670391061452515,3.6592178770949721,0,2.9888268156424584,1.4245810055865924,0.83798882681564257,1.8156424581005588,1.3128491620111733,14.106145251396651,null,15,0.6,15,0.32,null,{"$f":"IF($C27>=0,入力!$W$35,0)","v":135.4971354896243},3322.5143225518786,33.225143225518785]
["マンション",{"$f":"住居!B21","v":39},{"$f":"住居!C21","v":5},8.2057481293774508,8.2057481293774508,66.442946224615554,null,18,14.399999999999999,0,null,null,-31.870171870622546,6.2283199999999992,1.4475999999999996,8.2057481293774508,null,40,14.285714285714286,8.5714285714285712,20,0,8.5714285714285712,-31.870171870622546,3.945479999999999,2.9390666666666654,66.442946224615554,null,2.0670391061452515,3.6592178770949721,0,2.9888268156424584,1.4245810055865924,0.83798882681564257,1.8156424581005588,1.3128491620111733,14.106145251396651,null,16,0.57999999999999996,16,0.28999999999999998,null,{"$f":"IF($C28>=0,入力!$W$35,0)","v":135.4971354896243},3187.0171870622544,31.870171870622546]
["マンション",{"$f":"住居!B22","v":40},{"$f":"住居!C22","v":6},15.488879484273696,15.488879484273696,-23.824693849059638,null,18,14.399999999999999,0,null,null,-30.515200515726303,12.15648,1.4475999999999996,15.488879484273696,null,0,0,0,0,0,0,-30.515200515726303,3.7514399999999988,2.9390666666666654,-23.824693849059638,null,2.0670391061452515,3.6592178770949721,0,2.9888268156424584,1.4245810055865924,0.83798882681564257,1.8156424581005588,1.3128491620111733,14.106145251396651,null,17,0.55000000000000004,17,0.26,null,{"$f":"IF($C29>=0,入力!$W$35,0)","v":135.4971354896243},3051.5200515726301,30.515200515726303]
["マンション",{"$f":"住居!B23","v":41},{"$f":"住居!C23","v":7},16.54369083916994,16.54369083916994,-22.663762494163397,null,18,14.399999999999999,0,null,null,-29.16022916083006,11.85632,1.4475999999999996,16.54369083916994,null,0,0,0,0,0,0,-29.16022916083006,3.5573999999999995,2.9390666666666654,-22.663762494163397,null,2.0670391061452515,3.6592178770949721,0,2.9888268156424584,1.4245810055865924,0.83798882681564257,1.8156424581005588,1.3128491620111733,14.106145251396651,null,18,0.53,18,0.23,null,{"$f":"IF($C30>=0,入力!$W$35,0)","v":135.4971354896243},2916.0229160830058,29.16022916083006]
["マンション",{"$f":"住居!B24","v":42},{"$f":"住居!C24","v":8},17.448422194066183,17.448422194066183,-21.502831139267151,null,18,14.399999999999999,0,null,null,-27.805257805933817,11.406079999999999,1.4475999999999996,17.448422194066183,null,{"$f":"IF($C31>0,IF(MOD($C31,5)=0,R$9*5,0),0)","v":0},0,0,0,0,0,-27.805257805933817,3.3633599999999992,2.9390666666666654,-21.502831139267151,null,2.0670391061452515,3.6592178770949721,0,2.9888268156424584,1.4245810055865924,0.83798882681564257,1.8156424581005588,1.3128491620111733,14.106145251396651,null,19,0.5,19,0.2,null,{"$f":"IF($C31>=0,入力!$W$35,0)","v":135.4971354896243},2780.5257805933816,27.805257805933817]
["マンション",{"$f":"住居!B25","v":43},{"$f":"住居!C25","v":9},18.503233548962427,18.503233548962427,-20.341899784370909,null,18,14.399999999999999,0,null,null,-26.450286451037574,11.105919999999999,1.4475999999999996,18.503233548962427,null,0,0,0,0,0,0,-26.450286451037574,3.169319999999999,2.9390666666666654,-20.341899784370909,null,2.0670391061452515,3.6592178770949721,0,2.9888268156424584,1.4245810055865924,0.83798882681564257,1.8156424581005588,1.3128491620111733,14.106145251396651,null,20,0.48,20,0.2,null,{"$f":"IF($C32>=0,入力!$W$35,0)","v":135.4971354896243},2645.0286451037573,26.450286451037574]
["マンション",{"$f":"住居!B26","v":44},{"$f":"住居!C26","v":10},44.653359999999999,44.653359999999999,97.34291809523809,null,18,14.399999999999999,0,null,null,0,10.805759999999999,1.4475999999999996,44.653359999999999,null,40,14.285714285714286,8.5714285714285712,20,0,8.5714285714285712,0,2.9752799999999993,2.9390666666666654,97.34291809523809,null,{"$f":"IF($C33>=0,AC$5,0)","v":2.0670391061452515},3.6592178770949721,0,{"$f":"IF($C33>=0,AF$5,0)","v":2.9888268156424584},1.4245810055865924,0.83798882681564257,1.8156424581005588,1.3128491620111733,14.106145251396651,null,21,0.46,21,0.2,null,{"$f":"IF($C33>=0,入力!$W$35,0)","v":135.4971354896243},2509.531509614133,0]
["マンション",{"$f":"住居!B27","v":45},{"$f":"住居!C27","v":11},44.203119999999998,44.203119999999998,5.7849866666666649,null,{"$f":"IF($C34>=0,H$9,0)","v":18},14.399999999999999,0,null,null,0,10.355519999999999,1.4475999999999996,44.203119999999998,null,0,0,0,0,0,0,0,2.8459199999999991,2.9390666666666654,5.7849866666666649,null,2.0670391061452515,3.6592178770949721,0,2.9888268156424584,1.4245810055865924,0.83798882681564257,1.8156424581005588,1.3128491620111733,14.106145251396651,null,22,0.44,22,0.2,null,{"$f":"IF($C34>=0,入力!$W$35,0)","v":135.4971354896243},2374.0343741245088,0]
["マンション",{"$f":"住居!B28","v":46},{"$f":"住居!C28","v":12},43.90296,43.90296,5.5909466666666638,null,18,14.399999999999999,0,null,null,0,10.05536,1.4475999999999996,43.90296,null,0,0,0,0,0,0,0,2.6518799999999989,2.9390666666666654,5.5909466666666638,null,2.0670391061452515,3.6592178770949721,0,2.9888268156424584,1.4245810055865924,0.83798882681564257,1.8156424581005588,1.3128491620111733,14.106145251396651,null,23,0.42,23,0.2,null,{"$f":"IF($C35>=0,入力!$W$35,0)","v":135.4971354896243},2238.5372386348845,0]
["マンション",{"$f":"住居!B29","v":47},{"$f":"住居!C29","v":13},43.602800000000002,43.602800000000002,5.3969066666666645,null,18,14.399999999999999,0,null,null,0,9.7552000000000003,1.4475999999999996,43.602800000000002,null,0,0,0,0,0,0,0,2.4578399999999991,2.9390666666666654,5.3969066666666645,null,2.0670391061452515,3.6592178770949721,0,2.9888268156424584,1.4245810055865924,0.83798882681564257,1.8156424581005588,1.3128491620111733,14.106145251396651,null,24,0.4,24,0.2,null,{"$f":"IF($C36>=0,入力!$W$35,0)","v":135.4971354896243},2103.0401031452602,0]
["マンション",{"$f":"住居!B30","v":48},{"$f":"住居!C30","v":14},43.152560000000001,43.152560000000001,5.2028666666666652,null,18,14.399999999999999,0,null,null,0,9.3049599999999995,1.4475999999999996,43.152560000000001,null,0,0,0,0,0,0,0,2.2637999999999994,2.9390666666666654,5.2028666666666652,null,2.0670391061452515,3.6592178770949721,0,2.9888268156424584,1.4245810055865924,0.83798882681564257,1.8156424581005588,1.3128491620111733,14.106145251396651,null,25,0.38,25,0.2,null,{"$f":"IF($C37>=0,入力!$W$35,0)","v":135.4971354896243},1967.5429676556359,0]
["マンション",{"$f":"住居!B31","v":49},{"$f":"住居!C31","v":15},42.852399999999996,42.852399999999996,96.437398095238095,null,18,14.399999999999999,0,null,null,0,9.0047999999999995,1.4475999999999996,42.852399999999996,null,40,14.285714285714286,8.5714285714285712,20,0,8.5714285714285712,0,2.0697599999999996,2.9390666666666654,96.437398095238095,null,2.0670391061452515,3.6592178770949721,0,2.9888268156424584,1.4245810055865924,0.83798882681564257,1.8156424581005588,1.3128491620111733,14.106145251396651,null,26,0.36,26,0.2,null,{"$f":"IF($C38>=0,入力!$W$35,0)","v":135.4971354896243},1832.0458321660117,0]
["マンション",{"$f":"住居!B32","v":50},{"$f":"住居!C32","v":16},42.552239999999998,42.552239999999998,4.8147866666666648,null,18,14.399999999999999,0,null,null,0,8.7046399999999995,1.4475999999999996,42.552239999999998,null,0,0,0,0,0,0,0,1.8757199999999994,2.9390666666666654,4.8147866666666648,null,2.0670391061452515,3.6592178770949721,0,2.9888268156424584,1.4245810055865924,0.83798882681564257,1.8156424581005588,1.3128491620111733,14.106145251396651,null,27,0.34,27,0.2,null,{"$f":"IF($C39>=0,入力!$W$35,0)","v":135.4971354896243},1696.5486966763874,0]
["マンション",{"$f":"住居!B33","v":51},{"$f":"住居!C33","v":17},42.101999999999997,42.101999999999997,4.6207466666666654,null,18,14.399999999999999,0,null,null,0,8.2544000000000004,1.4475999999999996,42.101999999999997,null,0,0,0,0,0,0,0,1.6816799999999996,2.9390666666666654,4.6207466666666654,null,2.0670391061452515,3.6592178770949721,0,2.9888268156424584,1.4245810055865924,0.83798882681564257,1.8156424581005588,1.3128491620111733,14.106145251396651,null,28,0.32,28,0.2,null,{"$f":"IF($C40>=0,入力!$W$35,0)","v":135.4971354896243},1561.0515611867631,0]
["マンション",{"$f":"住居!B34","v":52},{"$f":"住居!C34","v":18},41.801839999999999,41.801839999999999,4.4267066666666652,null,18,14.399999999999999,0,null,null,0,7.9542399999999995,1.4475999999999996,41.801839999999999,null,0,0,0,0,0,0,0,1.4876399999999996,2.9390666666666654,4.4267066666666652,null,2.0670391061452515,3.6592178770949721,0,2.9888268156424584,1.4245810055865924,0.83798882681564257,1.8156424581005588,1.3128491620111733,14.106145251396651,null,29,0.31,29,0.2,null,{"$f":"IF($C41>=0,入力!$W$35,0)","v":135.4971354896243},1425.5544256971389,0]
["マンション",{"$f":"住居!B35","v":53},{"$f":"住居!C35","v":19},41.351599999999998,41.351599999999998,4.232666666666665,null,18,14.399999999999999,0,null,null,0,7.5039999999999996,1.4475999999999996,41.351599999999998,null,0,0,0,0,0,0,0,1.2935999999999996,2.9390666666666654,4.232666666666665,null,2.0670391061452515,3.6592178770949721,0,2.9888268156424584,1.4245810055865924,0.83798882681564257,1.8156424581005588,1.3128491620111733,14.106145251396651,null,30,0.28999999999999998,30,0.2,null,{"$f":"IF($C42>=0,入力!$W$35,0)","v":135.4971354896243},1290.0572902075146,0]
["マンション",{"$f":"住居!B36","v":54},{"$f":"住居!C36","v":20},41.051439999999999,41.051439999999999,95.66123809523809,null,18,14.399999999999999,0,null,null,0,7.2038399999999996,1.4475999999999996,41.051439999999999,null,40,14.285714285714286,8.5714285714285712,20,0,8.5714285714285712,0,1.2935999999999996,2.9390666666666654,95.66123809523809,null,2.0670391061452515,3.6592178770949721,0,{"$f":"IF($C43>=0,AF$5,0)","v":2.9888268156424584},1.4245810055865924,0.83798882681564257,1.8156424581005588,1.3128491620111733,14.106145251396651,null,31,0.28000000000000003,31,0.2,null,{"$f":"IF($C43>=0,入力!$W$35,0)","v":135.4971354896243},1154.5601547178903,0]
["マンション",{"$f":"住居!B37","v":55},{"$f":"住居!C37","v":21},40.751280000000001,40.751280000000001,4.232666666666665,null,18,14.399999999999999,0,null,null,0,6.9036799999999996,1.4475999999999996,40.751280000000001,null,0,0,0,0,0,0,0,1.2935999999999996,2.9390666666666654,4.232666666666665,null,2.0670391061452515,3.6592178770949721,0,2.9888268156424584,1.4245810055865924,0.83798882681564257,1.8156424581005588,1.3128491620111733,14.106145251396651,null,32,0.26,32,0.2,null,{"$f":"IF($C44>=0,入力!$W$35,0)","v":135.4971354896243},1019.0630192282661,0]
["マンション",{"$f":"住居!B38","v":56},{"$f":"住居!C38","v":22},40.451119999999996,40.451119999999996,4.232666666666665,null,18,14.399999999999999,0,null,null,0,6.6035199999999996,1.4475999999999996,40.451119999999996,null,0,0,0,0,0,0,0,1.2935999999999996,2.9390666666666654,{"$f":"SUM(R45:Z45)","v":4.232666666666665},null,2.0670391061452515,3.6592178770949721,{"$f":"IF($C45>=0,AE$9,0)","v":0},2.9888268156424584,1.4245810055865924,0.83798882681564257,1.8156424581005588,1.3128491620111733,14.106145251396651,null,33,0.25,33,0.2,null,{"$f":"IF($C45>=0,入力!$W$35,0)","v":135.4971354896243},883.56588373864179,0]
["マンション",{"$f":"住居!B39","v":57},{"$f":"住居!C39","v":23},40.150959999999998,40.150959999999998,4.232666666666665,null,18,14.399999999999999,0,null,null,0,6.3033599999999996,1.4475999999999996,40.150959999999998,null,0,0,0,0,0,0,0,1.2935999999999996,2.9390666666666654,4.232666666666665,null,2.0670391061452515,3.6592178770949721,0,2.9888268156424584,1.4245810055865924,0.83798882681564257,1.8156424581005588,1.3128491620111733,14.106145251396651,null,34,0.23,34,0.2,null,{"$f":"IF($C46>=0,入力!$W$35,0)","v":135.4971354896243},748.06874824901752,0]
["マンション",{"$f":"住居!B40","v":58},{"$f":"住居!C40","v":24},39.8508,39.8508,4.232666666666665,null,18,14.399999999999999,0,null,null,0,6.0031999999999996,1.4475999999999996,39.8508,null,{"$f":"IF($C47>0,IF(MOD($C47,5)=0,R$9*5,0),0)","v":0},0,0,0,0,0,0,1.2935999999999996,2.9390666666666654,4.232666666666665,null,2.0670391061452515,3.6592178770949721,0,2.9888268156424584,1.4245810055865924,0.83798882681564257,1.8156424581005588,1.3128491620111733,14.106145251396651,null,35,0.23,35,0.2,null,{"$f":"IF($C47>=0,入力!$W$35,0)","v":135.4971354896243},612.57161275939325,0]
["マンション",{"$f":"住居!B41","v":59},{"$f":"住居!C41","v":25},39.550640000000001,39.550640000000001,95.66123809523809,null,18,14.399999999999999,0,null,null,0,5.7030399999999997,1.4475999999999996,39.550640000000001,null,40,14.285714285714286,8.5714285714285712,20,0,8.5714285714285712,0,1.2935999999999996,2.9390666666666654,95.66123809523809,null,2.0670391061452515,3.6592178770949721,0,2.9888268156424584,1.4245810055865924,0.83798882681564257,1.8156424581005588,1.3128491620111733,14.106145251396651,null,36,0.22,36,0.2]
["マンション",{"$f":"住居!B42","v":60},{"$f":"住居!C42","v":26},39.250480000000003,39.250480000000003,4.232666666666665,null,18,14.399999999999999,0,null,null,0,5.4028799999999997,1.4475999999999996,39.250480000000003,null,0,0,0,0,0,0,0,1.2935999999999996,2.9390666666666654,4.232666666666665,null,2.0670391061452515,3.6592178770949721,0,2.9888268156424584,1.4245810055865924,0.83798882681564257,1.8156424581005588,1.3128491620111733,14.106145251396651,null,37,0.22,37,0.2]
["マンション",{"$f":"住居!B43","v":61},{"$f":"住居!C43","v":27},38.950319999999998,38.950319999999998,4.232666666666665,null,18,14.399999999999999,0,null,null,0,5.1027199999999997,1.4475999999999996,38.950319999999998,null,0,0,0,0,0,0,0,1.2935999999999996,2.9390666666666654,4.232666666666665,null,2.0670391061452515,3.6592178770949721,0,2.9888268156424584,1.4245810055865924,0.83798882681564257,1.8156424581005588,1.3128491620111733,14.106145251396651,null,38,0.21,38,0.2]
["マンション",{"$f":"住居!B44","v":62},{"$f":"住居!C44","v":28},38.65016,38.65016,4.232666666666665,null,18,14.399999999999999,0,null,null,0,4.8025599999999997,1.4475999999999996,38.65016,null,0,0,0,0,0,0,0,1.2935999999999996,2.9390666666666654,4.232666666666665,null,2.0670391061452515,3.6592178770949721,0,2.9888268156424584,1.4245810055865924,0.83798882681564257,1.8156424581005588,1.3128491620111733,14.106145251396651,null,39,0.21,39,0.2]
["マンション",{"$f":"住居!B45","v":63},{"$f":"住居!C45","v":29},38.500079999999997,38.500079999999997,4.232666666666665,null,18,14.399999999999999,0,null,null,0,4.6524799999999997,1.4475999999999996,38.500079999999997,null,0,0,0,0,0,0,0,1.2935999999999996,2.9390666666666654,4.232666666666665,null,2.0670391061452515,3.6592178770949721,0,2.9888268156424584,1.4245810055865924,0.83798882681564257,1.8156424581005588,1.3128491620111733,14.106145251396651,null,40,0.20699999999999999,40,0.2]
["マンション",{"$f":"住居!B46","v":64},{"$f":"住居!C46","v":30},38.199919999999999,38.199919999999999,95.66123809523809,null,18,14.399999999999999,0,null,null,0,4.3523199999999997,1.4475999999999996,38.199919999999999,null,40,14.285714285714286,8.5714285714285712,20,0,8.5714285714285712,0,1.2935999999999996,2.9390666666666654,95.66123809523809,null,{"$f":"IF($C53>=0,AC$5,0)","v":2.0670391061452515},3.6592178770949721,0,{"$f":"IF($C53>=0,AF$5,0)","v":2.9888268156424584},1.4245810055865924,0.83798882681564257,1.8156424581005588,1.3128491620111733,14.106145251396651,null,41,0.20530000000000001,41,0.2]
["マンション",{"$f":"住居!B47","v":65},{"$f":"住居!C47","v":31},38.049839999999996,38.049839999999996,4.232666666666665,null,{"$f":"IF($C54>=0,H$9,0)","v":18},14.399999999999999,0,null,null,0,4.2022399999999998,1.4475999999999996,38.049839999999996,null,0,0,0,0,0,0,0,1.2935999999999996,2.9390666666666654,4.232666666666665,null,2.0670391061452515,3.6592178770949721,0,2.9888268156424584,1.4245810055865924,0.83798882681564257,1.8156424581005588,1.3128491620111733,14.106145251396651,null,42,0.2036,42,0.2]
["マンション",{"$f":"住居!B48","v":66},{"$f":"住居!C48","v":32},37.749679999999998,37.749679999999998,4.232666666666665,null,18,14.399999999999999,0,null,null,0,3.9020799999999998,1.4475999999999996,37.749679999999998,null,0,0,0,0,0,0,0,1.2935999999999996,2.9390666666666654,4.232666666666665,null,2.0670391061452515,3.6592178770949721,0,2.9888268156424584,1.4245810055865924,0.83798882681564257,1.8156424581005588,1.3128491620111733,14.106145251396651,null,43,0.20180000000000001,43,0.2]
["マンション",{"$f":"住居!B49","v":67},{"$f":"住居!C49","v":33},37.599600000000002,37.599600000000002,4.232666666666665,null,18,14.399999999999999,0,null,null,0,3.7519999999999998,1.4475999999999996,37.599600000000002,null,0,0,0,0,0,0,0,1.2935999999999996,2.9390666666666654,4.232666666666665,null,2.0670391061452515,3.6592178770949721,0,2.9888268156424584,1.4245810055865924,0.83798882681564257,1.8156424581005588,1.3128491620111733,14.106145251396651,null,44,0.2,44,0.2]
["マンション",{"$f":"住居!B50","v":68},{"$f":"住居!C50","v":34},37.299439999999997,37.299439999999997,4.232666666666665,null,18,14.399999999999999,0,null,null,0,3.4518399999999998,1.4475999999999996,37.299439999999997,null,0,0,0,0,0,0,0,1.2935999999999996,2.9390666666666654,4.232666666666665,null,2.0670391061452515,3.6592178770949721,0,2.9888268156424584,1.4245810055865924,0.83798882681564257,1.8156424581005588,1.3128491620111733,14.106145251396651,null,45,{"$f":"AN56","v":0.2},45,0.2]
["マンション",{"$f":"住居!B51","v":69},{"$f":"住居!C51","v":35},37.299439999999997,37.299439999999997,95.66123809523809,null,18,14.399999999999999,0,null,null,0,3.4518399999999998,1.4475999999999996,37.299439999999997,null,40,14.285714285714286,8.5714285714285712,20,0,8.5714285714285712,0,1.2935999999999996,2.9390666666666654,95.66123809523809,null,2.0670391061452515,3.6592178770949721,0,2.9888268156424584,1.4245810055865924,0.83798882681564257,1.8156424581005588,1.3128491620111733,14.106145251396651,null,46,0.2,46,0.2]
["マンション",{"$f":"住居!B52","v":70},{"$f":"住居!C52","v":36},37.149360000000001,37.149360000000001,4.232666666666665,null,18,14.399999999999999,0,null,null,0,3.3017599999999998,1.4475999999999996,37.149360000000001,null,0,0,0,0,0,0,0,1.2935999999999996,2.9390666666666654,4.232666666666665,null,2.0670391061452515,3.6592178770949721,0,2.9888268156424584,1.4245810055865924,0.83798882681564257,1.8156424581005588,1.3128491620111733,14.106145251396651,null,47,0.2,47,0.2]
["マンション",{"$f":"住居!B53","v":71},{"$f":"住居!C53","v":37},37.149360000000001,37.149360000000001,4.232666666666665,null,18,14.399999999999999,0,null,null,0,3.3017599999999998,1.4475999999999996,37.149360000000001,null,0,0,0,0,0,0,0,1.2935999999999996,2.9390666666666654,4.232666666666665,null,2.0670391061452515,3.6592178770949721,0,2.9888268156424584,1.4245810055865924,0.83798882681564257,1.8156424581005588,1.3128491620111733,14.106145251396651,null,48,0.2,48,0.2]
["マンション",{"$f":"住居!B54","v":72},{"$f":"住居!C54","v":38},36.999279999999999,36.999279999999999,4.232666666666665,null,18,14.399999999999999,0,null,null,0,3.1516799999999998,1.4475999999999996,36.999279999999999,null,0,0,0,0,0,0,0,1.2935999999999996,2.9390666666666654,4.232666666666665,null,2.0670391061452515,3.6592178770949721,0,2.9888268156424584,1.4245810055865924,0.83798882681564257,1.8156424581005588,1.3128491620111733,14.106145251396651,null,49,0.2,49,0.2]
["マンション",{"$f":"住居!B55","v":73},{"$f":"住居!C55","v":39},36.999279999999999,36.999279999999999,4.232666666666665,null,18,14.399999999999999,0,null,null,0,3.1516799999999998,1.4475999999999996,36.999279999999999,null,0,0,0,0,0,0,0,1.2935999999999996,2.9390666666666654,4.232666666666665,null,2.0670391061452515,3.6592178770949721,0,2.9888268156424584,1.4245810055865924,0.83798882681564257,1.8156424581005588,1.3128491620111733,14.106145251396651,null,50,0.2,50,0.2]
["マンション",{"$f":"住居!B56","v":74},{"$f":"住居!C56","v":40},36.954256000000001,36.954256000000001,95.66123809523809,null,18,14.399999999999999,0,null,null,0,3.1066559999999996,1.4475999999999996,36.954256000000001,null,{"$f":"IF($C63>0,IF(MOD($C63,5)=0,R$9*5,0),0)","v":40},14.285714285714286,8.5714285714285712,20,0,8.5714285714285712,0,1.2935999999999996,2.9390666666666654,95.66123809523809,null,2.0670391061452515,3.6592178770949721,0,{"$f":"IF($C63>=0,AF$5,0)","v":2.9888268156424584},1.4245810055865924,0.83798882681564257,1.8156424581005588,1.3128491620111733,14.106145251396651,null,51,0.2,51,0.2]
["マンション",{"$f":"住居!B57","v":75},{"$f":"住居!C57","v":41},36.928742399999997,36.928742399999997,4.232666666666665,null,18,14.399999999999999,0,null,null,0,3.0811424000000001,1.4475999999999996,36.928742399999997,null,0,0,0,0,0,0,0,1.2935999999999996,2.9390666666666654,4.232666666666665,null,2.0670391061452515,3.6592178770949721,0,2.9888268156424584,1.4245810055865924,0.83798882681564257,1.8156424581005588,1.3128491620111733,14.106145251396651,null,52,0.2,52,0.2]
["マンション",{"$f":"住居!B58","v":76},{"$f":"住居!C58","v":42},36.903228800000001,36.903228800000001,4.232666666666665,null,18,14.399999999999999,0,null,null,0,3.0556288,1.4475999999999996,36.903228800000001,null,0,0,0,0,0,0,0,1.2935999999999996,2.9390666666666654,4.232666666666665,null,2.0670391061452515,3.6592178770949721,0,2.9888268156424584,1.4245810055865924,0.83798882681564257,1.8156424581005588,1.3128491620111733,14.106145251396651,null,53,0.2,53,0.2]
["マンション",{"$f":"住居!B59","v":77},{"$f":"住居!C59","v":43},36.876214400000002,36.876214400000002,4.232666666666665,null,18,14.399999999999999,0,null,null,0,3.0286143999999999,1.4475999999999996,36.876214400000002,null,0,0,0,0,0,0,0,1.2935999999999996,2.9390666666666654,4.232666666666665,null,2.0670391061452515,3.6592178770949721,0,2.9888268156424584,1.4245810055865924,0.83798882681564257,1.8156424581005588,1.3128491620111733,14.106145251396651,null,54,0.2,54,0.2]
["マンション",{"$f":"住居!B60","v":78},{"$f":"住居!C60","v":44},36.849200000000003,36.849200000000003,4.232666666666665,null,18,14.399999999999999,0,null,null,0,3.0015999999999998,1.4475999999999996,36.849200000000003,null,0,0,0,0,0,0,0,1.2935999999999996,2.9390666666666654,4.232666666666665,null,2.0670391061452515,3.6592178770949721,0,2.9888268156424584,1.4245810055865924,0.83798882681564257,1.8156424581005588,1.3128491620111733,14.106145251396651,null,55,0.2,55,0.2]
["マンション",{"$f":"住居!B61","v":79},{"$f":"住居!C61","v":45},36.849200000000003,36.849200000000003,95.66123809523809,null,18,14.399999999999999,0,null,null,0,3.0015999999999998,1.4475999999999996,36.849200000000003,null,40,14.285714285714286,8.5714285714285712,20,0,8.5714285714285712,0,1.2935999999999996,2.9390666666666654,95.66123809523809,null,2.0670391061452515,3.6592178770949721,0,2.9888268156424584,1.4245810055865924,0.83798882681564257,1.8156424581005588,1.3128491620111733,14.106145251396651,null,56,0.2,56,0.2]
["マンション",{"$f":"住居!B62","v":80},{"$f":"住居!C62","v":46},36.849200000000003,36.849200000000003,4.232666666666665,null,18,14.399999999999999,0,null,null,0,3.0015999999999998,1.4475999999999996,36.849200000000003,null,0,0,0,0,0,0,0,1.2935999999999996,2.9390666666666654,4.232666666666665,null,2.0670391061452515,3.6592178770949721,0,2.9888268156424584,1.4245810055865924,0.83798882681564257,1.8156424581005588,1.3128491620111733,14.106145251396651,null,57,0.2,57,0.2]
["マンション",{"$f":"住居!B63","v":81},{"$f":"住居!C63","v":47},36.849200000000003,36.849200000000003,4.232666666666665,null,18,14.399999999999999,0,null,null,0,3.0015999999999998,1.4475999999999996,36.849200000000003,null,0,0,0,0,0,0,0,1.2935999999999996,2.9390666666666654,4.232666666666665,null,2.0670391061452515,3.6592178770949721,0,2.9888268156424584,1.4245810055865924,0.83798882681564257,1.8156424581005588,1.3128491620111733,14.106145251396651,null,58,0.2,58,0.2]
["マンション",{"$f":"住居!B64","v":82},{"$f":"住居!C64","v":48},36.849200000000003,36.849200000000003,4.232666666666665,null,18,14.399999999999999,0,null,null,0,3.0015999999999998,1.4475999999999996,36.849200000000003,null,0,0,0,0,0,0,0,1.2935999999999996,2.9390666666666654,4.232666666666665,null,2.0670391061452515,3.6592178770949721,0,2.9888268156424584,1.4245810055865924,0.83798882681564257,1.8156424581005588,1.3128491620111733,14.106145251396651,null,59,0.2,59,0.2]
["マンション",{"$f":"住居!B65","v":83},{"$f":"住居!C65","v":49},36.849200000000003,36.849200000000003,4.232666666666665,null,18,14.399999999999999,0,null,null,0,3.0015999999999998,1.4475999999999996,36.849200000000003,null,0,0,0,0,0,0,0,1.2935999999999996,2.9390666666666654,4.232666666666665,null,2.0670391061452515,3.6592178770949721,0,2.9888268156424584,1.4245810055865924,0.83798882681564257,1.8156424581005588,1.3128491620111733,14.106145251396651,null,60,0.2,60,0.2]
["マンション",{"$f":"住居!B66","v":84},{"$f":"住居!C66","v":50},36.849200000000003,36.849200000000003,95.66123809523809,null,18,14.399999999999999,0,null,null,0,3.0015999999999998,1.4475999999999996,36.849200000000003,null,40,14.285714285714286,8.5714285714285712,20,0,8.5714285714285712,0,1.2935999999999996,2.9390666666666654,95.66123809523809,null,2.0670391061452515,3.6592178770949721,0,2.9888268156424584,1.4245810055865924,0.83798882681564257,1.8156424581005588,1.3128491620111733,14.106145251396651,null,61,0.2,61,0.2]
["マンション",{"$f":"住居!B67","v":85},{"$f":"住居!C67","v":51},36.849200000000003,36.849200000000003,4.232666666666665,null,18,14.399999999999999,0,null,null,0,3.0015999999999998,1.4475999999999996,36.849200000000003,null,0,0,0,0,0,0,0,1.2935999999999996,2.9390666666666654,4.232666666666665,null,2.0670391061452515,3.6592178770949721,0,2.9888268156424584,1.4245810055865924,0.83798882681564257,1.8156424581005588,1.3128491620111733,14.106145251396651,null,62,0.2,62,0.2]
["マンション",{"$f":"住居!B68","v":86},{"$f":"住居!C68","v":52},36.849200000000003,36.849200000000003,4.232666666666665,null,18,14.399999999999999,0,null,null,0,3.0015999999999998,1.4475999999999996,36.849200000000003,null,0,0,0,0,0,0,0,1.2935999999999996,2.9390666666666654,4.232666666666665,null,2.0670391061452515,3.6592178770949721,0,2.9888268156424584,1.4245810055865924,0.83798882681564257,1.8156424581005588,1.3128491620111733,14.106145251396651,null,63,0.2,63,0.2]
["マンション",{"$f":"住居!B69","v":87},{"$f":"住居!C69","v":53},36.849200000000003,36.849200000000003,4.232666666666665,null,18,14.399999999999999,0,null,null,0,3.0015999999999998,1.4475999999999996,36.849200000000003,null,0,0,0,0,0,0,0,1.2935999999999996,2.9390666666666654,4.232666666666665,null,2.0670391061452515,3.6592178770949721,0,2.9888268156424584,1.4245810055865924,0.83798882681564257,1.8156424581005588,1.3128491620111733,14.106145251396651,null,64,0.2,64,0.2]
["マンション",{"$f":"住居!B70","v":88},{"$f":"住居!C70","v":54},36.849200000000003,36.849200000000003,4.232666666666665,null,18,14.399999999999999,0,null,null,0,3.0015999999999998,1.4475999999999996,36.849200000000003,null,0,0,0,0,0,0,0,1.2935999999999996,2.9390666666666654,{"$f":"SUM(R77:Z77)","v":4.232666666666665},null,2.0670391061452515,3.6592178770949721,0,2.9888268156424584,1.4245810055865924,0.83798882681564257,1.8156424581005588,1.3128491620111733,14.106145251396651,null,65,0.2,65,0.2]
[null,null,null,null,null,null,null,null,null,null,null,null,null,null,null,null,null,null,null,null,null,null,null,null,null,null,null,null,null,null,null,null,null,null,null,null,null,null,66,0.2,66,0.2]
[null,null,null,null,null,null,null,null,null,null,null,null,null,null,null,null,null,null,null,null,null,null,null,null,null,null,null,null,null,null,null,null,null,null,null,null,null,null,67,0.2,67,0.2]
[null,null,null,null,null,null,null,null,null,null,null,null,null,null,null,null,null,null,null,null,null,null,null,null,null,null,null,null,null,null,null,null,null,null,null,null,null,null,68,0.2,68,0.2]
[null,null,null,null,null,null,null,null,null,null,null,null,null,null,null,null,null,null,null,null,null,null,null,null,null,null,null,null,null,null,null,null,null,null,null,null,null,null,69,0.2,69,0.2]
[null,null,null,null,null,null,null,null,null,null,null,null,null,null,null,null,null,null,null,null,null,null,null,null,null,null,null,null,null,null,null,null,null,null,null,null,null,null,70,0.2,70,0.2]
[null,null,null,null,null,null,null,null,null,null,null,null,null,null,null,null,null,null,null,null,null,null,null,null,null,null,null,null,null,null,null,null,null,null,null,null,null,null,71,0.2,71,0.2]
[null,null,null,null,null,null,null,null,null,null,null,null,null,null,null,null,null,null,null,null,null,null,null,null,null,null,null,null,null,null,null,null,null,null,null,null,null,null,72,0.2,72,0.2]
[null,null,null,null,null,null,null,null,null,null,null,null,null,null,null,null,null,null,null,null,null,null,null,null,null,null,null,null,null,null,null,null,null,null,null,null,null,null,73,0.2,73,0.2]
[null,null,null,null,null,null,null,null,null,null,null,null,null,null,null,null,null,null,null,null,null,null,null,null,null,null,null,null,null,null,null,null,null,null,null,null,null,null,74,0.2,74,0.2]
[null,null,null,null,null,null,null,{"$f":"SUM(H13:H86)","v":990},791.9999999999992,0,0,0,-325.47657548070669,318.43524159999993,null,{"$f":"SUM(P13:P86)","v":1854.5766661192943},null,{"$f":"SUM(R13:R86)","v":400},142.85714285714286,85.714285714285708,200,0,85.714285714285708,{"$f":"SUM(X13:X86)","v":-325.47657548070669},{"$f":"SUM(Y13:Y86)","v":98.248919999999913},null,{"$f":"SUM(AA13:AA86)","v":848.70672547167408},null,{"$f":"SUM(AC13:AC86)","v":113.68715083798868},201.25698324022326,0,164.38547486033511,78.351955307262472,46.089385474860293,99.86033519553061,72.206703910614593,775.8379888268164,null,75,0.2,75,0.2]
[null,null,null,null,null,null,null,null,null,null,null,null,null,null,null,null,null,null,null,null,null,null,null,null,null,null,null,null,null,null,null,null,null,null,null,null,null,null,76,0.2,76,0.2]
[null,null,null,null,null,null,null,null,null,null,null,null,null,null,null,null,null,null,null,null,null,null,null,null,null,null,null,null,null,null,null,null,null,null,null,null,null,null,77,0.2,77,0.2]
[null,null,null,null,null,null,null,null,null,null,null,null,null,null,null,null,null,null,null,null,null,null,null,null,null,null,null,null,null,null,null,null,null,null,null,null,null,null,78,0.2,78,0.2]
[null,null,null,null,null,null,null,null,null,null,null,null,null,null,null,null,null,null,null,null,null,null,null,null,null,null,null,null,null,null,null,null,null,null,null,null,null,null,79,0.2,79,0.2]
[null,null,null,null,null,null,null,null,null,null,null,null,null,null,null,null,null,null,null,null,null,null,null,null,null,null,null,null,null,null,null,null,null,null,null,null,null,null,80,0.2,80,0.2]
[null,null,null,null,null,null,null,null,null,null,null,null,null,null,null,null,null,null,null,null,null,null,null,null,null,null,null,null,null,null,null,null,null,null,null,null,null,null,81,0.2,81,0.2]
[null,null,null,null,null,null,null,null,null,null,null,null,null,null,null,null,null,null,null,null,null,null,null,null,null,null,null,null,null,null,null,null,null,null,null,null,null,null,82,0.2,82,0.2]
[null,null,null,null,null,null,null,null,null,null,null,null,null,null,null,null,null,null,null,null,null,null,null,null,null,null,null,null,null,null,null,null,null,null,null,null,null,null,83,0.2,83,0.2]
[null,null,null,null,null,null,null,null,null,null,null,null,null,null,null,null,null,null,null,null,null,null,null,null,null,null,null,null,null,null,null,null,null,null,null,null,null,null,84,0.2,84,0.2]
[null,null,null,null,null,null,null,null,null,null,null,null,null,null,null,null,null,null,null,null,null,null,null,null,null,null,null,null,null,null,null,null,null,null,null,null,null,null,85,0.2,85,0.2]
[null,null,null,null,null,null,null,null,null,null,null,null,null,null,null,null,null,null,null,null,null,null,null,null,null,null,null,null,null,null,null,null,null,null,null,null,null,null,86,0.2,86,0.2]
[null,null,null,null,null,null,null,null,null,null,null,null,null,null,null,null,null,null,null,null,null,null,null,null,null,null,null,null,null,null,null,null,null,null,null,null,null,null,87,0.2,87,0.2]
[null,null,null,null,null,null,null,null,null,null,null,null,null,null,null,null,null,null,null,null,null,null,null,null,null,null,null,null,null,null,null,null,null,null,null,null,null,null,88,0.2,88,0.2]
[null,null,null,null,null,null,null,null,null,null,null,null,null,null,null,null,null,null,null,null,null,null,null,null,null,null,null,null,null,null,null,null,null,null,null,null,null,null,89,0.2,89,0.2]
[null,null,null,null,null,null,null,null,null,null,null,null,null,null,null,null,null,null,null,null,null,null,null,null,null,null,null,null,null,null,null,null,null,null,null,null,null,null,90,0.2,90,0.2]
[null,null,null,null,null,null,null,null,null,null,null,null,null,null,null,null,null,null,null,null,null,null,null,null,null,null,null,null,null,null,null,null,null,null,null,null,null,null,91,0.2,91,0.2]
[null,null,null,null,null,null,null,null,null,null,null,null,null,null,null,null,null,null,null,null,null,null,null,null,null,null,null,null,null,null,null,null,null,null,null,null,null,null,92,0.2,92,0.2]
[null,null,null,null,null,null,null,null,null,null,null,null,null,null,null,null,null,null,null,null,null,null,null,null,null,null,null,null,null,null,null,null,null,null,null,null,null,null,93,0.2,93,0.2]
[null,null,null,null,null,null,null,null,null,null,null,null,null,null,null,null,null,null,null,null,null,null,null,null,null,null,null,null,null,null,null,null,null,null,null,null,null,null,94,0.2,94,0.2]
[null,null,null,null,null,null,null,null,null,null,null,null,null,null,null,null,null,null,null,null,null,null,null,null,null,null,null,null,null,null,null,null,null,null,null,null,null,null,95,0.2,95,0.2]
[null,null,null,null,null,null,null,null,null,null,null,null,null,null,null,null,null,null,null,null,null,null,null,null,null,null,null,null,null,null,null,null,null,null,null,null,null,null,96,0.2,96,0.2]
[null,null,null,null,null,null,null,null,null,null,null,null,null,null,null,null,null,null,null,null,null,null,null,null,null,null,null,null,null,null,null,null,null,null,null,null,null,null,97,0.2,97,0.2]
[null,null,null,null,null,null,null,null,null,null,null,null,null,null,null,null,null,null,null,null,null,null,null,null,null,null,null,null,null,null,null,null,null,null,null,null,null,null,98,0.2,98,0.2]
[null,null,null,null,null,null,null,null,null,null,null,null,null,null,null,null,null,null,null,null,null,null,null,null,null,null,null,null,null,null,null,null,null,null,null,null,null,null,99,0.2,99,0.2]
[null,null,null,null,null,null,null,null,null,null,null,null,null,null,null,null,null,null,null,null,null,null,null,null,null,null,null,null,null,null,null,null,null,null,null,null,null,null,100,0.2,100,0.2]
[null,null,null,null,null,null,null,null,null,null,null,null,null,null,null,null,null,null,null,null,null,null,null,null,null,null,null,null,null,null,null,null,null,null,null,null,null,null,101,0.2,101,0.2]
[null,null,null,null,null,null,null,null,null,null,null,null,null,null,null,null,null,null,null,null,null,null,null,null,null,null,null,null,null,null,null,null,null,null,null,null,null,null,102,0.2,102,0.2]
[null,null,null,null,null,null,null,null,null,null,null,null,null,null,null,null,null,null,null,null,null,null,null,null,null,null,null,null,null,null,null,null,null,null,null,null,null,null,103,0.2,103,0.2]
[null,null,null,null,null,null,null,null,null,null,null,null,null,null,null,null,null,null,null,null,null,null,null,null,null,null,null,null,null,null,null,null,null,null,null,null,null,null,104,0.2,104,0.2]
[null,null,null,null,null,null,null,null,null,null,null,null,null,null,null,null,null,null,null,null,null,null,null,null,null,null,null,null,null,null,null,null,null,null,null,null,null,null,105,0.2,105,0.2]
[null,null,null,null,null,null,null,null,null,null,null,null,null,null,null,null,null,null,null,null,null,null,null,null,null,null,null,null,null,null,null,null,null,null,null,null,null,null,106,0.2,106,0.2]
[null,null,null,null,null,null,null,null,null,null,null,null,null,null,null,null,null,null,null,null,null,null,null,null,null,null,null,null,null,null,null,null,null,null,null,null,null,null,107,0.2,107,0.2]
[null,null,null,null,null,null,null,null,null,null,null,null,null,null,null,null,null,null,null,null,null,null,null,null,null,null,null,null,null,null,null,null,null,null,null,null,null,null,108,0.2,108,0.2]
[null,null,null,null,null,null,null,null,null,null,null,null,null,null,null,null,null,null,null,null,null,null,null,null,null,null,null,null,null,null,null,null,null,null,null,null,null,null,109,{"$f":"AN120","v":0.2},109,0.2]
[null,null,null,null,null,null,null,null,null,null,null,null,null,null,null,null,null,null,null,null,null,null,null,null,null,null,null,null,null,null,null,null,null,null,null,null,null,null,110,0.2,110,0.2]
[null,null,null,null,null,null,null,null,null,null,null,null,null,null,null,null,null,null,null,null,null,null,null,null,null,null,null,null,null,null,null,null,null,null,null,null,null,null,111,0.2,111,0.2]
[null,null,null,null,null,null,null,null,null,null,null,null,null,null,null,null,null,null,null,null,null,null,null,null,null,null,null,null,null,null,null,null,null,null,null,null,null,null,112,0.2,112,0.2]
[null,null,null,null,null,null,null,null,null,null,null,null,null,null,null,null,null,null,null,null,null,null,null,null,null,null,null,null,null,null,null,null,null,null,null,null,null,null,113,0.2,113,0.2]
[null,null,null,null,null,null,null,null,null,null,null,null,null,null,null,null,null,null,null,null,null,null,null,null,null,null,null,null,null,null,null,null,null,null,null,null,null,null,114,0.2,114,0.2]
[null,null,null,null,null,null,null,null,null,null,null,null,null,null,null,null,null,null,null,null,null,null,null,null,null,null,null,null,null,null,null,null,null,null,null,null,null,null,115,0.2,115,0.2]
[null,null,null,null,null,null,null,null,null,null,null,null,null,null,null,null,null,null,null,null,null,null,null,null,null,null,null,null,null,null,null,null,null,null,null,null,null,null,116,0.2,116,0.2]
[null,null,null,null,null,null,null,null,null,null,null,null,null,null,null,null,null,null,null,null,null,null,null,null,null,null,null,null,null,null,null,null,null,null,null,null,null,null,117,0.2,117,0.2]
[null,null,null,null,null,null,null,null,null,null,null,null,null,null,null,null,null,null,null,null,null,null,null,null,null,null,null,null,null,null,null,null,null,null,null,null,null,null,118,0.2,118,0.2]
[null,null,null,null,null,null,null,null,null,null,null,null,null,null,null,null,null,null,null,null,null,null,null,null,null,null,null,null,null,null,null,null,null,null,null,null,null,null,119,0.2,119,0.2]
[null,null,null,null,null,null,null,null,null,null,null,null,null,null,null,null,null,null,null,null,null,null,null,null,null,null,null,null,null,null,null,null,null,null,null,null,null,null,120,0.2,120,0.2]
[null,null,null,null,null,null,null,null,null,null,null,null,null,null,null,null,null,null,null,null,null,null,null,null,null,null,null,null,null,null,null,null,null,null,null,null,null,null,121,0.2,121,0.2]
[null,null,null,null,null,null,null,null,null,null,null,null,null,null,null,null,null,null,null,null,null,null,null,null,null,null,null,null,null,null,null,null,null,null,null,null,null,null,122,0.2,122,0.2]
[null,null,null,null,null,null,null,null,null,null,null,null,null,null,null,null,null,null,null,null,null,null,null,null,null,null,null,null,null,null,null,null,null,null,null,null,null,null,123,0.2,123,0.2]
[null,null,null,null,null,null,null,null,null,null,null,null,null,null,null,null,null,null,null,null,null,null,null,null,null,null,null,null,null,null,null,null,null,null,null,null,null,null,124,0.2,124,0.2]
[null,null,null,null,null,null,null,null,null,null,null,null,null,null,null,null,null,null,null,null,null,null,null,null,null,null,null,null,null,null,null,null,null,null,null,null,null,null,125,0.2,125,0.2]
[null,null,null,null,null,null,null,null,null,null,null,null,null,null,null,null,null,null,null,null,null,null,null,null,null,null,null,null,null,null,null,null,null,null,null,null,null,null,126,0.2,126,0.2]
[null,null,null,null,null,null,null,null,null,null,null,null,null,null,null,null,null,null,null,null,null,null,null,null,null,null,null,null,null,null,null,null,null,null,null,null,null,null,127,0.2,127,0.2]
[null,null,null,null,null,null,null,null,null,null,null,null,null,null,null,null,null,null,null,null,null,null,null,null,null,null,null,null,null,null,null,null,null,null,null,null,null,null,128,0.2,128,0.2]
[null,null,null,null,null,null,null,null,null,null,null,null,null,null,null,null,null,null,null,null,null,null,null,null,null,null,null,null,null,null,null,null,null,null,null,null,null,null,129,0.2,129,0.2]
[null,null,null,null,null,null,null,null,null,null,null,null,null,null,null,null,null,null,null,null,null,null,null,null,null,null,null,null,null,null,null,null,null,null,null,null,null,null,130,0.2,130,0.2]
[null,null,null,null,null,null,null,null,null,null,null,null,null,null,null,null,null,null,null,null,null,null,null,null,null,null,null,null,null,null,null,null,null,null,null,null,null,null,131,0.2,131,0.2]
[null,null,null,null,null,null,null,null,null,null,null,null,null,null,null,null,null,null,null,null,null,null,null,null,null,null,null,null,null,null,null,null,null,null,null,null,null,null,132,0.2,132,0.2]
[null,null,null,null,null,null,null,null,null,null,null,null,null,null,null,null,null,null,null,null,null,null,null,null,null,null,null,null,null,null,null,null,null,null,null,null,null,null,133,0.2,133,0.2]
[null,null,null,null,null,null,null,null,null,null,null,null,null,null,null,null,null,null,null,null,null,null,null,null,null,null,null,null,null,null,null,null,null,null,null,null,null,null,134,0.2,134,0.2]
[null,null,null,null,null,null,null,null,null,null,null,null,null,null,null,null,null,null,null,null,null,null,null,null,null,null,null,null,null,null,null,null,null,null,null,null,null,null,135,0.2,135,0.2]
[null,null,null,null,null,null,null,null,null,null,null,null,null,null,null,null,null,null,null,null,null,null,null,null,null,null,null,null,null,null,null,null,null,null,null,null,null,null,136,0.2,136,0.2]
[null,null,null,null,null,null,null,null,null,null,null,null,null,null,null,null,null,null,null,null,null,null,null,null,null,null,null,null,null,null,null,null,null,null,null,null,null,null,137,0.2,137,0.2]
[null,null,null,null,null,null,null,null,null,null,null,null,null,null,null,null,null,null,null,null,null,null,null,null,null,null,null,null,null,null,null,null,null,null,null,null,null,null,138,0.2,138,0.2]
[null,null,null,null,null,null,null,null,null,null,null,null,null,null,null,null,null,null,null,null,null,null,null,null,null,null,null,null,null,null,null,null,null,null,null,null,null,null,139,0.2,139,0.2]
[null,null,null,null,null,null,null,null,null,null,null,null,null,null,null,null,null,null,null,null,null,null,null,null,null,null,null,null,null,null,null,null,null,null,null,null,null,null,140,0.2,140,0.2]
[null,null,null,null,null,null,null,null,null,null,null,null,null,null,null,null,null,null,null,null,null,null,null,null,null,null,null,null,null,null,null,null,null,null,null,null,null,null,141,0.2,141,0.2]
[null,null,null,null,null,null,null,null,null,null,null,null,null,null,null,null,null,null,null,null,null,null,null,null,null,null,null,null,null,null,null,null,null,null,null,null,null,null,142,0.2,142,0.2]
[null,null,null,null,null,null,null,null,null,null,null,null,null,null,null,null,null,null,null,null,null,null,null,null,null,null,null,null,null,null,null,null,null,null,null,null,null,null,143,0.2,143,0.2]
[null,null,null,null,null,null,null,null,null,null,null,null,null,null,null,null,null,null,null,null,null,null,null,null,null,null,null,null,null,null,null,null,null,null,null,null,null,null,144,0.2,144,0.2]
[null,null,null,null,null,null,null,null,null,null,null,null,null,null,null,null,null,null,null,null,null,null,null,null,null,null,null,null,null,null,null,null,null,null,null,null,null,null,145,0.2,145,0.2]
[null,null,null,null,null,null,null,null,null,null,null,null,null,null,null,null,null,null,null,null,null,null,null,null,null,null,null,null,null,null,null,null,null,null,null,null,null,null,146,0.2,146,0.2]
[null,null,null,null,null,null,null,null,null,null,null,null,null,null,null,null,null,null,null,null,null,null,null,null,null,null,null,null,null,null,null,null,null,null,null,null,null,null,147,0.2,147,0.2]
[null,null,null,null,null,null,null,null,null,null,null,null,null,null,null,null,null,null,null,null,null,null,null,null,null,null,null,null,null,null,null,null,null,null,null,null,null,null,148,0.2,148,0.2]
[null,null,null,null,null,null,null,null,null,null,null,null,null,null,null,null,null,null,null,null,null,null,null,null,null,null,null,null,null,null,null,null,null,null,null,null,null,null,149,0.2,149,0.2]
[null,null,null,null,null,null,null,null,null,null,null,null,null,null,null,null,null,null,null,null,null,null,null,null,null,null,null,null,null,null,null,null,null,null,null,null,null,null,150,0.2,150,0.2]
[null,null,null,null,null,null,null,null,null,null,null,null,null,null,null,null,null,null,null,null,null,null,null,null,null,null,null,null,null,null,null,null,null,null,null,null,null,null,151,0.2,151,0.2]
[null,null,null,null,null,null,null,null,null,null,null,null,null,null,null,null,null,null,null,null,null,null,null,null,null,null,null,null,null,null,null,null,null,null,null,null,null,null,152,0.2,152,0.2]
[null,null,null,null,null,null,null,null,null,null,null,null,null,null,null,null,null,null,null,null,null,null,null,null,null,null,null,null,null,null,null,null,null,null,null,null,null,null,153,0.2,153,0.2]
[null,null,null,null,null,null,null,null,null,null,null,null,null,null,null,null,null,null,null,null,null,null,null,null,null,null,null,null,null,null,null,null,null,null,null,null,null,null,154,0.2,154,0.2]
[null,null,null,null,null,null,null,null,null,null,null,null,null,null,null,null,null,null,null,null,null,null,null,null,null,null,null,null,null,null,null,null,null,null,null,null,null,null,155,0.2,155,0.2]
[null,null,null,null,null,null,null,null,null,null,null,null,null,null,null,null,null,null,null,null,null,null,null,null,null,null,null,null,null,null,null,null,null,null,null,null,null,null,156,0.2,156,0.2]
[null,null,null,null,null,null,null,null,null,null,null,null,null,null,null,null,null,null,null,null,null,null,null,null,null,null,null,null,null,null,null,null,null,null,null,null,null,null,157,0.2,157,0.2]
[null,null,null,null,null,null,null,null,null,null,null,null,null,null,null,null,null,null,null,null,null,null,null,null,null,null,null,null,null,null,null,null,null,null,null,null,null,null,158,0.2,158,0.2]
[null,null,null,null,null,null,null,null,null,null,null,null,null,null,null,null,null,null,null,null,null,null,null,null,null,null,null,null,null,null,null,null,null,null,null,null,null,null,159,0.2,159,0.2]
[null,null,null,null,null,null,null,null,null,null,null,null,null,null,null,null,null,null,null,null,null,null,null,null,null,null,null,null,null,null,null,null,null,null,null,null,null,null,160,0.2,160,0.2]
[null,null,null,null,null,null,null,null,null,null,null,null,null,null,null,null,null,null,null,null,null,null,null,null,null,null,null,null,null,null,null,null,null,null,null,null,null,null,161,0.2,161,0.2]
[null,null,null,null,null,null,null,null,null,null,null,null,null,null,null,null,null,null,null,null,null,null,null,null,null,null,null,null,null,null,null,null,null,null,null,null,null,null,162,0.2,162,0.2]
[null,null,null,null,null,null,null,null,null,null,null,null,null,null,null,null,null,null,null,null,null,null,null,null,null,null,null,null,null,null,null,null,null,null,null,null,null,null,163,0.2,163,0.2]
[null,null,null,null,null,null,null,null,null,null,null,null,null,null,null,null,null,null,null,null,null,null,null,null,null,null,null,null,null,null,null,null,null,null,null,null,null,null,164,0.2,164,0.2]
[null,null,null,null,null,null,null,null,null,null,null,null,null,null,null,null,null,null,null,null,null,null,null,null,null,null,null,null,null,null,null,null,null,null,null,null,null,null,165,0.2,165,0.2]
[null,null,null,null,null,null,null,null,null,null,null,null,null,null,null,null,null,null,null,null,null,null,null,null,null,null,null,null,null,null,null,null,null,null,null,null,null,null,166,0.2,166,0.2]
[null,null,null,null,null,null,null,null,null,null,null,null,null,null,null,null,null,null,null,null,null,null,null,null,null,null,null,null,null,null,null,null,null,null,null,null,null,null,167,0.2,167,0.2]
[null,null,null,null,null,null,null,null,null,null,null,null,null,null,null,null,null,null,null,null,null,null,null,null,null,null,null,null,null,null,null,null,null,null,null,null,null,null,168,0.2,168,0.2]
[null,null,null,null,null,null,null,null,null,null,null,null,null,null,null,null,null,null,null,null,null,null,null,null,null,null,null,null,null,null,null,null,null,null,null,null,null,null,169,0.2,169,0.2]
[null,null,null,null,null,null,null,null,null,null,null,null,null,null,null,null,null,null,null,null,null,null,null,null,null,null,null,null,null,null,null,null,null,null,null,null,null,null,170,0.2,170,0.2]
[null,null,null,null,null,null,null,null,null,null,null,null,null,null,null,null,null,null,null,null,null,null,null,null,null,null,null,null,null,null,null,null,null,null,null,null,null,null,171,0.2,171,0.2]
[null,null,null,null,null,null,null,null,null,null,null,null,null,null,null,null,null,null,null,null,null,null,null,null,null,null,null,null,null,null,null,null,null,null,null,null,null,null,172,0.2,172,0.2]
[null,null,null,null,null,null,null,null,null,null,null,null,null,null,null,null,null,null,null,null,null,null,null,null,null,null,null,null,null,null,null,null,null,null,null,null,null,null,173,{"$f":"AN184","v":0.2},173,0.2]
[null,null,null,null,null,null,null,null,null,null,null,null,null,null,null,null,null,null,null,null,null,null,null,null,null,null,null,null,null,null,null,null,null,null,null,null,null,null,174,0.2,174,0.2]
[null,null,null,null,null,null,null,null,null,null,null,null,null,null,null,null,null,null,null,null,null,null,null,null,null,null,null,null,null,null,null,null,null,null,null,null,null,null,175,0.2,175,0.2]
[null,null,null,null,null,null,null,null,null,null,null,null,null,null,null,null,null,null,null,null,null,null,null,null,null,null,null,null,null,null,null,null,null,null,null,null,null,null,176,0.2,176,0.2]
[null,null,null,null,null,null,null,null,null,null,null,null,null,null,null,null,null,null,null,null,null,null,null,null,null,null,null,null,null,null,null,null,null,null,null,null,null,null,177,0.2,177,0.2]
[null,null,null,null,null,null,null,null,null,null,null,null,null,null,null,null,null,null,null,null,null,null,null,null,null,null,null,null,null,null,null,null,null,null,null,null,null,null,178,0.2,178,0.2]
[null,null,null,null,null,null,null,null,null,null,null,null,null,null,null,null,null,null,null,null,null,null,null,null,null,null,null,null,null,null,null,null,null,null,null,null,null,null,179,0.2,179,0.2]
[null,null,null,null,null,null,null,null,null,null,null,null,null,null,null,null,null,null,null,null,null,null,null,null,null,null,null,null,null,null,null,null,null,null,null,null,null,null,180,0.2,180,0.2]
[null,null,null,null,null,null,null,null,null,null,null,null,null,null,null,null,null,null,null,null,null,null,null,null,null,null,null,null,null,null,null,null,null,null,null,null,null,null,181,0.2,181,0.2]
[null,null,null,null,null,null,null,null,null,null,null,null,null,null,null,null,null,null,null,null,null,null,null,null,null,null,null,null,null,null,null,null,null,null,null,null,null,null,182,0.2,182,0.2]
[null,null,null,null,null,null,null,null,null,null,null,null,null,null,null,null,null,null,null,null,null,null,null,null,null,null,null,null,null,null,null,null,null,null,null,null,null,null,183,0.2,183,0.2]
[null,null,null,null,null,null,null,null,null,null,null,null,null,null,null,null,null,null,null,null,null,null,null,null,null,null,null,null,null,null,null,null,null,null,null,null,null,null,184,0.2,184,0.2]
[null,null,null,null,null,null,null,null,null,null,null,null,null,null,null,null,null,null,null,null,null,null,null,null,null,null,null,null,null,null,null,null,null,null,null,null,null,null,185,0.2,185,0.2]
[null,null,null,null,null,null,null,null,null,null,null,null,null,null,null,null,null,null,null,null,null,null,null,null,null,null,null,null,null,null,null,null,null,null,null,null,null,null,186,0.2,186,0.2]
[null,null,null,null,null,null,null,null,null,null,null,null,null,null,null,null,null,null,null,null,null,null,null,null,null,null,null,null,null,null,null,null,null,null,null,null,null,null,187,0.2,187,0.2]
[null,null,null,null,null,null,null,null,null,null,null,null,null,null,null,null,null,null,null,null,null,null,null,null,null,null,null,null,null,null,null,null,null,null,null,null,null,null,188,0.2,188,0.2]
[null,null,null,null,null,null,null,null,null,null,null,null,null,null,null,null,null,null,null,null,null,null,null,null,null,null,null,null,null,null,null,null,null,null,null,null,null,null,189,0.2,189,0.2]
[null,null,null,null,null,null,null,null,null,null,null,null,null,null,null,null,null,null,null,null,null,null,null,null,null,null,null,null,null,null,null,null,null,null,null,null,null,null,190,0.2,190,0.2]
[null,null,null,null,null,null,null,null,null,null,null,null,null,null,null,null,null,null,null,null,null,null,null,null,null,null,null,null,null,null,null,null,null,null,null,null,null,null,191,0.2,191,0.2]
[null,null,null,null,null,null,null,null,null,null,null,null,null,null,null,null,null,null,null,null,null,null,null,null,null,null,null,null,null,null,null,null,null,null,null,null,null,null,192,0.2,192,0.2]
[null,null,null,null,null,null,null,null,null,null,null,null,null,null,null,null,null,null,null,null,null,null,null,null,null,null,null,null,null,null,null,null,null,null,null,null,null,null,193,0.2,193,0.2]
[null,null,null,null,null,null,null,null,null,null,null,null,null,null,null,null,null,null,null,null,null,null,null,null,null,null,null,null,null,null,null,null,null,null,null,null,null,null,194,0.2,194,0.2]
[null,null,null,null,null,null,null,null,null,null,null,null,null,null,null,null,null,null,null,null,null,null,null,null,null,null,null,null,null,null,null,null,null,null,null,null,null,null,195,0.2,195,0.2]
[null,null,null,null,null,null,null,null,null,null,null,null,null,null,null,null,null,null,null,null,null,null,null,null,null,null,null,null,null,null,null,null,null,null,null,null,null,null,196,0.2,196,0.2]
[null,null,null,null,null,null,null,null,null,null,null,null,null,null,null,null,null,null,null,null,null,null,null,null,null,null,null,null,null,null,null,null,null,null,null,null,null,null,197,0.2,197,0.2]
[null,null,null,null,null,null,null,null,null,null,null,null,null,null,null,null,null,null,null,null,null,null,null,null,null,null,null,null,null,null,null,null,null,null,null,null,null,null,198,0.2,198,0.2]
[null,null,null,null,null,null,null,null,null,null,null,null,null,null,null,null,null,null,null,null,null,null,null,null,null,null,null,null,null,null,null,null,null,null,null,null,null,null,199,0.2,199,0.2]
[null,null,null,null,null,null,null,null,null,null,null,null,null,null,null,null,null,null,null,null,null,null,null,null,null,null,null,null,null,null,null,null,null,null,null,null,null,null,200,0.2,200,0.2]

{"sheet":"小学生～高校","index":15,"n_rows":76,"n_cols":24,"rows_kept":76,"cut":false,"hidden":false,"merged":[]}
[]
[]
[null,"子供にかかる費用～学校編～エクセルで簡易FP"]
[]
[]
[]
[]
[null,null,null,"年度別","公立","私立","差","私立/公立"]
[null,null,null,"幼稚園3歳",21,47.97,{"$f":"F9-E9","v":26.97},{"$f":"F9/E9","v":2.2842857142857143}]
[null,null,null,"幼稚園4歳",21.24,43.88,{"$f":"F10-E10","v":22.640000000000004},{"$f":"F10/E10","v":2.0659133709981172}]
[null,null,null,"幼稚園5歳",25.96,52.67,26.71,2.0288906009244991]
[null,null,null,"総額",{"$f":"SUM(E9:E11)","v":68.199999999999989},{"$f":"SUM(F9:F11)","v":144.51999999999998},76.319999999999993,2.1190615835777127]
[null,null,null,"平均",{"$f":"AVERAGE(E9:E11)","v":22.733333333333331},{"$f":"AVERAGE(F9:F11)","v":48.173333333333325},25.439999999999994,2.1190615835777127]
[null,null,null,"小学校1年生",34.26,184.2,149.94,5.3765323992994745]
[null,null,null,"小学校2年生",27.09,127.59,100.5,4.709856035437431]
[null,null,null,"小学校3年生",28.92,136.59,107.67,4.7230290456431536]
[null,null,null,"小学校4年生",31.9,146.4,114.5,4.5893416927899686]
[null,null,null,"小学校5年生",34.5,155.72999999999999,121.22999999999999,4.5139130434782606]
[null,null,null,"小学校6年生",37.53,165.86920000000001,128.33920000000001,4.4196429523048231]
[null,null,null,"総額",{"$f":"SUM(E14:E19)","v":194.2},{"$f":"SUM(F14:F19)","v":916.37919999999997},722.17920000000004,4.7187394438722965]
[null,null,null,"平均",{"$f":"AVERAGE(E14:E19)","v":32.366666666666667},{"$f":"AVERAGE(F14:F19)","v":152.72986666666665},120.36319999999998,4.7187394438722965]
[null,null,null,"中学校1年生",64.91,157.21,92.300000000000011,2.4219688799876753]
[null,null,null,"中学校2年生",39.270000000000003,115.68,76.41,2.9457601222307104]
[null,null,null,"中学校3年生",57.11,125.053,67.942999999999998,2.189686569777622]
[null,null,null,"総額",{"$f":"SUM(E22:E24)","v":161.29000000000002},{"$f":"SUM(F22:F24)","v":397.94299999999998},236.65299999999996,2.4672515345030686]
[null,null,null,"平均",{"$f":"AVERAGE(E22:E24)","v":53.763333333333343},{"$f":"AVERAGE(F22:F24)","v":132.64766666666665},78.884333333333302,2.4672515345030681]
[null,null,null,"高校1年生",51.66,127.59,75.930000000000007,2.4698025551684091]
[null,null,null,"高校2年生",47.15,97.62,50.470000000000006,2.0704135737009546]
[null,null,null,"高校3年生",36.31,85.76,49.45,2.3618837785733957]
[null,null,null,"総額",{"$f":"SUM(E27:E29)","v":135.12},{"$f":"SUM(F27:F29)","v":310.97000000000003},175.85000000000002,2.3014357608052105]
[null,null,null,"平均",{"$f":"AVERAGE(E27:E29)","v":45.04},{"$f":"AVERAGE(F27:F29)","v":103.65666666666668},58.616666666666681,2.3014357608052105]
[]
[null,null,null,null,"総額",null,"差","1年当たり",null,"差"]
[null,null,null,null,"公立","私立","私立-公立","公立","私立","私立-公立"]
[null,null,null,"幼稚園",{"$f":"E12","v":68.199999999999989},{"$f":"F12","v":144.51999999999998},{"$f":"F35-E35","v":76.319999999999993},{"$f":"E35/3","v":22.733333333333331},{"$f":"F35/3","v":48.173333333333325},{"$f":"I35-H35","v":25.439999999999994}]
[null,null,null,"小学校",{"$f":"E20","v":194.2},{"$f":"F20","v":916.37919999999997},{"$f":"F36-E36","v":722.17920000000004},{"$f":"E36/6","v":32.366666666666667},{"$f":"F36/6","v":152.72986666666665},{"$f":"I36-H36","v":120.36319999999998}]
[null,null,null,"中学校",{"$f":"E25","v":161.29000000000002},{"$f":"F25","v":397.94299999999998},236.65299999999996,{"$f":"E37/3","v":53.763333333333343},{"$f":"F37/3","v":132.64766666666665},78.884333333333302]
[null,null,null,"高校",{"$f":"E30","v":135.12},{"$f":"F30","v":310.97000000000003},175.85000000000002,{"$f":"E38/3","v":45.04},{"$f":"F38/3","v":103.65666666666668},58.616666666666681]
[null,null,null,"合計",{"$f":"SUM(E35:E38)","v":558.80999999999995},{"$f":"SUM(F35:F38)","v":1769.8121999999998},1211.0021999999999,{"$f":"E39/15","v":37.253999999999998},{"$f":"F39/15","v":117.98747999999999},80.733479999999986]
[null,null,null,"合計(除く幼稚園)",{"$f":"SUM(E36:E38)","v":490.61},{"$f":"SUM(F36:F38)","v":1625.2922000000001},{"$f":"F40-E40","v":1134.6822000000002},{"$f":"E40/12","v":40.884166666666665},{"$f":"F40/12","v":135.44101666666668},94.556850000000026]
[]
[null,null,null,null,"総額",null,"差","1年当たり",null,"差"]
[null,null,null,null,"公立","私立","私立-公立","公立","私立","私立-公立"]
[null,null,null,"幼稚園",{"$f":"H44*3","v":36.163800000000002},{"$f":"I44*3","v":95.628900000000002},{"$f":"F44-E44","v":59.4651},12.054600000000001,31.876300000000001,{"$f":"I44-H44","v":19.8217},null,null,92983,133705,217826,613022,301184,320932,174871,285067]
[null,null,null,"小学校",{"$f":"H45*6","v":36.025799999999997},{"$f":"I45*6","v":522.24480000000005},{"$f":"F45-E45","v":486.21900000000005},6.0042999999999997,87.040800000000004,{"$f":"I45-H45","v":81.036500000000004},null,null,{"$f":"M44/10000","v":9.2982999999999993},{"$f":"N44/10000","v":13.3705}]
[null,null,null,"中学校",{"$f":"H46*3","v":40.091999999999999},{"$f":"I46*3","v":299.23050000000001},259.13850000000002,13.364000000000001,99.743499999999997,86.379499999999993,null,null,{"$f":"O44/10000","v":21.782599999999999},{"$f":"P44/10000","v":61.302199999999999}]
[null,null,null,"高校",{"$f":"H47*3","v":82.797300000000007},{"$f":"I47*3","v":226.53029999999998},143.73299999999998,27.5991,75.510099999999994,47.910999999999994,null,null,{"$f":"Q44/10000","v":30.118400000000001},{"$f":"R44/10000","v":32.093200000000003}]
[null,null,null,"合計",{"$f":"SUM(E44:E47)","v":195.0789},{"$f":"SUM(F44:F47)","v":1143.6345000000001},948.55560000000014,{"$f":"E48/15","v":13.00526},{"$f":"F48/15","v":76.242300000000014},63.237040000000015,null,null,{"$f":"S44/10000","v":17.487100000000002},{"$f":"T44/10000","v":28.506699999999999}]
[null,null,null,"合計(除く幼稚園)",{"$f":"SUM(E45:E47)","v":158.9151},{"$f":"SUM(F45:F47)","v":1048.0056},889.09050000000002,{"$f":"E49/12","v":13.242925},{"$f":"F49/12","v":87.333799999999997},74.090874999999997]
[null,null,null,null,null,null,null,null,null,null,null,null,{"$f":"M45*6","v":55.7898},{"$f":"N45*6","v":80.222999999999999}]
[null,null,null,null,"総額",null,"差","1年当たり",null,"差",null,null,{"$f":"M46*6","v":130.69559999999998},367.81319999999999]
[null,null,null,null,"公立","私立","私立-公立","公立","私立","私立-公立",null,null,{"$f":"M47*6","v":180.71039999999999},192.55920000000003]
[null,null,null,"幼稚園",{"$f":"H53*3","v":27.8949},{"$f":"I53*3","v":40.111499999999999},{"$f":"F53-E53","v":12.2166},9.2982999999999993,13.3705,{"$f":"I53-H53","v":4.0722000000000005},null,null,{"$f":"M48*6","v":104.92260000000002},171.0402]
[null,null,null,"小学校",{"$f":"H54*6","v":130.69559999999998},{"$f":"I54*6","v":367.81319999999999},{"$f":"F54-E54","v":237.11760000000001},21.782599999999999,61.302199999999999,{"$f":"I54-H54","v":39.519599999999997}]
[null,null,null,"中学校",{"$f":"H55*3","v":90.355199999999996},{"$f":"I55*3","v":96.279600000000016},5.9244000000000199,30.118400000000001,32.093200000000003,1.9748000000000019]
[null,null,null,"高校",{"$f":"H56*3","v":52.461300000000008},{"$f":"I56*3","v":85.520099999999999},33.058799999999991,17.487100000000002,28.506699999999999,11.019599999999997]
[null,null,null,"合計",{"$f":"SUM(E53:E56)","v":301.40699999999998},{"$f":"SUM(F53:F56)","v":589.72439999999995},288.31739999999996,{"$f":"E57/15","v":20.093799999999998},{"$f":"F57/15","v":39.314959999999999},19.221160000000001,null,null,null,null,92983,133705,217826,613022,301184,320932,174871,285067]
[null,null,null,"合計(除く幼稚園)",{"$f":"SUM(E54:E56)","v":273.51209999999998},{"$f":"SUM(F54:F56)","v":549.61289999999997},276.10079999999999,{"$f":"E58/12","v":22.792674999999999},{"$f":"F58/12","v":45.801074999999997},23.008399999999998]
[null,null,null,null,null,null,null,null,null,null,null,null,null,null,92983,22777,-24.5,70206,-75.5,133705,26097,-19.5,107608,-80.5]
[null,null,null,"補助学習費","総額",null,"差","1年当たり",null,"差",null,null,null,null,217826,83013,-38.1,134813,-61.9,613022,304859,-49.7,308163,-50.3]
[null,null,null,null,"公立","私立","私立-公立","公立","私立","私立-公立",null,null,null,null,301184,239564,-79.5,61620,-20.5,320932,204112,-63.6,116820,-36.4]
[null,null,null,"幼稚園",{"$f":"H62*3","v":6.8331},{"$f":"I62*3","v":7.8291000000000004},{"$f":"F62-E62","v":0.99600000000000044},2.2776999999999998,2.6097000000000001,{"$f":"I62-H62","v":0.33200000000000029},null,null,null,null,174871,142702,-81.599999999999994,32169,-18.399999999999999,285067,230103,-80.7,54964,-19.3]
[null,null,null,"小学校",{"$f":"H63*6","v":49.8078},{"$f":"I63*6","v":182.91540000000001},{"$f":"F63-E63","v":133.10759999999999},8.3012999999999995,30.485900000000001,{"$f":"I63-H63","v":22.184600000000003}]
[null,null,null,"中学校",{"$f":"H64*3","v":71.869199999999992},{"$f":"I64*3","v":61.233600000000003},-10.63559999999999,23.956399999999999,20.411200000000001,-3.5451999999999977,null,null,null,null,"合計","補助学習費","その他","合計","補助学習費","その他"]
[null,null,null,"高校",{"$f":"H65*3","v":42.810600000000001},{"$f":"I65*3","v":69.030900000000003},26.220300000000002,14.270200000000001,23.010300000000001,8.7401,null,null,null,"幼稚園",{"$f":"O59","v":92983},22777,{"$f":"R59","v":70206},{"$f":"T59","v":133705},26097,{"$f":"W59","v":107608}]
[null,null,null,"合計",{"$f":"SUM(E62:E65)","v":171.32069999999999},{"$f":"SUM(F62:F65)","v":321.00900000000001},149.68830000000003,{"$f":"E66/15","v":11.421379999999999},{"$f":"F66/15","v":21.400600000000001},9.9792200000000015,null,null,null,"小学校",217826,83013,{"$f":"R60","v":134813},613022,304859,{"$f":"W60","v":308163}]
[null,null,null,"合計(除く幼稚園)",{"$f":"SUM(E63:E65)","v":164.48759999999999},{"$f":"SUM(F63:F65)","v":313.17989999999998},148.69229999999999,{"$f":"E67/12","v":13.707299999999998},{"$f":"F67/12","v":26.098324999999999},12.391025000000001,null,null,null,"中学校",301184,239564,{"$f":"R61","v":61620},320932,204112,{"$f":"W61","v":116820}]
[null,null,null,null,null,null,null,null,null,null,null,null,null,"高校",174871,142702,{"$f":"R62","v":32169},285067,230103,{"$f":"W62","v":54964}]
[null,null,null,"その他","総額",null,"差","1年当たり",null,"差",null,null,null,null,{"$f":"O65/10000","v":9.2982999999999993},{"$f":"P65/10000","v":2.2776999999999998},7.0206,13.3705,2.6097000000000001,10.7608]
[null,null,null,null,"公立","私立","私立-公立","公立","私立","私立-公立",null,null,null,null,{"$f":"O66/10000","v":21.782599999999999},8.3012999999999995,13.481299999999999,61.302199999999999,30.485900000000001,30.816299999999998]
[null,null,null,"幼稚園",{"$f":"H71*3","v":21.061799999999998},{"$f":"I71*3","v":32.282399999999996},{"$f":"F71-E71","v":11.220599999999997},7.0206,10.7608,{"$f":"I71-H71","v":3.7401999999999997},null,null,null,null,{"$f":"O67/10000","v":30.118400000000001},23.956399999999999,6.1619999999999999,32.093200000000003,20.411200000000001,11.682]
[null,null,null,"小学校",{"$f":"H72*6","v":80.887799999999999},{"$f":"I72*6","v":184.89779999999999},{"$f":"F72-E72","v":104.00999999999999},13.481299999999999,30.816299999999998,{"$f":"I72-H72","v":17.335000000000001},null,null,null,null,{"$f":"O68/10000","v":17.487100000000002},14.270200000000001,3.2168999999999999,28.506699999999999,23.010300000000001,5.4964000000000004]
[null,null,null,"中学校",{"$f":"H73*3","v":18.486000000000001},{"$f":"I73*3","v":35.045999999999999},16.559999999999999,6.1619999999999999,11.682,5.5200000000000005]
[null,null,null,"高校",{"$f":"H74*3","v":9.6507000000000005},{"$f":"I74*3","v":16.4892},6.8384999999999998,3.2168999999999999,5.4964000000000004,2.2795000000000005]
[null,null,null,"合計",{"$f":"SUM(E71:E74)","v":130.08629999999999},{"$f":"SUM(F71:F74)","v":268.71539999999999},138.62909999999999,{"$f":"E75/15","v":8.6724199999999989},{"$f":"F75/15","v":17.914359999999999},9.2419399999999996]
[null,null,null,"合計(除く幼稚園)",{"$f":"SUM(E72:E74)","v":109.0245},{"$f":"SUM(F72:F74)","v":236.43299999999999},127.40849999999999,{"$f":"E76/12","v":9.0853750000000009},{"$f":"F76/12","v":19.702749999999998},10.617374999999997]

{"sheet":"大学","index":16,"n_rows":0,"n_cols":0,"rows_kept":0,"cut":false,"hidden":false,"merged":[]}

{"sheet":"大学学費","index":17,"n_rows":35,"n_cols":22,"rows_kept":35,"cut":false,"hidden":false,"merged":[[4,1,4,3],[24,2,24,3],[7,1,24,1],[19,2,23,2],[16,2,18,2],[12,2,15,2],[7,2,11,2],[6,1,6,3],[27,8,27,11],[27,4,27,7],[27,2,28,3],[31,2,34,2],[5,1,5,3]]}
[]
[]
["http://www.mext.go.jp/a_menu/koutou/shinkou/07021403/1412031.htm"]
[]
[null,"種別",null,null,"授業料","入学料","施設・設備","合計","4年間","対国立","6年間","対国立",null,null,null,null,null,null,null,null,null,"合計"]
[null,"国立大学",null,null,{"$f":"P6/10000","v":53.58},{"$f":"R6/10000","v":28.2},{"$f":"T6/10000","v":0},{"$f":"V6/10000","v":81.78},{"$f":"F6+E6*4+G6*4","v":242.51999999999998},{"$f":"I6-I$6","v":0},{"$f":"E6*6+F6*2","v":377.88},{"$f":"K6-K$6","v":0},null,"国立大学",null,535800,null,282000,null,null,null,{"$f":"P6+R6+T6","v":817800}]
[null,"公立大学",null,null,53.863300000000002,39.361800000000002,0,93.225099999999998,{"$f":"F7+E7*4+G7*4","v":254.815},{"$f":"I7-I$6","v":12.295000000000016},{"$f":"E7*6+F7*2","v":401.90340000000003},24.023400000000038,null,"公立大学",null,538633,null,393618,null,null,null,{"$f":"P7+R7+T7","v":932251}]
[null,"私立","文系","文・教育",79.002499999999998,23.313600000000001,16.295000000000002,118.6112,404.50360000000001,161.98360000000002,520.6422,142.76220000000001,null,"文・教育",772283,790025,237052,233136,167513,162950,1176847,1186112]
[null,null,null,"神・仏教",72.932699999999997,21.428799999999999,15.9613,110.3228,377.00479999999999,134.48480000000001,480.45379999999994,102.57379999999995,null,"神・仏教",716067,729327,224603,214288,161917,159613,1102587,1103228]
[null,null,null,"社会福祉",74.772599999999997,21.443899999999999,18.302499999999998,114.51900000000001,393.74429999999995,151.22429999999997,491.52339999999992,113.64339999999993,null,"社会福祉",736325,747726,217480,214439,193396,183025,1147201,1145190]
[null,null,null,"法・商・経",77.744600000000005,23.228400000000001,14.2784,115.25149999999999,391.32040000000006,148.80040000000008,512.92440000000011,135.04440000000011,null,"法・商・経",751513,777446,234586,232284,147210,142784,1133308,1152515]
[null,null,null,"平均",78.100300000000004,23.181100000000001,15.249599999999999,116.53100000000001,396.58070000000004,154.06070000000005,514.96400000000006,137.08400000000006,null,"平均",758854,781003,234763,231811,157246,152496,1150863,1165310]
[null,null,"理系","理・工",106.8849,24.266999999999999,16.282699999999998,147.43459999999999,516.93740000000003,274.41740000000004,689.84339999999997,311.96339999999998,null,"理・工",1033614,1068849,243602,242670,170466,162827,1447682,1474346]
[null,null,null,"薬",143.51669999999999,34.1541,30.583400000000001,208.2542,730.55449999999996,488.03449999999998,929.4083999999998,551.52839999999981,null,"薬",1437492,1435167,340543,341541,303040,305834,2081075,2082542]
[null,null,null,"農・獣医",96.589100000000002,24.6282,20.098700000000001,141.31610000000001,491.37940000000003,248.85940000000005,628.79099999999994,250.91099999999994,null,"農・獣医",908741,965891,246435,246282,201162,200987,1356338,1413161]
[null,null,null,"平均",110.1854,25.4941,18.4102,154.08959999999999,539.87649999999996,297.35649999999998,712.10059999999999,334.22059999999999,null,"平均",1071560,1101854,256208,254941,190565,184102,1518333,1540896]
[null,null,"医・歯","医",266.75830000000002,132.55070000000001,105.0137,504.3227,1619.6387,1377.1187,1865.6512000000002,1487.7712000000001,null,"医",2736813,2667583,1279386,1325507,1075067,1050137,5091266,5043227]
[null,null,null,"歯",316.7038,56.340299999999999,55.879800000000003,428.9239,1546.6747,1304.1547,2012.9033999999999,1635.0234,null,"歯",3167038,3167038,563403,563403,558798,558798,4289239,4289239]
[null,null,null,"平均",284.79399999999998,105.03060000000001,87.271100000000004,477.09570000000002,1593.2909999999999,1350.771,1918.8252,1540.9452000000001,null,"平均",2896848,2847940,1013054,1050306,883026,872711,4792928,4770957]
[null,null,"その他","家政",80.667699999999996,25.570399999999999,19.072199999999999,125.3103,424.53,182.01,535.14699999999993,157.26699999999994,null,"家政",796049,806677,256986,255704,200989,190722,1254025,1253103]
[null,null,null,"芸術",110.89530000000001,25.9312,26.793700000000001,163.62029999999999,576.68720000000008,334.16720000000009,717.23419999999999,339.35419999999999,null,"芸術",1115846,1108953,256675,259312,269047,267937,1641568,1636203]
[null,null,null,"体育",81.485600000000005,25.826499999999999,22.103200000000001,129.4152,440.18170000000003,197.66170000000005,540.56659999999999,162.6866,null,"体育",805524,814856,256747,258265,230983,221032,1293254,1294152]
[null,null,null,"保健",99.557500000000005,27.246700000000001,23.276599999999998,150.08080000000001,518.58309999999994,276.06309999999996,651.83839999999998,273.95839999999998,null,"保健",990823,995575,276494,272467,232712,232766,1500029,1500808]
[null,null,null,"平均",95.749499999999998,26.450299999999999,23.010300000000001,145.21019999999999,501.48950000000002,258.96950000000004,627.39760000000001,249.51760000000002,null,"平均",955473,957495,265694,264503,233970,230103,1455137,1452102]
[null,null,"私立全平均",null,90.009299999999996,25.202999999999999,18.1294,133.34180000000001,457.75779999999997,215.23779999999999,590.46179999999993,212.58179999999993,null,"全平均",877735,900093,253461,252030,185620,181294,1316816,1333418]
[]
[]
[null,null,"種別",null,"4年間",null,null,null,"6年間"]
[null,null,null,null,"学費のみ","+通学費\n1万/月","+仕送り\n5万/月","+仕送り\n7.5万/月","学費のみ","+通学費\n1万/月","+仕送り\n5万/月","+仕送り\n7.5万/月"]
[null,null,"国立大学",null,{"$f":"I6","v":242.51999999999998},{"$f":"E30+48","v":290.52},{"$f":"E30+240","v":482.52},{"$f":"E30+360","v":602.52},{"$f":"K6","v":377.88},{"$f":"I30+48","v":425.88},{"$f":"I30+240","v":617.88},{"$f":"I30+360","v":737.88}]
[null,null,"公立大学",null,{"$f":"I7","v":254.815},{"$f":"E31+48","v":302.815},{"$f":"E31+240","v":494.815},{"$f":"E31+360","v":614.81500000000005},{"$f":"K7","v":401.90340000000003},{"$f":"I31+48","v":449.90340000000003},{"$f":"I31+240","v":641.90340000000003},{"$f":"I31+360","v":761.90340000000003}]
[null,null,"私立","文系平均",{"$f":"I12","v":396.58070000000004},444.58070000000004,636.58069999999998,756.58069999999998,{"$f":"K12","v":514.96400000000006},562.96400000000006,754.96400000000006,874.96400000000006]
[null,null,null,"理系平均",{"$f":"I16","v":539.87649999999996},587.87649999999996,779.87649999999996,899.87649999999996,{"$f":"K16","v":712.10059999999999},760.10059999999999,952.10059999999999,1072.1006]
[null,null,null,"医・歯",{"$f":"I19","v":1593.2909999999999},1641.2909999999999,1833.2909999999999,1953.2909999999999,{"$f":"K19","v":1918.8252},1966.8252,2158.8252000000002,2278.8252000000002]
[null,null,null,"その他",{"$f":"I24","v":501.48950000000002},549.48950000000002,741.48950000000002,861.48950000000002,{"$f":"K25","v":590.46179999999993},638.46179999999993,830.46179999999993,950.46179999999993]

{"sheet":"年金の税金","index":18,"n_rows":25,"n_cols":33,"rows_kept":25,"cut":false,"hidden":false,"merged":[]}
[]
[null,null,"計算機",null,null,null,null,null,null,"額面から計算"]
[]
[]
[null,"項目","年齢区分","総所得","給与所得者等区分","加入者(64以下)","加入者(65以上)",null,"額面(万円)","控除割合","控除絶対値","控除額","所得",null,null,null,"リスト",null,null,null,null,null,null,null,null,null,null,null,null,null,"以上"]
[null,"親1","65歳～74歳まで",{"$f":"M6*10000","v":896633.83230769285},null,{"$f":"IF(C6=$Q$7,1,0)+IF(C6=$Q$8,1,0)","v":0},{"$f":"IF(C6=$Q$9,1,0)","v":1},null,{"$f":"VLOOKUP(70,親1!C:H,6,0)","v":199.66338323076928},{"$f":"VLOOKUP(I6,AE:AG,2)","v":0},{"$f":"VLOOKUP(I6,AE:AG,3)","v":110},{"$f":"I6*J6+K6","v":110},{"$f":"MAX(I6-L6,0)","v":89.663383230769284},null,null,null,"加入しない",null,null,null,null,null,null,null,null,null,null,null,null,null,0,null,110]
[null,"親2","65歳～74歳まで",{"$f":"M7*10000","v":287369.00430769252},null,{"$f":"IF(C7=$Q$7,1,0)+IF(C7=$Q$8,1,0)","v":0},{"$f":"IF(C7=$Q$9,1,0)","v":1},null,{"$f":"VLOOKUP(70,親2!C:H,6,0)","v":138.73690043076925},{"$f":"VLOOKUP(I7,AE:AG,2)","v":0},{"$f":"VLOOKUP(I7,AE:AG,3)","v":110},{"$f":"I7*J7+K7","v":110},{"$f":"MAX(I7-L7,0)","v":28.736900430769253},null,null,null,"39歳まで",null,null,null,null,null,null,null,null,null,null,null,null,null,330,0.25,27.5]
[null,null,null,null,null,null,null,null,null,null,null,null,null,null,null,null,"40歳~64歳まで",null,null,null,null,null,null,null,null,null,null,null,null,null,410,0.15,68.5]
[null,null,"大阪","平均割り","均等割り","所得割",null,null,null,null,null,null,null,null,null,null,"65歳～74歳まで"]
[null,null,"医療費分保険料",26000,19800,5.8200000000000002E-2]
[null,null,"後期高齢者支援金分保険料",8200,9500,2.0899999999999998E-2]
[null,null,"介護保険料",5900,10500,1.67E-2]
[null,null,null,"平均割り","均等割り","所得割","合計(年)","月額",null,null,null,null,null,null,null,null,null,null,null,null,null,null,null,null,null,null,null,null,null,null,770,0.05,145.5]
[null,null,"医療費分保険料",{"$f":"D10","v":26000},{"$f":"SUM($F$6:$G$7)*$E$10","v":39600},{"$f":"(MAX(0,D6-430000)+MAX(0,D7-430000))*F10","v":27158.089040307725},{"$f":"MIN(SUM(D14:F14),630000)","v":92758.089040307721},{"$f":"G14/12","v":7729.8407533589771},null,null,null,null,null,null,null,null,null,null,null,null,null,null,null,null,null,null,null,null,null,null,1000,null,195.5]
[null,null,"後期高齢者支援金分保険料",{"$f":"D11","v":8200},{"$f":"SUM($F$6:$G$7)*$E$11","v":19000},{"$f":"(MAX(0,D6-430000)+MAX(0,D7-430000))*F11","v":9752.6470952307791},{"$f":"MIN(SUM(D15:F15),630000)","v":36952.647095230779},3079.3872579358981]
[null,null,"介護保険料",{"$f":"IF(SUM(F6:F7)>0,D12,0)","v":0},{"$f":"SUM($F$6:$F$7)*$E$12","v":0},{"$f":"(MAX(0,D6-430000)*F6+MAX(0,D7-430000)*F7)*F12","v":0},0,0]
[null,null,"合計",{"$f":"SUM(D14:D16)","v":34200},{"$f":"SUM(E14:E16)","v":58600},{"$f":"SUM(F14:F16)","v":36910.736135538507},129710.73613553851,10809.228011294876]
[null,null,null,null,"保険料","親1",{"$f":"D$6/SUM($D$6:$D$7)*G$17","v":98228.678881484811},8185.7232401237343]
[null,null,null,null,null,"親2",{"$f":"D$7/SUM($D$6:$D$7)*G$17","v":31482.057254053681},2623.50477117114]
[]
[null,null,null,null,"所得税","親1",{"$f":"(MAX(0,D6-430000))*5.105%","v":23821.657139307721},{"$f":"G21/12","v":1985.1380949423101}]
[null,null,null,null,null,"親2",{"$f":"(MAX(0,D7-430000))*5.105%","v":0},{"$f":"G22/12","v":0}]
[]
[null,null,null,null,"合計","親1",{"$f":"SUM(G18,G21)","v":122050.33602079253},{"$f":"SUM(H18,H21)","v":10170.861335066045}]
[null,null,null,null,null,"親2",{"$f":"SUM(G19,G22)","v":31482.057254053681},2623.50477117114]

{"sheet":"年収と手取り","index":19,"n_rows":410,"n_cols":57,"rows_kept":410,"cut":false,"hidden":false,"merged":[]}
[null,null,"以上",null,null,null,null,null,null,null,null,null,null,null,null,null,"以上",null,null,"以上"]
[null,null,0,null,55,null,null,null,null,0,48,null,null,null,null,null,0,0.05,0,0,null,55]
[null,null,162.5,0.4,-10,null,null,null,null,2400,32,null,null,null,null,null,195,0.1,-9.75,162.5,0.4,-10]
[null,null,180,0.3,8,null,null,null,null,2450,16,null,null,null,null,null,330,0.2,-42.75,180,0.3,8]
[null,null,360,0.2,44,null,null,null,null,2500,0,null,null,null,null,null,695,0.23,-63.6,360,0.2,44,null,null,null,null,null,null,null,null,null,null,null,null,null,null,null,null,null,null,null,null,null,null,null,null,null,null,10000]
[null,null,660,0.1,110,null,null,null,null,null,null,null,null,null,null,null,900,0.33,-153.6,660,0.1,110]
[null,null,850,null,195,null,null,null,null,null,null,null,null,null,null,null,1800,0.4,-279.60000000000002,850,null,195]
[null,null,null,null,null,null,null,3.5900000000000001E-2,9.1499999999999998E-2,2.81E-3,null,null,null,null,null,null,4000,0.45,-479.6,null,null,null,null,null,null,null,null,null,null,null,null,null,null,null,null,null,23,null,25,26,27,null,23,null,25,26,27]
[null,null,null,null,null,null,null,"社会保険料",null,null,null,null,null,null,null,null,null,null,null,null,null,null,null,"年収","手取り","比率","社会保険料","所得税","住民税","年収","年収50万上がった場合の手取りの変化","比率","年収100万上がった場合の手取りの変化"]
[null,null,"所得",null,null,"所得控除","給与所得","健康保険料","厚生年金料率","雇用保険料率","基礎控除","配偶者控除","扶養控除",null,null,"控除合計","控除後",null,null,"所得税","住民税",null,null,0,null,null,null,null,null,null,null,null,null,null,null,"年収","手取り","比率","社会保険料","所得税","住民税","年収","手取り","比率","社会保険料","所得税","住民税",null,"以上","以下"]
[null,null,10,0,55,55,0,3.5809199999999994,0,0.62639999999999996,48,null,null,null,null,52.207319999999996,0,0.05,0,0,0,0,null,10,5.7926800000000007,0.57926800000000012,0,0,0,10,null,null,null,null,null,50,45.792680000000004,0.91585360000000005,4.2073199999999993,0,0,1050,756.50636000000009,0.71947204761904759,135.20519999999999,91.608959999999996,66.679479999999998,null,0,null,null,null,5.1449999999999996E-2,8.9999999999999993E-3,null,null,9.1499999999999998E-2]
[null,null,20,0,55,55,0,3.5809199999999994,0,0.62639999999999996,48,null,null,null,null,52.207319999999996,0,0.05,0,0,0,0,null,20,15.792680000000001,0.78963400000000006,4.2073199999999993,0,0,20,null,null,null,null,null,100,83.954080000000005,0.83954080000000009,16.045920000000002,0,0,1100,788.272426,0.7139320272727272,138.83220000000003,101.57859400000001,71.316779999999994,null,0,6.3,null,5.8,0.29840999999999995,5.2199999999999996E-2]
[null,null,30,0,55,55,0,3.5809199999999994,0,0.62639999999999996,48,null,null,null,null,52.207319999999996,0,0.05,0,0,0,0,null,30,25.792680000000001,0.85975600000000008,4.2073199999999993,0,0,30,20,0.4,null,null,null,150,123.921386,0.8261425733333333,22.97484,1.2012580000000002,1.9025160000000003,1150,819.34233599999993,0.70822886521739126,142.45920000000001,112.24438400000003,75.954080000000005,null,6.3,7.3,null,6.8,0.34985999999999995,6.1199999999999991E-2]
[null,null,40,0,55,55,0,3.5809199999999994,0,0.62639999999999996,48,null,null,null,null,52.207319999999996,0,0.05,0,0,0,0,null,40,35.792680000000004,0.89481700000000008,4.2073199999999993,0,0,40,20.000000000000004,0.40000000000000008,null,null,null,200,161.55187000000001,0.80775934999999999,30.997799999999994,2.6501100000000002,4.8002200000000004,1200,852.84233599999993,0.70300096666666656,142.45920000000001,123.74438400000003,80.954080000000005,null,7.3,8.3000000000000007,null,7.8,0.40130999999999994,7.0199999999999999E-2,null,0,0]
[null,null,50,0,55,55,0,3.5809199999999994,0,0.62639999999999996,48,null,null,null,null,52.207319999999996,0,0.05,0,0,0,0,null,50,45.792680000000004,0.91585360000000005,4.2073199999999993,0,0,50,20.000000000000004,0.40000000000000008,40,0.4,null,250,201.65219999999999,0.80660880000000001,36.468000000000004,4.1265999999999998,7.7531999999999996,1250,883.91224599999998,0.69819130000000007,146.08619999999999,134.41017400000001,85.591380000000015,null,8.3000000000000007,9.3000000000000007,0,8.8000000000000007,0.45276,7.9200000000000007E-2,null,8.3000000000000007,0.80520000000000003]
[null,null,60,0,55,55,5,3.5809199999999994,0,0.62639999999999996,48,null,null,null,null,52.207319999999996,0,0.05,0,0,0,0,null,60,55.792680000000004,0.92987800000000009,4.2073199999999993,0,0,60,20,0.4,40,0.4,null,300,237.10285999999999,0.79034286666666664,47.4084,5.32958,10.15916,1300,913.83999799999992,0.6937516076923077,150.43860000000001,145.56526200000005,90.156140000000008,null,9.3000000000000007,10.1,0,9.8000000000000007,0.50421000000000005,8.8200000000000001E-2,null,9.3000000000000007,0.89670000000000005]
[null,null,70,0,55,55,15,3.5809199999999994,0,0.62639999999999996,48,null,null,null,null,52.207319999999996,0,0.05,0,0,0,0,null,70,65.792680000000004,0.9398954285714286,4.2073199999999993,0,0,70,20,0.4,40,0.4,null,350,272.55351999999999,0.77872434285714287,58.348799999999997,6.532560000000001,12.565120000000002,1350,939.85912999999994,0.6873284481481482,154.79099999999997,160.62897000000007,94.720900000000015,null,10.1,10.7,0,10.4,0.53508,9.3600000000000003E-2,null,10.1,0.9516]
[null,null,80,0,55,55,25,4.1983199999999989,0,0.73439999999999994,48,null,null,null,null,52.932719999999996,0,0.05,0,0,0,0,null,80,75.067279999999997,0.93834099999999998,4.9327199999999989,0,0,80,19.274599999999992,0.38549199999999983,39.274599999999992,0.39274599999999993,null,400,313.60374000000002,0.78400935000000005,61.995599999999989,8.3002200000000013,16.100440000000003,1400,968.35912999999994,0.6804874428571428,154.79099999999997,177.12897000000007,99.720900000000015,null,10.7,11.4,0,11,0.56594999999999995,9.8999999999999991E-2,null,10.7,1.0065]
[null,null,90,0,55,55,35,4.8157199999999989,0,0.84240000000000004,48,null,null,null,null,53.658119999999997,0,0.05,0,0,0,0,null,90,84.341880000000003,0.93713200000000008,5.6581199999999985,0,0,90,18.549199999999999,0.37098399999999998,38.549199999999999,0.385492,null,450,351.21863999999999,0.78048586666666664,69.289199999999994,10.121080000000003,19.371080000000003,1450,994.37826199999995,0.67411823103448276,159.14340000000001,192.19267800000003,104.28566000000001,null,11.4,12.2,0,11.8,0.60711000000000004,0.1062,null,11.4,1.0797000000000001]
[null,null,100,0,55,55,45,5.4331199999999997,9.6623999999999999,0.95040000000000013,48,null,null,null,null,64.045919999999995,0,0.05,0,0,0,0,null,100,83.954080000000005,0.83954080000000009,16.045920000000002,0,0,100,8.886800000000008,0.17773600000000017,28.1614,0.28161400000000003,null,500,388.84248000000002,0.77768496000000009,74.759399999999999,13.574060000000003,22.824060000000003,1500,1020.397394,0.66817363333333335,163.4958,207.25638600000005,108.85042000000001,null,12.2,13,0,12.6,0.6482699999999999,0.11339999999999999,null,12.2,1.1529]
[null,null,110,0,55,55,55,5.4331199999999997,9.6623999999999999,0.95040000000000013,48,null,null,null,null,64.045919999999995,0,0.05,0,0,0,0,null,110,93.954080000000005,0.854128,16.045920000000002,0,0,110,9.6122000000000014,0.19224400000000003,28.1614,0.28161400000000003,null,550,422.09016000000003,0.76743665454545462,85.699799999999982,16.480020000000003,25.730020000000003,1550,1048.8973940000001,0.66261255806451613,163.4958,223.75638600000005,113.85042000000001,null,13,13.8,0,13.4,0.68942999999999999,0.1206,null,13,1.2261]
[null,null,120,0,55,55,65,6.0505200000000006,10.760400000000001,1.0584,48,null,null,null,null,65.869320000000002,0,0.05,0,0,0,0,null,120,102.13068,0.85108899999999998,17.869320000000002,0,0,120,18.176599999999993,0.36353199999999986,27.063400000000001,0.27063400000000004,null,600,459.714,0.76619000000000004,91.170000000000016,19.933,29.183,1600,1074.916526,0.65739904999999998,167.84819999999999,238.82009400000007,118.41518000000002,null,13.8,14.6,0,14.2,0.73058999999999985,0.1278,null,13.8,1.2992999999999999]
[null,null,130,0,55,55,75,6.7913999999999994,12.077999999999999,1.1879999999999999,48,null,null,null,null,68.057400000000001,6.9425999999999988,0.05,0,0.34712999999999994,0.19425999999999988,0.54138999999999982,null,130,109.40121000000001,0.84154776923076924,20.057399999999998,0.34712999999999994,0.19425999999999988,130,15.447130000000001,0.30894260000000001,25.059330000000003,0.25059330000000002,null,650,497.20186000000001,0.76492593846153845,96.640200000000007,23.521960000000007,32.635980000000004,1650,1100.9356580000001,0.6525015121212121,172.20060000000001,253.88380199999997,122.97994,null,14.6,15.5,0,15,0.77174999999999994,0.13499999999999998,null,14.6,1.3725000000000001]
[null,null,140,0,55,55,85,7.2853200000000005,12.956400000000002,1.2744,48,null,null,null,null,69.516120000000001,15.483879999999999,0.05,0,0.77419400000000005,1.0483880000000001,1.8225820000000001,null,140,116.661298,0.83329498571428573,21.516120000000001,0.77419400000000005,1.0483880000000001,140,14.530618000000004,0.29061236000000007,32.707217999999997,0.32707217999999999,null,700,526.34357999999997,0.75191940000000002,107.5806,30.133880000000005,35.941940000000002,1700,1129.4356580000001,0.64789206470588234,172.20060000000001,270.38380199999995,127.97994,null,15.5,16.5,0,16,0.82319999999999993,0.14399999999999999,null,15.5,1.464]
[null,null,150,0,55,55,95,7.7792399999999988,13.834800000000001,1.3607999999999998,48,null,null,null,null,70.97484,24.02516,0.05,0,1.2012580000000002,1.9025160000000003,3.1037740000000005,null,150,123.921386,0.8261425733333333,22.97484,1.2012580000000002,1.9025160000000003,150,14.520175999999992,0.29040351999999986,29.967305999999994,0.29967305999999994,null,750,559.01443999999992,0.74535258666666659,113.05079999999998,38.039840000000012,39.894920000000006,1750,1157.9356580000001,0.64354601428571423,172.20060000000001,286.88380199999995,132.97994,null,16.5,17.5,0,17,0.87464999999999993,0.153,null,16.5,1.5554999999999999]
[null,null,160,0,55,55,105,8.2731600000000007,14.713200000000001,1.4472,48,null,null,null,null,72.43356,32.56644,0.05,0,1.628322,2.7566440000000001,4.3849660000000004,null,160,131.18147400000001,0.8198842125000001,24.43356,1.628322,2.7566440000000001,160,14.520176000000006,0.29040352000000014,29.05079400000001,0.29050794000000013,null,800,590.16196000000002,0.73770245000000001,120.6972,45.510559999999998,43.630279999999999,1800,1186.4356580000001,0.63944141111111119,172.20060000000001,303.38380199999995,137.97994,null,17.5,18.5,0,18,0.92609999999999992,0.16199999999999998,null,17.5,1.647]
[null,null,170,0.4,-10,58,112,8.7670799999999982,15.5916,1.5335999999999999,48,null,null,null,null,73.89228,38.10772,0.05,0,1.905386,3.310772,5.2161580000000001,null,170,138.89156199999999,0.81700918823529411,25.89228,1.905386,3.310772,170,14.970175999999995,0.29940351999999992,29.490351999999987,0.29490351999999986,null,850,0,0,0,0,0,1850,1214.9356580000001,0.63555867837837832,172.20060000000001,319.88380199999995,142.97994,null,18.5,19.5,0,19,0.97754999999999992,0.17099999999999999,null,18.5,1.7384999999999999]
[null,null,180,0.3,8,62,118,9.2609999999999992,16.47,1.6199999999999997,48,null,null,null,null,75.350999999999999,42.649000000000001,0.05,0,2.13245,3.7648999999999999,5.8973499999999994,null,180,146.75165000000001,0.81528694444444449,27.350999999999999,2.13245,3.7648999999999999,180,15.570176000000004,0.31140352000000004,30.09035200000001,0.30090352000000009,null,900,658.10750000000007,0.73123055555555561,125.77499999999999,63.495000000000005,52.622500000000002,1900,1243.4356580000001,0.63188029999999995,172.20060000000001,336.38380199999995,147.97994,null,19.5,21,0,20,1.0289999999999999,0.18,null,19.5,1.83]
[null,null,190,0.3,8,65,125,9.8783999999999992,17.567999999999998,1.7279999999999998,48,null,null,null,null,77.174399999999991,47.825600000000009,0.05,0,2.3912800000000005,4.282560000000001,6.673840000000002,null,190,154.15176,0.81132505263157895,29.174399999999999,2.3912800000000005,4.282560000000001,190,15.260198000000003,0.30520396000000005,30.230373999999998,0.30230373999999999,null,950,691.07637999999997,0.72744882105263153,128.67660000000001,72.914680000000004,57.332340000000002,1950,1271.9356580000001,0.62839055641025632,172.20060000000001,352.88380199999995,152.97994,null,21,23,0,22,1.1318999999999999,0.19799999999999998,null,21,2.0129999999999999]
[null,null,200,0.3,8,68,132,10.495799999999999,18.665999999999997,1.8359999999999999,48,null,null,null,null,78.997799999999998,53.002200000000002,0.05,0,2.6501100000000002,4.8002200000000004,7.450330000000001,null,200,161.55187000000001,0.80775934999999999,30.997799999999994,2.6501100000000002,4.8002200000000004,200,14.800219999999996,0.29600439999999995,30.370396,0.30370396,null,1000,724.04525999999998,0.72404526000000002,131.57820000000001,82.334360000000004,62.042180000000002,2000,1300.4356580000001,0.6250753,172.20060000000001,369.38380199999995,157.97994,null,23,25,0,24,1.2347999999999999,0.21599999999999997,null,23,2.1959999999999997]
[null,null,210,0.3,8,71,139,11.113199999999999,19.763999999999999,1.9439999999999997,48,null,null,null,null,80.821200000000005,58.178799999999995,0.05,0,2.9089399999999999,5.3178799999999997,8.22682,null,210,168.95197999999999,0.80453323809523802,32.821199999999997,2.9089399999999999,5.3178799999999997,210,14.800219999999996,0.29600439999999995,30.060417999999999,0.30060418,null,null,null,null,null,null,null,null,null,null,null,null,null,null,25,27,0,26,1.3376999999999999,0.23399999999999999,null,25,2.379]
[null,null,220,0.3,8,74,146,11.113199999999999,19.763999999999999,1.9439999999999997,48,null,null,null,null,80.821200000000005,65.178799999999995,0.05,0,3.2589399999999999,6.0178799999999999,9.2768200000000007,null,220,177.90198000000001,0.80864536363636363,32.821199999999997,3.2589399999999999,6.0178799999999999,220,16.350110000000001,0.32700220000000002,31.150329999999997,0.31150329999999998,null,null,null,null,null,null,null,null,null,null,null,null,null,null,27,29,0,28,1.4405999999999999,0.252,null,27,2.5619999999999998]
[null,null,230,0.3,8,77,153,11.730599999999999,20.861999999999998,2.0519999999999996,48,null,null,null,null,82.644599999999997,70.355400000000003,0.05,0,3.5177700000000005,6.535540000000001,10.053310000000002,null,230,185.30209000000002,0.80566126086956535,34.644599999999997,3.5177700000000005,6.535540000000001,230,16.350110000000029,0.32700220000000058,31.150330000000025,0.31150330000000026,null,null,null,null,null,null,null,null,null,null,null,null,null,null,29,1,0,30,1.5434999999999999,0.26999999999999996,null,29,2.7450000000000001]
[null,null,240,0.3,8,80,160,12.347999999999999,21.96,2.16,48,null,null,null,null,84.468000000000004,75.531999999999996,0.05,0,3.7766000000000002,7.0532000000000004,10.829800000000001,null,240,192.7022,0.80292583333333334,36.468000000000004,3.7766000000000002,7.0532000000000004,240,14.800219999999996,0.29600439999999995,31.150329999999997,0.31150329999999998,null,null,null,null,null,null,null,null,null,null,null,null,null,null,1,33,0,32,1.6463999999999999,0.28799999999999998,null,1,2.9279999999999999]
[null,null,250,0.3,8,83,167,12.347999999999999,21.96,2.16,48,null,null,null,null,84.468000000000004,82.531999999999996,0.05,0,4.1265999999999998,7.7531999999999996,11.879799999999999,null,250,201.65219999999999,0.80660880000000001,36.468000000000004,4.1265999999999998,7.7531999999999996,250,16.350109999999972,0.32700219999999947,32.700220000000002,0.32700220000000002,null,null,null,null,null,null,null,null,null,null,null,null,null,null,33,35,0,34,1.7492999999999999,0.30599999999999999,null,33,3.1109999999999998]
[null,null,260,0.3,8,86,174,13.582799999999999,24.155999999999999,2.3759999999999999,48,null,null,null,null,88.114800000000002,85.885199999999998,0.05,0,4.2942600000000004,8.0885200000000008,12.38278,null,260,207.50242,0.7980862307692308,40.114799999999995,4.2942600000000004,8.0885200000000008,260,14.800219999999996,0.29600439999999995,29.600439999999992,0.29600439999999995,null,null,null,null,null,null,null,null,null,null,null,null,null,null,35,37,0,36,1.8521999999999998,0.32399999999999995,null,35,3.294]
[null,null,270,0.3,8,89,181,13.582799999999999,24.155999999999999,2.3759999999999999,48,null,null,null,null,88.114800000000002,92.885199999999998,0.05,0,4.6442600000000001,8.7885200000000001,13.432780000000001,null,270,216.45242000000002,0.80167562962962968,40.114799999999995,4.6442600000000001,8.7885200000000001,270,14.800220000000024,0.2960044000000005,31.150329999999997,0.31150329999999998,null,null,null,null,null,null,null,null,null,null,null,null,null,null,37,39.5,0,38,1.9550999999999998,0.34199999999999997,null,37,3.4769999999999999]
[null,null,280,0.3,8,92,188,14.817599999999999,26.351999999999997,2.5919999999999996,48,null,null,null,null,91.761599999999987,96.238400000000013,0.05,0,4.8119200000000006,9.1238400000000013,13.935760000000002,null,280,222.30264,0.79393800000000003,43.761599999999994,4.8119200000000006,9.1238400000000013,280,14.800219999999996,0.29600439999999995,29.600439999999992,0.29600439999999995,null,null,null,null,null,null,null,null,null,null,null,null,null,null,39.5,42.5,0,41,2.1094499999999998,0.36899999999999999,null,39.5,3.7515000000000001]
[null,null,290,0.3,8,95,195,14.817599999999999,26.351999999999997,2.5919999999999996,48,null,null,null,null,91.761599999999987,103.23840000000001,0.05,0,5.1619200000000012,9.8238400000000023,14.985760000000003,null,290,231.25263999999999,0.79742289655172405,43.761599999999994,5.1619200000000012,9.8238400000000023,290,14.800219999999968,0.29600439999999933,29.600439999999992,0.29600439999999995,null,null,null,null,null,null,null,null,null,null,null,null,null,null,42.5,45.5,0,44,2.2637999999999998,0.39599999999999996,null,42.5,4.0259999999999998]
[null,null,300,0.3,8,98,202,16.052399999999999,28.548000000000002,2.8079999999999998,48,null,null,null,null,95.4084,106.5916,0.05,0,5.32958,10.15916,15.48874,null,300,237.10285999999999,0.79034286666666664,47.4084,5.32958,10.15916,300,14.800219999999996,0.29600439999999995,29.600439999999992,0.29600439999999995,null,null,null,null,null,null,null,null,null,null,null,null,null,null,45.5,48.5,0,47,2.4181499999999998,0.42299999999999999,null,45.5,4.3004999999999995]
[null,null,310,0.3,8,101,209,16.052399999999999,28.548000000000002,2.8079999999999998,48,null,null,null,null,95.4084,113.5916,0.05,0,5.6795800000000005,10.859160000000001,16.538740000000001,null,310,246.05286000000001,0.79371890322580652,47.4084,5.6795800000000005,10.859160000000001,310,14.800220000000024,0.2960044000000005,29.600439999999992,0.29600439999999995,null,null,null,null,null,null,null,null,null,null,null,null,null,null,48.5,51.5,0,50,2.5724999999999998,0.44999999999999996,null,48.5,4.5750000000000002]
[null,null,320,0.3,8,104,216,16.052399999999999,28.548000000000002,2.8079999999999998,48,null,null,null,null,95.4084,120.5916,0.05,0,6.0295800000000002,11.55916,17.588740000000001,null,320,255.00286,0.79688393749999997,47.4084,6.0295800000000002,11.55916,320,17.900000000000006,0.3580000000000001,32.700220000000002,0.32700220000000002,null,null,null,null,null,null,null,null,null,null,null,null,null,null,51.5,54.5,0,53,2.7268499999999998,0.47699999999999998,null,51.5,4.8494999999999999]
[null,null,330,0.3,8,107,223,19.756799999999998,35.135999999999996,3.4559999999999995,48,null,null,null,null,106.3488,116.6512,0.05,0,5.8325600000000009,11.165120000000002,16.997680000000003,null,330,254.65352000000001,0.77167733333333333,58.348799999999997,5.8325600000000009,11.165120000000002,330,8.6006600000000049,0.17201320000000009,23.400880000000029,0.23400880000000029,null,null,null,null,null,null,null,null,null,null,null,null,null,null,54.5,57.5,0,56,2.8811999999999998,0.504,null,54.5,5.1239999999999997]
[null,null,340,0.3,8,110,230,19.756799999999998,35.135999999999996,3.4559999999999995,48,null,null,null,null,106.3488,123.6512,0.05,0,6.1825600000000005,11.865120000000001,18.04768,null,340,263.60352,0.77530447058823526,58.348799999999997,6.1825600000000005,11.865120000000001,340,8.6006600000000049,0.17201320000000009,26.500660000000011,0.26500660000000009,null,null,null,null,null,null,null,null,null,null,null,null,null,null,57.5,60.5,0,59,3.0355499999999997,0.53099999999999992,null,57.5,5.3985000000000003]
[null,null,350,0.3,8,113,237,19.756799999999998,35.135999999999996,3.4559999999999995,48,null,null,null,null,106.3488,130.65120000000002,0.05,0,6.532560000000001,12.565120000000002,19.097680000000004,null,350,272.55351999999999,0.77872434285714287,58.348799999999997,6.532560000000001,12.565120000000002,350,17.899999999999977,0.35799999999999954,26.500659999999982,0.26500659999999981,null,null,null,null,null,null,null,null,null,null,null,null,null,null,60.5,63.5,0,62,3.1898999999999997,0.55799999999999994,null,60.5,5.673]
[null,null,360,0.2,44,116,244,19.756799999999998,35.135999999999996,3.4559999999999995,48,null,null,null,null,106.3488,137.65120000000002,0.05,0,6.8825600000000016,13.265120000000003,20.147680000000005,null,360,281.50351999999998,0.78195422222222222,58.348799999999997,6.8825600000000016,13.265120000000003,360,17.899999999999977,0.35799999999999954,26.500659999999982,0.26500659999999981,null,null,null,null,null,null,null,null,null,null,null,null,null,null,63.5,66.5,0,65,3.3442499999999997,0.58499999999999996,null,63.5,5.9474999999999998]
[null,null,370,0.2,44,118,252,19.756799999999998,35.135999999999996,3.4559999999999995,48,null,null,null,null,106.3488,145.65120000000002,0.05,0,7.282560000000001,14.065120000000002,20.932560000000002,null,370,290.30351999999999,0.7846041081081081,58.348799999999997,7.282560000000001,14.065120000000002,370,17.75,0.35499999999999998,35.649999999999977,0.35649999999999976,null,null,null,null,null,null,null,null,null,null,null,null,null,null,66.5,69.5,null,68,3.4985999999999997,0.61199999999999999,null,100000]
[null,null,380,0.2,44,120,260,19.756799999999998,35.135999999999996,3.4559999999999995,48,null,null,null,null,106.3488,153.65120000000002,0.05,0,7.6825600000000014,14.865120000000003,21.332560000000001,null,380,299.10352,0.78711452631578949,58.348799999999997,7.6825600000000014,14.865120000000003,380,17.600000000000023,0.35200000000000048,35.5,0.35499999999999998,null,null,null,null,null,null,null,null,null,null,null,null,null,null,69.5,73,null,71,3.6529499999999997,0.6389999999999999]
[null,null,390,0.2,44,122,268,19.756799999999998,35.135999999999996,3.4559999999999995,48,null,null,null,null,106.3488,161.65120000000002,0.05,0,8.0825600000000009,15.665120000000002,21.732559999999999,null,390,307.90352000000001,0.78949620512820518,58.348799999999997,8.0825600000000009,15.665120000000002,390,17.600000000000023,0.35200000000000048,35.350000000000023,0.3535000000000002,null,null,null,null,null,null,null,null,null,null,null,null,null,null,73,77,null,75,3.8587499999999997,0.67499999999999993]
[null,null,400,0.2,44,124,276,20.991599999999998,37.331999999999994,3.6719999999999997,48,null,null,null,null,109.9956,166.0044,0.05,0,8.3002200000000013,16.100440000000003,21.950220000000002,null,400,313.60374000000002,0.78400935000000005,61.995599999999989,8.3002200000000013,16.100440000000003,400,14.500220000000013,0.29000440000000027,32.100220000000036,0.32100220000000035,null,null,null,null,null,null,null,null,null,null,null,null,null,null,77,81,null,79,4.0645499999999997,0.71099999999999997]
[null,null,410,0.2,44,126,284,20.991599999999998,37.331999999999994,3.6719999999999997,48,null,null,null,null,109.9956,174.0044,0.05,0,8.7002199999999998,16.90044,22.35022,null,410,322.40374000000003,0.78635058536585367,61.995599999999989,8.7002199999999998,16.90044,410,14.500220000000013,0.29000440000000027,32.100220000000036,0.32100220000000035,null,null,null,null,null,null,null,null,null,null,null,null,null,null,81,85.5,null,83,4.2703499999999996,0.747]
[null,null,420,0.2,44,128,292,22.226399999999998,39.527999999999999,3.8879999999999995,48,null,null,null,null,113.64239999999999,178.35759999999999,0.05,0,8.9178800000000003,17.335760000000001,22.567880000000002,null,420,328.10396000000003,0.78119990476190482,65.642399999999995,8.9178800000000003,17.335760000000001,420,14.500220000000013,0.29000440000000027,29.000440000000026,0.29000440000000027,null,null,null,null,null,null,null,null,null,null,null,null,null,null,85.5,90.5,null,88,4.5275999999999996,0.79199999999999993]
[null,null,430,0.2,44,130,300,22.226399999999998,39.527999999999999,3.8879999999999995,48,null,null,null,null,113.64239999999999,186.35759999999999,0.05,0,9.3178800000000006,18.135760000000001,22.967880000000001,null,430,336.90395999999998,0.78349758139534875,65.642399999999995,9.3178800000000006,18.135760000000001,430,14.500219999999956,0.29000439999999911,29.000439999999969,0.29000439999999972,null,null,null,null,null,null,null,null,null,null,null,null,null,null,90.5,95.5,null,93,4.7848499999999996,0.83699999999999997]
[null,null,440,0.2,44,132,308,22.226399999999998,39.527999999999999,3.8879999999999995,48,null,null,null,null,113.64239999999999,194.35759999999999,0.05,0,9.717880000000001,18.935760000000002,23.36788,null,440,345.70396,0.78569081818181818,65.642399999999995,9.717880000000001,18.935760000000002,440,17.599999999999966,0.35199999999999931,32.100219999999979,0.32100219999999979,null,null,null,null,null,null,null,null,null,null,null,null,null,null,95.5,100.5,null,98,5.0420999999999996,0.8819999999999999]
[null,null,450,0.2,44,134,316,23.461199999999998,41.723999999999997,4.1039999999999992,48,null,null,null,null,117.28919999999999,198.71080000000001,0.1,-9.75,10.121080000000003,19.371080000000003,23.771080000000005,null,450,351.21863999999999,0.78048586666666664,69.289199999999994,10.121080000000003,19.371080000000003,450,14.31468000000001,0.2862936000000002,28.814899999999966,0.28814899999999966,null,null,null,null,null,null,null,null,null,null,null,null,null,null,100.5,105.5,null,103,5.2993499999999996,0.92699999999999994]
[null,null,460,0.2,44,136,324,23.461199999999998,41.723999999999997,4.1039999999999992,48,null,null,null,null,117.28919999999999,206.71080000000001,0.1,-9.75,10.921080000000003,20.171080000000003,24.571080000000002,null,460,359.61864000000003,0.7817796521739131,69.289199999999994,10.921080000000003,20.171080000000003,460,13.914680000000033,0.27829360000000064,31.514679999999998,0.3151468,null,null,null,null,null,null,null,null,null,null,null,null,null,null,105.5,111.5,null,109,5.6080499999999995,0.98099999999999987]
[null,null,470,0.2,44,138,332,23.461199999999998,41.723999999999997,4.1039999999999992,48,null,null,null,null,117.28919999999999,214.71080000000001,0.1,-9.75,11.721080000000001,20.971080000000001,25.371079999999999,null,470,368.01864,0.78301838297872339,69.289199999999994,11.721080000000001,20.971080000000001,470,16.800000000000011,0.33600000000000024,31.114680000000021,0.31114680000000022,null,null,null,null,null,null,null,null,null,null,null,null,null,null,111.5,117.5,null,115,5.9167499999999995,1.0349999999999999]
[null,null,480,0.2,44,140,340,25.313399999999998,45.018000000000001,4.4279999999999999,48,null,null,null,null,122.7594,217.2406,0.1,-9.75,11.974060000000001,21.224060000000001,25.62406,null,480,372.04247999999995,0.77508849999999996,74.759399999999999,11.974060000000001,21.224060000000001,480,12.423839999999927,0.24847679999999855,26.33851999999996,0.2633851999999996,null,null,null,null,null,null,null,null,null,null,null,null,null,null,117.5,123.5,null,121,6.2254499999999995,1.089]
[null,null,490,0.2,44,142,348,25.313399999999998,45.018000000000001,4.4279999999999999,48,null,null,null,null,122.7594,225.2406,0.1,-9.75,12.774060000000002,22.024060000000002,26.424060000000004,null,490,380.44247999999999,0.77641322448979588,74.759399999999999,12.774060000000002,22.024060000000002,490,12.423839999999984,0.24847679999999969,29.223839999999996,0.29223839999999995,null,null,null,null,null,null,null,null,null,null,null,null,null,null,123.5,129.5,null,127,6.5341499999999995,1.143]
[null,null,500,0.2,44,144,356,25.313399999999998,45.018000000000001,4.4279999999999999,48,null,null,null,null,122.7594,233.2406,0.1,-9.75,13.574060000000003,22.824060000000003,27.224060000000001,null,500,388.84248000000002,0.77768496000000009,74.759399999999999,13.574060000000003,22.824060000000003,500,16.800000000000068,0.33600000000000135,29.223839999999996,0.29223839999999995,null,null,null,null,null,null,null,null,null,null,null,null,null,null,129.5,135.5,null,133,6.8428499999999994,1.1969999999999998]
[null,null,510,0.2,44,146,364,27.165599999999998,48.311999999999998,4.7519999999999998,48,null,null,null,null,128.2296,235.7704,0.1,-9.75,13.82704,23.07704,27.477040000000002,null,510,392.86632000000003,0.77032611764705883,80.229599999999991,13.82704,23.07704,510,12.423840000000041,0.24847680000000083,24.847680000000025,0.24847680000000025,null,null,null,null,null,null,null,null,null,null,null,null,null,null,135.5,10000,null,139,7.1515499999999994,1.2509999999999999]
[null,null,520,0.2,44,148,372,27.165599999999998,48.311999999999998,4.7519999999999998,48,null,null,null,null,128.2296,243.7704,0.1,-9.75,14.627040000000001,23.877040000000001,28.27704,null,520,401.26632000000001,0.77166599999999996,80.229599999999991,14.627040000000001,23.877040000000001,520,12.423839999999984,0.24847679999999969,29.223840000000052,0.29223840000000051,null,null,null,null,null,null,null,null,null,null,null,null,null,null,10000]
[null,null,530,0.2,44,150,380,27.165599999999998,48.311999999999998,4.7519999999999998,48,null,null,null,null,128.2296,251.7704,0.1,-9.75,15.427040000000002,24.677040000000002,29.077040000000004,null,530,409.66631999999998,0.77295532075471696,80.229599999999991,15.427040000000002,24.677040000000002,530,16.799999999999955,0.33599999999999908,29.223839999999996,0.29223839999999995]
[null,null,540,0.2,44,152,388,27.165599999999998,48.311999999999998,4.7519999999999998,48,null,null,null,null,128.2296,259.7704,0.1,-9.75,16.227040000000002,25.477040000000002,29.877040000000001,null,540,418.06632000000002,0.77419688888888893,80.229599999999991,16.227040000000002,25.477040000000002,540,16.800000000000011,0.33600000000000024,29.223839999999996,0.29223839999999995]
[null,null,550,0.2,44,154,396,29.017799999999998,51.605999999999995,5.0759999999999996,48,null,null,null,null,133.69979999999998,262.30020000000002,0.1,-9.75,16.480020000000003,25.730020000000003,30.130020000000002,null,550,422.09016000000003,0.76743665454545462,85.699799999999982,16.480020000000003,25.730020000000003,550,12.423840000000041,0.24847680000000083,29.223839999999996,0.29223839999999995]
[null,null,560,0.2,44,156,404,29.017799999999998,51.605999999999995,5.0759999999999996,48,null,null,null,null,133.69979999999998,270.30020000000002,0.1,-9.75,17.280020000000004,26.530020000000004,30.930020000000006,null,560,430.49016,0.76873242857142854,85.699799999999982,17.280020000000004,26.530020000000004,560,12.423839999999984,0.24847679999999969,29.223839999999996,0.29223839999999995]
[null,null,570,0.2,44,158,412,29.017799999999998,51.605999999999995,5.0759999999999996,48,null,null,null,null,133.69979999999998,278.30020000000002,0.1,-9.75,18.080020000000005,27.330020000000005,31.730020000000003,null,570,438.89016000000004,0.76998273684210528,85.699799999999982,18.080020000000005,27.330020000000005,570,16.800000000000011,0.33600000000000024,29.223840000000052,0.29223840000000051]
[null,null,580,0.2,44,160,420,29.017799999999998,51.605999999999995,5.0759999999999996,48,null,null,null,null,133.69979999999998,286.30020000000002,0.1,-9.75,18.880020000000002,28.130020000000002,32.53002,null,580,447.29016000000001,0.77118993103448275,85.699799999999982,18.880020000000002,28.130020000000002,580,16.800000000000011,0.33600000000000024,29.223839999999996,0.29223839999999995]
[null,null,590,0.2,44,162,428,30.869999999999997,54.900000000000006,5.3999999999999995,48,null,null,null,null,139.17000000000002,288.83,0.1,-9.75,19.132999999999999,28.382999999999999,32.783000000000001,null,590,451.31399999999996,0.7649389830508474,91.170000000000016,19.132999999999999,28.382999999999999,590,12.423839999999927,0.24847679999999855,29.223839999999939,0.2922383999999994]
[null,null,600,0.2,44,164,436,30.869999999999997,54.900000000000006,5.3999999999999995,48,null,null,null,null,139.17000000000002,296.83,0.1,-9.75,19.933,29.183,33.582999999999998,null,600,459.714,0.76619000000000004,91.170000000000016,19.933,29.183,600,12.423839999999984,0.24847679999999969,29.223839999999996,0.29223839999999995]
[null,null,610,0.2,44,166,444,30.869999999999997,54.900000000000006,5.3999999999999995,48,null,null,null,null,139.17000000000002,304.83,0.1,-9.75,20.733000000000001,29.983000000000001,34.383000000000003,null,610,468.11399999999998,0.76739999999999997,91.170000000000016,20.733000000000001,29.983000000000001,610,16.800000000000011,0.33600000000000024,29.223839999999939,0.2922383999999994]
[null,null,620,0.2,44,168,452,32.722200000000001,58.194000000000003,5.7240000000000002,48,null,null,null,null,144.64019999999999,307.35980000000001,0.1,-9.75,20.985980000000001,30.235980000000001,34.635980000000004,null,620,472.13783999999998,0.76151264516129025,96.640200000000007,20.985980000000001,30.235980000000001,620,12.423839999999984,0.24847679999999969,24.847679999999968,0.24847679999999969]
[null,null,630,0.2,44,170,460,32.722200000000001,58.194000000000003,5.7240000000000002,48,null,null,null,null,144.64019999999999,315.35980000000001,0.1,-9.75,21.785980000000002,31.035980000000002,35.435980000000001,null,630,480.53783999999996,0.7627584761904761,96.640200000000007,21.785980000000002,31.035980000000002,630,12.423839999999984,0.24847679999999969,29.223839999999996,0.29223839999999995]
[null,null,640,0.2,44,172,468,32.722200000000001,58.194000000000003,5.7240000000000002,48,null,null,null,null,144.64019999999999,323.35980000000001,0.1,-9.75,22.585979999999999,31.835979999999999,36.235979999999998,null,640,488.93783999999999,0.76396537499999995,96.640200000000007,22.585979999999999,31.835979999999999,640,16.800000000000011,0.33600000000000024,29.223839999999996,0.29223839999999995]
[null,null,650,0.2,44,174,476,32.722200000000001,58.194000000000003,5.7240000000000002,48,null,null,null,null,144.64019999999999,331.35980000000001,0.2,-42.75,23.521960000000007,32.635980000000004,37.171960000000006,null,650,497.20186000000001,0.76492593846153845,96.640200000000007,23.521960000000007,32.635980000000004,650,16.66402000000005,0.33328040000000103,29.087860000000035,0.29087860000000032]
[null,null,660,0.1,110,176,484,34.574399999999997,61.488,6.048,48,null,null,null,null,150.1104,333.88959999999997,0.2,-42.75,24.027919999999995,32.888959999999997,37.677919999999993,null,660,500.97271999999998,0.7590495757575757,102.1104,24.027919999999995,32.888959999999997,660,12.034879999999987,0.24069759999999973,28.834879999999998,0.28834879999999996]
[null,null,670,0.1,110,177,493,34.574399999999997,61.488,6.048,48,null,null,null,null,150.1104,342.88959999999997,0.2,-42.75,25.827919999999992,33.788959999999996,39.47791999999999,null,670,508.27272000000005,0.75861600000000007,102.1104,25.827919999999992,33.788959999999996,670,11.070860000000039,0.22141720000000079,27.734880000000089,0.27734880000000089]
[null,null,680,0.1,110,178,502,34.574399999999997,61.488,6.048,48,null,null,null,null,150.1104,351.88959999999997,0.2,-42.75,27.627920000000003,34.688960000000002,41.277920000000002,null,680,515.57272,0.75819517647058821,102.1104,27.627920000000003,34.688960000000002,680,14.600000000000023,0.29200000000000048,26.63488000000001,0.26634880000000011]
[null,null,690,0.1,110,179,511,36.426599999999993,64.782000000000011,6.371999999999999,48,null,null,null,null,155.5806,355.4194,0.2,-42.75,28.333880000000008,35.041940000000004,41.983880000000006,null,690,519.04358000000002,0.75223707246376814,107.5806,28.333880000000008,35.041940000000004,690,10.770859999999971,0.21541719999999942,21.841720000000009,0.21841720000000009]
[null,null,700,0.1,110,180,520,36.426599999999993,64.782000000000011,6.371999999999999,48,null,null,null,null,155.5806,364.4194,0.2,-42.75,30.133880000000005,35.941940000000002,43.783880000000003,null,700,526.34357999999997,0.75191940000000002,107.5806,30.133880000000005,35.941940000000002,700,10.770859999999971,0.21541719999999942,25.370859999999993,0.25370859999999995]
[null,null,710,0.1,110,181,529,36.426599999999993,64.782000000000011,6.371999999999999,48,null,null,null,null,155.5806,373.4194,0.2,-42.75,31.933880000000002,36.841940000000001,45.583880000000001,null,710,533.64358000000004,0.75161067605633813,107.5806,31.933880000000002,36.841940000000001,710,14.600000000000023,0.29200000000000048,25.370859999999993,0.25370859999999995]
[null,null,720,0.1,110,182,538,36.426599999999993,64.782000000000011,6.371999999999999,48,null,null,null,null,155.5806,382.4194,0.2,-42.75,33.733879999999999,37.74194,47.383879999999998,null,720,540.94358,0.75131052777777774,107.5806,33.733879999999999,37.74194,720,14.600000000000023,0.29200000000000048,25.370859999999993,0.25370859999999995]
[null,null,730,0.1,110,183,547,38.278799999999997,68.075999999999993,6.6959999999999997,48,null,null,null,null,161.05079999999998,385.94920000000002,0.2,-42.75,34.439840000000004,38.094920000000002,48.089840000000002,null,730,544.41444000000001,0.74577320547945203,113.05079999999998,34.439840000000004,38.094920000000002,730,10.770859999999971,0.21541719999999942,25.370859999999993,0.25370859999999995]
[null,null,740,0.1,110,184,556,38.278799999999997,68.075999999999993,6.6959999999999997,48,null,null,null,null,161.05079999999998,394.94920000000002,0.2,-42.75,36.239840000000015,38.994920000000008,49.889840000000014,null,740,551.71443999999997,0.74556005405405401,113.05079999999998,36.239840000000015,38.994920000000008,740,10.770859999999971,0.21541719999999942,25.370859999999993,0.25370859999999995]
[null,null,750,0.1,110,185,565,38.278799999999997,68.075999999999993,6.6959999999999997,48,null,null,null,null,161.05079999999998,403.94920000000002,0.2,-42.75,38.039840000000012,39.894920000000006,51.689840000000011,null,750,559.01443999999992,0.74535258666666659,113.05079999999998,38.039840000000012,39.894920000000006,750,14.599999999999909,0.29199999999999821,25.37085999999988,0.25370859999999879]
[null,null,760,0.1,110,186,574,38.278799999999997,68.075999999999993,6.6959999999999997,48,null,null,null,null,161.05079999999998,412.94920000000002,0.2,-42.75,39.839840000000009,40.794920000000005,53.489840000000008,null,760,566.31443999999999,0.74515057894736836,113.05079999999998,39.839840000000009,40.794920000000005,760,14.600000000000023,0.29200000000000048,25.370859999999993,0.25370859999999995]
[null,null,770,0.1,110,187,583,40.131,71.37,7.02,48,null,null,null,null,166.52100000000002,416.47899999999998,0.2,-42.75,40.5458,41.1479,54.195799999999998,null,770,569.78530000000001,0.73998090909090908,118.521,40.5458,41.1479,770,10.770860000000084,0.2154172000000017,25.370859999999993,0.25370859999999995]
[null,null,780,0.1,110,188,592,40.131,71.37,7.02,48,null,null,null,null,166.52100000000002,425.47899999999998,0.2,-42.75,42.345799999999997,42.047899999999998,55.995799999999996,null,780,577.08529999999996,0.73985294871794871,118.521,42.345799999999997,42.047899999999998,780,10.770859999999971,0.21541719999999942,25.370859999999993,0.25370859999999995]
[null,null,790,0.1,110,189,601,40.131,71.37,7.02,48,null,null,null,null,166.52100000000002,434.47899999999998,0.2,-42.75,44.145800000000008,42.947900000000004,57.795800000000007,null,790,584.38529999999992,0.73972822784810111,118.521,44.145800000000008,42.947900000000004,790,14.599999999999909,0.29199999999999821,25.370859999999993,0.25370859999999995]
[null,null,800,0.1,110,190,610,41.983199999999997,71.37,7.3439999999999994,48,null,null,null,null,168.69720000000001,441.30279999999999,0.2,-42.75,45.510559999999998,43.630279999999999,59.160559999999997,null,800,590.16196000000002,0.73770245000000001,120.6972,45.510559999999998,43.630279999999999,800,13.076660000000061,0.26153320000000124,23.847520000000031,0.2384752000000003]
[null,null,810,0.1,110,191,619,41.983199999999997,71.37,7.3439999999999994,48,null,null,null,null,168.69720000000001,450.30279999999999,0.2,-42.75,47.310560000000009,44.530280000000005,60.960560000000008,null,810,597.46195999999998,0.73760735802469135,120.6972,47.310560000000009,44.530280000000005,810,13.076660000000061,0.26153320000000124,27.67665999999997,0.2767665999999997]
[null,null,820,0.1,110,192,628,41.983199999999997,71.37,7.3439999999999994,48,null,null,null,null,168.69720000000001,459.30279999999999,0.2,-42.75,49.110560000000007,45.430280000000003,62.760560000000005,null,820,604.76196000000004,0.73751458536585368,120.6972,49.110560000000007,45.430280000000003,820,14.600000000000023,0.29200000000000048,27.676660000000084,0.27676660000000086]
[null,null,830,0.1,110,193,637,41.983199999999997,71.37,7.3439999999999994,48,null,null,null,null,168.69720000000001,468.30279999999999,0.2,-42.75,50.910560000000004,46.330280000000002,64.560560000000009,null,830,612.06196,0.73742404819277108,120.6972,50.910560000000004,46.330280000000002,830,14.600000000000023,0.29200000000000048,27.676660000000084,0.27676660000000086]
[null,null,840,0.1,110,194,646,43.835399999999993,71.37,7.6679999999999993,48,null,null,null,null,170.8734,475.1266,0.2,-42.75,52.275320000000008,47.012660000000004,65.925320000000013,null,840,617.83861999999999,0.7355221666666667,122.8734,52.275320000000008,47.012660000000004,840,13.076659999999947,0.26153319999999897,27.67665999999997,0.2767665999999997]
[null,null,850,0,195,195,655,43.835399999999993,71.37,7.6679999999999993,48,null,null,null,null,170.8734,484.1266,0.2,-42.75,54.075320000000005,47.912660000000002,67.725320000000011,null,850,625.13861999999995,0.73545719999999992,122.8734,54.075320000000005,47.912660000000002,850,13.076659999999947,0.26153319999999897,27.67665999999997,0.2767665999999997]
[null,null,860,0,195,195,665,43.835399999999993,71.37,7.6679999999999993,48,null,null,null,null,170.8734,494.1266,0.2,-42.75,56.075320000000005,48.912660000000002,69.725320000000011,null,860,632.13861999999995,0.73504490697674407,122.8734,56.075320000000005,48.912660000000002,860,14.299999999999955,0.28599999999999909,27.376659999999902,0.27376659999999903]
[null,null,870,0,195,195,675,43.835399999999993,71.37,7.6679999999999993,48,null,null,null,null,170.8734,504.1266,0.2,-42.75,58.075320000000005,49.912660000000002,71.725320000000011,null,870,639.13861999999995,0.73464209195402297,122.8734,58.075320000000005,49.912660000000002,870,14,0.28000000000000003,27.076659999999947,0.27076659999999947]
[null,null,880,0,195,195,685,46.304999999999993,71.37,8.1,48,null,null,null,null,173.77499999999998,511.22500000000002,0.2,-42.75,59.495000000000005,50.622500000000002,73.14500000000001,null,880,644.10750000000007,0.73194034090909099,125.77499999999999,59.495000000000005,50.622500000000002,880,11.968880000000127,0.23937760000000252,26.268880000000081,0.26268880000000083]
[null,null,890,0,195,195,695,46.304999999999993,71.37,8.1,48,null,null,null,null,173.77499999999998,521.22500000000002,0.2,-42.75,61.495000000000005,51.622500000000002,75.14500000000001,null,890,651.10750000000007,0.73158146067415741,125.77499999999999,61.495000000000005,51.622500000000002,890,11.968880000000127,0.23937760000000252,25.968880000000127,0.25968880000000127]
[null,null,900,0,195,195,705,46.304999999999993,71.37,8.1,48,null,null,null,null,173.77499999999998,531.22500000000002,0.2,-42.75,63.495000000000005,52.622500000000002,77.14500000000001,null,900,658.10750000000007,0.73123055555555561,125.77499999999999,63.495000000000005,52.622500000000002,900,14,0.28000000000000003,25.968880000000127,0.25968880000000127]
[null,null,910,0,195,195,715,46.304999999999993,71.37,8.1,48,null,null,null,null,173.77499999999998,541.22500000000002,0.2,-42.75,65.495000000000005,53.622500000000002,79.14500000000001,null,910,665.10750000000007,0.73088736263736276,125.77499999999999,65.495000000000005,53.622500000000002,910,14,0.28000000000000003,25.968880000000127,0.25968880000000127]
[null,null,920,0,195,195,725,46.304999999999993,71.37,8.1,48,null,null,null,null,173.77499999999998,551.22500000000002,0.2,-42.75,67.495000000000005,54.622500000000002,81.14500000000001,null,920,672.10750000000007,0.73055163043478266,125.77499999999999,67.495000000000005,54.622500000000002,920,14,0.28000000000000003,28,0.28000000000000003]
[null,null,930,0,195,195,735,48.774599999999992,71.37,8.532,48,null,null,null,null,176.67660000000001,558.32339999999999,0.2,-42.75,68.914680000000004,55.332340000000002,82.56468000000001,null,930,677.07637999999997,0.72803911827956991,128.67660000000001,68.914680000000004,55.332340000000002,930,11.968879999999899,0.23937759999999797,25.968879999999899,0.259688799999999]
[null,null,940,0,195,195,745,48.774599999999992,71.37,8.532,48,null,null,null,null,176.67660000000001,568.32339999999999,0.2,-42.75,70.914680000000004,56.332340000000002,84.56468000000001,null,940,684.07637999999997,0.72774082978723398,128.67660000000001,70.914680000000004,56.332340000000002,940,11.968879999999899,0.23937759999999797,25.968879999999899,0.259688799999999]
[null,null,950,0,195,195,755,48.774599999999992,71.37,8.532,48,null,null,null,null,176.67660000000001,578.32339999999999,0.2,-42.75,72.914680000000004,57.332340000000002,86.56468000000001,null,950,691.07637999999997,0.72744882105263153,128.67660000000001,72.914680000000004,57.332340000000002,950,14,0.28000000000000003,25.968879999999899,0.259688799999999]
[null,null,960,0,195,195,765,48.774599999999992,71.37,8.532,48,null,null,null,null,176.67660000000001,588.32339999999999,0.2,-42.75,74.914680000000004,58.332340000000002,88.56468000000001,null,960,698.07637999999997,0.72716289583333327,128.67660000000001,74.914680000000004,58.332340000000002,960,14,0.28000000000000003,25.968879999999899,0.259688799999999]
[null,null,970,0,195,195,775,48.774599999999992,71.37,8.532,48,null,null,null,null,176.67660000000001,598.32339999999999,0.2,-42.75,76.914680000000004,59.332340000000002,90.56468000000001,null,970,705.07637999999997,0.72688286597938145,128.67660000000001,76.914680000000004,59.332340000000002,970,14,0.28000000000000003,28,0.28000000000000003]
[null,null,980,0,195,195,785,51.244199999999992,71.37,8.9640000000000004,48,null,null,null,null,179.57820000000001,605.42179999999996,0.2,-42.75,78.334360000000004,60.042180000000002,91.984360000000009,null,980,710.04525999999998,0.72453597959183669,131.57820000000001,78.334360000000004,60.042180000000002,980,11.968880000000013,0.23937760000000025,25.968880000000013,0.25968880000000011]
[null,null,990,0,195,195,795,51.244199999999992,71.37,8.9640000000000004,48,null,null,null,null,179.57820000000001,615.42179999999996,0.2,-42.75,80.334360000000004,61.042180000000002,93.984360000000009,null,990,717.04525999999998,0.72428814141414144,131.57820000000001,80.334360000000004,61.042180000000002,990,11.968880000000013,0.23937760000000025,25.968880000000013,0.25968880000000011]
[null,null,1000,0,195,195,805,51.244199999999992,71.37,8.9640000000000004,48,null,null,null,null,179.57820000000001,625.42179999999996,0.2,-42.75,82.334360000000004,62.042180000000002,95.984360000000009,null,1000,724.04525999999998,0.72404526000000002,131.57820000000001,82.334360000000004,62.042180000000002,1000,14,0.28000000000000003,25.968880000000013,0.25968880000000011]
[null,null,1010,0,195,195,815,51.244199999999992,71.37,8.9640000000000004,48,null,null,null,null,179.57820000000001,635.42179999999996,0.2,-42.75,84.334360000000004,63.042180000000002,97.984360000000009,null,1010,731.04525999999998,0.72380718811881184,131.57820000000001,84.334360000000004,63.042180000000002,1010,14,0.28000000000000003,25.968880000000013,0.25968880000000011]
[null,null,1020,0,195,195,825,51.244199999999992,71.37,8.9640000000000004,48,null,null,null,null,179.57820000000001,645.42179999999996,0.2,-42.75,86.334360000000004,64.042180000000002,99.984360000000009,null,1020,738.04525999999998,0.72357378431372543,131.57820000000001,86.334360000000004,64.042180000000002,1020,14,0.28000000000000003,28,0.28000000000000003]
[null,null,1030,0,195,195,835,54.331199999999995,71.37,9.5039999999999996,48,null,null,null,null,183.20519999999999,651.79480000000001,0.2,-42.75,87.608959999999996,64.679479999999998,101.25896,null,1030,742.50636000000009,0.7208799611650486,135.20519999999999,87.608959999999996,64.679479999999998,1030,11.461100000000101,0.22922200000000204,25.461100000000101,0.25461100000000103]
[null,null,1040,0,195,195,845,54.331199999999995,71.37,9.5039999999999996,48,null,null,null,null,183.20519999999999,661.79480000000001,0.2,-42.75,89.608959999999996,65.679479999999998,103.25896,null,1040,749.50636000000009,0.7206791923076924,135.20519999999999,89.608959999999996,65.679479999999998,1040,11.461100000000101,0.22922200000000204,25.461100000000101,0.25461100000000103]
[null,null,1050,0,195,195,855,54.331199999999995,71.37,9.5039999999999996,48,null,null,null,null,183.20519999999999,671.79480000000001,0.2,-42.75,91.608959999999996,66.679479999999998,105.25896,null,1050,756.50636000000009,0.72048224761904767,135.20519999999999,91.608959999999996,66.679479999999998,1050,14,0.28000000000000003,25.461100000000101,0.25461100000000103]
[null,null,1060,0,195,195,865,54.331199999999995,71.37,9.5039999999999996,48,null,null,null,null,183.20519999999999,681.79480000000001,0.2,-42.75,93.608959999999996,67.679479999999998,107.25896,null,1060,763.50636000000009,0.72028901886792462,135.20519999999999,93.608959999999996,67.679479999999998,1060,14,0.28000000000000003,25.461100000000101,0.25461100000000103]
[null,null,1070,0,195,195,875,54.331199999999995,71.37,9.5039999999999996,48,null,null,null,null,183.20519999999999,691.79480000000001,0.2,-42.75,95.608959999999996,68.679479999999998,109.25896,null,1070,770.50636000000009,0.72009940186915899,135.20519999999999,95.608959999999996,68.679479999999998,1070,14,0.28000000000000003,28,0.28000000000000003]
[null,null,1080,0,195,195,885,54.331199999999995,71.37,9.5039999999999996,48,null,null,null,null,183.20519999999999,701.79480000000001,0.23,-63.6,97.812804000000028,69.679479999999998,111.46280400000003,null,1080,777.30251599999997,0.7197245518518518,135.20519999999999,97.812804000000028,69.679479999999998,1080,13.796155999999883,0.27592311999999763,27.796155999999883,0.27796155999999883]
[null,null,1090,0,195,195,895,57.418199999999999,71.37,10.044,48,null,null,null,null,186.83220000000003,708.16779999999994,0.23,-63.6,99.278593999999998,70.316779999999994,112.928594,null,1090,781.57242599999995,0.71703892293577975,138.83220000000003,99.278593999999998,70.316779999999994,1090,11.066065999999864,0.2213213199999973,25.066065999999864,0.25066065999999865]
[null,null,1100,0,195,195,905,57.418199999999999,71.37,10.044,48,null,null,null,null,186.83220000000003,718.16779999999994,0.23,-63.6,101.57859400000001,71.316779999999994,115.22859400000002,null,1100,788.272426,0.71661129636363641,138.83220000000003,101.57859400000001,71.316779999999994,1100,10.969910000000027,0.21939820000000054,24.76606599999991,0.24766065999999909]
[null,null,1110,0,195,195,915,57.418199999999999,71.37,10.044,48,null,null,null,null,186.83220000000003,728.16779999999994,0.23,-63.6,103.87859399999999,72.316779999999994,117.528594,null,1110,794.97242600000004,0.71619137477477479,138.83220000000003,103.87859399999999,72.316779999999994,1110,13.400000000000091,0.26800000000000179,24.466065999999955,0.24466065999999956]
[null,null,1120,0,195,195,925,57.418199999999999,71.37,10.044,48,null,null,null,null,186.83220000000003,738.16779999999994,0.23,-63.6,106.178594,73.316779999999994,119.82859400000001,null,1120,801.67242599999997,0.71577895178571427,138.83220000000003,106.178594,73.316779999999994,1120,13.399999999999977,0.26799999999999957,24.369910000000004,0.24369910000000006]
[null,null,1130,0,195,195,935,57.418199999999999,71.37,10.044,48,null,null,null,null,186.83220000000003,748.16779999999994,0.23,-63.6,108.47859399999999,74.316779999999994,122.12859399999999,null,1130,808.37242600000002,0.71537382831858409,138.83220000000003,108.47859399999999,74.316779999999994,1130,13.399999999999977,0.26799999999999957,26.800000000000068,0.26800000000000068]
[null,null,1140,0,195,195,945,57.418199999999999,71.37,10.044,48,null,null,null,null,186.83220000000003,758.16779999999994,0.23,-63.6,110.778594,75.316779999999994,124.428594,null,1140,815.07242599999995,0.71497581228070173,138.83220000000003,110.778594,75.316779999999994,1140,13.399999999999977,0.26799999999999957,26.799999999999955,0.26799999999999957]
[null,null,1150,0,195,195,955,60.505199999999995,71.37,10.584,48,null,null,null,null,190.45920000000001,764.54079999999999,0.23,-63.6,112.24438400000003,75.954080000000005,125.89438400000003,null,1150,819.34233599999993,0.71247159652173908,142.45920000000001,112.24438400000003,75.954080000000005,1150,10.969909999999913,0.21939819999999827,24.369909999999891,0.24369909999999892]
[null,null,1160,0,195,195,965,60.505199999999995,71.37,10.584,48,null,null,null,null,190.45920000000001,774.54079999999999,0.23,-63.6,114.54438400000001,76.954080000000005,128.19438400000001,null,1160,826.04233599999998,0.71210546206896552,142.45920000000001,114.54438400000001,76.954080000000005,1160,10.969910000000027,0.21939820000000054,24.369910000000004,0.24369910000000006]
[null,null,1170,0,195,195,975,60.505199999999995,71.37,10.584,48,null,null,null,null,190.45920000000001,784.54079999999999,0.23,-63.6,116.84438400000002,77.954080000000005,130.49438400000003,null,1170,832.74233600000002,0.71174558632478635,142.45920000000001,116.84438400000002,77.954080000000005,1170,13.400000000000091,0.26800000000000179,24.369910000000004,0.24369910000000006]
[null,null,1180,0,195,195,985,60.505199999999995,71.37,10.584,48,null,null,null,null,190.45920000000001,794.54079999999999,0.23,-63.6,119.144384,78.954080000000005,132.79438400000001,null,1180,839.44233599999995,0.71139181016949149,142.45920000000001,119.144384,78.954080000000005,1180,13.399999999999977,0.26799999999999957,24.369910000000004,0.24369910000000006]
[null,null,1190,0,195,195,995,60.505199999999995,71.37,10.584,48,null,null,null,null,190.45920000000001,804.54079999999999,0.23,-63.6,121.44438400000001,79.954080000000005,135.09438400000002,null,1190,846.142336,0.71104397983193279,142.45920000000001,121.44438400000001,79.954080000000005,1190,13.399999999999977,0.26799999999999957,26.800000000000068,0.26800000000000068]
[null,null,1200,0,195,195,1005,60.505199999999995,71.37,10.584,48,null,null,null,null,190.45920000000001,814.54079999999999,0.23,-63.6,123.74438400000003,80.954080000000005,137.39438400000003,null,1200,852.84233599999993,0.71070194666666664,142.45920000000001,123.74438400000003,80.954080000000005,1200,13.399999999999977,0.26799999999999957,26.799999999999955,0.26799999999999957]
[null,null,1210,0,195,195,1015,63.592199999999991,71.37,11.123999999999999,48,null,null,null,null,194.08619999999999,820.91380000000004,0.23,-63.6,125.21017400000002,81.591380000000015,138.86017400000003,null,1210,857.11224599999991,0.70835722809917345,146.08619999999999,125.21017400000002,81.591380000000015,1210,10.969909999999913,0.21939819999999827,24.369909999999891,0.24369909999999892]
[null,null,1220,0,195,195,1025,63.592199999999991,71.37,11.123999999999999,48,null,null,null,null,194.08619999999999,830.91380000000004,0.23,-63.6,127.51017400000003,82.591380000000015,141.16017400000004,null,1220,863.81224599999996,0.70804282459016388,146.08619999999999,127.51017400000003,82.591380000000015,1220,10.969910000000027,0.21939820000000054,24.369910000000004,0.24369910000000006]
[null,null,1230,0,195,195,1035,63.592199999999991,71.37,11.123999999999999,48,null,null,null,null,194.08619999999999,840.91380000000004,0.23,-63.6,129.81017400000002,83.591380000000015,143.46017400000002,null,1230,870.512246,0.70773353333333333,146.08619999999999,129.81017400000002,83.591380000000015,1230,13.400000000000091,0.26800000000000179,24.369910000000004,0.24369910000000006]
[null,null,1240,0,195,195,1045,63.592199999999991,71.37,11.123999999999999,48,null,null,null,null,194.08619999999999,850.91380000000004,0.23,-63.6,132.11017400000003,84.591380000000015,145.76017400000003,null,1240,877.21224600000005,0.70742923064516128,146.08619999999999,132.11017400000003,84.591380000000015,1240,13.400000000000091,0.26800000000000179,24.369910000000118,0.24369910000000117]
[null,null,1250,0,195,195,1055,63.592199999999991,71.37,11.123999999999999,48,null,null,null,null,194.08619999999999,860.91380000000004,0.23,-63.6,134.41017400000001,85.591380000000015,148.06017400000002,null,1250,883.91224599999998,0.70712979679999999,146.08619999999999,134.41017400000001,85.591380000000015,1250,13.399999999999977,0.26799999999999957,26.800000000000068,0.26800000000000068]
[null,null,1260,0,195,195,1065,63.592199999999991,71.37,11.123999999999999,48,null,null,null,null,194.08619999999999,870.91380000000004,0.23,-63.6,136.71017400000002,86.591380000000015,150.36017400000003,null,1260,890.61224599999991,0.70683511587301584,146.08619999999999,136.71017400000002,86.591380000000015,1260,13.399999999999864,0.2679999999999973,26.799999999999955,0.26799999999999957]
[null,null,1270,0,195,195,1075,67.296599999999998,71.37,11.771999999999998,48,null,null,null,null,198.43860000000001,876.56140000000005,0.23,-63.6,138.00912200000002,87.156140000000008,151.65912200000002,null,1270,894.39613800000006,0.70424892755905522,150.43860000000001,138.00912200000002,87.156140000000008,1270,10.483892000000083,0.20967784000000164,23.88389200000006,0.23883892000000059]
[null,null,1280,0,195,195,1085,67.296599999999998,71.37,11.771999999999998,48,null,null,null,null,198.43860000000001,886.56140000000005,0.23,-63.6,140.30912200000003,88.156140000000008,153.95912200000004,null,1280,901.09613799999988,0.70398135781249993,150.43860000000001,140.30912200000003,88.156140000000008,1280,10.483891999999969,0.20967783999999937,23.883891999999832,0.23883891999999832]
[null,null,1290,0,195,195,1095,67.296599999999998,71.37,11.771999999999998,48,null,null,null,null,198.43860000000001,896.56140000000005,0.23,-63.6,142.60912200000001,89.156140000000008,156.25912200000002,null,1290,907.79613799999993,0.70371793643410852,150.43860000000001,142.60912200000001,89.156140000000008,1290,13.399999999999864,0.2679999999999973,23.883891999999946,0.23883891999999945]
[null,null,1300,0,195,195,1105,67.296599999999998,71.37,11.771999999999998,48,null,null,null,null,198.43860000000001,906.56140000000005,0.33,-153.6,145.56526200000005,90.156140000000008,159.21526200000005,null,1300,913.83999799999992,0.70295384461538457,150.43860000000001,145.56526200000005,90.156140000000008,1300,12.743860000000041,0.2548772000000008,23.22775200000001,0.2322775200000001]
[null,null,1310,0,195,195,1115,67.296599999999998,71.37,11.771999999999998,48,null,null,null,null,198.43860000000001,916.56140000000005,0.33,-153.6,148.86526200000006,91.156140000000008,162.51526200000006,null,1310,919.53999799999997,0.70193892977099237,150.43860000000001,148.86526200000006,91.156140000000008,1310,11.743860000000041,0.23487720000000081,25.143859999999904,0.25143859999999907]
[null,null,1320,0,195,195,1125,67.296599999999998,71.37,11.771999999999998,48,null,null,null,null,198.43860000000001,926.56140000000005,0.33,-153.6,152.16526200000001,92.156140000000008,165.81526200000002,null,1320,925.23999800000001,0.70093939242424241,150.43860000000001,152.16526200000001,92.156140000000008,1320,11.400000000000091,0.22800000000000181,24.143860000000132,0.24143860000000131]
[null,null,1330,0,195,195,1135,67.296599999999998,71.37,11.771999999999998,48,null,null,null,null,198.43860000000001,936.56140000000005,0.33,-153.6,155.46526200000002,93.156140000000008,169.11526200000003,null,1330,930.93999800000006,0.69995488571428577,150.43860000000001,155.46526200000002,93.156140000000008,1330,11.400000000000091,0.22800000000000181,23.143860000000132,0.23143860000000133]
[null,null,1340,0,195,195,1145,71.000999999999991,71.37,12.419999999999998,48,null,null,null,null,202.79099999999997,942.20900000000006,0.33,-153.6,157.32897000000006,93.720900000000015,170.97897000000006,null,1340,934.15913,0.69713367910447765,154.79099999999997,157.32897000000006,93.720900000000015,1340,8.9191319999999905,0.17838263999999981,20.319132000000081,0.20319132000000081]
[null,null,1350,0,195,195,1155,71.000999999999991,71.37,12.419999999999998,48,null,null,null,null,202.79099999999997,952.20900000000006,0.33,-153.6,160.62897000000007,94.720900000000015,174.27897000000007,null,1350,939.85912999999994,0.69619194814814811,154.79099999999997,160.62897000000007,94.720900000000015,1350,8.9191319999998768,0.17838263999999754,20.319131999999968,0.20319131999999968]
[null,null,1360,0,195,195,1165,71.000999999999991,71.37,12.419999999999998,48,null,null,null,null,202.79099999999997,962.20900000000006,0.33,-153.6,163.92897000000002,95.720900000000015,177.57897000000003,null,1360,945.55912999999998,0.69526406617647063,154.79099999999997,163.92897000000002,95.720900000000015,1360,11.399999999999977,0.22799999999999954,20.319131999999968,0.20319131999999968]
[null,null,1370,0,195,195,1175,71.000999999999991,71.37,12.419999999999998,48,null,null,null,null,202.79099999999997,972.20900000000006,0.33,-153.6,167.22897000000003,96.720900000000015,180.87897000000004,null,1370,951.25912999999991,0.69434972992700728,154.79099999999997,167.22897000000003,96.720900000000015,1370,11.399999999999977,0.22799999999999954,20.319131999999854,0.20319131999999854]
[null,null,1380,0,195,195,1185,71.000999999999991,71.37,12.419999999999998,48,null,null,null,null,202.79099999999997,982.20900000000006,0.33,-153.6,170.52897000000004,97.720900000000015,184.17897000000005,null,1380,956.95912999999996,0.69344864492753622,154.79099999999997,170.52897000000004,97.720900000000015,1380,11.399999999999977,0.22799999999999954,22.799999999999955,0.22799999999999954]
[null,null,1390,0,195,195,1195,71.000999999999991,71.37,12.419999999999998,48,null,null,null,null,202.79099999999997,992.20900000000006,0.33,-153.6,173.82897000000006,98.720900000000015,187.47897000000006,null,1390,962.65913,0.69256052517985611,154.79099999999997,173.82897000000006,98.720900000000015,1390,11.400000000000091,0.22800000000000181,22.800000000000068,0.22800000000000067]
[null,null,1400,0,195,195,1205,71.000999999999991,71.37,12.419999999999998,48,null,null,null,null,202.79099999999997,1002.2090000000001,0.33,-153.6,177.12897000000007,99.720900000000015,190.77897000000007,null,1400,968.35912999999994,0.69168509285714286,154.79099999999997,177.12897000000007,99.720900000000015,1400,11.399999999999977,0.22799999999999954,22.799999999999955,0.22799999999999954]
[null,null,1410,0,195,195,1215,74.705399999999997,71.37,13.068,48,null,null,null,null,207.14340000000001,1007.8566,0.33,-153.6,178.99267799999998,100.28566000000001,192.64267799999999,null,1410,971.578262,0.68906259716312057,159.14340000000001,178.99267799999998,100.28566000000001,1410,8.9191319999999905,0.17838263999999981,20.319132000000081,0.20319132000000081]
[null,null,1420,0,195,195,1225,74.705399999999997,71.37,13.068,48,null,null,null,null,207.14340000000001,1017.8566,0.33,-153.6,182.292678,101.28566000000001,195.942678,null,1420,977.27826200000004,0.68822412816901413,159.14340000000001,182.292678,101.28566000000001,1420,8.9191320000001042,0.17838264000000209,20.319132000000081,0.20319132000000081]
[null,null,1430,0,195,195,1235,74.705399999999997,71.37,13.068,48,null,null,null,null,207.14340000000001,1027.8566000000001,0.33,-153.6,185.59267800000006,102.28566000000001,199.24267800000007,null,1430,982.97826199999986,0.68739738601398592,159.14340000000001,185.59267800000006,102.28566000000001,1430,11.399999999999864,0.22799999999999726,20.319131999999854,0.20319131999999854]
[null,null,1440,0,195,195,1245,74.705399999999997,71.37,13.068,48,null,null,null,null,207.14340000000001,1037.8566000000001,0.33,-153.6,188.89267800000002,103.28566000000001,202.54267800000002,null,1440,988.6782619999999,0.68658212638888882,159.14340000000001,188.89267800000002,103.28566000000001,1440,11.399999999999864,0.22799999999999726,20.319131999999968,0.20319131999999968]
[null,null,1450,0,195,195,1255,74.705399999999997,71.37,13.068,48,null,null,null,null,207.14340000000001,1047.8566000000001,0.33,-153.6,192.19267800000003,104.28566000000001,205.84267800000003,null,1450,994.37826199999995,0.68577811172413794,159.14340000000001,192.19267800000003,104.28566000000001,1450,11.400000000000091,0.22800000000000181,22.799999999999955,0.22799999999999954]
[null,null,1460,0,195,195,1265,74.705399999999997,71.37,13.068,48,null,null,null,null,207.14340000000001,1057.8566000000001,0.33,-153.6,195.49267800000004,105.28566000000001,209.14267800000005,null,1460,1000.078262,0.68498511095890413,159.14340000000001,195.49267800000004,105.28566000000001,1460,11.400000000000091,0.22800000000000181,22.799999999999955,0.22799999999999954]
[null,null,1470,0,195,195,1275,74.705399999999997,71.37,13.068,48,null,null,null,null,207.14340000000001,1067.8566000000001,0.33,-153.6,198.79267800000005,106.28566000000001,212.44267800000006,null,1470,1005.7782619999999,0.68420289931972789,159.14340000000001,198.79267800000005,106.28566000000001,1470,11.399999999999977,0.22799999999999954,22.800000000000068,0.22800000000000067]
[null,null,1480,0,195,195,1285,74.705399999999997,71.37,13.068,48,null,null,null,null,207.14340000000001,1077.8566000000001,0.33,-153.6,202.09267800000006,107.28566000000001,215.74267800000007,null,1480,1011.4782619999999,0.68343125810810801,159.14340000000001,202.09267800000006,107.28566000000001,1480,11.399999999999864,0.22799999999999726,22.799999999999955,0.22799999999999954]
[null,null,1490,0,195,195,1295,78.40979999999999,71.37,13.716000000000001,48,null,null,null,null,211.4958,1083.5042000000001,0.33,-153.6,203.95638600000004,107.85042000000001,217.60638600000004,null,1490,1014.6973939999999,0.68100496241610731,163.4958,203.95638600000004,107.85042000000001,1490,8.9191319999999905,0.17838263999999981,20.319131999999968,0.20319131999999968]
[null,null,1500,0,195,195,1305,78.40979999999999,71.37,13.716000000000001,48,null,null,null,null,211.4958,1093.5042000000001,0.33,-153.6,207.25638600000005,108.85042000000001,220.90638600000005,null,1500,1020.397394,0.68026492933333327,163.4958,207.25638600000005,108.85042000000001,1500,8.9191320000001042,0.17838264000000209,20.319131999999968,0.20319131999999968]
[null,null,1510,0,195,195,1315,78.40979999999999,71.37,13.716000000000001,48,null,null,null,null,211.4958,1103.5042000000001,0.33,-153.6,210.55638600000006,109.85042000000001,224.20638600000007,null,1510,1026.0973939999999,0.67953469801324495,163.4958,210.55638600000006,109.85042000000001,1510,11.399999999999977,0.22799999999999954,20.319131999999968,0.20319131999999968]
[null,null,1520,0,195,195,1325,78.40979999999999,71.37,13.716000000000001,48,null,null,null,null,211.4958,1113.5042000000001,0.33,-153.6,213.85638600000007,110.85042000000001,227.50638600000008,null,1520,1031.7973939999999,0.67881407499999991,163.4958,213.85638600000007,110.85042000000001,1520,11.399999999999977,0.22799999999999954,20.319132000000081,0.20319132000000081]
[null,null,1530,0,195,195,1335,78.40979999999999,71.37,13.716000000000001,48,null,null,null,null,211.4958,1123.5042000000001,0.33,-153.6,217.15638600000003,111.85042000000001,230.80638600000003,null,1530,1037.497394,0.67810287189542484,163.4958,217.15638600000003,111.85042000000001,1530,11.400000000000091,0.22800000000000181,22.800000000000068,0.22800000000000067]
[null,null,1540,0,195,195,1345,78.40979999999999,71.37,13.716000000000001,48,null,null,null,null,211.4958,1133.5042000000001,0.33,-153.6,220.45638600000004,112.85042000000001,234.10638600000004,null,1540,1043.1973939999998,0.67740090519480511,163.4958,220.45638600000004,112.85042000000001,1540,11.399999999999864,0.22799999999999726,22.799999999999841,0.2279999999999984]
[null,null,1550,0,195,195,1355,78.40979999999999,71.37,13.716000000000001,48,null,null,null,null,211.4958,1143.5042000000001,0.33,-153.6,223.75638600000005,113.85042000000001,237.40638600000005,null,1550,1048.8973940000001,0.67670799612903232,163.4958,223.75638600000005,113.85042000000001,1550,11.400000000000091,0.22800000000000181,22.800000000000182,0.22800000000000181]
[null,null,1560,0,195,195,1365,82.114199999999997,71.37,14.363999999999997,48,null,null,null,null,215.84819999999999,1149.1518000000001,0.33,-153.6,225.62009400000008,114.41518000000002,239.27009400000009,null,1560,1052.1165259999998,0.67443367051282033,167.84819999999999,225.62009400000008,114.41518000000002,1560,8.9191319999999905,0.17838263999999981,20.319131999999854,0.20319131999999854]
[null,null,1570,0,195,195,1375,82.114199999999997,71.37,14.363999999999997,48,null,null,null,null,215.84819999999999,1159.1518000000001,0.33,-153.6,228.92009400000003,115.41518000000002,242.57009400000004,null,1570,1057.8165260000001,0.67376848789808919,167.84819999999999,228.92009400000003,115.41518000000002,1570,8.9191319999999905,0.17838263999999981,20.319132000000081,0.20319132000000081]
[null,null,1580,0,195,195,1385,82.114199999999997,71.37,14.363999999999997,48,null,null,null,null,215.84819999999999,1169.1518000000001,0.33,-153.6,232.22009400000005,116.41518000000002,245.87009400000005,null,1580,1063.5165259999999,0.67311172531645558,167.84819999999999,232.22009400000005,116.41518000000002,1580,11.400000000000091,0.22800000000000181,20.319132000000081,0.20319132000000081]
[null,null,1590,0,195,195,1395,82.114199999999997,71.37,14.363999999999997,48,null,null,null,null,215.84819999999999,1179.1518000000001,0.33,-153.6,235.52009400000006,117.41518000000002,249.17009400000006,null,1590,1069.2165259999999,0.67246322389937108,167.84819999999999,235.52009400000006,117.41518000000002,1590,11.399999999999864,0.22799999999999726,20.319131999999854,0.20319131999999854]
[null,null,1600,0,195,195,1405,82.114199999999997,71.37,14.363999999999997,48,null,null,null,null,215.84819999999999,1189.1518000000001,0.33,-153.6,238.82009400000007,118.41518000000002,252.47009400000007,null,1600,1074.916526,0.67182282874999999,167.84819999999999,238.82009400000007,118.41518000000002,1600,11.400000000000091,0.22800000000000181,22.800000000000182,0.22800000000000181]
[null,null,1610,0,195,195,1415,82.114199999999997,71.37,14.363999999999997,48,null,null,null,null,215.84819999999999,1199.1518000000001,0.33,-153.6,242.12009400000008,119.41518000000002,255.77009400000009,null,1610,1080.6165259999998,0.67119038881987569,167.84819999999999,242.12009400000008,119.41518000000002,1610,11.399999999999864,0.22799999999999726,22.799999999999727,0.22799999999999726]
[null,null,1620,0,195,195,1425,82.114199999999997,71.37,14.363999999999997,48,null,null,null,null,215.84819999999999,1209.1518000000001,0.33,-153.6,245.42009400000003,120.41518000000002,259.07009400000004,null,1620,1086.3165260000001,0.67056575679012353,167.84819999999999,245.42009400000003,120.41518000000002,1620,11.400000000000091,0.22800000000000181,22.800000000000182,0.22800000000000181]
[null,null,1630,0,195,195,1435,85.818599999999989,71.37,15.011999999999999,48,null,null,null,null,220.20060000000001,1214.7993999999999,0.33,-153.6,247.28380200000001,120.97994,260.93380200000001,null,1630,1089.535658,0.66842678404907974,172.20060000000001,247.28380200000001,120.97994,1630,8.9191320000002179,0.17838264000000437,20.319132000000081,0.20319132000000081]
[null,null,1640,0,195,195,1445,85.818599999999989,71.37,15.011999999999999,48,null,null,null,null,220.20060000000001,1224.7993999999999,0.33,-153.6,250.58380199999996,121.97994,264.23380199999997,null,1640,1095.2356580000001,0.6678266207317074,172.20060000000001,250.58380199999996,121.97994,1640,8.9191319999999905,0.17838263999999981,20.319132000000081,0.20319132000000081]
[null,null,1650,0,195,195,1455,85.818599999999989,71.37,15.011999999999999,48,null,null,null,null,220.20060000000001,1234.7993999999999,0.33,-153.6,253.88380199999997,122.97994,267.53380199999998,null,1650,1100.9356580000001,0.66723373212121218,172.20060000000001,253.88380199999997,122.97994,1650,11.400000000000091,0.22800000000000181,20.319132000000309,0.20319132000000309]
[null,null,1660,0,195,195,1465,85.818599999999989,71.37,15.011999999999999,48,null,null,null,null,220.20060000000001,1244.7993999999999,0.33,-153.6,257.18380200000001,123.97994,270.83380199999999,null,1660,1106.6356579999999,0.66664798674698789,172.20060000000001,257.18380200000001,123.97994,1660,11.399999999999864,0.22799999999999726,20.319131999999854,0.20319131999999854]
[null,null,1670,0,195,195,1475,85.818599999999989,71.37,15.011999999999999,48,null,null,null,null,220.20060000000001,1254.7993999999999,0.33,-153.6,260.48380199999997,124.97994,274.13380199999995,null,1670,1112.335658,0.66606925628742508,172.20060000000001,260.48380199999997,124.97994,1670,11.399999999999864,0.22799999999999726,22.799999999999955,0.22799999999999954]
[null,null,1680,0,195,195,1485,85.818599999999989,71.37,15.011999999999999,48,null,null,null,null,220.20060000000001,1264.7993999999999,0.33,-153.6,263.78380200000004,125.97994,277.43380200000001,null,1680,1118.035658,0.66549741547619046,172.20060000000001,263.78380200000004,125.97994,1680,11.400000000000091,0.22800000000000181,22.799999999999955,0.22799999999999954]
[null,null,1690,0,195,195,1495,85.818599999999989,71.37,15.011999999999999,48,null,null,null,null,220.20060000000001,1274.7993999999999,0.33,-153.6,267.08380199999999,126.97994,280.73380199999997,null,1690,1123.7356580000001,0.66493234201183438,172.20060000000001,267.08380199999999,126.97994,1690,11.400000000000091,0.22800000000000181,22.799999999999955,0.22799999999999954]
[null,null,1700,0,195,195,1505,85.818599999999989,71.37,15.011999999999999,48,null,null,null,null,220.20060000000001,1284.7993999999999,0.33,-153.6,270.38380199999995,127.97994,284.03380199999992,null,1700,1129.4356580000001,0.6643739164705883,172.20060000000001,270.38380199999995,127.97994,1700,11.400000000000091,0.22800000000000181,22.800000000000182,0.22800000000000181]
[null,null,1710,0,195,195,1515,85.818599999999989,71.37,15.011999999999999,48,null,null,null,null,220.20060000000001,1294.7993999999999,0.33,-153.6,273.68380200000001,128.97994,287.33380199999999,null,1710,1135.1356579999999,0.6638220222222222,172.20060000000001,273.68380200000001,128.97994,1710,11.399999999999864,0.22799999999999726,22.799999999999955,0.22799999999999954]
[null,null,1720,0,195,195,1525,85.818599999999989,71.37,15.011999999999999,48,null,null,null,null,220.20060000000001,1304.7993999999999,0.33,-153.6,276.98380199999997,129.97994,290.63380199999995,null,1720,1140.835658,0.66327654534883718,172.20060000000001,276.98380199999997,129.97994,1720,11.399999999999864,0.22799999999999726,22.799999999999955,0.22799999999999954]
[null,null,1730,0,195,195,1535,85.818599999999989,71.37,15.011999999999999,48,null,null,null,null,220.20060000000001,1314.7993999999999,0.33,-153.6,280.28380200000004,130.97994,293.93380200000001,null,1730,1146.535658,0.66273737456647397,172.20060000000001,280.28380200000004,130.97994,1730,11.400000000000091,0.22800000000000181,22.799999999999955,0.22799999999999954]
[null,null,1740,0,195,195,1545,85.818599999999989,71.37,15.011999999999999,48,null,null,null,null,220.20060000000001,1324.7993999999999,0.33,-153.6,283.58380199999999,131.97994,297.23380199999997,null,1740,1152.2356580000001,0.66220440114942536,172.20060000000001,283.58380199999999,131.97994,1740,11.400000000000091,0.22800000000000181,22.799999999999955,0.22799999999999954]
[null,null,1750,0,195,195,1555,85.818599999999989,71.37,15.011999999999999,48,null,null,null,null,220.20060000000001,1334.7993999999999,0.33,-153.6,286.88380199999995,132.97994,300.53380199999992,null,1750,1157.9356580000001,0.66167751885714288,172.20060000000001,286.88380199999995,132.97994,1750,11.400000000000091,0.22800000000000181,22.800000000000182,0.22800000000000181]
[null,null,1760,0,195,195,1565,85.818599999999989,71.37,15.011999999999999,48,null,null,null,null,220.20060000000001,1344.7993999999999,0.33,-153.6,290.18380200000001,133.97994,303.83380199999999,null,1760,1163.6356579999999,0.66115662386363627,172.20060000000001,290.18380200000001,133.97994,1760,11.399999999999864,0.22799999999999726,22.799999999999955,0.22799999999999954]
[null,null,1770,0,195,195,1575,85.818599999999989,71.37,15.011999999999999,48,null,null,null,null,220.20060000000001,1354.7993999999999,0.33,-153.6,293.48380199999997,134.97994,307.13380199999995,null,1770,1169.335658,0.66064161468926552,172.20060000000001,293.48380199999997,134.97994,1770,11.399999999999864,0.22799999999999726,22.799999999999955,0.22799999999999954]
[null,null,1780,0,195,195,1585,85.818599999999989,71.37,15.011999999999999,48,null,null,null,null,220.20060000000001,1364.7993999999999,0.33,-153.6,296.78380200000004,135.97994,310.43380200000001,null,1780,1175.035658,0.66013239213483144,172.20060000000001,296.78380200000004,135.97994,1780,11.400000000000091,0.22800000000000181,22.799999999999955,0.22799999999999954]
[null,null,1790,0,195,195,1595,85.818599999999989,71.37,15.011999999999999,48,null,null,null,null,220.20060000000001,1374.7993999999999,0.33,-153.6,300.08380199999999,136.97994,313.73380199999997,null,1790,1180.7356580000001,0.65962885921787717,172.20060000000001,300.08380199999999,136.97994,1790,11.400000000000091,0.22800000000000181,22.799999999999955,0.22799999999999954]
[null,null,1800,0,195,195,1605,85.818599999999989,71.37,15.011999999999999,48,null,null,null,null,220.20060000000001,1384.7993999999999,0.33,-153.6,303.38380199999995,137.97994,317.03380199999992,null,1800,1186.4356580000001,0.65913092111111116,172.20060000000001,303.38380199999995,137.97994,1800,11.400000000000091,0.22800000000000181,22.800000000000182,0.22800000000000181]
[null,null,1810,0,195,195,1615,85.818599999999989,71.37,15.011999999999999,48,null,null,null,null,220.20060000000001,1394.7993999999999,0.33,-153.6,306.68380200000001,138.97994,320.33380199999999,null,1810,1192.1356579999999,0.65863848508287293,172.20060000000001,306.68380200000001,138.97994,1810,11.399999999999864,0.22799999999999726,22.799999999999955,0.22799999999999954]
[null,null,1820,0,195,195,1625,85.818599999999989,71.37,15.011999999999999,48,null,null,null,null,220.20060000000001,1404.7993999999999,0.33,-153.6,309.98380199999997,139.97994,323.63380199999995,null,1820,1197.835658,0.65815146043956041,172.20060000000001,309.98380199999997,139.97994,1820,11.399999999999864,0.22799999999999726,22.799999999999955,0.22799999999999954]
[null,null,1830,0,195,195,1635,85.818599999999989,71.37,15.011999999999999,48,null,null,null,null,220.20060000000001,1414.7993999999999,0.33,-153.6,313.28380200000004,140.97994,326.93380200000001,null,1830,1203.535658,0.65766975846994535,172.20060000000001,313.28380200000004,140.97994,1830,11.400000000000091,0.22800000000000181,22.799999999999955,0.22799999999999954]
[null,null,1840,0,195,195,1645,85.818599999999989,71.37,15.011999999999999,48,null,null,null,null,220.20060000000001,1424.7993999999999,0.33,-153.6,316.58380199999999,141.97994,330.23380199999997,null,1840,1209.2356580000001,0.65719329239130442,172.20060000000001,316.58380199999999,141.97994,1840,11.400000000000091,0.22800000000000181,22.799999999999955,0.22799999999999954]
[null,null,1850,0,195,195,1655,85.818599999999989,71.37,15.011999999999999,48,null,null,null,null,220.20060000000001,1434.7993999999999,0.33,-153.6,319.88380199999995,142.97994,333.53380199999992,null,1850,1214.9356580000001,0.65672197729729731,172.20060000000001,319.88380199999995,142.97994,1850,11.400000000000091,0.22800000000000181,22.800000000000182,0.22800000000000181]
[null,null,1860,0,195,195,1665,85.818599999999989,71.37,15.011999999999999,48,null,null,null,null,220.20060000000001,1444.7993999999999,0.33,-153.6,323.18380200000001,143.97994,336.83380199999999,null,1860,1220.6356579999999,0.6562557301075268,172.20060000000001,323.18380200000001,143.97994,1860,11.399999999999864,0.22799999999999726,22.799999999999955,0.22799999999999954]
[null,null,1870,0,195,195,1675,85.818599999999989,71.37,15.011999999999999,48,null,null,null,null,220.20060000000001,1454.7993999999999,0.33,-153.6,326.48380199999997,144.97994,340.13380199999995,null,1870,1226.335658,0.65579446951871656,172.20060000000001,326.48380199999997,144.97994,1870,11.399999999999864,0.22799999999999726,22.799999999999955,0.22799999999999954]
[null,null,1880,0,195,195,1685,85.818599999999989,71.37,15.011999999999999,48,null,null,null,null,220.20060000000001,1464.7993999999999,0.33,-153.6,329.78380200000004,145.97994,343.43380200000001,null,1880,1232.035658,0.65533811595744684,172.20060000000001,329.78380200000004,145.97994,1880,11.400000000000091,0.22800000000000181,22.799999999999955,0.22799999999999954]
[null,null,1890,0,195,195,1695,85.818599999999989,71.37,15.011999999999999,48,null,null,null,null,220.20060000000001,1474.7993999999999,0.33,-153.6,333.08380199999999,146.97994,346.73380199999997,null,1890,1237.7356580000001,0.65488659153439155,172.20060000000001,333.08380199999999,146.97994,1890,11.400000000000091,0.22800000000000181,22.799999999999955,0.22799999999999954]
[null,null,1900,0,195,195,1705,85.818599999999989,71.37,15.011999999999999,48,null,null,null,null,220.20060000000001,1484.7993999999999,0.33,-153.6,336.38380199999995,147.97994,350.03380199999992,null,1900,1243.4356580000001,0.65443982000000001,172.20060000000001,336.38380199999995,147.97994,1900,11.400000000000091,0.22800000000000181,22.800000000000182,0.22800000000000181]
[null,null,1910,0,195,195,1715,85.818599999999989,71.37,15.011999999999999,48,null,null,null,null,220.20060000000001,1494.7993999999999,0.33,-153.6,339.68380200000001,148.97994,353.33380199999999,null,1910,1249.1356579999999,0.65399772670157064,172.20060000000001,339.68380200000001,148.97994,1910,11.399999999999864,0.22799999999999726,22.799999999999955,0.22799999999999954]
[null,null,1920,0,195,195,1725,85.818599999999989,71.37,15.011999999999999,48,null,null,null,null,220.20060000000001,1504.7993999999999,0.33,-153.6,342.98380199999997,149.97994,356.63380199999995,null,1920,1254.835658,0.65356023854166667,172.20060000000001,342.98380199999997,149.97994,1920,11.399999999999864,0.22799999999999726,22.799999999999955,0.22799999999999954]
[null,null,1930,0,195,195,1735,85.818599999999989,71.37,15.011999999999999,48,null,null,null,null,220.20060000000001,1514.7993999999999,0.33,-153.6,346.28380200000004,150.97994,359.93380200000001,null,1930,1260.535658,0.65312728393782382,172.20060000000001,346.28380200000004,150.97994,1930,11.400000000000091,0.22800000000000181,22.799999999999955,0.22799999999999954]
[null,null,1940,0,195,195,1745,85.818599999999989,71.37,15.011999999999999,48,null,null,null,null,220.20060000000001,1524.7993999999999,0.33,-153.6,349.58380199999999,151.97994,363.23380199999997,null,1940,1266.2356580000001,0.65269879278350518,172.20060000000001,349.58380199999999,151.97994,1940,11.400000000000091,0.22800000000000181,22.799999999999955,0.22799999999999954]
[null,null,1950,0,195,195,1755,85.818599999999989,71.37,15.011999999999999,48,null,null,null,null,220.20060000000001,1534.7993999999999,0.33,-153.6,352.88380199999995,152.97994,366.53380199999992,null,1950,1271.9356580000001,0.65227469641025648,172.20060000000001,352.88380199999995,152.97994,1950,11.400000000000091,0.22800000000000181,22.800000000000182,0.22800000000000181]
[null,null,1960,0,195,195,1765,85.818599999999989,71.37,15.011999999999999,48,null,null,null,null,220.20060000000001,1544.7993999999999,0.33,-153.6,356.18380200000001,153.97994,369.83380199999999,null,1960,1277.6356579999999,0.65185492755102037,172.20060000000001,356.18380200000001,153.97994,1960,11.399999999999864,0.22799999999999726,22.799999999999955,0.22799999999999954]
[null,null,1970,0,195,195,1775,85.818599999999989,71.37,15.011999999999999,48,null,null,null,null,220.20060000000001,1554.7993999999999,0.33,-153.6,359.48380199999997,154.97994,373.13380199999995,null,1970,1283.335658,0.65143942030456847,172.20060000000001,359.48380199999997,154.97994,1970,11.399999999999864,0.22799999999999726,22.799999999999955,0.22799999999999954]
[null,null,1980,0,195,195,1785,85.818599999999989,71.37,15.011999999999999,48,null,null,null,null,220.20060000000001,1564.7993999999999,0.33,-153.6,362.78380199999992,155.97994,376.4338019999999,null,1980,1289.035658,0.65102811010101014,172.20060000000001,362.78380199999992,155.97994,1980,11.400000000000091,0.22800000000000181,22.799999999999955,0.22799999999999954]
[null,null,1990,0,195,195,1795,85.818599999999989,71.37,15.011999999999999,48,null,null,null,null,220.20060000000001,1574.7993999999999,0.33,-153.6,366.08380199999999,156.97994,379.73380199999997,null,1990,1294.7356580000001,0.65062093366834173,172.20060000000001,366.08380199999999,156.97994,1990,11.400000000000091,0.22800000000000181,22.799999999999955,0.22799999999999954]
[null,null,2000,0,195,195,1805,85.818599999999989,71.37,15.011999999999999,48,null,null,null,null,220.20060000000001,1584.7993999999999,0.33,-153.6,369.38380199999995,157.97994,383.03380199999992,null,2000,1300.4356580000001,0.65021782900000002,172.20060000000001,369.38380199999995,157.97994,2000,11.400000000000091,0.22800000000000181,22.800000000000182,0.22800000000000181]
[null,null,2010,0,195,195,1815,85.818599999999989,71.37,15.011999999999999,48,null,null,null,null,220.20060000000001,1594.7993999999999,0.33,-153.6,372.68380200000001,158.97994,386.33380199999999,null,2010,1306.1356579999999,0.64981873532338308,172.20060000000001,372.68380200000001,158.97994,2010,11.399999999999864,0.22799999999999726,22.799999999999955,0.22799999999999954]
[null,null,2020,0,195,195,1825,85.818599999999989,71.37,15.011999999999999,48,null,null,null,null,220.20060000000001,1604.7993999999999,0.33,-153.6,375.98380199999997,159.97994,389.63380199999995,null,2020,1311.835658,0.64942359306930686,172.20060000000001,375.98380199999997,159.97994,2020,11.399999999999864,0.22799999999999726,22.799999999999955,0.22799999999999954]
[null,null,2030,0,195,195,1835,85.818599999999989,71.37,15.011999999999999,48,null,null,null,null,220.20060000000001,1614.7993999999999,0.33,-153.6,379.28380199999992,160.97994,392.9338019999999,null,2030,1317.535658,0.64903234384236452,172.20060000000001,379.28380199999992,160.97994,2030,11.400000000000091,0.22800000000000181,22.799999999999955,0.22799999999999954]
[null,null,2040,0,195,195,1845,85.818599999999989,71.37,15.011999999999999,48,null,null,null,null,220.20060000000001,1624.7993999999999,0.33,-153.6,382.58380199999999,161.97994,396.23380199999997,null,2040,1323.2356580000001,0.64864493039215687,172.20060000000001,382.58380199999999,161.97994,2040,11.400000000000091,0.22800000000000181,22.799999999999955,0.22799999999999954]
[null,null,2050,0,195,195,1855,85.818599999999989,71.37,15.011999999999999,48,null,null,null,null,220.20060000000001,1634.7993999999999,0.33,-153.6,385.88380199999995,162.97994,399.53380199999992,null,2050,1328.9356580000001,0.64826129658536591,172.20060000000001,385.88380199999995,162.97994,2050,11.400000000000091,0.22800000000000181,22.800000000000182,0.22800000000000181]
[null,null,2060,0,195,195,1865,85.818599999999989,71.37,15.011999999999999,48,null,null,null,null,220.20060000000001,1644.7993999999999,0.33,-153.6,389.18380200000001,163.97994,402.83380199999999,null,2060,1334.6356579999999,0.64788138737864076,172.20060000000001,389.18380200000001,163.97994,2060,11.399999999999864,0.22799999999999726,22.799999999999955,0.22799999999999954]
[null,null,2070,0,195,195,1875,85.818599999999989,71.37,15.011999999999999,48,null,null,null,null,220.20060000000001,1654.7993999999999,0.33,-153.6,392.48380199999997,164.97994,406.13380199999995,null,2070,1340.335658,0.6475051487922705,172.20060000000001,392.48380199999997,164.97994,2070,11.399999999999864,0.22799999999999726,22.799999999999955,0.22799999999999954]
[null,null,2080,0,195,195,1885,85.818599999999989,71.37,15.011999999999999,48,null,null,null,null,220.20060000000001,1664.7993999999999,0.33,-153.6,395.78380199999992,165.97994,409.4338019999999,null,2080,1346.035658,0.64713252788461539,172.20060000000001,395.78380199999992,165.97994,2080,11.400000000000091,0.22800000000000181,22.799999999999955,0.22799999999999954]
[null,null,2090,0,195,195,1895,85.818599999999989,71.37,15.011999999999999,48,null,null,null,null,220.20060000000001,1674.7993999999999,0.33,-153.6,399.08380199999999,166.97994,412.73380199999997,null,2090,1351.7356580000001,0.64676347272727275,172.20060000000001,399.08380199999999,166.97994,2090,11.400000000000091,0.22800000000000181,22.799999999999955,0.22799999999999954]
[null,null,2100,0,195,195,1905,85.818599999999989,71.37,15.011999999999999,48,null,null,null,null,220.20060000000001,1684.7993999999999,0.33,-153.6,402.38380199999995,167.97994,416.03380199999992,null,2100,1357.4356580000001,0.64639793238095244,172.20060000000001,402.38380199999995,167.97994,2100,11.400000000000091,0.22800000000000181,22.800000000000182,0.22800000000000181]
[null,null,2110,0,195,195,1915,85.818599999999989,71.37,15.011999999999999,48,null,null,null,null,220.20060000000001,1694.7993999999999,0.33,-153.6,405.68380200000001,168.97994,419.33380199999999,null,2110,1363.1356579999999,0.64603585687203791,172.20060000000001,405.68380200000001,168.97994,2110,11.399999999999864,0.22799999999999726,22.799999999999955,0.22799999999999954]
[null,null,2120,0,195,195,1925,85.818599999999989,71.37,15.011999999999999,48,null,null,null,null,220.20060000000001,1704.7993999999999,0.33,-153.6,408.98380199999997,169.97994,422.63380199999995,null,2120,1368.835658,0.64567719716981131,172.20060000000001,408.98380199999997,169.97994,2120,11.399999999999864,0.22799999999999726,22.799999999999955,0.22799999999999954]
[null,null,2130,0,195,195,1935,85.818599999999989,71.37,15.011999999999999,48,null,null,null,null,220.20060000000001,1714.7993999999999,0.33,-153.6,412.28380199999992,170.97994,425.9338019999999,null,2130,1374.535658,0.64532190516431931,172.20060000000001,412.28380199999992,170.97994,2130,11.400000000000091,0.22800000000000181,22.799999999999955,0.22799999999999954]
[null,null,2140,0,195,195,1945,85.818599999999989,71.37,15.011999999999999,48,null,null,null,null,220.20060000000001,1724.7993999999999,0.33,-153.6,415.58380199999999,171.97994,429.23380199999997,null,2140,1380.2356580000001,0.64496993364485988,172.20060000000001,415.58380199999999,171.97994,2140,11.400000000000091,0.22800000000000181,22.799999999999955,0.22799999999999954]
[null,null,2150,0,195,195,1955,85.818599999999989,71.37,15.011999999999999,48,null,null,null,null,220.20060000000001,1734.7993999999999,0.33,-153.6,418.88380199999995,172.97994,432.53380199999992,null,2150,1385.9356580000001,0.64462123627906986,172.20060000000001,418.88380199999995,172.97994,2150,11.400000000000091,0.22800000000000181,22.800000000000182,0.22800000000000181]
[null,null,2160,0,195,195,1965,85.818599999999989,71.37,15.011999999999999,48,null,null,null,null,220.20060000000001,1744.7993999999999,0.33,-153.6,422.18380200000001,173.97994,435.83380199999999,null,2160,1391.6356579999999,0.64427576759259253,172.20060000000001,422.18380200000001,173.97994,2160,11.399999999999864,0.22799999999999726,22.799999999999955,0.22799999999999954]
[null,null,2170,0,195,195,1975,85.818599999999989,71.37,15.011999999999999,48,null,null,null,null,220.20060000000001,1754.7993999999999,0.33,-153.6,425.48380199999997,174.97994,439.13380199999995,null,2170,1397.335658,0.64393348294930874,172.20060000000001,425.48380199999997,174.97994,2170,11.399999999999864,0.22799999999999726,22.799999999999955,0.22799999999999954]
[null,null,2180,0,195,195,1985,85.818599999999989,71.37,15.011999999999999,48,null,null,null,null,220.20060000000001,1764.7993999999999,0.33,-153.6,428.78380199999992,175.97994,442.4338019999999,null,2180,1403.035658,0.64359433853211012,172.20060000000001,428.78380199999992,175.97994,2180,11.400000000000091,0.22800000000000181,22.799999999999955,0.22799999999999954]
[null,null,2190,0,195,195,1995,85.818599999999989,71.37,15.011999999999999,48,null,null,null,null,220.20060000000001,1774.7993999999999,0.33,-153.6,432.08380199999999,176.97994,445.73380199999997,null,2190,1408.7356580000001,0.64325829132420098,172.20060000000001,432.08380199999999,176.97994,2190,11.400000000000091,0.22800000000000181,22.799999999999955,0.22799999999999954]
[null,null,2200,0,195,195,2005,85.818599999999989,71.37,15.011999999999999,48,null,null,null,null,220.20060000000001,1784.7993999999999,0.33,-153.6,435.38380199999995,177.97994,449.03380199999992,null,2200,1414.4356580000001,0.64292529909090912,172.20060000000001,435.38380199999995,177.97994,2200,11.400000000000091,0.22800000000000181,22.800000000000182,0.22800000000000181]
[null,null,2210,0,195,195,2015,85.818599999999989,71.37,15.011999999999999,48,null,null,null,null,220.20060000000001,1794.7993999999999,0.33,-153.6,438.68380200000001,178.97994,452.33380199999999,null,2210,1420.1356579999999,0.64259532036199096,172.20060000000001,438.68380200000001,178.97994,2210,11.399999999999864,0.22799999999999726,22.799999999999955,0.22799999999999954]
[null,null,2220,0,195,195,2025,85.818599999999989,71.37,15.011999999999999,48,null,null,null,null,220.20060000000001,1804.7993999999999,0.4,-279.60000000000002,442.31975999999997,179.97994,455.96975999999995,null,2220,1425.4997000000001,0.64211698198198197,172.20060000000001,442.31975999999997,179.97994,2220,11.064041999999972,0.22128083999999945,22.464042000000063,0.22464042000000062]
[null,null,2230,0,195,195,2035,85.818599999999989,71.37,15.011999999999999,48,null,null,null,null,220.20060000000001,1814.7993999999999,0.4,-279.60000000000002,446.31975999999997,180.97994,459.96975999999995,null,2230,1430.4997000000001,0.64147968609865469,172.20060000000001,446.31975999999997,180.97994,2230,10.364042000000154,0.20728084000000307,21.764042000000018,0.21764042000000017]
[null,null,2240,0,195,195,2045,85.818599999999989,71.37,15.011999999999999,48,null,null,null,null,220.20060000000001,1824.7993999999999,0.4,-279.60000000000002,450.31975999999997,181.97994,463.96975999999995,null,2240,1435.4997000000001,0.64084808035714291,172.20060000000001,450.31975999999997,181.97994,2240,10,0.2,21.064041999999972,0.21064041999999972]
[null,null,2250,0,195,195,2055,85.818599999999989,71.37,15.011999999999999,48,null,null,null,null,220.20060000000001,1834.7993999999999,0.4,-279.60000000000002,454.31975999999997,182.97994,467.96975999999995,null,2250,1440.4997000000001,0.64022208888888887,172.20060000000001,454.31975999999997,182.97994,2250,10,0.2,20.364042000000154,0.20364042000000154]
[null,null,2260,0,195,195,2065,85.818599999999989,71.37,15.011999999999999,48,null,null,null,null,220.20060000000001,1844.7993999999999,0.4,-279.60000000000002,458.31975999999997,183.97994,471.96975999999995,null,2260,1445.4997000000001,0.63960163716814167,172.20060000000001,458.31975999999997,183.97994,2260,10,0.2,20,0.2]
[null,null,2270,0,195,195,2075,85.818599999999989,71.37,15.011999999999999,48,null,null,null,null,220.20060000000001,1854.7993999999999,0.4,-279.60000000000002,462.31975999999997,184.97994,475.96975999999995,null,2270,1450.4997000000001,0.63898665198237892,172.20060000000001,462.31975999999997,184.97994,2270,10,0.2,20,0.2]
[null,null,2280,0,195,195,2085,85.818599999999989,71.37,15.011999999999999,48,null,null,null,null,220.20060000000001,1864.7993999999999,0.4,-279.60000000000002,466.31975999999997,185.97994,479.96975999999995,null,2280,1455.4997000000001,0.63837706140350881,172.20060000000001,466.31975999999997,185.97994,2280,10,0.2,20,0.2]
[null,null,2290,0,195,195,2095,85.818599999999989,71.37,15.011999999999999,48,null,null,null,null,220.20060000000001,1874.7993999999999,0.4,-279.60000000000002,470.31975999999997,186.97994,483.96975999999995,null,2290,1460.4997000000001,0.6377727947598254,172.20060000000001,470.31975999999997,186.97994,2290,10,0.2,20,0.2]
[null,null,2300,0,195,195,2105,85.818599999999989,71.37,15.011999999999999,48,null,null,null,null,220.20060000000001,1884.7993999999999,0.4,-279.60000000000002,474.31975999999997,187.97994,487.96975999999995,null,2300,1465.4997000000001,0.63717378260869573,172.20060000000001,474.31975999999997,187.97994,2300,10,0.2,20,0.2]
[null,null,2310,0,195,195,2115,85.818599999999989,71.37,15.011999999999999,48,null,null,null,null,220.20060000000001,1894.7993999999999,0.4,-279.60000000000002,478.31975999999997,188.97994,491.96975999999995,null,2310,1470.4997000000001,0.63657995670995671,172.20060000000001,478.31975999999997,188.97994,2310,10,0.2,20,0.2]
[null,null,2320,0,195,195,2125,85.818599999999989,71.37,15.011999999999999,48,null,null,null,null,220.20060000000001,1904.7993999999999,0.4,-279.60000000000002,482.31975999999997,189.97994,495.96975999999995,null,2320,1475.4997000000001,0.63599125000000001,172.20060000000001,482.31975999999997,189.97994,2320,10,0.2,20,0.2]
[null,null,2330,0,195,195,2135,85.818599999999989,71.37,15.011999999999999,48,null,null,null,null,220.20060000000001,1914.7993999999999,0.4,-279.60000000000002,486.31975999999997,190.97994,499.96975999999995,null,2330,1480.4997000000001,0.63540759656652368,172.20060000000001,486.31975999999997,190.97994,2330,10,0.2,20,0.2]
[null,null,2340,0,195,195,2145,85.818599999999989,71.37,15.011999999999999,48,null,null,null,null,220.20060000000001,1924.7993999999999,0.4,-279.60000000000002,490.31975999999997,191.97994,503.96975999999995,null,2340,1485.4997000000001,0.63482893162393161,172.20060000000001,490.31975999999997,191.97994,2340,10,0.2,20,0.2]
[null,null,2350,0,195,195,2155,85.818599999999989,71.37,15.011999999999999,48,null,null,null,null,220.20060000000001,1934.7993999999999,0.4,-279.60000000000002,494.31975999999997,192.97994,507.96975999999995,null,2350,1490.4997000000001,0.63425519148936171,172.20060000000001,494.31975999999997,192.97994,2350,10,0.2,20,0.2]
[null,null,2360,0,195,195,2165,85.818599999999989,71.37,15.011999999999999,48,null,null,null,null,220.20060000000001,1944.7993999999999,0.4,-279.60000000000002,498.31975999999997,193.97994,511.96975999999995,null,2360,1495.4997000000001,0.63368631355932203,172.20060000000001,498.31975999999997,193.97994,2360,10,0.2,20,0.2]
[null,null,2370,0,195,195,2175,85.818599999999989,71.37,15.011999999999999,48,null,null,null,null,220.20060000000001,1954.7993999999999,0.4,-279.60000000000002,502.31975999999997,194.97994,515.96975999999995,null,2370,1500.4997000000001,0.63312223628691988,172.20060000000001,502.31975999999997,194.97994,2370,10,0.2,20,0.2]
[null,null,2380,0,195,195,2185,85.818599999999989,71.37,15.011999999999999,48,null,null,null,null,220.20060000000001,1964.7993999999999,0.4,-279.60000000000002,506.31975999999997,195.97994,519.96975999999995,null,2380,1505.4997000000001,0.63256289915966391,172.20060000000001,506.31975999999997,195.97994,2380,10,0.2,20,0.2]
[null,null,2390,0,195,195,2195,85.818599999999989,71.37,15.011999999999999,48,null,null,null,null,220.20060000000001,1974.7993999999999,0.4,-279.60000000000002,510.31975999999997,196.97994,523.96975999999995,null,2390,1510.4997000000001,0.63200824267782429,172.20060000000001,510.31975999999997,196.97994,2390,10,0.2,20,0.2]
[null,null,2400,0,195,195,2205,85.818599999999989,71.37,15.011999999999999,48,null,null,null,null,220.20060000000001,1984.7993999999999,0.4,-279.60000000000002,514.31975999999997,197.97994,527.96975999999995,null,2400,1515.4997000000001,0.63145820833333333,172.20060000000001,514.31975999999997,197.97994,2400,10,0.2,20,0.2]
[null,null,2410,0,195,195,2215,85.818599999999989,71.37,15.011999999999999,48,null,null,null,null,220.20060000000001,1994.7993999999999,0.4,-279.60000000000002,518.31975999999997,198.97994,531.96975999999995,null,2410,1520.4997000000001,0.6309127385892116,172.20060000000001,518.31975999999997,198.97994,2410,10,0.2,20,0.2]
[null,null,2420,0,195,195,2225,85.818599999999989,71.37,15.011999999999999,48,null,null,null,null,220.20060000000001,2004.7993999999999,0.4,-279.60000000000002,522.31975999999997,199.97994,535.96975999999995,null,2420,1525.4997000000001,0.63037177685950418,172.20060000000001,522.31975999999997,199.97994,2420,10,0.2,20,0.2]
[null,null,2430,0,195,195,2235,85.818599999999989,71.37,15.011999999999999,48,null,null,null,null,220.20060000000001,2014.7993999999999,0.4,-279.60000000000002,526.31975999999997,200.97994,539.96975999999995,null,2430,1530.4997000000001,0.62983526748971197,172.20060000000001,526.31975999999997,200.97994,2430,10,0.2,20,0.2]
[null,null,2440,0,195,195,2245,85.818599999999989,71.37,15.011999999999999,48,null,null,null,null,220.20060000000001,2024.7993999999999,0.4,-279.60000000000002,530.31975999999997,201.97994,543.96975999999995,null,2440,1535.4997000000001,0.6293031557377049,172.20060000000001,530.31975999999997,201.97994,2440,10,0.2,20,0.2]
[null,null,2450,0,195,195,2255,85.818599999999989,71.37,15.011999999999999,48,null,null,null,null,220.20060000000001,2034.7993999999999,0.4,-279.60000000000002,534.31975999999997,202.97994,547.96975999999995,null,2450,1540.4997000000001,0.62877538775510211,172.20060000000001,534.31975999999997,202.97994,2450,10,0.2,20,0.2]
[null,null,2460,0,195,195,2265,85.818599999999989,71.37,15.011999999999999,48,null,null,null,null,220.20060000000001,2044.7993999999999,0.4,-279.60000000000002,538.31975999999997,203.97994,551.96975999999995,null,2460,1545.4997000000001,0.62825191056910568,172.20060000000001,538.31975999999997,203.97994,2460,10,0.2,20,0.2]
[null,null,2470,0,195,195,2275,85.818599999999989,71.37,15.011999999999999,48,null,null,null,null,220.20060000000001,2054.7993999999999,0.4,-279.60000000000002,542.31975999999997,204.97994,555.96975999999995,null,2470,1550.4997000000001,0.62773267206477734,172.20060000000001,542.31975999999997,204.97994,2470,10,0.2,20,0.2]
[null,null,2480,0,195,195,2285,85.818599999999989,71.37,15.011999999999999,48,null,null,null,null,220.20060000000001,2064.7993999999999,0.4,-279.60000000000002,546.31975999999997,205.97994,559.96975999999995,null,2480,1555.4997000000001,0.62721762096774192,172.20060000000001,546.31975999999997,205.97994,2480,10,0.2,20,0.2]
[null,null,2490,0,195,195,2295,85.818599999999989,71.37,15.011999999999999,48,null,null,null,null,220.20060000000001,2074.7993999999999,0.4,-279.60000000000002,550.31975999999997,206.97994,563.96975999999995,null,2490,1560.4997000000001,0.62670670682730922,172.20060000000001,550.31975999999997,206.97994,2490,10,0.2,20,0.2]
[null,null,2500,0,195,195,2305,85.818599999999989,71.37,15.011999999999999,48,null,null,null,null,220.20060000000001,2084.7993999999999,0.4,-279.60000000000002,554.31975999999997,207.97994,567.96975999999995,null,2500,1565.4997000000001,0.62619988000000004,172.20060000000001,554.31975999999997,207.97994,2500,10,0.2,20,0.2]
[null,null,2510,0,195,195,2315,85.818599999999989,71.37,15.011999999999999,48,null,null,null,null,220.20060000000001,2094.7993999999999,0.4,-279.60000000000002,558.31975999999997,208.97994,571.96975999999995,null,2510,1570.4997000000001,0.62569709163346621,172.20060000000001,558.31975999999997,208.97994,2510,10,0.2,20,0.2]
[null,null,2520,0,195,195,2325,85.818599999999989,71.37,15.011999999999999,48,null,null,null,null,220.20060000000001,2104.7993999999999,0.4,-279.60000000000002,562.31975999999997,209.97994,575.96975999999995,null,2520,1575.4997000000001,0.62519829365079371,172.20060000000001,562.31975999999997,209.97994,2520,10,0.2,20,0.2]
[null,null,2530,0,195,195,2335,85.818599999999989,71.37,15.011999999999999,48,null,null,null,null,220.20060000000001,2114.7993999999999,0.4,-279.60000000000002,566.31975999999997,210.97994,579.96975999999995,null,2530,1580.4997000000001,0.62470343873517786,172.20060000000001,566.31975999999997,210.97994,2530,10,0.2,20,0.2]
[null,null,2540,0,195,195,2345,85.818599999999989,71.37,15.011999999999999,48,null,null,null,null,220.20060000000001,2124.7993999999999,0.4,-279.60000000000002,570.31975999999997,211.97994,583.96975999999995,null,2540,1585.4997000000001,0.62421248031496068,172.20060000000001,570.31975999999997,211.97994,2540,10,0.2,20,0.2]
[null,null,2550,0,195,195,2355,85.818599999999989,71.37,15.011999999999999,48,null,null,null,null,220.20060000000001,2134.7993999999999,0.4,-279.60000000000002,574.31975999999997,212.97994,587.96975999999995,null,2550,1590.4997000000001,0.62372537254901961,172.20060000000001,574.31975999999997,212.97994,2550,10,0.2,20,0.2]
[null,null,2560,0,195,195,2365,85.818599999999989,71.37,15.011999999999999,48,null,null,null,null,220.20060000000001,2144.7993999999999,0.4,-279.60000000000002,578.31975999999997,213.97994,591.96975999999995,null,2560,1595.4997000000001,0.62324207031250001,172.20060000000001,578.31975999999997,213.97994,2560,10,0.2,20,0.2]
[null,null,2570,0,195,195,2375,85.818599999999989,71.37,15.011999999999999,48,null,null,null,null,220.20060000000001,2154.7993999999999,0.4,-279.60000000000002,582.31975999999997,214.97994,595.96975999999995,null,2570,1600.4997000000001,0.62276252918287944,172.20060000000001,582.31975999999997,214.97994,2570,10,0.2,20,0.2]
[null,null,2580,0,195,195,2385,85.818599999999989,71.37,15.011999999999999,48,null,null,null,null,220.20060000000001,2164.7993999999999,0.4,-279.60000000000002,586.31975999999997,215.97994,599.96975999999995,null,2580,1605.4997000000001,0.62228670542635667,172.20060000000001,586.31975999999997,215.97994,2580,10,0.2,20,0.2]
[null,null,2590,0,195,195,2395,85.818599999999989,71.37,15.011999999999999,48,null,null,null,null,220.20060000000001,2174.7993999999999,0.4,-279.60000000000002,590.31975999999997,216.97994,603.96975999999995,null,2590,1610.4997000000001,0.62181455598455604,172.20060000000001,590.31975999999997,216.97994,2590,10,0.2,20,0.2]
[null,null,2600,0,195,195,2405,85.818599999999989,71.37,15.011999999999999,32,null,null,null,null,204.20060000000001,2200.7993999999999,0.4,-279.60000000000002,600.71975999999995,219.57993999999999,614.36975999999993,null,2600,1607.4997000000001,0.61826911538461538,172.20060000000001,600.71975999999995,219.57993999999999,2600,2,0.04,12,0.12]
[null,null,2610,0,195,195,2415,85.818599999999989,71.37,15.011999999999999,32,null,null,null,null,204.20060000000001,2210.7993999999999,0.4,-279.60000000000002,604.71975999999995,220.57993999999999,618.36975999999993,null,2610,1612.4997000000001,0.61781597701149427,172.20060000000001,604.71975999999995,220.57993999999999,2610,2,0.04,12,0.12]
[null,null,2620,0,195,195,2425,85.818599999999989,71.37,15.011999999999999,32,null,null,null,null,204.20060000000001,2220.7993999999999,0.4,-279.60000000000002,608.71975999999995,221.57993999999999,622.36975999999993,null,2620,1617.4997000000001,0.61736629770992368,172.20060000000001,608.71975999999995,221.57993999999999,2620,10,0.2,12,0.12]
[null,null,2630,0,195,195,2435,85.818599999999989,71.37,15.011999999999999,32,null,null,null,null,204.20060000000001,2230.7993999999999,0.4,-279.60000000000002,612.71975999999995,222.57993999999999,626.36975999999993,null,2630,1622.4997000000001,0.6169200380228137,172.20060000000001,612.71975999999995,222.57993999999999,2630,10,0.2,12,0.12]
[null,null,2640,0,195,195,2445,85.818599999999989,71.37,15.011999999999999,32,null,null,null,null,204.20060000000001,2240.7993999999999,0.4,-279.60000000000002,616.71975999999995,223.57993999999999,630.36975999999993,null,2640,1627.4997000000001,0.61647715909090917,172.20060000000001,616.71975999999995,223.57993999999999,2640,10,0.2,20,0.2]
[null,null,2650,0,195,195,2455,85.818599999999989,71.37,15.011999999999999,16,null,null,null,null,188.20060000000001,2266.7993999999999,0.4,-279.60000000000002,627.11975999999993,226.17993999999999,640.76975999999991,null,2650,1624.4997000000001,0.6130187547169812,172.20060000000001,627.11975999999993,226.17993999999999,2650,2,0.04,12,0.12]
[null,null,2660,0,195,195,2465,85.818599999999989,71.37,15.011999999999999,16,null,null,null,null,188.20060000000001,2276.7993999999999,0.4,-279.60000000000002,631.11975999999993,227.17993999999999,644.76975999999991,null,2660,1629.4997000000001,0.61259387218045114,172.20060000000001,631.11975999999993,227.17993999999999,2660,2,0.04,12,0.12]
[null,null,2670,0,195,195,2475,85.818599999999989,71.37,15.011999999999999,16,null,null,null,null,188.20060000000001,2286.7993999999999,0.4,-279.60000000000002,635.11975999999993,228.17993999999999,648.76975999999991,null,2670,1634.4997000000001,0.61217217228464427,172.20060000000001,635.11975999999993,228.17993999999999,2670,10,0.2,12,0.12]
[null,null,2680,0,195,195,2485,85.818599999999989,71.37,15.011999999999999,16,null,null,null,null,188.20060000000001,2296.7993999999999,0.4,-279.60000000000002,639.11975999999993,229.17993999999999,652.76975999999991,null,2680,1639.4997000000001,0.61175361940298512,172.20060000000001,639.11975999999993,229.17993999999999,2680,10,0.2,12,0.12]
[null,null,2690,0,195,195,2495,85.818599999999989,71.37,15.011999999999999,16,null,null,null,null,188.20060000000001,2306.7993999999999,0.4,-279.60000000000002,643.11975999999993,230.17993999999999,656.76975999999991,null,2690,1644.4997000000001,0.61133817843866178,172.20060000000001,643.11975999999993,230.17993999999999,2690,10,0.2,20,0.2]
[null,null,2700,0,195,195,2505,85.818599999999989,71.37,15.011999999999999,0,null,null,null,null,172.20060000000001,2332.7993999999999,0.4,-279.60000000000002,653.51976000000002,232.77994000000001,667.16976,null,2700,1641.4996999999998,0.60796285185185184,172.20060000000001,653.51976000000002,232.77994000000001,2700,1.9999999999997726,3.9999999999995456E-2,11.999999999999773,0.11999999999999772]
[null,null,2710,0,195,195,2515,85.818599999999989,71.37,15.011999999999999,0,null,null,null,null,172.20060000000001,2342.7993999999999,0.4,-279.60000000000002,657.51976000000002,233.77994000000001,671.16976,null,2710,1646.4996999999998,0.60756446494464944,172.20060000000001,657.51976000000002,233.77994000000001,2710,1.9999999999997726,3.9999999999995456E-2,11.999999999999773,0.11999999999999772]
[null,null,2720,0,195,195,2525,85.818599999999989,71.37,15.011999999999999,0,null,null,null,null,172.20060000000001,2352.7993999999999,0.4,-279.60000000000002,661.51976000000002,234.77994000000001,675.16976,null,2720,1651.4996999999998,0.6071690073529411,172.20060000000001,661.51976000000002,234.77994000000001,2720,10,0.2,11.999999999999773,0.11999999999999772]
[null,null,2730,0,195,195,2535,85.818599999999989,71.37,15.011999999999999,0,null,null,null,null,172.20060000000001,2362.7993999999999,0.4,-279.60000000000002,665.51976000000002,235.77994000000001,679.16976,null,2730,1656.4996999999998,0.60677644688644683,172.20060000000001,665.51976000000002,235.77994000000001,2730,10,0.2,11.999999999999773,0.11999999999999772]
[null,null,2740,0,195,195,2545,85.818599999999989,71.37,15.011999999999999,0,null,null,null,null,172.20060000000001,2372.7993999999999,0.4,-279.60000000000002,669.51976000000002,236.77994000000001,683.16976,null,2740,1661.4996999999998,0.60638675182481749,172.20060000000001,669.51976000000002,236.77994000000001,2740,10,0.2,20,0.2]
[null,null,2750,0,195,195,2555,85.818599999999989,71.37,15.011999999999999,0,null,null,null,null,172.20060000000001,2382.7993999999999,0.4,-279.60000000000002,673.51976000000002,237.77994000000001,687.16976,null,2750,1666.4996999999998,0.6059998909090909,172.20060000000001,673.51976000000002,237.77994000000001,2750,10,0.2,20,0.2]
[null,null,2760,0,195,195,2565,85.818599999999989,71.37,15.011999999999999,0,null,null,null,null,172.20060000000001,2392.7993999999999,0.4,-279.60000000000002,677.51976000000002,238.77994000000001,691.16976,null,2760,1671.4996999999998,0.60561583333333324,172.20060000000001,677.51976000000002,238.77994000000001,2760,10,0.2,20,0.2]
[null,null,2770,0,195,195,2575,85.818599999999989,71.37,15.011999999999999,0,null,null,null,null,172.20060000000001,2402.7993999999999,0.4,-279.60000000000002,681.51976000000002,239.77994000000001,695.16976,null,2770,1676.4996999999998,0.60523454873646199,172.20060000000001,681.51976000000002,239.77994000000001,2770,10,0.2,20,0.2]
[null,null,2780,0,195,195,2585,85.818599999999989,71.37,15.011999999999999,0,null,null,null,null,172.20060000000001,2412.7993999999999,0.4,-279.60000000000002,685.51976000000002,240.77994000000001,699.16976,null,2780,1681.4996999999998,0.60485600719424459,172.20060000000001,685.51976000000002,240.77994000000001,2780,10,0.2,20,0.2]
[null,null,2790,0,195,195,2595,85.818599999999989,71.37,15.011999999999999,0,null,null,null,null,172.20060000000001,2422.7993999999999,0.4,-279.60000000000002,689.51976000000002,241.77994000000001,703.16976,null,2790,1686.4996999999998,0.60448017921146946,172.20060000000001,689.51976000000002,241.77994000000001,2790,10,0.2,20,0.2]
[null,null,2800,0,195,195,2605,85.818599999999989,71.37,15.011999999999999,0,null,null,null,null,172.20060000000001,2432.7993999999999,0.4,-279.60000000000002,693.51976000000002,242.77994000000001,707.16976,null,2800,1691.4996999999998,0.6041070357142857,172.20060000000001,693.51976000000002,242.77994000000001,2800,10,0.2,20,0.2]
[null,null,2810,0,195,195,2615,85.818599999999989,71.37,15.011999999999999,0,null,null,null,null,172.20060000000001,2442.7993999999999,0.4,-279.60000000000002,697.51976000000002,243.77994000000001,711.16976,null,2810,1696.4996999999998,0.6037365480427046,172.20060000000001,697.51976000000002,243.77994000000001,2810,10,0.2,20,0.2]
[null,null,2820,0,195,195,2625,85.818599999999989,71.37,15.011999999999999,0,null,null,null,null,172.20060000000001,2452.7993999999999,0.4,-279.60000000000002,701.51976000000002,244.77994000000001,715.16976,null,2820,1701.4996999999998,0.60336868794326237,172.20060000000001,701.51976000000002,244.77994000000001,2820,10,0.2,20,0.2]
[null,null,2830,0,195,195,2635,85.818599999999989,71.37,15.011999999999999,0,null,null,null,null,172.20060000000001,2462.7993999999999,0.4,-279.60000000000002,705.51976000000002,245.77994000000001,719.16976,null,2830,1706.4996999999998,0.60300342756183745,172.20060000000001,705.51976000000002,245.77994000000001,2830,10,0.2,20,0.2]
[null,null,2840,0,195,195,2645,85.818599999999989,71.37,15.011999999999999,0,null,null,null,null,172.20060000000001,2472.7993999999999,0.4,-279.60000000000002,709.51976000000002,246.77994000000001,723.16976,null,2840,1711.4996999999998,0.60264073943661967,172.20060000000001,709.51976000000002,246.77994000000001,2840,10,0.2,20,0.2]
[null,null,2850,0,195,195,2655,85.818599999999989,71.37,15.011999999999999,0,null,null,null,null,172.20060000000001,2482.7993999999999,0.4,-279.60000000000002,713.51976000000002,247.77994000000001,727.16976,null,2850,1716.4996999999998,0.602280596491228,172.20060000000001,713.51976000000002,247.77994000000001,2850,10,0.2,20,0.2]
[null,null,2860,0,195,195,2665,85.818599999999989,71.37,15.011999999999999,0,null,null,null,null,172.20060000000001,2492.7993999999999,0.4,-279.60000000000002,717.51976000000002,248.77994000000001,731.16976,null,2860,1721.4996999999998,0.60192297202797196,172.20060000000001,717.51976000000002,248.77994000000001,2860,10,0.2,20,0.2]
[null,null,2870,0,195,195,2675,85.818599999999989,71.37,15.011999999999999,0,null,null,null,null,172.20060000000001,2502.7993999999999,0.4,-279.60000000000002,721.51976000000002,249.77994000000001,735.16976,null,2870,1726.4996999999998,0.60156783972125427,172.20060000000001,721.51976000000002,249.77994000000001,2870,10,0.2,20,0.2]
[null,null,2880,0,195,195,2685,85.818599999999989,71.37,15.011999999999999,0,null,null,null,null,172.20060000000001,2512.7993999999999,0.4,-279.60000000000002,725.51976000000002,250.77994000000001,739.16976,null,2880,1731.4996999999998,0.6012151736111111,172.20060000000001,725.51976000000002,250.77994000000001,2880,10,0.2,20,0.2]
[null,null,2890,0,195,195,2695,85.818599999999989,71.37,15.011999999999999,0,null,null,null,null,172.20060000000001,2522.7993999999999,0.4,-279.60000000000002,729.51976000000002,251.77994000000001,743.16976,null,2890,1736.4996999999998,0.60086494809688573,172.20060000000001,729.51976000000002,251.77994000000001,2890,10,0.2,20,0.2]
[null,null,2900,0,195,195,2705,85.818599999999989,71.37,15.011999999999999,0,null,null,null,null,172.20060000000001,2532.7993999999999,0.4,-279.60000000000002,733.51976000000002,252.77994000000001,747.16976,null,2900,1741.4996999999998,0.60051713793103445,172.20060000000001,733.51976000000002,252.77994000000001,2900,10,0.2,20,0.2]
[null,null,2910,0,195,195,2715,85.818599999999989,71.37,15.011999999999999,0,null,null,null,null,172.20060000000001,2542.7993999999999,0.4,-279.60000000000002,737.51976000000002,253.77994000000001,751.16976,null,2910,1746.4996999999998,0.60017171821305837,172.20060000000001,737.51976000000002,253.77994000000001,2910,10,0.2,20,0.2]
[null,null,2920,0,195,195,2725,85.818599999999989,71.37,15.011999999999999,0,null,null,null,null,172.20060000000001,2552.7993999999999,0.4,-279.60000000000002,741.51976000000002,254.77994000000001,755.16976,null,2920,1751.4996999999998,0.59982866438356164,172.20060000000001,741.51976000000002,254.77994000000001,2920,10,0.2,20,0.2]
[null,null,2930,0,195,195,2735,85.818599999999989,71.37,15.011999999999999,0,null,null,null,null,172.20060000000001,2562.7993999999999,0.4,-279.60000000000002,745.51976000000002,255.77994000000001,759.16976,null,2930,1756.4996999999998,0.59948795221842999,172.20060000000001,745.51976000000002,255.77994000000001,2930,10,0.2,20,0.2]
[null,null,2940,0,195,195,2745,85.818599999999989,71.37,15.011999999999999,0,null,null,null,null,172.20060000000001,2572.7993999999999,0.4,-279.60000000000002,749.51976000000002,256.77994000000001,763.16976,null,2940,1761.4996999999998,0.59914955782312918,172.20060000000001,749.51976000000002,256.77994000000001,2940,10,0.2,20,0.2]
[null,null,2950,0,195,195,2755,85.818599999999989,71.37,15.011999999999999,0,null,null,null,null,172.20060000000001,2582.7993999999999,0.4,-279.60000000000002,753.51976000000002,257.77994000000001,767.16976,null,2950,1766.4996999999998,0.59881345762711857,172.20060000000001,753.51976000000002,257.77994000000001,2950,10,0.2,20,0.2]
[null,null,2960,0,195,195,2765,85.818599999999989,71.37,15.011999999999999,0,null,null,null,null,172.20060000000001,2592.7993999999999,0.4,-279.60000000000002,757.51976000000002,258.77994000000001,771.16976,null,2960,1771.4996999999998,0.59847962837837831,172.20060000000001,757.51976000000002,258.77994000000001,2960,10,0.2,20,0.2]
[null,null,2970,0,195,195,2775,85.818599999999989,71.37,15.011999999999999,0,null,null,null,null,172.20060000000001,2602.7993999999999,0.4,-279.60000000000002,761.51976000000002,259.77994000000001,775.16976,null,2970,1776.4996999999998,0.59814804713804703,172.20060000000001,761.51976000000002,259.77994000000001,2970,10,0.2,20,0.2]
[null,null,2980,0,195,195,2785,85.818599999999989,71.37,15.011999999999999,0,null,null,null,null,172.20060000000001,2612.7993999999999,0.4,-279.60000000000002,765.51976000000002,260.77994000000001,779.16976,null,2980,1781.4996999999998,0.59781869127516774,172.20060000000001,765.51976000000002,260.77994000000001,2980,10,0.2,20,0.2]
[null,null,2990,0,195,195,2795,85.818599999999989,71.37,15.011999999999999,0,null,null,null,null,172.20060000000001,2622.7993999999999,0.4,-279.60000000000002,769.51976000000002,261.77994000000001,783.16976,null,2990,1786.4996999999998,0.59749153846153846,172.20060000000001,769.51976000000002,261.77994000000001,2990,10,0.2,20,0.2]
[null,null,3000,0,195,195,2805,85.818599999999989,71.37,15.011999999999999,0,null,null,null,null,172.20060000000001,2632.7993999999999,0.4,-279.60000000000002,773.51976000000002,262.77994000000001,787.16976,null,3000,1791.4996999999998,0.59716656666666657,172.20060000000001,773.51976000000002,262.77994000000001,3000,10,0.2,20,0.2]
[null,null,3010,0,195,195,2815,85.818599999999989,71.37,15.011999999999999,0,null,null,null,null,172.20060000000001,2642.7993999999999,0.4,-279.60000000000002,777.51976000000002,263.77994000000001,791.16976,null,3010,1796.4996999999998,0.59684375415282387,172.20060000000001,777.51976000000002,263.77994000000001,3010,10,0.2,20,0.2]
[null,null,3020,0,195,195,2825,85.818599999999989,71.37,15.011999999999999,0,null,null,null,null,172.20060000000001,2652.7993999999999,0.4,-279.60000000000002,781.51976000000002,264.77994000000001,795.16976,null,3020,1801.4996999999998,0.59652307947019867,172.20060000000001,781.51976000000002,264.77994000000001,3020,10,0.2,20,0.2]
[null,null,3030,0,195,195,2835,85.818599999999989,71.37,15.011999999999999,0,null,null,null,null,172.20060000000001,2662.7993999999999,0.4,-279.60000000000002,785.51976000000002,265.77994000000001,799.16976,null,3030,1806.4996999999998,0.5962045214521452,172.20060000000001,785.51976000000002,265.77994000000001,3030,10,0.2,20,0.2]
[null,null,3040,0,195,195,2845,85.818599999999989,71.37,15.011999999999999,0,null,null,null,null,172.20060000000001,2672.7993999999999,0.4,-279.60000000000002,789.51976000000002,266.77994000000001,803.16976,null,3040,1811.4996999999998,0.59588805921052623,172.20060000000001,789.51976000000002,266.77994000000001,3040,10,0.2,20,0.2]
[null,null,3050,0,195,195,2855,85.818599999999989,71.37,15.011999999999999,0,null,null,null,null,172.20060000000001,2682.7993999999999,0.4,-279.60000000000002,793.51976000000002,267.77994000000001,807.16976,null,3050,1816.4996999999998,0.59557367213114754,172.20060000000001,793.51976000000002,267.77994000000001,3050,10,0.2,20,0.2]
[null,null,3060,0,195,195,2865,85.818599999999989,71.37,15.011999999999999,0,null,null,null,null,172.20060000000001,2692.7993999999999,0.4,-279.60000000000002,797.51976000000002,268.77994000000001,811.16976,null,3060,1821.4996999999998,0.59526133986928098,172.20060000000001,797.51976000000002,268.77994000000001,3060,10,0.2,20,0.2]
[null,null,3070,0,195,195,2875,85.818599999999989,71.37,15.011999999999999,0,null,null,null,null,172.20060000000001,2702.7993999999999,0.4,-279.60000000000002,801.51976000000002,269.77994000000001,815.16976,null,3070,1826.4996999999998,0.59495104234527685,172.20060000000001,801.51976000000002,269.77994000000001,3070,10,0.2,20,0.2]
[null,null,3080,0,195,195,2885,85.818599999999989,71.37,15.011999999999999,0,null,null,null,null,172.20060000000001,2712.7993999999999,0.4,-279.60000000000002,805.51976000000002,270.77994000000001,819.16976,null,3080,1831.4996999999998,0.59464275974025971,172.20060000000001,805.51976000000002,270.77994000000001,3080,10,0.2,20,0.2]
[null,null,3090,0,195,195,2895,85.818599999999989,71.37,15.011999999999999,0,null,null,null,null,172.20060000000001,2722.7993999999999,0.4,-279.60000000000002,809.51976000000002,271.77994000000001,823.16976,null,3090,1836.4996999999998,0.59433647249190935,172.20060000000001,809.51976000000002,271.77994000000001,3090,10,0.2,20,0.2]
[null,null,3100,0,195,195,2905,85.818599999999989,71.37,15.011999999999999,0,null,null,null,null,172.20060000000001,2732.7993999999999,0.4,-279.60000000000002,813.51976000000002,272.77994000000001,827.16976,null,3100,1841.4996999999998,0.59403216129032255,172.20060000000001,813.51976000000002,272.77994000000001,3100,10,0.2,20,0.2]
[null,null,3110,0,195,195,2915,85.818599999999989,71.37,15.011999999999999,0,null,null,null,null,172.20060000000001,2742.7993999999999,0.4,-279.60000000000002,817.51976000000002,273.77994000000001,831.16976,null,3110,1846.4996999999998,0.59372980707395495,172.20060000000001,817.51976000000002,273.77994000000001,3110,10,0.2,20,0.2]
[null,null,3120,0,195,195,2925,85.818599999999989,71.37,15.011999999999999,0,null,null,null,null,172.20060000000001,2752.7993999999999,0.4,-279.60000000000002,821.51976000000002,274.77994000000001,835.16976,null,3120,1851.4996999999998,0.59342939102564096,172.20060000000001,821.51976000000002,274.77994000000001,3120,10,0.2,20,0.2]
[null,null,3130,0,195,195,2935,85.818599999999989,71.37,15.011999999999999,0,null,null,null,null,172.20060000000001,2762.7993999999999,0.4,-279.60000000000002,825.51976000000002,275.77994000000001,839.16976,null,3130,1856.4996999999998,0.59313089456869006,172.20060000000001,825.51976000000002,275.77994000000001,3130,10,0.2,20,0.2]
[null,null,3140,0,195,195,2945,85.818599999999989,71.37,15.011999999999999,0,null,null,null,null,172.20060000000001,2772.7993999999999,0.4,-279.60000000000002,829.51976000000002,276.77994000000001,843.16976,null,3140,1861.4996999999998,0.59283429936305732,172.20060000000001,829.51976000000002,276.77994000000001,3140,10,0.2,20,0.2]
[null,null,3150,0,195,195,2955,85.818599999999989,71.37,15.011999999999999,0,null,null,null,null,172.20060000000001,2782.7993999999999,0.4,-279.60000000000002,833.51976000000002,277.77994000000001,847.16976,null,3150,1866.4996999999998,0.59253958730158729,172.20060000000001,833.51976000000002,277.77994000000001,3150,10,0.2,20,0.2]
[null,null,3160,0,195,195,2965,85.818599999999989,71.37,15.011999999999999,0,null,null,null,null,172.20060000000001,2792.7993999999999,0.4,-279.60000000000002,837.51976000000002,278.77994000000001,851.16976,null,3160,1871.4996999999998,0.59224674050632908,172.20060000000001,837.51976000000002,278.77994000000001,3160,10,0.2,20,0.2]
[null,null,3170,0,195,195,2975,85.818599999999989,71.37,15.011999999999999,0,null,null,null,null,172.20060000000001,2802.7993999999999,0.4,-279.60000000000002,841.51976000000002,279.77994000000001,855.16976,null,3170,1876.4996999999998,0.59195574132492113,172.20060000000001,841.51976000000002,279.77994000000001,3170,10,0.2,20,0.2]
[null,null,3180,0,195,195,2985,85.818599999999989,71.37,15.011999999999999,0,null,null,null,null,172.20060000000001,2812.7993999999999,0.4,-279.60000000000002,845.51976000000002,280.77994000000001,859.16976,null,3180,1881.4996999999998,0.591666572327044,172.20060000000001,845.51976000000002,280.77994000000001,3180,10,0.2,20,0.2]
[null,null,3190,0,195,195,2995,85.818599999999989,71.37,15.011999999999999,0,null,null,null,null,172.20060000000001,2822.7993999999999,0.4,-279.60000000000002,849.51976000000002,281.77994000000001,863.16976,null,3190,1886.4996999999998,0.59137921630094037,172.20060000000001,849.51976000000002,281.77994000000001,3190,10,0.2,20,0.2]
[null,null,3200,0,195,195,3005,85.818599999999989,71.37,15.011999999999999,0,null,null,null,null,172.20060000000001,2832.7993999999999,0.4,-279.60000000000002,853.51976000000002,282.77994000000001,867.16976,null,3200,1891.4996999999998,0.59109365624999999,172.20060000000001,853.51976000000002,282.77994000000001,3200,10,0.2,20,0.2]
[null,null,3210,0,195,195,3015,85.818599999999989,71.37,15.011999999999999,0,null,null,null,null,172.20060000000001,2842.7993999999999,0.4,-279.60000000000002,857.51976000000002,283.77994000000001,871.16976,null,3210,1896.4996999999998,0.5908098753894081,172.20060000000001,857.51976000000002,283.77994000000001,3210,10,0.2,20,0.2]
[null,null,3220,0,195,195,3025,85.818599999999989,71.37,15.011999999999999,0,null,null,null,null,172.20060000000001,2852.7993999999999,0.4,-279.60000000000002,861.51976000000002,284.77994000000001,875.16976,null,3220,1901.4996999999998,0.59052785714285705,172.20060000000001,861.51976000000002,284.77994000000001,3220,10,0.2,20,0.2]
[null,null,3230,0,195,195,3035,85.818599999999989,71.37,15.011999999999999,0,null,null,null,null,172.20060000000001,2862.7993999999999,0.4,-279.60000000000002,865.51976000000002,285.77994000000001,879.16976,null,3230,1906.4996999999998,0.59024758513931885,172.20060000000001,865.51976000000002,285.77994000000001,3230,10,0.2,20,0.2]
[null,null,3240,0,195,195,3045,85.818599999999989,71.37,15.011999999999999,0,null,null,null,null,172.20060000000001,2872.7993999999999,0.4,-279.60000000000002,869.51976000000002,286.77994000000001,883.16976,null,3240,1911.4996999999998,0.58996904320987653,172.20060000000001,869.51976000000002,286.77994000000001,3240,10,0.2,20,0.2]
[null,null,3250,0,195,195,3055,85.818599999999989,71.37,15.011999999999999,0,null,null,null,null,172.20060000000001,2882.7993999999999,0.4,-279.60000000000002,873.51976000000002,287.77994000000001,887.16976,null,3250,1916.4996999999998,0.58969221538461536,172.20060000000001,873.51976000000002,287.77994000000001,3250,10,0.2,20,0.2]
[null,null,3260,0,195,195,3065,85.818599999999989,71.37,15.011999999999999,0,null,null,null,null,172.20060000000001,2892.7993999999999,0.4,-279.60000000000002,877.51976000000002,288.77994000000001,891.16976,null,3260,1921.4996999999998,0.58941708588957054,172.20060000000001,877.51976000000002,288.77994000000001,3260,10,0.2,20,0.2]
[null,null,3270,0,195,195,3075,85.818599999999989,71.37,15.011999999999999,0,null,null,null,null,172.20060000000001,2902.7993999999999,0.4,-279.60000000000002,881.51976000000002,289.77994000000001,895.16976,null,3270,1926.4996999999998,0.5891436391437308,172.20060000000001,881.51976000000002,289.77994000000001,3270,10,0.2,20,0.2]
[null,null,3280,0,195,195,3085,85.818599999999989,71.37,15.011999999999999,0,null,null,null,null,172.20060000000001,2912.7993999999999,0.4,-279.60000000000002,885.51976000000002,290.77994000000001,899.16976,null,3280,1931.4996999999998,0.58887185975609746,172.20060000000001,885.51976000000002,290.77994000000001,3280,10,0.2,20,0.2]
[null,null,3290,0,195,195,3095,85.818599999999989,71.37,15.011999999999999,0,null,null,null,null,172.20060000000001,2922.7993999999999,0.4,-279.60000000000002,889.51976000000002,291.77994000000001,903.16976,null,3290,1936.4996999999998,0.58860173252279635,172.20060000000001,889.51976000000002,291.77994000000001,3290,10,0.2,20,0.2]
[null,null,3300,0,195,195,3105,85.818599999999989,71.37,15.011999999999999,0,null,null,null,null,172.20060000000001,2932.7993999999999,0.4,-279.60000000000002,893.51976000000002,292.77994000000001,907.16976,null,3300,1941.4996999999998,0.58833324242424234,172.20060000000001,893.51976000000002,292.77994000000001,3300,10,0.2,20,0.2]
[null,null,3310,0,195,195,3115,85.818599999999989,71.37,15.011999999999999,0,null,null,null,null,172.20060000000001,2942.7993999999999,0.4,-279.60000000000002,897.51976000000002,293.77994000000001,911.16976,null,3310,1946.4996999999998,0.58806637462235645,172.20060000000001,897.51976000000002,293.77994000000001,3310,10,0.2,20,0.2]
[null,null,3320,0,195,195,3125,85.818599999999989,71.37,15.011999999999999,0,null,null,null,null,172.20060000000001,2952.7993999999999,0.4,-279.60000000000002,901.51976000000002,294.77994000000001,915.16976,null,3320,1951.4996999999998,0.58780111445783123,172.20060000000001,901.51976000000002,294.77994000000001,3320,10,0.2,20,0.2]
[null,null,3330,0,195,195,3135,85.818599999999989,71.37,15.011999999999999,0,null,null,null,null,172.20060000000001,2962.7993999999999,0.4,-279.60000000000002,905.51976000000002,295.77994000000001,919.16976,null,3330,1956.4996999999998,0.5875374474474474,172.20060000000001,905.51976000000002,295.77994000000001,3330,10,0.2,20,0.2]
[null,null,3340,0,195,195,3145,85.818599999999989,71.37,15.011999999999999,0,null,null,null,null,172.20060000000001,2972.7993999999999,0.4,-279.60000000000002,909.51976000000002,296.77994000000001,923.16976,null,3340,1961.4996999999998,0.58727535928143704,172.20060000000001,909.51976000000002,296.77994000000001,3340,10,0.2,20,0.2]
[null,null,3350,0,195,195,3155,85.818599999999989,71.37,15.011999999999999,0,null,null,null,null,172.20060000000001,2982.7993999999999,0.4,-279.60000000000002,913.51976000000002,297.77994000000001,927.16976,null,3350,1966.4996999999998,0.58701483582089553,172.20060000000001,913.51976000000002,297.77994000000001,3350,10,0.2,20,0.2]
[null,null,3360,0,195,195,3165,85.818599999999989,71.37,15.011999999999999,0,null,null,null,null,172.20060000000001,2992.7993999999999,0.4,-279.60000000000002,917.51976000000002,298.77994000000001,931.16976,null,3360,1971.4996999999998,0.58675586309523808,172.20060000000001,917.51976000000002,298.77994000000001,3360,10,0.2,20,0.2]
[null,null,3370,0,195,195,3175,85.818599999999989,71.37,15.011999999999999,0,null,null,null,null,172.20060000000001,3002.7993999999999,0.4,-279.60000000000002,921.51976000000002,299.77994000000001,935.16976,null,3370,1976.4996999999998,0.58649842729970325,172.20060000000001,921.51976000000002,299.77994000000001,3370,10,0.2,20,0.2]
[null,null,3380,0,195,195,3185,85.818599999999989,71.37,15.011999999999999,0,null,null,null,null,172.20060000000001,3012.7993999999999,0.4,-279.60000000000002,925.51976000000002,300.77994000000001,939.16976,null,3380,1981.4996999999998,0.58624251479289935,172.20060000000001,925.51976000000002,300.77994000000001,3380,10,0.2,20,0.2]
[null,null,3390,0,195,195,3195,85.818599999999989,71.37,15.011999999999999,0,null,null,null,null,172.20060000000001,3022.7993999999999,0.4,-279.60000000000002,929.51976000000002,301.77994000000001,943.16976,null,3390,1986.4996999999998,0.58598811209439527,172.20060000000001,929.51976000000002,301.77994000000001,3390,10,0.2,20,0.2]
[null,null,3400,0,195,195,3205,85.818599999999989,71.37,15.011999999999999,0,null,null,null,null,172.20060000000001,3032.7993999999999,0.4,-279.60000000000002,933.51976000000002,302.77994000000001,947.16976,null,3400,1991.4996999999998,0.58573520588235295,172.20060000000001,933.51976000000002,302.77994000000001,3400,10,0.2,20,0.2]
[null,null,3410,0,195,195,3215,85.818599999999989,71.37,15.011999999999999,0,null,null,null,null,172.20060000000001,3042.7993999999999,0.4,-279.60000000000002,937.51976000000002,303.77994000000001,951.16976,null,3410,1996.4996999999998,0.5854837829912023,172.20060000000001,937.51976000000002,303.77994000000001,3410,10,0.2,20,0.2]
[null,null,3420,0,195,195,3225,85.818599999999989,71.37,15.011999999999999,0,null,null,null,null,172.20060000000001,3052.7993999999999,0.4,-279.60000000000002,941.51976000000002,304.77994000000001,955.16976,null,3420,2001.4996999999998,0.58523383040935673,172.20060000000001,941.51976000000002,304.77994000000001,3420,10,0.2,20,0.2]
[null,null,3430,0,195,195,3235,85.818599999999989,71.37,15.011999999999999,0,null,null,null,null,172.20060000000001,3062.7993999999999,0.4,-279.60000000000002,945.51976000000002,305.77994000000001,959.16976,null,3430,2006.4996999999998,0.58498533527696783,172.20060000000001,945.51976000000002,305.77994000000001,3430,10,0.2,20,0.2]
[null,null,3440,0,195,195,3245,85.818599999999989,71.37,15.011999999999999,0,null,null,null,null,172.20060000000001,3072.7993999999999,0.4,-279.60000000000002,949.51976000000002,306.77994000000001,963.16976,null,3440,2011.4996999999998,0.58473828488372093,172.20060000000001,949.51976000000002,306.77994000000001,3440,10,0.2,20,0.2]
[null,null,3450,0,195,195,3255,85.818599999999989,71.37,15.011999999999999,0,null,null,null,null,172.20060000000001,3082.7993999999999,0.4,-279.60000000000002,953.51976000000002,307.77994000000001,967.16976,null,3450,2016.4996999999998,0.58449266666666666,172.20060000000001,953.51976000000002,307.77994000000001,3450,10,0.2,20,0.2]
[null,null,3460,0,195,195,3265,85.818599999999989,71.37,15.011999999999999,0,null,null,null,null,172.20060000000001,3092.7993999999999,0.4,-279.60000000000002,957.51976000000002,308.77994000000001,971.16976,null,3460,2021.4996999999998,0.5842484682080924,172.20060000000001,957.51976000000002,308.77994000000001,3460,10,0.2,20,0.2]
[null,null,3470,0,195,195,3275,85.818599999999989,71.37,15.011999999999999,0,null,null,null,null,172.20060000000001,3102.7993999999999,0.4,-279.60000000000002,961.51976000000002,309.77994000000001,975.16976,null,3470,2026.4996999999998,0.58400567723342933,172.20060000000001,961.51976000000002,309.77994000000001,3470,10,0.2,20,0.2]
[null,null,3480,0,195,195,3285,85.818599999999989,71.37,15.011999999999999,0,null,null,null,null,172.20060000000001,3112.7993999999999,0.4,-279.60000000000002,965.51976000000002,310.77994000000001,979.16976,null,3480,2031.4996999999998,0.58376428160919536,172.20060000000001,965.51976000000002,310.77994000000001,3480,10,0.2,20,0.2]
[null,null,3490,0,195,195,3295,85.818599999999989,71.37,15.011999999999999,0,null,null,null,null,172.20060000000001,3122.7993999999999,0.4,-279.60000000000002,969.51976000000002,311.77994000000001,983.16976,null,3490,2036.4996999999998,0.58352426934097412,172.20060000000001,969.51976000000002,311.77994000000001,3490,10,0.2,20,0.2]
[null,null,3500,0,195,195,3305,85.818599999999989,71.37,15.011999999999999,0,null,null,null,null,172.20060000000001,3132.7993999999999,0.4,-279.60000000000002,973.51976000000002,312.77994000000001,987.16976,null,3500,2041.4996999999998,0.58328562857142852,172.20060000000001,973.51976000000002,312.77994000000001,3500,10,0.2,20,0.2]
[null,null,3510,0,195,195,3315,85.818599999999989,71.37,15.011999999999999,0,null,null,null,null,172.20060000000001,3142.7993999999999,0.4,-279.60000000000002,977.51976000000002,313.77994000000001,991.16976,null,3510,2046.4996999999998,0.58304834757834756,172.20060000000001,977.51976000000002,313.77994000000001,3510,10,0.2,20,0.2]
[null,null,3520,0,195,195,3325,85.818599999999989,71.37,15.011999999999999,0,null,null,null,null,172.20060000000001,3152.7993999999999,0.4,-279.60000000000002,981.51976000000002,314.77994000000001,995.16976,null,3520,2051.4996999999998,0.58281241477272727,172.20060000000001,981.51976000000002,314.77994000000001,3520,10,0.2,20,0.2]
[null,null,3530,0,195,195,3335,85.818599999999989,71.37,15.011999999999999,0,null,null,null,null,172.20060000000001,3162.7993999999999,0.4,-279.60000000000002,985.51976000000002,315.77994000000001,999.16976,null,3530,2056.4996999999998,0.58257781869688385,172.20060000000001,985.51976000000002,315.77994000000001,3530,10,0.2,20,0.2]
[null,null,3540,0,195,195,3345,85.818599999999989,71.37,15.011999999999999,0,null,null,null,null,172.20060000000001,3172.7993999999999,0.4,-279.60000000000002,989.51976000000002,316.77994000000001,1003.16976,null,3540,2061.4996999999998,0.58234454802259883,172.20060000000001,989.51976000000002,316.77994000000001,3540,10,0.2,20,0.2]
[null,null,3550,0,195,195,3355,85.818599999999989,71.37,15.011999999999999,0,null,null,null,null,172.20060000000001,3182.7993999999999,0.4,-279.60000000000002,993.51976000000002,317.77994000000001,1007.16976,null,3550,2066.4996999999998,0.58211259154929573,172.20060000000001,993.51976000000002,317.77994000000001,3550,10,0.2,20,0.2]
[null,null,3560,0,195,195,3365,85.818599999999989,71.37,15.011999999999999,0,null,null,null,null,172.20060000000001,3192.7993999999999,0.4,-279.60000000000002,997.51976000000002,318.77994000000001,1011.16976,null,3560,2071.4996999999998,0.5818819382022471,172.20060000000001,997.51976000000002,318.77994000000001,3560,10,0.2,20,0.2]
[null,null,3570,0,195,195,3375,85.818599999999989,71.37,15.011999999999999,0,null,null,null,null,172.20060000000001,3202.7993999999999,0.4,-279.60000000000002,1001.51976,319.77994000000001,1015.16976,null,3570,2076.4996999999998,0.5816525770308123,172.20060000000001,1001.51976,319.77994000000001,3570,10,0.2,20,0.2]
[null,null,3580,0,195,195,3385,85.818599999999989,71.37,15.011999999999999,0,null,null,null,null,172.20060000000001,3212.7993999999999,0.4,-279.60000000000002,1005.51976,320.77994000000001,1019.16976,null,3580,2081.4996999999998,0.58142449720670386,172.20060000000001,1005.51976,320.77994000000001,3580,10,0.2,20,0.2]
[null,null,3590,0,195,195,3395,85.818599999999989,71.37,15.011999999999999,0,null,null,null,null,172.20060000000001,3222.7993999999999,0.4,-279.60000000000002,1009.51976,321.77994000000001,1023.16976,null,3590,2086.4996999999998,0.58119768802228411,172.20060000000001,1009.51976,321.77994000000001,3590,10,0.2,20,0.2]
[null,null,3600,0,195,195,3405,85.818599999999989,71.37,15.011999999999999,0,null,null,null,null,172.20060000000001,3232.7993999999999,0.4,-279.60000000000002,1013.51976,322.77994000000001,1027.16976,null,3600,2091.4996999999998,0.58097213888888888,172.20060000000001,1013.51976,322.77994000000001,3600,10,0.2,20,0.2]
[null,null,3610,0,195,195,3415,85.818599999999989,71.37,15.011999999999999,0,null,null,null,null,172.20060000000001,3242.7993999999999,0.4,-279.60000000000002,1017.51976,323.77994000000001,1031.16976,null,3610,2096.4996999999998,0.58074783933518004,172.20060000000001,1017.51976,323.77994000000001,3610,10,0.2,20,0.2]
[null,null,3620,0,195,195,3425,85.818599999999989,71.37,15.011999999999999,0,null,null,null,null,172.20060000000001,3252.7993999999999,0.4,-279.60000000000002,1021.51976,324.77994000000001,1035.16976,null,3620,2101.4996999999998,0.58052477900552479,172.20060000000001,1021.51976,324.77994000000001,3620,10,0.2,20,0.2]
[null,null,3630,0,195,195,3435,85.818599999999989,71.37,15.011999999999999,0,null,null,null,null,172.20060000000001,3262.7993999999999,0.4,-279.60000000000002,1025.5197600000001,325.77994000000001,1039.1697600000002,null,3630,2106.4996999999998,0.58030294765840218,172.20060000000001,1025.5197600000001,325.77994000000001,3630,10,0.2,20,0.2]
[null,null,3640,0,195,195,3445,85.818599999999989,71.37,15.011999999999999,0,null,null,null,null,172.20060000000001,3272.7993999999999,0.4,-279.60000000000002,1029.5197600000001,326.77994000000001,1043.1697600000002,null,3640,2111.4996999999998,0.58008233516483509,172.20060000000001,1029.5197600000001,326.77994000000001,3640,10,0.2,20,0.2]
[null,null,3650,0,195,195,3455,85.818599999999989,71.37,15.011999999999999,0,null,null,null,null,172.20060000000001,3282.7993999999999,0.4,-279.60000000000002,1033.5197600000001,327.77994000000001,1047.1697600000002,null,3650,2116.4996999999998,0.57986293150684931,172.20060000000001,1033.5197600000001,327.77994000000001,3650,10,0.2,20,0.2]
[null,null,3660,0,195,195,3465,85.818599999999989,71.37,15.011999999999999,0,null,null,null,null,172.20060000000001,3292.7993999999999,0.4,-279.60000000000002,1037.5197600000001,328.77994000000001,1051.1697600000002,null,3660,2121.4996999999998,0.57964472677595624,172.20060000000001,1037.5197600000001,328.77994000000001,3660,10,0.2,20,0.2]
[null,null,3670,0,195,195,3475,85.818599999999989,71.37,15.011999999999999,0,null,null,null,null,172.20060000000001,3302.7993999999999,0.4,-279.60000000000002,1041.5197600000001,329.77994000000001,1055.1697600000002,null,3670,2126.4996999999998,0.57942771117166203,172.20060000000001,1041.5197600000001,329.77994000000001,3670,10,0.2,20,0.2]
[null,null,3680,0,195,195,3485,85.818599999999989,71.37,15.011999999999999,0,null,null,null,null,172.20060000000001,3312.7993999999999,0.4,-279.60000000000002,1045.5197600000001,330.77994000000001,1059.1697600000002,null,3680,2131.4996999999998,0.57921187499999993,172.20060000000001,1045.5197600000001,330.77994000000001,3680,10,0.2,20,0.2]
[null,null,3690,0,195,195,3495,85.818599999999989,71.37,15.011999999999999,0,null,null,null,null,172.20060000000001,3322.7993999999999,0.4,-279.60000000000002,1049.5197600000001,331.77994000000001,1063.1697600000002,null,3690,2136.4996999999998,0.57899720867208671,172.20060000000001,1049.5197600000001,331.77994000000001,3690,10,0.2,20,0.2]
[null,null,3700,0,195,195,3505,85.818599999999989,71.37,15.011999999999999,0,null,null,null,null,172.20060000000001,3332.7993999999999,0.4,-279.60000000000002,1053.5197600000001,332.77994000000001,1067.1697600000002,null,3700,2141.4996999999998,0.57878370270270263,172.20060000000001,1053.5197600000001,332.77994000000001,3700,10,0.2,20,0.2]
[null,null,3710,0,195,195,3515,85.818599999999989,71.37,15.011999999999999,0,null,null,null,null,172.20060000000001,3342.7993999999999,0.4,-279.60000000000002,1057.5197600000001,333.77994000000001,1071.1697600000002,null,3710,2146.4996999999998,0.57857134770889485,172.20060000000001,1057.5197600000001,333.77994000000001,3710,10,0.2,20,0.2]
[null,null,3720,0,195,195,3525,85.818599999999989,71.37,15.011999999999999,0,null,null,null,null,172.20060000000001,3352.7993999999999,0.4,-279.60000000000002,1061.5197600000001,334.77994000000001,1075.1697600000002,null,3720,2151.4996999999998,0.57836013440860212,172.20060000000001,1061.5197600000001,334.77994000000001,3720,10,0.2,20,0.2]
[null,null,3730,0,195,195,3535,85.818599999999989,71.37,15.011999999999999,0,null,null,null,null,172.20060000000001,3362.7993999999999,0.4,-279.60000000000002,1065.5197600000001,335.77994000000001,1079.1697600000002,null,3730,2156.4996999999998,0.57815005361930294,172.20060000000001,1065.5197600000001,335.77994000000001,3730,10,0.2,20,0.2]
[null,null,3740,0,195,195,3545,85.818599999999989,71.37,15.011999999999999,0,null,null,null,null,172.20060000000001,3372.7993999999999,0.4,-279.60000000000002,1069.5197600000001,336.77994000000001,1083.1697600000002,null,3740,2161.4996999999998,0.57794109625668444,172.20060000000001,1069.5197600000001,336.77994000000001,3740,10,0.2,20,0.2]
[null,null,3750,0,195,195,3555,85.818599999999989,71.37,15.011999999999999,0,null,null,null,null,172.20060000000001,3382.7993999999999,0.4,-279.60000000000002,1073.5197600000001,337.77994000000001,1087.1697600000002,null,3750,2166.4996999999998,0.57773325333333325,172.20060000000001,1073.5197600000001,337.77994000000001,3750,10,0.2,20,0.2]
[null,null,3760,0,195,195,3565,85.818599999999989,71.37,15.011999999999999,0,null,null,null,null,172.20060000000001,3392.7993999999999,0.4,-279.60000000000002,1077.5197600000001,338.77994000000001,1091.1697600000002,null,3760,2171.4996999999998,0.57752651595744675,172.20060000000001,1077.5197600000001,338.77994000000001,3760,10,0.2,20,0.2]
[null,null,3770,0,195,195,3575,85.818599999999989,71.37,15.011999999999999,0,null,null,null,null,172.20060000000001,3402.7993999999999,0.4,-279.60000000000002,1081.5197600000001,339.77994000000001,1095.1697600000002,null,3770,2176.4996999999998,0.57732087533156495,172.20060000000001,1081.5197600000001,339.77994000000001,3770,10,0.2,20,0.2]
[null,null,3780,0,195,195,3585,85.818599999999989,71.37,15.011999999999999,0,null,null,null,null,172.20060000000001,3412.7993999999999,0.4,-279.60000000000002,1085.5197600000001,340.77994000000001,1099.1697600000002,null,3780,2181.4996999999998,0.57711632275132274,172.20060000000001,1085.5197600000001,340.77994000000001,3780,10,0.2,20,0.2]
[null,null,3790,0,195,195,3595,85.818599999999989,71.37,15.011999999999999,0,null,null,null,null,172.20060000000001,3422.7993999999999,0.4,-279.60000000000002,1089.5197600000001,341.77994000000001,1103.1697600000002,null,3790,2186.4996999999998,0.57691284960422162,172.20060000000001,1089.5197600000001,341.77994000000001,3790,10,0.2,20,0.2]
[null,null,3800,0,195,195,3605,85.818599999999989,71.37,15.011999999999999,0,null,null,null,null,172.20060000000001,3432.7993999999999,0.4,-279.60000000000002,1093.5197600000001,342.77994000000001,1107.1697600000002,null,3800,2191.4996999999998,0.57671044736842103,172.20060000000001,1093.5197600000001,342.77994000000001,3800,10,0.2,20,0.2]
[null,null,3810,0,195,195,3615,85.818599999999989,71.37,15.011999999999999,0,null,null,null,null,172.20060000000001,3442.7993999999999,0.4,-279.60000000000002,1097.5197600000001,343.77994000000001,1111.1697600000002,null,3810,2196.4996999999998,0.5765091076115485,172.20060000000001,1097.5197600000001,343.77994000000001,3810,10,0.2,20,0.2]
[null,null,3820,0,195,195,3625,85.818599999999989,71.37,15.011999999999999,0,null,null,null,null,172.20060000000001,3452.7993999999999,0.4,-279.60000000000002,1101.5197600000001,344.77994000000001,1115.1697600000002,null,3820,2201.4996999999998,0.57630882198952871,172.20060000000001,1101.5197600000001,344.77994000000001,3820,10,0.2,20,0.2]
[null,null,3830,0,195,195,3635,85.818599999999989,71.37,15.011999999999999,0,null,null,null,null,172.20060000000001,3462.7993999999999,0.4,-279.60000000000002,1105.5197600000001,345.77994000000001,1119.1697600000002,null,3830,2206.4996999999998,0.57610958224543074,172.20060000000001,1105.5197600000001,345.77994000000001,3830,10,0.2,20,0.2]
[null,null,3840,0,195,195,3645,85.818599999999989,71.37,15.011999999999999,0,null,null,null,null,172.20060000000001,3472.7993999999999,0.4,-279.60000000000002,1109.5197600000001,346.77994000000001,1123.1697600000002,null,3840,2211.4996999999998,0.57591138020833332,172.20060000000001,1109.5197600000001,346.77994000000001,3840,10,0.2,20,0.2]
[null,null,3850,0,195,195,3655,85.818599999999989,71.37,15.011999999999999,0,null,null,null,null,172.20060000000001,3482.7993999999999,0.4,-279.60000000000002,1113.5197600000001,347.77994000000001,1127.1697600000002,null,3850,2216.4996999999998,0.57571420779220772,172.20060000000001,1113.5197600000001,347.77994000000001,3850,10,0.2,20,0.2]
[null,null,3860,0,195,195,3665,85.818599999999989,71.37,15.011999999999999,0,null,null,null,null,172.20060000000001,3492.7993999999999,0.4,-279.60000000000002,1117.5197600000001,348.77994000000001,1131.1697600000002,null,3860,2221.4996999999998,0.57551805699481862,172.20060000000001,1117.5197600000001,348.77994000000001,3860,10,0.2,20,0.2]
[null,null,3870,0,195,195,3675,85.818599999999989,71.37,15.011999999999999,0,null,null,null,null,172.20060000000001,3502.7993999999999,0.4,-279.60000000000002,1121.5197600000001,349.77994000000001,1135.1697600000002,null,3870,2226.4996999999998,0.57532291989664075,172.20060000000001,1121.5197600000001,349.77994000000001,3870,10,0.2,20,0.2]
[null,null,3880,0,195,195,3685,85.818599999999989,71.37,15.011999999999999,0,null,null,null,null,172.20060000000001,3512.7993999999999,0.4,-279.60000000000002,1125.5197600000001,350.77994000000001,1139.1697600000002,null,3880,2231.4996999999998,0.57512878865979378,172.20060000000001,1125.5197600000001,350.77994000000001,3880,10,0.2,20,0.2]
[null,null,3890,0,195,195,3695,85.818599999999989,71.37,15.011999999999999,0,null,null,null,null,172.20060000000001,3522.7993999999999,0.4,-279.60000000000002,1129.5197600000001,351.77994000000001,1143.1697600000002,null,3890,2236.4996999999998,0.57493565552699222,172.20060000000001,1129.5197600000001,351.77994000000001,3890,10,0.2,20,0.2]
[null,null,3900,0,195,195,3705,85.818599999999989,71.37,15.011999999999999,0,null,null,null,null,172.20060000000001,3532.7993999999999,0.4,-279.60000000000002,1133.5197600000001,352.77994000000001,1147.1697600000002,null,3900,2241.4996999999998,0.57474351282051284,172.20060000000001,1133.5197600000001,352.77994000000001,3900,10,0.2,20,0.2]
[null,null,3910,0,195,195,3715,85.818599999999989,71.37,15.011999999999999,0,null,null,null,null,172.20060000000001,3542.7993999999999,0.4,-279.60000000000002,1137.5197600000001,353.77994000000001,1151.1697600000002,null,3910,2246.4996999999998,0.57455235294117646,172.20060000000001,1137.5197600000001,353.77994000000001,3910,10,0.2,20,0.2]
[null,null,3920,0,195,195,3725,85.818599999999989,71.37,15.011999999999999,0,null,null,null,null,172.20060000000001,3552.7993999999999,0.4,-279.60000000000002,1141.5197600000001,354.77994000000001,1155.1697600000002,null,3920,2251.4996999999998,0.57436216836734688,172.20060000000001,1141.5197600000001,354.77994000000001,3920,10,0.2,20,0.2]
[null,null,3930,0,195,195,3735,85.818599999999989,71.37,15.011999999999999,0,null,null,null,null,172.20060000000001,3562.7993999999999,0.4,-279.60000000000002,1145.5197600000001,355.77994000000001,1159.1697600000002,null,3930,2256.4996999999998,0.574172951653944,172.20060000000001,1145.5197600000001,355.77994000000001,3930,10,0.2,20,0.2]
[null,null,3940,0,195,195,3745,85.818599999999989,71.37,15.011999999999999,0,null,null,null,null,172.20060000000001,3572.7993999999999,0.4,-279.60000000000002,1149.5197600000001,356.77994000000001,1163.1697600000002,null,3940,2261.4996999999998,0.57398469543147201,172.20060000000001,1149.5197600000001,356.77994000000001,3940,10,0.2,20,0.2]
[null,null,3950,0,195,195,3755,85.818599999999989,71.37,15.011999999999999,0,null,null,null,null,172.20060000000001,3582.7993999999999,0.4,-279.60000000000002,1153.5197600000001,357.77994000000001,1167.1697600000002,null,3950,2266.4996999999998,0.57379739240506322,172.20060000000001,1153.5197600000001,357.77994000000001,3950,10,0.2,20,0.2]
[null,null,3960,0,195,195,3765,85.818599999999989,71.37,15.011999999999999,0,null,null,null,null,172.20060000000001,3592.7993999999999,0.4,-279.60000000000002,1157.5197600000001,358.77994000000001,1171.1697600000002,null,3960,2271.4996999999998,0.5736110353535353,172.20060000000001,1157.5197600000001,358.77994000000001,3960,10,0.2,20,0.2]
[null,null,3970,0,195,195,3775,85.818599999999989,71.37,15.011999999999999,0,null,null,null,null,172.20060000000001,3602.7993999999999,0.4,-279.60000000000002,1161.5197600000001,359.77994000000001,1175.1697600000002,null,3970,2276.4996999999998,0.57342561712846341,172.20060000000001,1161.5197600000001,359.77994000000001,3970,10,0.2,20,0.2]
[null,null,3980,0,195,195,3785,85.818599999999989,71.37,15.011999999999999,0,null,null,null,null,172.20060000000001,3612.7993999999999,0.4,-279.60000000000002,1165.5197600000001,360.77994000000001,1179.1697600000002,null,3980,2281.4996999999998,0.57324113065326632,172.20060000000001,1165.5197600000001,360.77994000000001,3980,10,0.2,20,0.2]
[null,null,3990,0,195,195,3795,85.818599999999989,71.37,15.011999999999999,0,null,null,null,null,172.20060000000001,3622.7993999999999,0.4,-279.60000000000002,1169.5197600000001,361.77994000000001,1183.1697600000002,null,3990,2286.4996999999998,0.57305756892230575,172.20060000000001,1169.5197600000001,361.77994000000001,3990,10,0.2,20,0.2]
[null,null,4000,0,195,195,3805,85.818599999999989,71.37,15.011999999999999,0,null,null,null,null,172.20060000000001,3632.7993999999999,0.4,-279.60000000000002,1173.5197600000001,362.77994000000001,1187.1697600000002,null,4000,2291.4996999999998,0.57287492499999992,172.20060000000001,1173.5197600000001,362.77994000000001,4000,10,0.2,20,0.2]

{"sheet":"変動費","index":20,"n_rows":27,"n_cols":15,"rows_kept":27,"cut":false,"hidden":false,"merged":[]}
[]
[]
[null,null,null,null,"その他1","その他2","その他3","その他4","その他5","その他6","その他7","定期"]
[null,null,null,"食料","住居","光熱・水道","家具・家事用品","被服及び履物","保健医療","交通・通信","教育","教養娯楽","その他の消費支出",null,"除く教養娯楽・住居"]
[null,null,"親1"]
[null,null,"親2"]
[null,null,"子供1"]
[null,null,"子供2"]
[null,null,"子供3"]
[null,null,"子供4"]
[]
[]
[null,null,null,"食料","住居","光熱・水道","家具・家事用品","被服及び履物","保健医療","交通・通信","教育","教養娯楽","その他の消費支出",null,"除く教養娯楽・住居"]
[null,"30～39歳","3.9人",7.24,0.5615,1.9487000000000001,1.2195,1.3928,1.1093,5.7499000000000002,1.7123999999999999,3.4498000000000002,4.9531999999999998,{"$f":"SUM(D14:M14)","v":29.337099999999996},{"$f":"N14-E14","v":28.775599999999997}]
[null,"40～49歳","3.9人",8.1735000000000007,0.56850000000000001,2.2906,1.173,1.5387,1.1035999999999999,6.1204999999999998,3.2734000000000001,3.7863000000000002,5.6318000000000001,33.6599,33.0914]
[null,null,"２  人",6.61,2.2231000000000001,1.8752,1.0618000000000001,1.0586,1.2230000000000001,4.7201000000000004,7.5999999999999998E-2,2.6240999999999999,7.1563999999999997,28.628299999999996,26.405199999999997]
[null,null,"３  人",7.3689,2.0102000000000002,2.1555,1.1545000000000001,1.2784,1.2484999999999999,5.0286999999999997,1.4713000000000001,2.7570999999999999,6.5029000000000003,30.976000000000003,28.965800000000002]
[null,null,"４  人",8.1092999999999993,1.3845000000000001,2.2928999999999999,1.1385000000000001,1.4618,1.1424000000000001,5.4675000000000002,3.3975,3.3424999999999998,5.5164,33.253300000000003,31.868800000000004]
[null,null,"５  人",9.0129999999999999,1.5285,2.4762,1.2692000000000001,1.5502,1.099,5.3522999999999996,3.4112,3.4331,5.4607999999999999,34.593499999999999,33.064999999999998]
[]
[]
[null,null,null,"食費","服費\n日用品","電気","ガス","水道","インターネット","携帯"]
[null,null,2,{"$f":"D16","v":6.61},{"$f":"SUM(G14:H14)","v":2.6123000000000003},{"$f":"SUM(F14)","v":1.9487000000000001},"←含む","←含む","?","?"]
[null,null,3,{"$f":"D17","v":7.3689},{"$f":"SUM(G15:H15)","v":2.7117},{"$f":"SUM(F15)","v":2.2906},"←含む","←含む","?","?"]
[null,null,4,8.1092999999999993,2.1204000000000001,1.8752,"←含む","←含む","?","?"]
[null,null,5,9.0129999999999999,2.4329000000000001,2.1555,"←含む","←含む","?","?"]
[null,null,6,0,2.6002999999999998,2.2928999999999999,"←含む","←含む","?","?"]